{"text_format":"1","workbook":"xlsx","n_sheets":10,"sheets":["1_入力シート【基本情報】","2_入力シート【用途面積】","3_入力シート【写真】","4_入力シート【図面】","＜入力不要＞報告書","＜入力不要＞概要書","＜入力不要＞調査結果表","リンクシート","CSVシート","プルダウン選択肢"],"not_rendered":{"charts":0,"images":0,"macros":1,"external_links":0,"defined_names":27,"comments":0,"pivot_tables":0},"unopened":[],"bounds":{"document_bytes":16777216,"sheet_cells":100000,"rows_first":2000,"rows_last":500,"rows_between":2000,"halvings":0,"cell_chars":16384,"cell_head_chars":4096},"cells_cut":0,"cells_raw":0,"read":"whole","date_system":"1900"}

{"sheet":"1_入力シート【基本情報】","index":0,"n_rows":1724,"n_cols":329,"rows_kept":281,"cut":true,"hidden":false,"merged":[[300,172,300,176],[428,79,428,98],[472,172,472,176],[460,43,460,44],[494,70,494,72],[408,70,408,72],[410,73,410,75],[407,76,407,78],[302,178,302,180],[303,178,303,180],[490,172,490,176],[509,172,509,176],[472,15,473,30],[472,31,473,42],[472,43,473,44],[472,45,473,54],[472,55,473,69],[472,70,472,78],[472,79,473,98],[472,128,473,128],[472,129,473,129],[472,131,472,135],[472,136,472,140],[472,141,472,143],[472,144,472,147],[462,31,462,42],[463,31,463,42],[490,144,490,147],[490,149,490,153],[490,154,490,158],[490,159,490,163],[491,70,491,72],[463,70,463,72],[420,76,420,78],[420,79,420,98],[477,79,477,98],[464,73,464,75],[472,149,472,153],[472,154,472,158],[349,172,349,176],[404,43,404,44],[405,79,405,98],[263,27,263,32],[114,73,114,98],[115,73,117,98],[118,73,118,98],[247,33,247,44],[245,33,245,44],[386,79,386,98],[387,79,387,98],[383,79,383,98],[326,31,326,42],[329,70,329,72],[395,20,395,30],[404,20,404,30],[377,79,377,98],[378,79,378,98],[382,79,382,98],[375,79,375,98],[375,70,375,72],[374,79,374,98],[404,79,404,98],[133,12,133,26],[152,12,152,26],[440,73,440,75],[439,70,439,72],[440,70,440,72],[435,79,435,98],[434,70,434,72],[436,76,436,78],[438,70,438,72],[459,70,459,72],[457,76,457,78],[438,79,438,98],[439,79,439,98],[454,76,454,78],[426,79,426,98],[429,79,429,98],[430,79,430,98],[455,73,455,75],[431,79,431,98],[432,79,432,98],[431,70,431,72],[445,70,445,72],[444,79,444,98],[448,79,448,98],[303,166,304,170],[381,12,381,14],[443,12,443,14],[393,12,393,14],[314,12,314,14],[327,12,327,14],[392,12,392,14],[325,12,325,14],[338,17,339,19],[358,12,358,14],[328,20,328,30],[326,12,326,14],[380,20,380,30],[397,12,397,14],[400,12,400,14],[401,12,401,14],[312,12,312,14],[382,12,382,14],[375,12,375,14],[379,12,379,14],[426,12,426,14],[384,12,384,14],[385,12,385,14],[386,12,386,14],[383,12,383,14],[423,128,424,128],[397,79,397,98],[398,79,398,98],[399,79,399,98],[393,79,393,98],[394,79,394,98],[395,79,395,98],[367,172,367,176],[423,172,423,176],[423,144,423,147],[423,149,423,153],[423,154,423,158],[509,159,509,163],[490,128,491,128],[490,129,491,129],[509,149,509,153],[493,20,493,30],[490,136,490,140],[490,141,490,143],[496,73,496,75],[496,76,496,78],[496,31,496,42],[496,43,496,44],[509,129,510,129],[509,128,510,128],[452,55,452,69],[394,43,394,44],[396,20,396,30],[401,20,401,30],[467,43,467,44],[409,73,409,75],[423,136,423,140],[423,141,423,143],[394,76,394,78],[415,76,415,78],[397,43,397,44],[396,31,396,42],[509,154,509,158],[490,131,490,135],[460,70,460,72],[472,159,472,163],[126,73,129,98],[168,73,170,98],[79,27,79,41],[456,45,456,54],[454,12,454,14],[477,55,477,69],[475,55,475,69],[476,79,476,98],[90,45,90,50],[95,9,95,33],[97,18,98,23],[167,12,167,71],[157,27,157,42],[464,43,464,44],[474,43,474,44],[475,43,475,44],[460,31,460,42],[461,31,461,42],[462,43,462,44],[463,20,463,30],[477,20,477,30],[476,20,476,30],[402,12,402,14],[96,27,96,41],[106,33,106,35],[106,36,106,41],[402,76,402,78],[464,70,464,72],[454,73,454,75],[439,76,439,78],[376,76,376,78],[78,73,79,98],[66,27,66,71],[90,51,90,71],[107,27,107,71],[108,51,108,71],[86,27,86,41],[367,12,368,14],[119,18,119,26],[159,12,159,26],[166,63,166,71],[106,42,106,71],[374,12,374,14],[118,27,118,41],[105,25,105,26],[103,25,103,26],[115,27,115,41],[327,79,327,98],[306,79,306,98],[96,73,97,98],[392,20,392,30],[438,12,438,14],[403,12,403,14],[411,12,411,14],[425,12,425,14],[440,55,440,69],[404,12,404,14],[405,12,405,14],[322,12,323,14],[456,55,456,69],[448,45,448,54],[452,45,452,54],[453,45,453,54],[431,76,431,78],[151,27,151,42],[154,27,154,42],[409,12,409,14],[388,12,388,14],[359,12,359,14],[406,79,406,98],[407,79,407,98],[408,45,408,54],[131,18,131,26],[369,12,369,14],[370,12,370,14],[371,12,371,14],[411,55,411,69],[96,18,96,26],[378,12,378,14],[357,12,357,14],[99,27,99,41],[410,12,410,14],[404,15,405,19],[394,12,394,14],[395,12,395,14],[396,12,396,14],[407,12,407,14],[424,76,424,78],[423,70,423,78],[423,79,424,98],[403,79,403,98],[428,76,428,78],[411,45,411,54],[414,79,414,98],[415,79,415,98],[419,79,419,98],[414,76,414,78],[413,55,413,69],[408,79,408,98],[410,79,410,98],[423,43,424,44],[423,45,424,54],[411,79,411,98],[427,76,427,78],[398,12,398,14],[399,12,399,14],[408,12,408,14],[423,12,424,14],[409,76,409,78],[419,12,419,14],[416,79,416,98],[417,79,417,98],[419,70,419,72],[32,73,33,98],[80,25,80,26],[81,18,81,24],[86,25,86,26],[81,25,81,26],[88,18,88,26],[72,18,72,26],[80,27,80,41],[81,27,81,41],[85,27,85,41],[63,18,63,24],[89,27,89,71],[61,25,61,26],[169,27,169,29],[67,27,67,41],[68,27,68,41],[46,73,47,98],[66,73,67,98],[100,27,100,71],[98,27,98,41],[70,73,71,98],[47,27,47,71],[61,27,61,41],[168,15,168,26],[154,12,154,26],[114,12,117,17],[59,76,60,90],[113,63,113,71],[115,18,115,26],[114,27,114,41],[104,25,104,26],[125,63,125,71],[430,12,430,14],[435,12,435,14],[446,20,446,30],[447,20,447,30],[440,20,440,30],[444,20,444,30],[439,20,439,30],[431,15,434,19],[431,12,431,14],[428,20,428,30],[428,15,429,19],[419,20,419,30],[444,12,444,14],[451,17,453,19],[445,20,445,30],[451,20,451,30],[427,12,427,14],[428,12,428,14],[429,12,429,14],[433,20,433,30],[440,12,440,14],[443,17,447,19],[434,20,434,30],[403,31,403,42],[405,31,405,42],[398,31,398,42],[114,18,114,26],[156,40,156,42],[159,35,159,37],[517,79,517,98],[513,79,513,98],[482,79,482,98],[475,79,475,98],[511,79,511,98],[513,31,513,42],[513,43,513,44],[514,31,514,42],[514,43,514,44],[515,31,515,42],[515,43,515,44],[468,43,468,44],[465,45,465,54],[465,55,465,69],[465,70,465,72],[465,73,465,75],[465,76,465,78],[465,79,465,98],[516,45,516,54],[517,43,517,44],[466,70,466,72],[494,45,494,54],[495,45,495,54],[499,31,499,42],[497,45,497,54],[298,9,298,98],[477,70,477,72],[496,55,496,69],[495,76,495,78],[489,12,489,98],[478,73,478,75],[497,70,497,72],[509,79,510,98],[499,73,499,75],[482,73,482,75],[491,73,491,75],[491,76,491,78],[486,31,486,42],[492,70,492,72],[493,76,493,78],[484,76,484,78],[495,79,495,98],[496,79,496,98],[500,76,500,78],[490,70,490,78],[485,45,485,54],[498,45,498,54],[490,43,491,44],[487,76,487,78],[520,79,520,98],[492,79,492,98],[464,76,464,78],[482,31,482,42],[478,76,478,78],[479,73,479,75],[479,76,479,78],[479,70,479,72],[478,70,478,72],[478,43,478,44],[481,43,481,44],[480,70,480,72],[480,73,480,75],[480,76,480,78],[500,31,500,42],[501,45,501,54],[497,55,497,69],[515,45,515,54],[515,55,515,69],[513,45,513,54],[497,76,497,78],[482,43,482,44],[484,31,484,42],[484,43,484,44],[481,45,481,54],[481,31,481,42],[480,31,480,42],[485,76,485,78],[485,55,485,69],[485,70,485,72],[477,76,477,78],[476,70,476,72],[494,43,494,44],[492,73,492,75],[490,45,491,54],[492,45,492,54],[483,45,483,54],[487,70,487,72],[493,73,493,75],[487,45,487,54],[493,55,493,69],[496,70,496,72],[518,45,518,54],[516,73,516,75],[513,70,513,72],[498,70,498,72],[502,43,502,44],[504,79,504,98],[498,79,498,98],[516,43,516,44],[511,70,511,72],[502,55,502,69],[502,70,502,72],[515,70,515,72],[503,43,503,44],[494,76,494,78],[493,70,493,72],[486,55,486,69],[486,70,486,72],[501,43,501,44],[513,55,513,69],[445,79,445,98],[474,17,475,19],[492,55,492,69],[496,45,496,54],[474,55,474,69],[486,45,486,54],[477,45,477,54],[485,73,485,75],[495,70,495,72],[487,73,487,75],[492,31,492,42],[495,43,495,44],[484,70,484,72],[486,73,486,75],[483,73,483,75],[484,55,484,69],[492,20,492,30],[486,20,486,30],[480,55,480,69],[479,45,479,54],[495,20,495,30],[484,73,484,75],[492,43,492,44],[482,45,482,54],[493,45,493,54],[483,76,483,78],[487,55,487,69],[485,79,485,98],[490,31,491,42],[494,55,494,69],[482,55,482,69],[485,43,485,44],[441,79,441,98],[473,70,473,72],[460,76,460,78],[480,45,480,54],[490,55,491,69],[433,76,433,78],[469,45,469,54],[469,55,469,69],[469,70,469,72],[469,73,469,75],[469,76,469,78],[469,79,469,98],[461,55,461,69],[456,70,456,72],[456,73,456,75],[459,79,459,98],[461,79,461,98],[452,70,452,72],[452,73,452,75],[452,76,452,78],[454,70,454,72],[474,45,474,54],[460,45,460,54],[460,55,460,69],[460,73,460,75],[457,55,457,69],[457,73,457,75],[479,79,479,98],[471,12,471,98],[481,55,481,69],[461,70,461,72],[448,70,448,72],[406,45,406,54],[438,55,438,69],[442,79,442,98],[442,55,442,69],[426,70,426,72],[432,73,432,75],[435,73,435,75],[427,73,427,75],[442,45,442,54],[433,73,433,75],[438,45,438,54],[432,76,432,78],[432,70,432,72],[455,45,455,54],[452,79,452,98],[453,79,453,98],[454,79,454,98],[455,79,455,98],[455,55,455,69],[437,45,437,54],[450,45,450,54],[453,70,453,72],[453,55,453,69],[445,55,445,69],[443,79,443,98],[447,73,447,75],[444,70,444,72],[446,70,446,72],[450,70,450,72],[446,73,446,75],[446,76,446,78],[440,79,440,98],[403,20,403,30],[401,73,401,75],[413,79,413,98],[433,79,433,98],[447,79,447,98],[448,76,448,78],[425,73,425,75],[425,76,425,78],[429,76,429,78],[437,73,437,75],[425,55,425,69],[430,45,430,54],[412,79,412,98],[436,70,436,72],[436,73,436,75],[446,45,446,54],[447,45,447,54],[435,45,435,54],[418,79,418,98],[416,73,416,75],[416,76,416,78],[440,45,440,54],[405,45,405,54],[434,55,434,69],[435,76,435,78],[437,79,437,98],[439,45,439,54],[433,70,433,72],[434,76,434,78],[443,70,443,72],[445,73,445,75],[408,55,408,69],[389,76,389,78],[405,20,405,30],[406,31,406,42],[403,43,403,44],[391,76,391,78],[406,20,406,30],[408,20,408,30],[409,20,409,30],[410,20,410,30],[400,31,400,42],[404,31,404,42],[391,17,392,19],[393,17,393,19],[400,43,400,44],[402,31,402,42],[392,31,392,42],[396,43,396,44],[401,55,401,69],[401,43,401,44],[401,31,401,42],[394,20,394,30],[400,20,400,30],[398,73,398,75],[398,76,398,78],[391,45,391,54],[392,45,392,54],[400,45,400,54],[406,15,411,19],[411,31,411,42],[411,43,411,44],[401,70,401,72],[410,43,410,44],[391,79,391,98],[392,79,392,98],[389,31,389,42],[390,31,390,42],[395,31,395,42],[382,31,382,42],[381,76,381,78],[384,31,384,42],[385,31,385,42],[383,31,383,42],[397,31,397,42],[390,73,390,75],[399,43,399,44],[381,70,381,72],[381,55,381,69],[383,76,383,78],[384,55,384,69],[397,45,397,54],[393,31,393,42],[398,70,398,72],[382,70,382,72],[390,45,390,54],[398,55,398,69],[399,70,399,72],[391,31,391,42],[382,73,382,75],[382,76,382,78],[382,55,382,69],[383,45,383,54],[383,73,383,75],[386,55,386,69],[387,55,387,69],[337,55,337,69],[330,43,330,44],[332,45,332,54],[327,31,327,42],[393,20,393,30],[385,20,385,30],[388,79,388,98],[326,73,326,75],[289,12,291,26],[306,15,306,19],[307,15,307,19],[310,31,310,42],[326,45,326,54],[313,12,313,14],[324,55,324,69],[324,79,324,98],[306,12,306,14],[305,76,305,78],[306,73,306,75],[313,79,313,98],[389,79,389,98],[306,76,306,78],[314,76,314,78],[307,12,307,14],[309,76,309,78],[393,76,393,78],[387,12,387,14],[380,12,380,14],[389,12,389,14],[390,12,390,14],[391,12,391,14],[384,79,384,98],[301,12,301,19],[304,12,305,14],[307,20,307,30],[307,31,307,42],[286,12,288,26],[304,79,305,98],[306,20,306,30],[379,76,379,78],[310,79,310,98],[300,73,300,75],[271,27,271,29],[280,44,280,71],[302,20,302,98],[279,30,279,58],[262,41,262,43],[309,79,309,98],[299,12,299,19],[300,40,300,44],[262,36,262,38],[310,73,310,75],[263,68,263,98],[300,12,300,16],[304,55,305,69],[280,18,280,26],[280,27,280,41],[279,12,280,17],[268,63,268,71],[324,20,324,30],[325,20,325,30],[312,79,312,98],[308,79,308,98],[306,45,306,54],[245,21,245,32],[247,45,247,50],[247,21,247,32],[248,51,248,53],[211,12,212,17],[308,43,308,44],[224,12,225,17],[160,12,160,26],[225,30,225,32],[262,12,262,26],[308,76,308,78],[306,31,306,42],[312,31,312,42],[306,43,306,44],[277,18,277,26],[300,48,300,66],[276,18,276,26],[311,20,311,30],[311,45,311,54],[300,17,300,19],[310,55,310,69],[307,43,307,44],[304,43,305,44],[307,76,307,78],[262,47,262,49],[242,33,243,44],[242,45,243,50],[242,21,243,32],[304,45,305,54],[303,12,303,98],[304,70,304,78],[305,73,305,75],[240,27,240,29],[248,18,248,20],[248,45,248,50],[230,63,230,71],[213,18,213,26],[246,15,246,17],[247,15,247,17],[254,12,257,26],[224,18,224,26],[171,73,174,98],[399,31,399,42],[84,18,84,26],[149,63,149,71],[108,45,108,50],[87,25,87,26],[90,27,90,32],[327,55,327,69],[327,45,327,54],[194,20,194,26],[159,27,159,29],[159,30,159,32],[144,27,144,29],[153,27,153,29],[132,12,132,26],[171,30,171,32],[158,12,158,26],[156,30,156,32],[222,12,223,17],[211,18,211,26],[216,27,216,29],[215,27,215,32],[214,18,214,26],[402,55,402,69],[394,70,394,72],[394,73,394,75],[405,70,405,72],[394,45,394,54],[391,55,391,69],[389,70,389,72],[390,70,390,72],[392,73,392,75],[212,40,212,42],[231,12,232,17],[211,27,211,32],[233,12,234,17],[233,18,233,26],[277,12,278,17],[273,27,273,31],[263,33,263,66],[216,18,216,26],[213,12,214,17],[212,27,212,29],[223,18,223,26],[246,51,246,53],[241,12,241,26],[221,63,221,71],[224,27,224,32],[285,63,285,71],[248,57,248,71],[259,63,259,71],[279,18,279,26],[274,18,274,26],[279,59,279,71],[274,12,276,17],[404,45,404,54],[410,76,410,78],[409,70,409,72],[407,45,407,54],[402,43,402,44],[398,43,398,44],[400,70,400,72],[399,45,399,54],[401,45,401,54],[408,43,408,44],[407,31,407,42],[406,43,406,44],[396,70,396,72],[396,73,396,75],[397,70,397,72],[385,55,385,69],[407,55,407,69],[399,55,399,69],[391,43,391,44],[395,73,395,75],[388,73,388,75],[387,45,387,54],[392,43,392,44],[393,43,393,44],[395,43,395,44],[403,73,403,75],[386,73,386,75],[385,45,385,54],[393,45,393,54],[400,73,400,75],[403,55,403,69],[405,43,405,44],[175,73,176,98],[171,27,171,29],[177,40,177,42],[177,27,177,29],[177,30,177,32],[177,35,177,37],[180,27,180,46],[176,27,176,29],[185,40,185,42],[326,20,326,30],[322,55,323,69],[326,70,326,72],[322,45,323,54],[412,76,412,78],[88,36,88,41],[129,18,129,26],[149,9,149,32],[142,31,142,36],[100,18,100,26],[125,9,125,62],[107,18,107,26],[101,18,101,26],[172,27,172,36],[182,27,182,36],[174,27,174,46],[102,12,108,17],[89,18,89,26],[90,18,90,26],[103,18,105,24],[118,18,118,26],[408,31,408,42],[175,27,175,29],[443,55,443,69],[444,55,444,69],[425,43,425,44],[436,45,436,54],[426,43,426,44],[427,43,427,44],[439,55,439,69],[425,45,425,54],[436,55,436,69],[441,55,441,69],[429,45,429,54],[434,45,434,54],[428,43,428,44],[152,27,152,71],[415,70,415,72],[410,70,410,72],[412,45,412,54],[392,55,392,69],[393,55,393,69],[394,55,394,69],[392,70,392,72],[395,45,395,54],[415,31,415,42],[414,31,414,42],[407,43,407,44],[416,43,416,44],[416,45,416,54],[416,55,416,69],[416,70,416,72],[404,55,404,69],[402,45,402,54],[403,45,403,54],[459,73,459,75],[441,45,441,54],[450,76,450,78],[430,55,430,69],[431,55,431,69],[432,55,432,69],[434,43,434,44],[431,45,431,54],[454,45,454,54],[462,73,462,75],[462,76,462,78],[478,55,478,69],[433,55,433,69],[478,45,478,54],[464,45,464,54],[443,76,443,78],[444,76,444,78],[447,70,447,72],[447,55,447,69],[443,45,443,54],[444,45,444,54],[443,73,443,75],[444,73,444,75],[445,45,445,54],[449,76,449,78],[451,73,451,75],[449,45,449,54],[466,55,466,69],[454,55,454,69],[451,70,451,72],[449,70,449,72],[442,43,442,44],[459,55,459,69],[458,55,458,69],[450,55,450,69],[449,73,449,75],[451,45,451,54],[463,73,463,75],[468,70,468,72],[459,76,459,78],[451,55,451,69],[466,45,466,54],[495,55,495,69],[487,79,487,98],[483,55,483,69],[475,45,475,54],[483,70,483,72],[482,76,482,78],[493,79,493,98],[494,79,494,98],[468,45,468,54],[468,55,468,69],[462,55,462,69],[461,45,461,54],[464,79,464,98],[456,79,456,98],[457,79,457,98],[458,79,458,98],[449,79,449,98],[451,79,451,98],[451,76,451,78],[453,76,453,78],[460,79,460,98],[463,55,463,69],[468,73,468,75],[468,76,468,78],[461,73,461,75],[497,79,497,98],[515,79,515,98],[456,76,456,78],[466,79,466,98],[468,79,468,98],[446,55,446,69],[462,70,462,72],[461,76,461,78],[455,70,455,72],[446,79,446,98],[448,55,448,69],[449,55,449,69],[448,73,448,75],[450,79,450,98],[475,73,475,75],[479,55,479,69],[476,55,476,69],[475,70,475,72],[494,73,494,75],[508,12,508,98],[492,76,492,78],[501,12,501,14],[498,31,498,42],[500,43,500,44],[499,43,499,44],[501,55,501,69],[499,45,499,54],[513,76,513,78],[462,79,462,98],[457,45,457,54],[457,70,457,72],[499,70,499,72],[500,70,500,72],[498,73,498,75],[475,76,475,78],[512,73,512,75],[495,73,495,75],[464,55,464,69],[458,45,458,54],[463,45,463,54],[482,70,482,72],[466,73,466,75],[466,76,466,78],[458,73,458,75],[458,76,458,78],[458,70,458,72],[476,45,476,54],[462,45,462,54],[477,73,477,75]],"bounds":{"rows_first":125,"rows_last":31,"rows_between":125,"halvings":4},"merged_total":3101,"flags":["merged_cut"]}
[]
[null,null,null,null,null,null,null,null,null,null,null,null,null,null,null,null,null,null,null,null,null,null,null,null,null,null,"必須入力",null,null,null,null,null,null,null,"任意入力",null,null,null,null,null,null,null,"入力済み・入力不要",null,null,null,null,null,null,null,null,null,null,null,"エラー入力（入力不要な箇所に入力がある等）",null,null,null,null,null,null,null,null,null,null,null,null,null,null,null,null,null,null,null,null,null,null,null,null,null,null,null,null,null,null,null,null,null,null,null,null,null,null,null,null,null,null,null,null,null,null,null,null,null,null,null,null,null,null,null,null,null,null,null,null,null,"関数1","関数2","レ","レ",null,null,"チェックボックス","チェックボックス","チェックボックス",null,null,null,null,null,null,"報告書　第三面別紙",null,null,"配列関数（セルを選択した際はCtrl+Shift+Enterで）",null,null,null,null,null,null,null,null,null,null,null,null,null,null,null,null,null,null,null,"報告書　第一面5",null,"配列関数（セルを選択した際はCtrl+Shift+Enterで）",null,null,null,null,null,null,null,null,"選択肢候補1","選択肢候補2","選択肢候補3","選択肢候補4","選択肢候補5",null,null,"報告書　第三面別紙",null,null,"配列関数（セルを選択した際はCtrl+Shift+Enterで）",null,null,null,null,null,null,null,null,null,null,null,null,null,null,null,null,null,null,null,null,null,null,null,null,null,null,null,null,null,null,null,null,null,null,null,null,null,null,null,null,null,null,null,null,null,null,null,null,null,null,null,null,null,null,null,null,null,null,null,null,null,null,null,null,null,null,null,null,null,null,null,null,null,null,null,null,null,null,null,null,null,null,null,null,null,null,null,null,null,null,null,null,null,null,null,null,null,null,null,null,null,null,null,null,null,null,null,null,null,null,null,null,null,null,null,null,null,null,null,null,null,null,null,null,null,null,null,null,null,null,null,null,null,null,"項番なし0","項目番号",null,null,null,null,null,null,null,null,null,"CSVフィールド名（数式）","CSVフィールド名（値）",null,null,null,null,null,"CSV全シート全体統合（値）"]
[null,null,null,null,null,null,null,null,null,null,null,null,null,null,null,null,null,null,null,null,null,null,null,null,null,null,null,null,null,null,null,null,null,null,null,null,null,null,null,null,null,null,null,null,null,null,null,null,null,null,null,null,null,null,null,null,null,null,null,null,null,null,null,null,null,null,null,null,null,null,null,null,null,null,null,null,null,null,null,null,null,null,null,null,null,null,null,null,null,null,null,null,null,null,null,null,null,null,null,null,null,null,null,null,null,null,null,null,null,null,null,null,null,null,null,null,"3面5転記基準用","報告日和暦連結",null,"平成30年最終日","年月判定用"]
[null,null,null,null,null,null,null,null,null,"令和",null,null,4,null,null,"年",null,"建築",null,null,null,null,null,null,null,null,null,null,null,null,null,null,null,null,null,null,null,null,null,null,null,null,null,null,null,null,null,null,"報告日",null,null,null,null,null,"令和",null,null,null,null,null,"年",null,null,null,null,"月",null,null,null,null,"日",null,null,null,null,null,null,null,null,null,null,null,null,null,null,null,null,null,null,null,null,null,null,null,null,null,null,null,null,null,null,null,null,null,null,null,null,null,null,null,null,null,null,null,null,null,{"$f":"COUNTA(BF4,BK4,BP4)","v":0},{"$f":"IF(DM4<3,\"\",\"令和\"&BF4&\"年\"&BK4&\"月\"&BP4&\"日\")","v":""},null,"2018-12-31",{"$f":"BF4*12+BK4-3","v":-3},null,null,null,null,null,null,null,null,null,null,null,null,null,null,null,null,null,null,null,null,null,null,null,null,null,null,null,null,null,null,null,null,null,null,null,null,null,null,null,null,null,null,null,null,null,null,null,null,null,null,null,null,null,null,null,null,null,null,null,null,null,null,null,null,null,null,null,null,null,null,null,null,null,null,null,null,null,null,null,null,null,null,null,null,null,null,null,null,null,null,null,null,null,null,null,null,null,null,null,null,null,null,null,null,null,null,null,null,null,null,null,null,null,null,null,null,null,null,null,null,null,null,null,null,null,null,null,null,null,null,null,null,null,null,null,null,null,null,null,null,null,null,null,null,null,null,null,null,null,null,null,null,null,null,null,null,null,null,null,null,null,null,null,null,null,null,null,null,null,null,null,null,null,null,null,null,null,null,null,null,null,null,null,null,null,null,null,null,null,null,"０","行政所管庁(初期値固定)",null,null,null,null,null,null,null,null,{"$f":"CONCATENATE(KZ4,LA4,LB4,LC4,LD4,LE4,LF4,LG4,LH4,LI4)","v":"０行政所管庁(初期値固定)"},"０行政所管庁(初期値固定)",null,null,null,null,null,"CSV項目一覧"]
[null,null,null,null,null,null,null,null,null,null,null,null,null,null,null,null,null,null,null,null,null,null,null,null,null,null,null,null,null,null,null,null,null,null,null,null,null,null,null,null,null,null,null,null,null,null,null,null,null,null,null,null,null,null,null,null,null,null,null,null,null,null,null,null,null,null,null,null,null,null,null,null,null,null,null,null,null,null,null,null,null,null,null,null,null,null,null,null,null,null,null,null,null,null,null,null,null,null,null,null,null,null,null,null,null,null,null,null,null,null,null,null,null,null,null,null,null,null,null,null,null,null,null,null,null,null,null,null,null,null,null,null,null,null,null,null,null,null,null,null,null,null,null,null,null,null,null,null,null,null,null,null,null,null,null,null,null,null,null,null,null,null,null,null,null,null,null,null,null,null,null,null,null,null,null,null,null,null,null,null,null,null,null,null,null,null,null,null,null,null,null,null,null,null,null,null,null,null,null,null,null,null,null,null,null,null,null,null,null,null,null,null,null,null,null,null,null,null,null,null,null,null,null,null,null,null,null,null,null,null,null,null,null,null,null,null,null,null,null,null,null,null,null,null,null,null,null,null,null,null,null,null,null,null,null,null,null,null,null,null,null,null,null,null,null,null,null,null,null,null,null,null,null,null,null,null,null,null,null,null,null,null,null,null,null,null,null,null,null,null,null,null,null,null,null,null,null,null,null,null,null,null,null,null,null,null,null,null,null,null,null,"0",{"$f":"$AW$4","v":"報告日"},"-","令和",null,null,null,null,null,null,{"$f":"CONCATENATE(KZ5,LA5,LB5,LC5,LD5,LE5,LF5,LG5,LH5,LI5)","v":"0報告日-令和"},"0報告日-令和",null,null,null,null,null,"０行政所管庁(初期値固定)"]
[null,null,null,null,null,null,null,null,null,"１　報告対象建築物",null,null,null,null,null,null,null,null,null,null,null,null,null,null,null,null,null,null,null,null,null,null,null,null,null,null,null,null,null,null,null,null,null,null,null,null,null,null,null,null,null,null,null,null,null,null,null,null,null,null,null,null,null,"第一面４欄",null,null,null,null,null,null,null,null,null,null,null,null,null,null,null,null,null,null,null,null,null,null,null,null,null,null,null,null,null,null,null,null,null,null,null,null,null,null,null,null,null,null,null,null,null,null,null,null,null,null,null,null,null,null,null,null,null,null,null,null,null,null,null,null,null,null,null,null,null,null,null,null,null,null,null,null,null,null,null,null,null,null,null,null,null,null,null,null,null,null,null,null,null,null,null,null,null,null,null,null,null,null,null,null,null,null,null,null,null,null,null,null,null,null,null,null,null,null,null,null,null,null,null,null,null,null,null,null,null,null,null,null,null,null,null,null,null,null,null,null,null,null,null,null,null,null,null,null,null,null,null,null,null,null,null,null,null,null,null,null,null,null,null,null,null,null,null,null,null,null,null,null,null,null,null,null,null,null,null,null,null,null,null,null,null,null,null,null,null,null,null,null,null,null,null,null,null,null,null,null,null,null,null,null,null,null,null,null,null,null,null,null,null,null,null,null,null,null,null,null,null,null,null,null,null,null,null,null,null,null,null,null,null,null,null,null,null,null,null,null,null,null,null,null,null,null,null,"0",{"$f":"$AW$4","v":"報告日"},"-",{"$f":"$BN$4","v":"月"},null,null,null,null,null,null,"0報告日-月","0報告日-月",null,null,null,null,null,"0報告日-令和"]
[null,null,null,null,null,null,null,null,null,null,null,null,"ID",null,null,null,null,null,null,null,null,null,null,null,null,null,null,null,null,null,null,null,null,"－",null,null,null,null,null,null,null,null,"－",null,null,null,null,null,null,null,null,null,null,null,null,null,null,null,null,null,null,null,null,null,null,null,null,null,null,null,null,null,null,null,null,null,null,null,null,null,null,null,null,null,null,null,null,null,null,null,null,null,null,null,null,null,null,null,null,null,null,null,null,null,null,null,null,null,null,null,null,null,null,null,null,null,null,null,null,null,null,null,null,null,null,null,null,null,null,null,null,null,null,null,null,null,null,null,null,null,null,null,null,null,null,null,null,null,null,null,null,null,null,null,null,null,null,null,null,null,null,null,null,null,null,null,null,null,null,null,null,null,null,null,null,null,null,null,null,null,null,null,null,null,null,null,null,null,null,null,null,null,null,null,null,null,null,null,null,null,null,null,null,null,null,null,null,null,null,null,null,null,null,null,null,null,null,null,null,null,null,null,null,null,null,null,null,null,null,null,null,null,null,null,null,null,null,null,null,null,null,null,null,null,null,null,null,null,null,null,null,null,null,null,null,null,null,null,null,null,null,null,null,null,null,null,null,null,null,null,null,null,null,null,null,null,null,null,null,null,null,null,null,null,null,null,null,null,null,null,null,null,null,null,null,null,null,null,null,null,null,null,null,null,null,null,null,null,null,null,null,"0","報告日","-","月",null,null,null,null,null,null,"0報告日-月","0報告日-月",null,null,null,null,null,"0報告日-月"]
[null,null,null,null,null,null,null,null,null,null,null,null,"建物名称",null,null,null,null,null,"フリガナ",null,null,null,null,null,null,null,null,null,null,null,null,null,null,null,null,null,null,null,null,null,null,null,null,null,null,null,null,null,null,null,null,null,null,null,null,null,null,null,null,null,null,null,null,null,null,null,null,null,null,null,null,null,null,null,null,null,null,null,null,null,null,null,null,null,null,null,null,null,null,null,null,null,null,null,null,null,null,null,null,null,null,null,null,null,null,null,null,null,null,null,null,null,null,null,null,null,null,null,null,null,null,null,null,null,null,null,null,null,null,null,null,null,null,null,null,null,null,null,null,null,null,null,null,null,null,null,null,null,null,null,null,null,null,null,null,null,null,null,null,null,null,null,null,null,null,null,null,null,null,null,null,null,null,null,null,null,null,null,null,null,null,null,null,null,null,null,null,null,null,null,null,null,null,null,null,null,null,null,null,null,null,null,null,null,null,null,null,null,null,null,null,null,null,null,null,null,null,null,null,null,null,null,null,null,null,null,null,null,null,null,null,null,null,null,null,null,null,null,null,null,null,null,null,null,null,null,null,null,null,null,null,null,null,null,null,null,null,null,null,null,null,null,null,null,null,null,null,null,null,null,null,null,null,null,null,null,null,null,null,null,null,null,null,null,null,null,null,null,null,null,null,null,null,null,null,null,null,null,null,null,null,null,null,null,null,null,null,null,null,null,null,"0","報告日","-","日",null,null,null,null,null,null,"0報告日-日","0報告日-日",null,null,null,null,null,"0報告日-月"]
[null,null,null,null,null,null,null,null,null,null,null,null,null,null,null,null,null,null,"建物名称",null,null,null,null,null,null,null,null,null,null,null,null,null,null,null,null,null,null,null,null,null,null,null,null,null,null,null,null,null,null,null,null,null,null,null,null,null,null,null,null,null,null,null,null,null,null,null,null,null,null,null,null,null,null,null,null,null,null,null,null,null,null,null,null,null,null,null,null,null,null,null,null,null,null,null,null,null,null,null,null,null,null,null,null,null,null,null,null,null,null,null,null,null,null,null,null,null,null,"住所結合",null,null,null,null,null,null,null,null,null,null,null,null,null,null,null,null,null,null,null,null,null,null,null,null,null,null,null,null,null,null,null,null,null,null,null,null,null,null,null,null,null,null,null,null,null,null,null,null,null,null,null,null,null,null,null,null,null,null,null,null,null,null,null,null,null,null,null,null,null,null,null,null,null,null,null,null,null,null,null,null,null,null,null,null,null,null,null,null,null,null,null,null,null,null,null,null,null,null,null,null,null,null,null,null,null,null,null,null,null,null,null,null,null,null,null,null,null,null,null,null,null,null,null,null,null,null,null,null,null,null,null,null,null,null,null,null,null,null,null,null,null,null,null,null,null,null,null,null,null,null,null,null,null,null,null,null,null,null,null,null,null,null,null,null,null,null,null,null,null,null,null,null,null,null,null,null,null,null,null,null,null,null,null,null,null,null,null,null,null,null,null,null,null,{"$f":"LEFT($J$6,1)","v":"１"},{"$f":"MID($J$6,3,15)","v":"報告対象建築物"},"-",{"$f":"'1_入力シート【基本情報】'!$M$7","v":"ID"},"_","1",null,null,null,null,"１報告対象建築物-ID_1","１報告対象建築物-ID_1",null,null,null,null,null,"0報告日-日"]
[null,null,null,null,null,null,null,null,null,null,null,null,"建物所在地",null,null,null,null,null,"都道府県",null,null,null,null,null,null,null,null,null,null,null,null,null,null,null,null,null,null,null,null,null,null,null,null,null,null,null,null,null,null,null,null,null,null,null,null,null,null,null,null,null,null,null,null,null,null,null,null,null,null,null,null,null,null,null,null,null,null,null,null,null,null,null,null,null,null,null,null,null,null,null,null,null,null,null,null,null,null,null,null,null,null,null,null,null,null,null,null,null,null,null,null,null,null,null,null,null,null,{"$f":"CONCATENATE(AB10,AB11,AB12,AB13,AB14)","v":""},null,null,null,null,null,null,null,null,null,null,null,null,null,null,null,null,null,null,null,null,null,null,null,null,null,null,null,null,null,null,null,null,null,null,null,null,null,null,null,null,null,null,null,null,null,null,null,null,null,null,null,null,null,null,null,null,null,null,null,null,null,null,null,null,null,null,null,null,null,null,null,null,null,null,null,null,null,null,null,null,null,null,null,null,null,null,null,null,null,null,null,null,null,null,null,null,null,null,null,null,null,null,null,null,null,null,null,null,null,null,null,null,null,null,null,null,null,null,null,null,null,null,null,null,null,null,null,null,null,null,null,null,null,null,null,null,null,null,null,null,null,null,null,null,null,null,null,null,null,null,null,null,null,null,null,null,null,null,null,null,null,null,null,null,null,null,null,null,null,null,null,null,null,null,null,null,null,null,null,null,null,null,null,null,null,null,null,null,null,null,null,null,null,{"$f":"LEFT($J$6,1)","v":"１"},{"$f":"MID($J$6,3,15)","v":"報告対象建築物"},"-",{"$f":"'1_入力シート【基本情報】'!$M$7","v":"ID"},"_","2",null,null,null,null,"１報告対象建築物-ID_2","１報告対象建築物-ID_2",null,null,null,null,null,"１報告対象建築物-ID_1"]
[null,null,null,null,null,null,null,null,null,null,null,null,null,null,null,null,null,null,"市郡",null,null,null,null,null,null,null,null,null,null,null,null,null,null,null,null,null,null,null,null,null,null,null,null,null,null,null,null,null,null,null,null,null,null,null,null,null,null,null,null,null,null,null,null,null,null,null,null,null,null,null,null,null,null,null,null,null,null,null,null,null,null,null,null,null,null,null,null,null,null,null,null,null,null,null,null,null,null,null,null,null,null,null,null,null,null,null,null,null,null,null,null,null,null,null,null,null,null,null,null,null,null,null,null,null,null,null,null,null,null,null,null,null,null,null,null,null,null,null,null,null,null,null,null,null,null,null,null,null,null,null,null,null,null,null,null,null,null,null,null,null,null,null,null,null,null,null,null,null,null,null,null,null,null,null,null,null,null,null,null,null,null,null,null,null,null,null,null,null,null,null,null,null,null,null,null,null,null,null,null,null,null,null,null,null,null,null,null,null,null,null,null,null,null,null,null,null,null,null,null,null,null,null,null,null,null,null,null,null,null,null,null,null,null,null,null,null,null,null,null,null,null,null,null,null,null,null,null,null,null,null,null,null,null,null,null,null,null,null,null,null,null,null,null,null,null,null,null,null,null,null,null,null,null,null,null,null,null,null,null,null,null,null,null,null,null,null,null,null,null,null,null,null,null,null,null,null,null,null,null,null,null,null,null,null,null,null,null,null,null,null,null,"１","報告対象建築物","-",{"$f":"'1_入力シート【基本情報】'!$M$7","v":"ID"},"_","3",null,null,null,null,"１報告対象建築物-ID_3","１報告対象建築物-ID_3",null,null,null,null,null,"１報告対象建築物-ID_2"]
[null,null,null,null,null,null,null,null,null,null,null,null,null,null,null,null,null,null,"区町村",null,null,null,null,null,null,null,null,null,null,null,null,null,null,null,null,null,null,null,null,null,null,null,null,null,null,null,null,null,null,null,null,null,null,null,null,null,null,null,null,null,null,null,null,null,null,null,null,null,null,null,null,null,null,null,null,null,null,null,null,null,null,null,null,null,null,null,null,null,null,null,null,null,null,null,null,null,null,null,null,null,null,null,null,null,null,null,null,null,null,null,null,null,null,null,null,null,null,null,null,null,null,null,null,null,null,null,null,null,null,null,null,null,null,null,null,null,null,null,null,null,null,null,null,null,null,null,null,null,null,null,null,null,null,null,null,null,null,null,null,null,null,null,null,null,null,null,null,null,null,null,null,null,null,null,null,null,null,null,null,null,null,null,null,null,null,null,null,null,null,null,null,null,null,null,null,null,null,null,null,null,null,null,null,null,null,null,null,null,null,null,null,null,null,null,null,null,null,null,null,null,null,null,null,null,null,null,null,null,null,null,null,null,null,null,null,null,null,null,null,null,null,null,null,null,null,null,null,null,null,null,null,null,null,null,null,null,null,null,null,null,null,null,null,null,null,null,null,null,null,null,null,null,null,null,null,null,null,null,null,null,null,null,null,null,null,null,null,null,null,null,null,null,null,null,null,null,null,null,null,null,null,null,null,null,null,null,null,null,null,null,null,"１","報告対象建築物","-",{"$f":"'1_入力シート【基本情報】'!$M$8","v":"建物名称"},"-",{"$f":"'1_入力シート【基本情報】'!S8","v":"フリガナ"},null,null,null,null,"１報告対象建築物-建物名称-フリガナ","１報告対象建築物-建物名称-フリガナ",null,null,null,null,null,"１報告対象建築物-ID_3"]
[null,null,null,null,null,null,null,null,null,null,null,null,null,null,null,null,null,null,"大字・町名",null,null,null,null,null,null,null,null,null,null,null,null,null,null,null,null,null,null,null,null,null,null,null,null,null,null,null,null,null,null,null,null,null,null,null,null,null,null,null,null,null,null,null,null,null,null,null,null,null,null,null,null,null,null,null,null,null,null,null,null,null,null,null,null,null,null,null,null,null,null,null,null,null,null,null,null,null,null,null,null,null,null,null,null,null,null,null,null,null,null,null,null,null,null,null,null,null,null,null,null,null,null,null,null,null,null,null,null,null,null,null,null,null,null,null,null,null,null,null,null,null,null,null,null,null,null,null,null,null,null,null,null,null,null,null,null,null,null,null,null,null,null,null,null,null,null,null,null,null,null,null,null,null,null,null,null,null,null,null,null,null,null,null,null,null,null,null,null,null,null,null,null,null,null,null,null,null,null,null,null,null,null,null,null,null,null,null,null,null,null,null,null,null,null,null,null,null,null,null,null,null,null,null,null,null,null,null,null,null,null,null,null,null,null,null,null,null,null,null,null,null,null,null,null,null,null,null,null,null,null,null,null,null,null,null,null,null,null,null,null,null,null,null,null,null,null,null,null,null,null,null,null,null,null,null,null,null,null,null,null,null,null,null,null,null,null,null,null,null,null,null,null,null,null,null,null,null,null,null,null,null,null,null,null,null,null,null,null,null,null,null,null,"１","報告対象建築物","-",{"$f":"'1_入力シート【基本情報】'!$M$8","v":"建物名称"},"-",{"$f":"'1_入力シート【基本情報】'!S9","v":"建物名称"},null,null,null,null,"１報告対象建築物-建物名称-建物名称","１報告対象建築物-建物名称-建物名称",null,null,null,null,null,"１報告対象建築物-建物名称-フリガナ"]
[null,null,null,null,null,null,null,null,null,null,null,null,null,null,null,null,null,null,"番地など",null,null,null,null,null,null,null,null,null,null,null,null,null,null,null,null,null,null,null,null,null,null,null,null,null,null,null,null,null,null,null,null,null,null,null,null,null,null,null,null,null,null,null,null,null,null,null,null,null,null,null,null,null,null,null,null,null,null,null,null,null,null,null,null,null,null,null,null,null,null,null,null,null,null,null,null,null,null,null,null,null,null,null,null,null,null,null,null,null,null,null,null,null,null,null,null,null,null,null,null,null,null,null,null,null,null,null,null,null,null,null,null,null,null,null,null,null,null,null,null,null,null,null,null,null,null,null,null,null,null,null,null,null,null,null,null,null,null,null,null,null,null,null,null,null,null,null,null,null,null,null,null,null,null,null,null,null,null,null,null,null,null,null,null,null,null,null,null,null,null,null,null,null,null,null,null,null,null,null,null,null,null,null,null,null,null,null,null,null,null,null,null,null,null,null,null,null,null,null,null,null,null,null,null,null,null,null,null,null,null,null,null,null,null,null,null,null,null,null,null,null,null,null,null,null,null,null,null,null,null,null,null,null,null,null,null,null,null,null,null,null,null,null,null,null,null,null,null,null,null,null,null,null,null,null,null,null,null,null,null,null,null,null,null,null,null,null,null,null,null,null,null,null,null,null,null,null,null,null,null,null,null,null,null,null,null,null,null,null,null,null,null,"１","報告対象建築物","-",{"$f":"'1_入力シート【基本情報】'!$M$10","v":"建物所在地"},"-",{"$f":"'1_入力シート【基本情報】'!S10","v":"都道府県"},null,null,null,null,"１報告対象建築物-建物所在地-都道府県","１報告対象建築物-建物所在地-都道府県",null,null,null,null,null,"１報告対象建築物-建物名称-建物名称"]
[null,null,null,null,null,null,null,null,null,null,null,null,null,null,null,null,null,null,null,null,null,null,null,null,null,null,null,null,null,null,null,null,null,null,null,null,null,null,null,null,null,null,null,null,null,null,null,null,null,null,null,null,null,null,null,null,null,null,null,null,null,null,null,null,null,null,null,null,null,null,null,null,null,null,null,null,null,null,null,null,null,null,null,null,null,null,null,null,null,null,null,null,null,null,null,null,null,null,null,null,null,null,null,null,null,null,null,null,null,null,null,null,null,null,null,null,null,null,null,null,null,null,null,null,null,null,null,null,null,null,null,null,null,null,null,null,null,null,null,null,null,null,null,null,null,null,null,null,null,null,null,null,null,null,null,null,null,null,null,null,null,null,null,null,null,null,null,null,null,null,null,null,null,null,null,null,null,null,null,null,null,null,null,null,null,null,null,null,null,null,null,null,null,null,null,null,null,null,null,null,null,null,null,null,null,null,null,null,null,null,null,null,null,null,null,null,null,null,null,null,null,null,null,null,null,null,null,null,null,null,null,null,null,null,null,null,null,null,null,null,null,null,null,null,null,null,null,null,null,null,null,null,null,null,null,null,null,null,null,null,null,null,null,null,null,null,null,null,null,null,null,null,null,null,null,null,null,null,null,null,null,null,null,null,null,null,null,null,null,null,null,null,null,null,null,null,null,null,null,null,null,null,null,null,null,null,null,null,null,null,null,"１","報告対象建築物","-",{"$f":"'1_入力シート【基本情報】'!$M$10","v":"建物所在地"},"-",{"$f":"'1_入力シート【基本情報】'!S11","v":"市郡"},null,null,null,null,"１報告対象建築物-建物所在地-市郡","１報告対象建築物-建物所在地-市郡",null,null,null,null,null,"１報告対象建築物-建物所在地-都道府県"]
[null,null,null,null,null,null,null,null,null,"２　報告内容に関する問合せ先",null,null,null,null,null,null,null,null,null,null,null,null,null,null,null,null,null,null,null,null,null,null,null,null,null,null,null,null,null,null,null,null,null,null,null,null,null,null,null,null,null,null,null,null,null,null,null,null,null,null,null,null,null,null,null,null,null,null,null,null,null,null,null,null,null,null,null,null,null,null,null,null,null,null,null,null,null,null,null,null,null,null,null,null,null,null,null,null,null,null,null,null,null,null,null,null,null,null,null,null,null,null,null,null,null,null,null,null,null,null,null,null,null,null,null,null,null,null,null,null,null,null,null,null,null,null,null,null,null,null,null,null,null,null,null,null,null,null,null,null,null,null,null,null,null,null,null,null,null,null,null,null,null,null,null,null,null,null,null,null,null,null,null,null,null,null,null,null,null,null,null,null,null,null,null,null,null,null,null,null,null,null,null,null,null,null,null,null,null,null,null,null,null,null,null,null,null,null,null,null,null,null,null,null,null,null,null,null,null,null,null,null,null,null,null,null,null,null,null,null,null,null,null,null,null,null,null,null,null,null,null,null,null,null,null,null,null,null,null,null,null,null,null,null,null,null,null,null,null,null,null,null,null,null,null,null,null,null,null,null,null,null,null,null,null,null,null,null,null,null,null,null,null,null,null,null,null,null,null,null,null,null,null,null,null,null,null,null,null,null,null,null,null,null,null,null,null,null,null,null,null,"１","報告対象建築物","-",{"$f":"'1_入力シート【基本情報】'!$M$10","v":"建物所在地"},"-",{"$f":"'1_入力シート【基本情報】'!S12","v":"区町村"},null,null,null,null,"１報告対象建築物-建物所在地-区町村","１報告対象建築物-建物所在地-区町村",null,null,null,null,null,"１報告対象建築物-建物所在地-市郡"]
[null,null,null,null,null,null,null,null,null,null,null,null,"法人名",null,null,null,null,null,"フリガナ",null,null,null,null,null,null,null,null,null,null,null,null,null,null,null,null,null,null,null,null,null,null,null,null,null,null,null,null,null,null,null,null,null,null,null,null,null,null,null,null,null,null,null,null,null,null,null,null,null,null,null,null,null,null,null,null,null,null,null,null,null,null,null,null,null,null,null,null,null,null,null,null,null,null,null,null,null,null,null,null,null,null,null,null,null,null,null,null,null,null,null,null,null,null,null,null,null,null,null,null,null,null,null,null,null,null,null,null,null,null,null,null,null,null,null,null,null,null,null,null,null,null,null,null,null,null,null,null,null,null,null,null,null,null,null,null,null,null,null,null,null,null,null,null,null,null,null,null,null,null,null,null,null,null,null,null,null,null,null,null,null,null,null,null,null,null,null,null,null,null,null,null,null,null,null,null,null,null,null,null,null,null,null,null,null,null,null,null,null,null,null,null,null,null,null,null,null,null,null,null,null,null,null,null,null,null,null,null,null,null,null,null,null,null,null,null,null,null,null,null,null,null,null,null,null,null,null,null,null,null,null,null,null,null,null,null,null,null,null,null,null,null,null,null,null,null,null,null,null,null,null,null,null,null,null,null,null,null,null,null,null,null,null,null,null,null,null,null,null,null,null,null,null,null,null,null,null,null,null,null,null,null,null,null,null,null,null,null,null,null,null,null,"１","報告対象建築物","-",{"$f":"'1_入力シート【基本情報】'!$M$10","v":"建物所在地"},"-",{"$f":"'1_入力シート【基本情報】'!S13","v":"大字・町名"},null,null,null,null,"１報告対象建築物-建物所在地-大字・町名","１報告対象建築物-建物所在地-大字・町名",null,null,null,null,null,"１報告対象建築物-建物所在地-区町村"]
[null,null,null,null,null,null,null,null,null,null,null,null,null,null,null,null,null,null,"法人名",null,null,null,null,null,null,null,null,null,null,null,null,null,null,null,null,null,null,null,null,null,null,null,null,null,null,null,null,null,null,null,null,null,null,null,null,null,null,null,null,null,null,null,null,null,null,null,null,null,null,null,null,null,null,null,null,null,null,null,null,null,null,null,null,null,null,null,null,null,null,null,null,null,null,null,null,null,null,null,null,null,null,null,null,null,null,null,null,null,null,null,null,null,null,null,null,null,null,null,null,null,null,null,null,null,null,null,null,null,null,null,null,null,null,null,null,null,null,null,null,null,null,null,null,null,null,null,null,null,null,null,null,null,null,null,null,null,null,null,null,null,null,null,null,null,null,null,null,null,null,null,null,null,null,null,null,null,null,null,null,null,null,null,null,null,null,null,null,null,null,null,null,null,null,null,null,null,null,null,null,null,null,null,null,null,null,null,null,null,null,null,null,null,null,null,null,null,null,null,null,null,null,null,null,null,null,null,null,null,null,null,null,null,null,null,null,null,null,null,null,null,null,null,null,null,null,null,null,null,null,null,null,null,null,null,null,null,null,null,null,null,null,null,null,null,null,null,null,null,null,null,null,null,null,null,null,null,null,null,null,null,null,null,null,null,null,null,null,null,null,null,null,null,null,null,null,null,null,null,null,null,null,null,null,null,null,null,null,null,null,null,null,"１","報告対象建築物","-",{"$f":"'1_入力シート【基本情報】'!$M$10","v":"建物所在地"},"-",{"$f":"'1_入力シート【基本情報】'!S14","v":"番地など"},null,null,null,null,"１報告対象建築物-建物所在地-番地など","１報告対象建築物-建物所在地-番地など",null,null,null,null,null,"１報告対象建築物-建物所在地-大字・町名"]
[null,null,null,null,null,null,null,null,null,null,null,null,"肩書",null,null,null,null,null,"フリガナ",null,null,null,null,null,null,null,null,null,null,null,null,null,null,null,null,null,null,null,null,null,null,null,null,null,null,null,null,null,null,null,null,null,null,null,null,null,null,null,null,null,null,null,null,null,null,null,null,null,null,null,null,null,null,null,null,null,null,null,null,null,null,null,null,null,null,null,null,null,null,null,null,null,null,null,null,null,null,null,null,null,null,null,null,null,null,null,null,null,null,null,null,null,null,null,null,null,null,null,null,null,null,null,null,null,null,null,null,null,null,null,null,null,null,null,null,null,null,null,null,null,null,null,null,null,null,null,null,null,null,null,null,null,null,null,null,null,null,null,null,null,null,null,null,null,null,null,null,null,null,null,null,null,null,null,null,null,null,null,null,null,null,null,null,null,null,null,null,null,null,null,null,null,null,null,null,null,null,null,null,null,null,null,null,null,null,null,null,null,null,null,null,null,null,null,null,null,null,null,null,null,null,null,null,null,null,null,null,null,null,null,null,null,null,null,null,null,null,null,null,null,null,null,null,null,null,null,null,null,null,null,null,null,null,null,null,null,null,null,null,null,null,null,null,null,null,null,null,null,null,null,null,null,null,null,null,null,null,null,null,null,null,null,null,null,null,null,null,null,null,null,null,null,null,null,null,null,null,null,null,null,null,null,null,null,null,null,null,null,null,null,null,{"$f":"LEFT($J$16,1)","v":"２"},{"$f":"MID($J$16,3,20)","v":"報告内容に関する問合せ先"},"-",{"$f":"$M$17","v":"法人名"},"-","フリガナ",null,null,null,null,"２報告内容に関する問合せ先-法人名-フリガナ","２報告内容に関する問合せ先-法人名-フリガナ",null,null,null,null,null,"１報告対象建築物-建物所在地-番地など"]
[null,null,null,null,null,null,null,null,null,null,null,null,null,null,null,null,null,null,"肩書",null,null,null,null,null,null,null,null,null,null,null,null,null,null,null,null,null,null,null,null,null,null,null,null,null,null,null,null,null,null,null,null,null,null,null,null,null,null,null,null,null,null,null,null,null,null,null,null,null,null,null,null,null,null,null,null,null,null,null,null,null,null,null,null,null,null,null,null,null,null,null,null,null,null,null,null,null,null,null,null,null,null,null,null,null,null,null,null,null,null,null,null,null,null,null,null,null,null,null,null,null,null,null,null,null,null,null,null,null,null,null,null,null,null,null,null,null,null,null,null,null,null,null,null,null,null,null,null,null,null,null,null,null,null,null,null,null,null,null,null,null,null,null,null,null,null,null,null,null,null,null,null,null,null,null,null,null,null,null,null,null,null,null,null,null,null,null,null,null,null,null,null,null,null,null,null,null,null,null,null,null,null,null,null,null,null,null,null,null,null,null,null,null,null,null,null,null,null,null,null,null,null,null,null,null,null,null,null,null,null,null,null,null,null,null,null,null,null,null,null,null,null,null,null,null,null,null,null,null,null,null,null,null,null,null,null,null,null,null,null,null,null,null,null,null,null,null,null,null,null,null,null,null,null,null,null,null,null,null,null,null,null,null,null,null,null,null,null,null,null,null,null,null,null,null,null,null,null,null,null,null,null,null,null,null,null,null,null,null,null,null,null,{"$f":"LEFT($J$16,1)","v":"２"},{"$f":"MID($J$16,3,20)","v":"報告内容に関する問合せ先"},"-",{"$f":"$M$17","v":"法人名"},"-","法人名",null,null,null,null,"２報告内容に関する問合せ先-法人名-法人名","２報告内容に関する問合せ先-法人名-法人名",null,null,null,null,null,"２報告内容に関する問合せ先-法人名-フリガナ"]
[null,null,null,null,null,null,null,null,null,null,null,null,"氏名",null,null,null,null,null,"フリガナ",null,null,null,null,null,null,null,null,null,null,null,null,null,null,null,null,null,null,null,null,null,null,null,null,null,null,null,null,null,null,null,null,null,null,null,null,null,null,null,null,null,null,null,null,null,null,null,null,null,null,null,null,null,null,null,null,null,null,null,null,null,null,null,null,null,null,null,null,null,null,null,null,null,null,null,null,null,null,null,null,null,null,null,null,null,null,null,null,null,null,null,null,null,null,null,null,null,null,null,null,null,null,null,null,null,null,null,null,null,null,null,null,null,null,null,null,null,null,null,null,null,null,null,null,null,null,null,null,null,null,null,null,null,null,null,null,null,null,null,null,null,null,null,null,null,null,null,null,null,null,null,null,null,null,null,null,null,null,null,null,null,null,null,null,null,null,null,null,null,null,null,null,null,null,null,null,null,null,null,null,null,null,null,null,null,null,null,null,null,null,null,null,null,null,null,null,null,null,null,null,null,null,null,null,null,null,null,null,null,null,null,null,null,null,null,null,null,null,null,null,null,null,null,null,null,null,null,null,null,null,null,null,null,null,null,null,null,null,null,null,null,null,null,null,null,null,null,null,null,null,null,null,null,null,null,null,null,null,null,null,null,null,null,null,null,null,null,null,null,null,null,null,null,null,null,null,null,null,null,null,null,null,null,null,null,null,null,null,null,null,null,null,"２","報告内容に関する問合せ先","-",{"$f":"$M$19","v":"肩書"},"-","フリガナ",null,null,null,null,"２報告内容に関する問合せ先-肩書-フリガナ","２報告内容に関する問合せ先-肩書-フリガナ",null,null,null,null,null,"２報告内容に関する問合せ先-法人名-法人名"]
[null,null,null,null,null,null,null,null,null,null,null,null,null,null,null,null,null,null,"氏名",null,null,null,null,null,null,null,null,null,null,null,null,null,null,null,null,null,null,null,null,null,null,null,null,null,null,null,null,null,null,null,null,null,null,null,null,null,null,null,null,null,null,null,null,null,null,null,null,null,null,null,null,null,null,null,null,null,null,null,null,null,null,null,null,null,null,null,null,null,null,null,null,null,null,null,null,null,null,null,null,null,null,null,null,null,null,null,null,null,null,null,null,null,null,null,null,null,"連結","半角統一","未入力判定（1で未入力）／影響するのはリンクシート・CSVシートのみ",null,null,null,null,null,null,null,null,null,null,null,null,null,null,null,null,null,null,null,null,null,null,null,null,null,null,null,null,null,null,null,null,null,null,null,null,null,null,null,null,null,null,null,null,null,null,null,null,null,null,null,null,null,null,null,null,null,null,null,null,null,null,null,null,null,null,null,null,null,null,null,null,null,null,null,null,null,null,null,null,null,null,null,null,null,null,null,null,null,null,null,null,null,null,null,null,null,null,null,null,null,null,null,null,null,null,null,null,null,null,null,null,null,null,null,null,null,null,null,null,null,null,null,null,null,null,null,null,null,null,null,null,null,null,null,null,null,null,null,null,null,null,null,null,null,null,null,null,null,null,null,null,null,null,null,null,null,null,null,null,null,null,null,null,null,null,null,null,null,null,null,null,null,null,null,null,null,null,null,null,null,null,null,null,null,null,null,null,null,null,null,null,"２","報告内容に関する問合せ先","-","肩書","-","肩書",null,null,null,null,"２報告内容に関する問合せ先-肩書-肩書","２報告内容に関する問合せ先-肩書-肩書",null,null,null,null,null,"２報告内容に関する問合せ先-肩書-フリガナ"]
[null,null,null,null,null,null,null,null,null,null,null,null,"郵便番号",null,null,null,null,null,null,null,null,null,null,null,null,null,null,null,null,null,null,null,null,"－",null,null,null,null,null,null,null,null,null,null,null,null,null,null,null,null,null,null,null,null,null,null,null,null,null,null,null,null,null,null,null,null,null,null,null,null,null,null,null,null,null,null,null,null,null,null,null,null,null,null,null,null,null,null,null,null,null,null,null,null,null,null,null,null,null,null,null,null,null,null,null,null,null,null,null,null,null,null,null,null,null,null,{"$f":"CONCATENATE(AB23,\"-\",AK23)","v":"-"},{"$f":"ASC(DM23)","v":"-"},{"$f":"IF(COUNTA(AB23,AK23,AT23)=0,1,0)","v":1},null,null,null,null,null,null,null,null,null,null,null,null,null,null,null,null,null,null,null,null,null,null,null,null,null,null,null,null,null,null,null,null,null,null,null,null,null,null,null,null,null,null,null,null,null,null,null,null,null,null,null,null,null,null,null,null,null,null,null,null,null,null,null,null,null,null,null,null,null,null,null,null,null,null,null,null,null,null,null,null,null,null,null,null,null,null,null,null,null,null,null,null,null,null,null,null,null,null,null,null,null,null,null,null,null,null,null,null,null,null,null,null,null,null,null,null,null,null,null,null,null,null,null,null,null,null,null,null,null,null,null,null,null,null,null,null,null,null,null,null,null,null,null,null,null,null,null,null,null,null,null,null,null,null,null,null,null,null,null,null,null,null,null,null,null,null,null,null,null,null,null,null,null,null,null,null,null,null,null,null,null,null,null,null,null,null,null,null,null,null,null,null,"２","報告内容に関する問合せ先","-",{"$f":"$M$21","v":"氏名"},"-","フリガナ",null,null,null,null,"２報告内容に関する問合せ先-氏名-フリガナ","２報告内容に関する問合せ先-氏名-フリガナ",null,null,null,null,null,"２報告内容に関する問合せ先-肩書-肩書"]
[null,null,null,null,null,null,null,null,null,null,null,null,"住所",null,null,null,null,null,null,null,null,null,null,null,null,null,null,null,null,null,null,null,null,null,null,null,null,null,null,null,null,null,null,null,null,null,null,null,null,null,null,null,null,null,null,null,null,null,null,null,null,null,null,null,null,null,null,null,null,null,null,null,null,null,null,null,null,null,null,null,null,null,null,null,null,null,null,null,null,null,null,null,null,null,null,null,null,null,null,null,null,null,null,null,null,null,null,null,null,null,null,null,null,null,null,null,null,null,"未入力判定（1で未入力）／影響するのはリンクシート・CSVシートのみ",null,null,null,null,null,null,null,null,null,null,null,null,null,null,null,null,null,null,null,null,null,null,null,null,null,null,null,null,null,null,null,null,null,null,null,null,null,null,null,null,null,null,null,null,null,null,null,null,null,null,null,null,null,null,null,null,null,null,null,null,null,null,null,null,null,null,null,null,null,null,null,null,null,null,null,null,null,null,null,null,null,null,null,null,null,null,null,null,null,null,null,null,null,null,null,null,null,null,null,null,null,null,null,null,null,null,null,null,null,null,null,null,null,null,null,null,null,null,null,null,null,null,null,null,null,null,null,null,null,null,null,null,null,null,null,null,null,null,null,null,null,null,null,null,null,null,null,null,null,null,null,null,null,null,null,null,null,null,null,null,null,null,null,null,null,null,null,null,null,null,null,null,null,null,null,null,null,null,null,null,null,null,null,null,null,null,null,null,null,null,null,null,"２","報告内容に関する問合せ先","-",{"$f":"$LC$23","v":"氏名"},"-","氏名",null,null,null,null,"２報告内容に関する問合せ先-氏名-氏名","２報告内容に関する問合せ先-氏名-氏名",null,null,null,null,null,"２報告内容に関する問合せ先-氏名-フリガナ"]
[null,null,null,null,null,null,null,null,null,null,null,null,"電話番号",null,null,null,null,null,null,null,null,null,null,null,null,null,null,null,null,null,null,null,null,"－",null,null,null,null,null,null,null,null,"－",null,null,null,null,null,null,null,null,null,null,null,null,null,null,null,null,null,null,null,null,null,null,null,null,null,null,null,null,null,null,null,null,null,null,null,null,null,null,null,null,null,null,null,null,null,null,null,null,null,null,null,null,null,null,null,null,null,null,null,null,null,null,null,null,null,null,null,null,null,null,null,null,null,{"$f":"CONCATENATE(AB25,\"-\",AK25,\"-\",AT25)","v":"--"},{"$f":"ASC(DM25)","v":"--"},{"$f":"IF(COUNTA(AB25,AK25,AT25)=0,1,0)","v":1},null,null,null,null,null,null,null,null,null,null,null,null,null,null,null,null,null,null,null,null,null,null,null,null,null,null,null,null,null,null,null,null,null,null,null,null,null,null,null,null,null,null,null,null,null,null,null,null,null,null,null,null,null,null,null,null,null,null,null,null,null,null,null,null,null,null,null,null,null,null,null,null,null,null,null,null,null,null,null,null,null,null,null,null,null,null,null,null,null,null,null,null,null,null,null,null,null,null,null,null,null,null,null,null,null,null,null,null,null,null,null,null,null,null,null,null,null,null,null,null,null,null,null,null,null,null,null,null,null,null,null,null,null,null,null,null,null,null,null,null,null,null,null,null,null,null,null,null,null,null,null,null,null,null,null,null,null,null,null,null,null,null,null,null,null,null,null,null,null,null,null,null,null,null,null,null,null,null,null,null,null,null,null,null,null,null,null,null,null,null,null,"郵便・電話","２","報告内容に関する問合せ先","-",{"$f":"M24","v":"住所"},null,null,null,null,null,null,"２報告内容に関する問合せ先-住所","２報告内容に関する問合せ先-住所",null,null,null,null,null,"２報告内容に関する問合せ先-氏名-氏名"]
[null,null,null,null,null,null,null,null,null,null,null,null,"FAX番号",null,null,null,null,null,null,null,null,null,null,null,null,null,null,null,null,null,null,null,null,"－",null,null,null,null,null,null,null,null,"－",null,null,null,null,null,null,null,null,null,null,null,null,null,null,null,null,null,null,null,null,null,null,null,null,null,null,null,null,null,null,null,null,null,null,null,null,null,null,null,null,null,null,null,null,null,null,null,null,null,null,null,null,null,null,null,null,null,null,null,null,null,null,null,null,null,null,null,null,null,null,null,null,null,{"$f":"CONCATENATE(AB26,\"-\",AK26,\"-\",AT26)","v":"--"},{"$f":"ASC(DM26)","v":"--"},{"$f":"IF(COUNTA(AB26,AK26,AT26)=0,1,0)","v":1},null,null,null,null,null,null,null,null,null,null,null,null,null,null,null,null,null,null,null,null,null,null,null,null,null,null,null,null,null,null,null,null,null,null,null,null,null,null,null,null,null,null,null,null,null,null,null,null,null,null,null,null,null,null,null,null,null,null,null,null,null,null,null,null,null,null,null,null,null,null,null,null,null,null,null,null,null,null,null,null,null,null,null,null,null,null,null,null,null,null,null,null,null,null,null,null,null,null,null,null,null,null,null,null,null,null,null,null,null,null,null,null,null,null,null,null,null,null,null,null,null,null,null,null,null,null,null,null,null,null,null,null,null,null,null,null,null,null,null,null,null,null,null,null,null,null,null,null,null,null,null,null,null,null,null,null,null,null,null,null,null,null,null,null,null,null,null,null,null,null,null,null,null,null,null,null,null,null,null,null,null,null,null,null,null,null,null,null,null,null,null,"結合済みで","２","報告内容に関する問合せ先","-",{"$f":"$M$23","v":"郵便番号"},null,null,null,null,null,null,"２報告内容に関する問合せ先-郵便番号","２報告内容に関する問合せ先-郵便番号",null,null,null,null,null,"２報告内容に関する問合せ先-住所"]
[null,null,null,null,null,null,null,null,null,null,null,null,"メールアドレス（半角）",null,null,null,null,null,null,null,null,null,null,null,null,null,null,null,null,null,null,null,null,null,null,null,null,null,null,null,null,null,null,null,null,null,null,null,null,null,null,null,null,null,null,null,null,null,null,null,null,null,null,null,null,null,null,null,null,null,null,null,null,null,null,null,null,null,null,null,null,null,null,null,null,null,null,null,null,null,null,null,null,null,null,null,null,null,null,null,null,null,null,null,null,null,null,null,null,null,null,null,null,null,null,null,null,null,null,null,null,null,null,null,null,null,null,null,null,null,null,null,null,null,null,null,null,null,null,null,null,null,null,null,null,null,null,null,null,null,null,null,null,null,null,null,null,null,null,null,null,null,null,null,null,null,null,null,null,null,null,null,null,null,null,null,null,null,null,null,null,null,null,null,null,null,null,null,null,null,null,null,null,null,null,null,null,null,null,null,null,null,null,null,null,null,null,null,null,null,null,null,null,null,null,null,null,null,null,null,null,null,null,null,null,null,null,null,null,null,null,null,null,null,null,null,null,null,null,null,null,null,null,null,null,null,null,null,null,null,null,null,null,null,null,null,null,null,null,null,null,null,null,null,null,null,null,null,null,null,null,null,null,null,null,null,null,null,null,null,null,null,null,null,null,null,null,null,null,null,null,null,null,null,null,null,null,null,null,null,null,null,null,null,null,null,null,null,null,null,"よい","２","報告内容に関する問合せ先","-",{"$f":"M25","v":"電話番号"},null,null,null,null,null,null,"２報告内容に関する問合せ先-電話番号","２報告内容に関する問合せ先-電話番号",null,null,null,null,null,"２報告内容に関する問合せ先-郵便番号"]
[null,null,null,null,null,null,null,null,null,null,null,null,null,null,null,null,null,null,null,null,null,null,null,null,null,null,null,null,null,null,null,null,null,null,null,null,null,null,null,null,null,null,null,null,null,null,null,null,null,null,null,null,null,null,null,null,null,null,null,null,null,null,null,null,null,null,null,null,null,null,null,null,null,null,null,null,null,null,null,null,null,null,null,null,null,null,null,null,null,null,null,null,null,null,null,null,null,null,null,null,null,null,null,null,null,null,null,null,null,null,null,null,null,null,null,null,null,null,null,null,null,null,null,null,null,null,null,null,null,null,null,null,null,null,null,null,null,null,null,null,null,null,null,null,null,null,null,null,null,null,null,null,null,null,null,null,null,null,null,null,null,null,null,null,null,null,null,null,null,null,null,null,null,null,null,null,null,null,null,null,null,null,null,null,null,null,null,null,null,null,null,null,null,null,null,null,null,null,null,null,null,null,null,null,null,null,null,null,null,null,null,null,null,null,null,null,null,null,null,null,null,null,null,null,null,null,null,null,null,null,null,null,null,null,null,null,null,null,null,null,null,null,null,null,null,null,null,null,null,null,null,null,null,null,null,null,null,null,null,null,null,null,null,null,null,null,null,null,null,null,null,null,null,null,null,null,null,null,null,null,null,null,null,null,null,null,null,null,null,null,null,null,null,null,null,null,null,null,null,null,null,null,null,null,null,null,null,null,null,null,null,"２","報告内容に関する問合せ先","-",{"$f":"M26","v":"FAX番号"},null,null,null,null,null,null,"２報告内容に関する問合せ先-FAX番号","２報告内容に関する問合せ先-FAX番号",null,null,null,null,null,"２報告内容に関する問合せ先-電話番号"]
[]
[null,null,null,null,null,null,null,null,null,null,null,null,null,null,null,null,null,null,null,null,null,null,null,null,null,null,null,null,null,null,null,null,null,null,null,null,null,null,null,null,null,null,null,null,null,null,null,null,null,null,null,null,null,null,null,null,null,null,null,null,null,null,null,null,null,null,null,null,null,null,null,null,null,null,null,null,null,null,null,null,null,null,null,null,null,null,null,null,null,null,null,null,null,null,null,null,null,null,null,null,null,null,null,null,null,null,null,null,null,null,null,null,null,null,null,null,null,null,null,null,null,null,null,null,null,null,null,null,null,null,null,null,null,null,null,null,null,null,null,null,null,null,null,null,null,null,null,null,null,null,null,null,null,null,null,null,null,null,null,null,null,null,null,null,null,null,null,null,null,null,null,null,null,null,null,null,null,null,null,null,null,null,null,null,null,null,null,null,null,null,null,null,null,null,null,null,null,null,null,null,null,null,null,null,null,null,null,null,null,null,null,null,null,null,null,null,null,null,null,null,null,null,null,null,null,null,null,null,null,null,null,null,null,null,null,null,null,null,null,null,null,null,null,null,null,null,null,null,null,null,null,null,null,null,null,null,null,null,null,null,null,null,null,null,null,null,null,null,null,null,null,null,null,null,null,null,null,null,null,null,null,null,null,null,null,null,null,null,null,null,null,null,null,null,null,null,null,null,null,null,null,null,null,null,null,null,null,null,null,null,null,null,null,null,null,null,null,null,null,null,null,"","",null,null,null,null,null,"２報告内容に関する問合せ先-FAX番号"]
[null,null,null,null,null,null,null,null,null,null,null,null,null,null,null,null,null,null,null,null,null,null,null,null,null,null,null,null,null,null,null,null,null,null,null,null,null,null,null,null,null,null,null,null,null,null,null,null,null,null,null,null,null,null,null,null,null,null,null,null,null,null,null,null,null,null,null,null,null,null,null,null,null,null,null,null,null,null,null,null,null,null,null,null,null,null,null,null,null,null,null,null,null,null,null,null,null,null,null,null,null,null,null,null,null,null,null,null,null,null,null,null,null,null,null,null,null,null,null,null,null,null,null,null,null,null,null,null,null,null,null,null,null,null,null,null,null,null,null,null,null,null,null,null,null,null,null,null,null,null,null,null,null,null,null,null,null,null,null,null,null,null,null,null,null,null,null,null,null,null,null,null,null,null,null,null,null,null,null,null,null,null,null,null,null,null,null,null,null,null,null,null,null,null,null,null,null,null,null,null,null,null,null,null,null,null,null,null,null,null,null,null,null,null,null,null,null,null,null,null,null,null,null,null,null,null,null,null,null,null,null,null,null,null,null,null,null,null,null,null,null,null,null,null,null,null,null,null,null,null,null,null,null,null,null,null,null,null,null,null,null,null,null,null,null,null,null,null,null,null,null,null,null,null,null,null,null,null,null,null,null,null,null,null,null,null,null,null,null,null,null,null,null,null,null,null,null,null,null,null,null,null,null,null,null,null,null,null,null,null,null,null,null,null,null,null,null,null,null,null,null,"","",null,null,null,null,null,"２報告内容に関する問合せ先-メールアドレス（半角）"]
[null,null,null,null,null,null,null,null,null,"３　所有者　",null,null,null,null,null,null,null,null,null,null,null,null,null,null,null,null,null,null,null,null,null,null,null,null,null,null,null,null,null,null,null,null,null,null,null,null,null,null,null,null,null,null,null,null,null,null,null,null,null,null,null,null,null,"第一面１欄",null,null,null,null,null,null,null,null,null,null,null,null,null,null,null,null,null,null,null,null,null,null,null,null,null,null,null,null,null,null,null,null,null,null,null,null,null,null,null,null,null,null,null,null,null,null,null,null,null,null,null,null,null,null,null,null,null,null,null,null,null,"所有者氏名の編集",null,null,null,null,null,null,null,null,null,null,null,null,null,null,null,null,null,null,null,null,null,null,null,null,null,null,null,null,null,null,null,null,null,null,null,null,null,null,null,null,null,null,null,null,null,null,null,null,null,null,null,null,null,null,null,null,null,null,null,null,null,null,null,null,null,null,null,null,null,null,null,null,null,null,null,null,null,null,null,null,null,null,null,null,null,null,null,null,null,null,null,null,null,null,null,null,null,null,null,null,null,null,null,null,null,null,null,null,null,null,null,null,null,null,null,null,null,null,null,null,null,null,null,null,null,null,null,null,null,null,null,null,null,null,null,null,null,null,null,null,null,null,null,null,null,null,null,null,null,null,null,null,null,null,null,null,null,null,null,null,null,null,null,null,null,null,null,null,null,null,null,null,null,null,null,null,null,null,null,null,null,null,null,null,null,{"$f":"LEFT($J$16,1)","v":"２"},{"$f":"MID($J$16,3,20)","v":"報告内容に関する問合せ先"},"-",{"$f":"$M$27","v":"メールアドレス（半角）"},null,null,null,null,null,null,"２報告内容に関する問合せ先-メールアドレス（半角）","２報告内容に関する問合せ先-メールアドレス（半角）",null,null,null,null,null,"３所有者-所有者氏名-フリガナ"]
[null,null,null,null,null,null,null,null,null,null,null,null,"所有者氏名",null,null,null,null,null,"フリガナ",null,null,null,null,null,null,null,null,null,null,null,null,null,null,null,null,null,null,null,null,null,null,null,null,null,null,null,null,null,null,null,null,null,null,null,null,null,null,null,null,null,null,null,null,null,null,null,null,null,null,null,null,null,null,"　所有者が法人のときは、法人の名称及び代表者氏名、法人の所在地を記入してください。",null,null,null,null,null,null,null,null,null,null,null,null,null,null,null,null,null,null,null,null,null,null,null,null,null,null,null,null,null,null,null,null,null,null,null,null,null,null,null,null,null,null,null,null,null,null,null,null,null,null,null,"フリガナ",{"$f":"TEXT(AB33,\"\")","v":""},null,{"$f":"DW33&\" \"&DW35&\" \"&DW37","v":"  "},{"$f":"DY33","v":"  "},null,null,null,null,null,null,null,null,null,null,null,null,null,null,null,null,null,null,null,null,null,null,null,null,null,null,null,null,null,null,null,null,null,null,null,null,null,null,null,null,null,null,null,null,null,null,null,null,null,null,null,null,null,null,null,null,null,null,null,null,null,null,null,null,null,null,null,null,null,null,null,null,null,null,null,null,null,null,null,null,null,null,null,null,null,null,null,null,null,null,null,null,null,null,null,null,null,null,null,null,null,null,null,null,null,null,null,null,null,null,null,null,null,null,null,null,null,null,null,null,null,null,null,null,null,null,null,null,null,null,null,null,null,null,null,null,null,null,null,null,null,null,null,null,null,null,null,null,null,null,null,null,null,null,null,null,null,null,null,null,null,null,null,null,null,null,null,null,null,null,null,null,null,null,null,null,null,null,null,null,null,null,null,null,null,null,null,null,null,null,null,"","",null,null,null,null,null,"３所有者-所有者氏名-法人名"]
[null,null,null,null,null,null,null,null,null,null,null,null,null,null,null,null,null,null,"法人名",null,null,null,null,null,null,null,null,null,null,null,null,null,null,null,null,null,null,null,null,null,null,null,null,null,null,null,null,null,null,null,null,null,null,null,null,null,null,null,null,null,null,null,null,null,null,null,null,null,null,null,null,null,null,null,null,null,null,null,null,null,null,null,null,null,null,null,null,null,null,null,null,null,null,null,null,null,null,null,null,null,null,null,null,null,null,null,null,null,null,null,null,null,null,null,null,null,null,null,null,null,null,null,null,null,null,"法人名",{"$f":"TEXT(AB34,\"\")","v":""},null,{"$f":"DW34&\" \"&DW36&\" \"&DW38","v":"  "},{"$f":"DY34","v":"  "},null,null,null,null,null,null,null,null,null,null,null,null,null,null,null,null,null,null,null,null,null,null,null,null,null,null,null,null,null,null,null,null,null,null,null,null,null,null,null,null,null,null,null,null,null,null,null,null,null,null,null,null,null,null,null,null,null,null,null,null,null,null,null,null,null,null,null,null,null,null,null,null,null,null,null,null,null,null,null,null,null,null,null,null,null,null,null,null,null,null,null,null,null,null,null,null,null,null,null,null,null,null,null,null,null,null,null,null,null,null,null,null,null,null,null,null,null,null,null,null,null,null,null,null,null,null,null,null,null,null,null,null,null,null,null,null,null,null,null,null,null,null,null,null,null,null,null,null,null,null,null,null,null,null,null,null,null,null,null,null,null,null,null,null,null,null,null,null,null,null,null,null,null,null,null,null,null,null,null,null,null,{"$f":"LEFT($J$32,1)","v":"３"},{"$f":"MID($J$32,3,3)","v":"所有者"},"-",{"$f":"$M$33","v":"所有者氏名"},"-",{"$f":"S33","v":"フリガナ"},null,null,null,null,"３所有者-所有者氏名-フリガナ","３所有者-所有者氏名-フリガナ",null,null,null,null,null,"３所有者-所有者氏名-フリガナ"]
[null,null,null,null,null,null,null,null,null,null,null,null,null,null,null,null,null,null,"フリガナ",null,null,null,null,null,null,null,null,null,null,null,null,null,null,null,null,null,null,null,null,null,null,null,null,null,null,null,null,null,null,null,null,null,null,null,null,null,null,null,null,null,null,null,null,null,null,null,null,null,null,null,null,null,null,null,null,null,null,null,null,null,null,null,null,null,null,null,null,null,null,null,null,null,null,null,null,null,null,null,null,null,null,null,null,null,null,null,null,null,null,null,null,null,null,null,null,null,null,null,null,null,null,null,null,null,null,"フリガネ","",null,null,null,null,null,null,null,null,null,null,null,null,null,null,null,null,null,null,null,null,null,null,null,null,null,null,null,null,null,null,null,null,null,null,null,null,null,null,null,null,null,null,null,null,null,null,null,null,null,null,null,null,null,null,null,null,null,null,null,null,null,null,null,null,null,null,null,null,null,null,null,null,null,null,null,null,null,null,null,null,null,null,null,null,null,null,null,null,null,null,null,null,null,null,null,null,null,null,null,null,null,null,null,null,null,null,null,null,null,null,null,null,null,null,null,null,null,null,null,null,null,null,null,null,null,null,null,null,null,null,null,null,null,null,null,null,null,null,null,null,null,null,null,null,null,null,null,null,null,null,null,null,null,null,null,null,null,null,null,null,null,null,null,null,null,null,null,null,null,null,null,null,null,null,null,null,null,null,null,null,null,null,null,null,{"$f":"LEFT($J$32,1)","v":"３"},{"$f":"MID($J$32,3,3)","v":"所有者"},"-","所有者氏名","-","法人名",null,null,null,null,"３所有者-所有者氏名-法人名","３所有者-所有者氏名-法人名",null,null,null,null,null,"３所有者-所有者氏名-肩書"]
[null,null,null,null,null,null,null,null,null,null,null,null,null,null,null,null,null,null,"肩書",null,null,null,null,null,null,null,null,null,null,null,null,null,null,null,null,null,null,null,null,null,null,null,null,null,null,null,null,null,null,null,null,null,null,null,null,null,null,null,null,null,null,null,null,null,null,null,null,null,null,null,null,null,null,null,null,null,null,null,null,null,null,null,null,null,null,null,null,null,null,null,null,null,null,null,null,null,null,null,null,null,null,null,null,null,null,null,null,null,null,null,null,null,null,null,null,null,null,null,null,null,null,null,null,null,null,"肩書",{"$f":"TEXT(AB36,\"\")","v":""},null,null,null,null,null,null,null,null,null,null,null,null,null,null,null,null,null,null,null,null,null,null,null,null,null,null,null,null,null,null,null,null,null,null,null,null,null,null,null,null,null,null,null,null,null,null,null,null,null,null,null,null,null,null,null,null,null,null,null,null,null,null,null,null,null,null,null,null,null,null,null,null,null,null,null,null,null,null,null,null,null,null,null,null,null,null,null,null,null,null,null,null,null,null,null,null,null,null,null,null,null,null,null,null,null,null,null,null,null,null,null,null,null,null,null,null,null,null,null,null,null,null,null,null,null,null,null,null,null,null,null,null,null,null,null,null,null,null,null,null,null,null,null,null,null,null,null,null,null,null,null,null,null,null,null,null,null,null,null,null,null,null,null,null,null,null,null,null,null,null,null,null,null,null,null,null,null,null,null,null,null,null,null,null,"３","所有者","-","所有者氏名","-","フリガナ",null,null,null,null,"３所有者-所有者氏名-フリガナ","３所有者-所有者氏名-フリガナ",null,null,null,null,null,"３所有者-所有者氏名-フリガナ"]
[null,null,null,null,null,null,null,null,null,null,null,null,null,null,null,null,null,null,"フリガナ",null,null,null,null,null,null,null,null,null,null,null,null,null,null,null,null,null,null,null,null,null,null,null,null,null,null,null,null,null,null,null,null,null,null,null,null,null,null,null,null,null,null,null,null,null,null,null,null,null,null,null,null,null,null,null,null,null,null,null,null,null,null,null,null,null,null,null,null,null,null,null,null,null,null,null,null,null,null,null,null,null,null,null,null,null,null,null,null,null,null,null,null,null,null,null,null,null,null,null,null,null,null,null,null,null,null,"フリガナ","",null,null,null,null,null,null,null,null,null,null,null,null,null,null,null,null,null,null,null,null,null,null,null,null,null,null,null,null,null,null,null,null,null,null,null,null,null,null,null,null,null,null,null,null,null,null,null,null,null,null,null,null,null,null,null,null,null,null,null,null,null,null,null,null,null,null,null,null,null,null,null,null,null,null,null,null,null,null,null,null,null,null,null,null,null,null,null,null,null,null,null,null,null,null,null,null,null,null,null,null,null,null,null,null,null,null,null,null,null,null,null,null,null,null,null,null,null,null,null,null,null,null,null,null,null,null,null,null,null,null,null,null,null,null,null,null,null,null,null,null,null,null,null,null,null,null,null,null,null,null,null,null,null,null,null,null,null,null,null,null,null,null,null,null,null,null,null,null,null,null,null,null,null,null,null,null,null,null,null,null,null,null,null,null,"３","所有者","-","所有者氏名","-","肩書",null,null,null,null,"３所有者-所有者氏名-肩書","３所有者-所有者氏名-肩書",null,null,null,null,null,"３所有者-所有者氏名-氏名"]
[null,null,null,null,null,null,null,null,null,null,null,null,null,null,null,null,null,null,"氏名",null,null,null,null,null,null,null,null,null,null,null,null,null,null,null,null,null,null,null,null,null,null,null,null,null,null,null,null,null,null,null,null,null,null,null,null,null,null,null,null,null,null,null,null,null,null,null,null,null,null,null,null,null,null,null,null,null,null,null,null,null,null,null,null,null,null,null,null,null,null,null,null,null,null,null,null,null,null,null,null,null,null,null,null,null,null,null,null,null,null,null,null,null,null,null,null,null,"連結","半角統一","未入力判定（1で未入力）",null,null,null,null,null,null,"氏名","",null,null,null,null,null,null,null,null,null,null,null,null,null,null,null,null,null,null,null,null,null,null,null,null,null,null,null,null,null,null,null,null,null,null,null,null,null,null,null,null,null,null,null,null,null,null,null,null,null,null,null,null,null,null,null,null,null,null,null,null,null,null,null,null,null,null,null,null,null,null,null,null,null,null,null,null,null,null,null,null,null,null,null,null,null,null,null,null,null,null,null,null,null,null,null,null,null,null,null,null,null,null,null,null,null,null,null,null,null,null,null,null,null,null,null,null,null,null,null,null,null,null,null,null,null,null,null,null,null,null,null,null,null,null,null,null,null,null,null,null,null,null,null,null,null,null,null,null,null,null,null,null,null,null,null,null,null,null,null,null,null,null,null,null,null,null,null,null,null,null,null,null,null,null,null,null,null,null,null,null,null,null,null,null,"３","所有者","-","所有者氏名","-","フリガナ",null,null,null,null,"３所有者-所有者氏名-フリガナ","３所有者-所有者氏名-フリガナ",null,null,null,null,null,"３所有者-郵便番号"]
[null,null,null,null,null,null,null,null,null,null,null,null,"郵便番号",null,null,null,null,null,null,null,null,null,null,null,null,null,null,null,null,null,null,null,null,"－",null,null,null,null,null,null,null,null,null,null,null,null,null,null,null,null,null,null,null,null,null,null,null,null,null,null,null,null,null,null,null,null,null,null,null,null,null,null,null,null,null,null,null,null,null,null,null,null,null,null,null,null,null,null,null,null,null,null,null,null,null,null,null,null,null,null,null,null,null,null,null,null,null,null,null,null,null,null,null,null,null,null,{"$f":"CONCATENATE(AB39,\"-\",AK39)","v":"-"},{"$f":"ASC(DM39)","v":"-"},{"$f":"IF(COUNTA(AB39,AK39,AT39)=0,1,0)","v":1},null,null,null,null,null,null,null,null,null,null,null,null,null,null,null,null,null,null,null,null,null,null,null,null,null,null,null,null,null,null,null,null,null,null,null,null,null,null,null,null,null,null,null,null,null,null,null,null,null,null,null,null,null,null,null,null,null,null,null,null,null,null,null,null,null,null,null,null,null,null,null,null,null,null,null,null,null,null,null,null,null,null,null,null,null,null,null,null,null,null,null,null,null,null,null,null,null,null,null,null,null,null,null,null,null,null,null,null,null,null,null,null,null,null,null,null,null,null,null,null,null,null,null,null,null,null,null,null,null,null,null,null,null,null,null,null,null,null,null,null,null,null,null,null,null,null,null,null,null,null,null,null,null,null,null,null,null,null,null,null,null,null,null,null,null,null,null,null,null,null,null,null,null,null,null,null,null,null,null,null,null,null,null,null,null,null,null,null,null,null,null,null,"３","所有者","-","所有者氏名","-","氏名",null,null,null,null,"３所有者-所有者氏名-氏名","３所有者-所有者氏名-氏名",null,null,null,null,null,"３所有者-住所"]
[null,null,null,null,null,null,null,null,null,null,null,null,"住所",null,null,null,null,null,null,null,null,null,null,null,null,null,null,null,null,null,null,null,null,null,null,null,null,null,null,null,null,null,null,null,null,null,null,null,null,null,null,null,null,null,null,null,null,null,null,null,null,null,null,null,null,null,null,null,null,null,null,null,null,null,null,null,null,null,null,null,null,null,null,null,null,null,null,null,null,null,null,null,null,null,null,null,null,null,null,null,null,null,null,null,null,null,null,null,null,null,null,null,null,null,null,null,null,null,"未入力判定（1で未入力）",null,null,null,null,null,null,null,null,null,null,null,null,null,null,null,null,null,null,null,null,null,null,null,null,null,null,null,null,null,null,null,null,null,null,null,null,null,null,null,null,null,null,null,null,null,null,null,null,null,null,null,null,null,null,null,null,null,null,null,null,null,null,null,null,null,null,null,null,null,null,null,null,null,null,null,null,null,null,null,null,null,null,null,null,null,null,null,null,null,null,null,null,null,null,null,null,null,null,null,null,null,null,null,null,null,null,null,null,null,null,null,null,null,null,null,null,null,null,null,null,null,null,null,null,null,null,null,null,null,null,null,null,null,null,null,null,null,null,null,null,null,null,null,null,null,null,null,null,null,null,null,null,null,null,null,null,null,null,null,null,null,null,null,null,null,null,null,null,null,null,null,null,null,null,null,null,null,null,null,null,null,null,null,null,null,null,null,null,null,null,null,null,"３","所有者","-",{"$f":"M39","v":"郵便番号"},null,null,null,null,null,null,"３所有者-郵便番号","３所有者-郵便番号",null,null,null,null,null,"３所有者-電話番号"]
[null,null,null,null,null,null,null,null,null,null,null,null,"電話番号",null,null,null,null,null,null,null,null,null,null,null,null,null,null,null,null,null,null,null,null,"－",null,null,null,null,null,null,null,null,"－",null,null,null,null,null,null,null,null,null,null,null,null,null,null,null,null,null,null,null,null,null,null,null,null,null,null,null,null,null,null,null,null,null,null,null,null,null,null,null,null,null,null,null,null,null,null,null,null,null,null,null,null,null,null,null,null,null,null,null,null,null,null,null,null,null,null,null,null,null,null,null,null,null,{"$f":"CONCATENATE(AB41,\"-\",AK41,\"-\",AT41)","v":"--"},{"$f":"ASC(DM41)","v":"--"},{"$f":"IF(COUNTA(AB41,AK41,AT41)=0,1,0)","v":1},null,null,null,null,null,null,null,null,null,null,null,null,null,null,null,null,null,null,null,null,null,null,null,null,null,null,null,null,null,null,null,null,null,null,null,null,null,null,null,null,null,null,null,null,null,null,null,null,null,null,null,null,null,null,null,null,null,null,null,null,null,null,null,null,null,null,null,null,null,null,null,null,null,null,null,null,null,null,null,null,null,null,null,null,null,null,null,null,null,null,null,null,null,null,null,null,null,null,null,null,null,null,null,null,null,null,null,null,null,null,null,null,null,null,null,null,null,null,null,null,null,null,null,null,null,null,null,null,null,null,null,null,null,null,null,null,null,null,null,null,null,null,null,null,null,null,null,null,null,null,null,null,null,null,null,null,null,null,null,null,null,null,null,null,null,null,null,null,null,null,null,null,null,null,null,null,null,null,null,null,null,null,null,null,null,null,null,null,null,null,null,null,"３","所有者","-",{"$f":"M40","v":"住所"},null,null,null,null,null,null,"３所有者-住所","３所有者-住所",null,null,null,null,null,"４管理者-所有者同一と同一チェック"]
[null,null,null,null,null,null,null,null,null,null,null,null,null,null,null,null,null,null,null,null,null,null,null,null,null,null,null,null,null,null,null,null,null,null,null,null,null,null,null,null,null,null,null,null,null,null,null,null,null,null,null,null,null,null,null,null,null,null,null,null,null,null,null,null,null,null,null,null,null,null,null,null,null,null,null,null,null,null,null,null,null,null,null,null,null,null,null,null,null,null,null,null,null,null,null,null,null,null,null,null,null,null,null,null,null,null,null,null,null,null,null,null,null,null,null,null,null,null,null,null,null,null,null,null,null,null,null,null,null,null,null,null,null,null,null,null,null,null,null,null,null,null,null,null,null,null,null,null,null,null,null,null,null,null,null,null,null,null,null,null,null,null,null,null,null,null,null,null,null,null,null,null,null,null,null,null,null,null,null,null,null,null,null,null,null,null,null,null,null,null,null,null,null,null,null,null,null,null,null,null,null,null,null,null,null,null,null,null,null,null,null,null,null,null,null,null,null,null,null,null,null,null,null,null,null,null,null,null,null,null,null,null,null,null,null,null,null,null,null,null,null,null,null,null,null,null,null,null,null,null,null,null,null,null,null,null,null,null,null,null,null,null,null,null,null,null,null,null,null,null,null,null,null,null,null,null,null,null,null,null,null,null,null,null,null,null,null,null,null,null,null,null,null,null,null,null,null,null,null,null,null,null,null,null,null,null,null,null,null,null,null,"３","所有者","-",{"$f":"M41","v":"電話番号"},null,null,null,null,null,null,"３所有者-電話番号","３所有者-電話番号",null,null,null,null,null,"４管理者-管理者氏名-フリガナ"]
[null,null,null,null,null,null,null,null,null,null,null,null,null,null,null,null,null,null,null,null,null,null,null,null,null,null,null,null,null,null,null,null,null,null,null,null,null,null,null,null,null,null,null,null,null,null,null,null,null,null,null,null,null,null,null,null,null,null,null,null,null,null,null,null,null,null,null,null,null,null,null,null,null,null,null,null,null,null,null,null,null,null,null,null,null,null,null,null,null,null,null,null,null,null,null,null,null,null,null,null,null,null,null,null,null,null,null,null,null,null,null,null,null,null,null,null,null,null,null,null,null,null,null,null,null,null,null,null,null,null,null,null,null,null,null,null,null,null,null,null,null,null,null,null,null,null,null,null,null,null,null,null,null,null,null,null,null,null,null,null,null,null,null,null,null,null,null,null,null,null,null,null,null,null,null,null,null,null,null,null,null,null,null,null,null,null,null,null,null,null,null,null,null,null,null,null,null,null,null,null,null,null,null,null,null,null,null,null,null,null,null,null,null,null,null,null,null,null,null,null,null,null,null,null,null,null,null,null,null,null,null,null,null,null,null,null,null,null,null,null,null,null,null,null,null,null,null,null,null,null,null,null,null,null,null,null,null,null,null,null,null,null,null,null,null,null,null,null,null,null,null,null,null,null,null,null,null,null,null,null,null,null,null,null,null,null,null,null,null,null,null,null,null,null,null,null,null,null,null,null,null,null,null,null,null,null,null,null,null,null,null,null,null,null,null,null,null,null,null,null,null,"","",null,null,null,null,null,"４管理者-管理者氏名-法人名"]
[null,null,null,null,null,null,null,null,null,null,null,null,null,null,null,null,null,null,null,null,null,null,null,null,null,null,null,null,null,null,null,null,null,null,null,null,null,null,null,null,null,null,null,null,null,null,null,null,null,null,null,null,null,null,null,null,null,null,null,null,null,null,null,null,null,null,null,null,null,null,null,null,null,null,null,null,null,null,null,null,null,null,null,null,null,null,null,null,null,null,null,null,null,null,null,null,null,null,null,null,null,null,null,null,null,null,null,null,null,null,null,null,null,null,null,null,null,null,null,null,null,null,null,null,null,null,null,null,null,null,null,null,null,null,null,null,null,null,null,null,null,null,null,null,null,null,null,null,null,null,null,null,null,null,null,null,null,null,null,null,null,null,null,null,null,null,null,null,null,null,null,null,null,null,null,null,null,null,null,null,null,null,null,null,null,null,null,null,null,null,null,null,null,null,null,null,null,null,null,null,null,null,null,null,null,null,null,null,null,null,null,null,null,null,null,null,null,null,null,null,null,null,null,null,null,null,null,null,null,null,null,null,null,null,null,null,null,null,null,null,null,null,null,null,null,null,null,null,null,null,null,null,null,null,null,null,null,null,null,null,null,null,null,null,null,null,null,null,null,null,null,null,null,null,null,null,null,null,null,null,null,null,null,null,null,null,null,null,null,null,null,null,null,null,null,null,null,null,null,null,null,null,null,null,null,null,null,null,null,null,null,null,null,null,null,null,null,null,null,null,null,"","",null,null,null,null,null,"４管理者-管理者氏名-フリガナ"]
[null,null,null,null,null,null,null,null,null,null,null,null,null,null,null,null,null,null,null,null,null,null,null,null,null,null,null,null,null,null,null,null,null,null,null,null,null,null,null,null,null,null,null,null,null,null,null,null,null,null,null,null,null,null,null,null,null,null,null,null,null,null,null,null,null,null,null,null,null,null,null,null,null,null,null,null,null,null,null,null,null,null,null,null,null,null,null,null,null,null,null,null,null,null,null,null,null,null,null,null,null,null,null,null,null,null,null,null,null,null,null,null,null,null,null,null,null,null,null,null,null,null,null,null,null,null,null,null,null,null,null,null,null,null,null,null,null,null,null,null,null,null,null,null,null,null,null,null,null,null,null,null,null,null,null,null,null,null,null,null,null,null,null,null,null,null,null,null,null,null,null,null,null,null,null,null,null,null,null,null,null,null,null,null,null,null,null,null,null,null,null,null,null,null,null,null,null,null,null,null,null,null,null,null,null,null,null,null,null,null,null,null,null,null,null,null,null,null,null,null,null,null,null,null,null,null,null,null,null,null,null,null,null,null,null,null,null,null,null,null,null,null,null,null,null,null,null,null,null,null,null,null,null,null,null,null,null,null,null,null,null,null,null,null,null,null,null,null,null,null,null,null,null,null,null,null,null,null,null,null,null,null,null,null,null,null,null,null,null,null,null,null,null,null,null,null,null,null,null,null,null,null,null,null,null,null,null,null,null,null,null,null,null,null,null,null,null,null,null,null,null,"","",null,null,null,null,null,"４管理者-管理者氏名-肩書"]
[null,null,null,null,null,null,null,null,null,"４　管理者",null,null,null,null,null,null,null,null,null,null,null,null,null,null,null,null,null,{"$f":"IF(DS46=TRUE,\"→所有者と同一の場合は記入不要です。様式には「３　所有者」が反映されます\",\"\")","v":""},null,null,null,null,null,null,null,null,null,null,null,null,null,null,null,null,null,null,null,null,null,null,null,null,null,null,null,null,null,null,null,null,null,null,null,"第一面２欄",null,null,null,null,null,null,null,null,null,null,null,null,null,null,null,null,null,null,null,null,null,null,null,null,null,null,null,null,null,null,null,null,null,null,null,null,null,null,null,null,null,null,null,null,null,null,null,null,null,null,null,{"$f":"IF(DM61=2,LEFT(AB61,2),\"\")","v":""},null,null,null,null,null,null,false,null,null,"管理者氏名の編集",null,null,null,null,null,null,null,null,null,null,null,null,null,null,null,null,null,null,null,null,null,null,null,null,null,null,null,null,null,null,null,null,null,null,null,null,null,null,null,null,null,null,null,null,null,null,null,null,null,null,null,null,null,null,null,null,null,null,null,null,null,null,null,null,null,null,null,null,null,null,null,null,null,null,null,null,null,null,null,null,null,null,null,null,null,null,null,null,null,null,null,null,null,null,null,null,null,null,null,null,null,null,null,null,null,null,null,null,null,null,null,null,null,null,null,null,null,null,null,null,null,null,null,null,null,null,null,null,null,null,null,null,null,null,null,null,null,null,null,null,null,null,null,null,null,null,null,null,null,null,null,null,null,null,null,null,null,null,null,null,null,null,null,null,null,null,null,null,null,null,null,null,null,null,null,null,null,null,null,null,null,null,null,null,null,null,null,null,null,null,null,null,null,null,null,"","",null,null,null,null,null,"４管理者-管理者氏名-フリガナ"]
[null,null,null,null,null,null,null,null,null,null,null,null,"管理者氏名",null,null,null,null,null,"フリガナ",null,null,null,null,null,null,null,null,null,null,null,null,null,null,null,null,null,null,null,null,null,null,null,null,null,null,null,null,null,null,null,null,null,null,null,null,null,null,null,null,null,null,null,null,null,null,null,null,null,null,null,null,null,null,"　管理者が法人のときは、法人の名称及び代表者氏名、法人の所在地を記入してください。",null,null,null,null,null,null,null,null,null,null,null,null,null,null,null,null,null,null,null,null,null,null,null,null,null,null,null,null,null,null,null,null,null,null,null,null,null,null,null,null,null,null,null,null,null,null,null,null,null,null,null,"フリガナ",{"$f":"TEXT(AB47,\"\")","v":""},null,{"$f":"DW47&\" \"&DW49&\" \"&DW51","v":"  "},{"$f":"DY47","v":"  "},null,null,null,null,null,null,null,null,null,null,null,null,null,null,null,null,null,null,null,null,null,null,null,null,null,null,null,null,null,null,null,null,null,null,null,null,null,null,null,null,null,null,null,null,null,null,null,null,null,null,null,null,null,null,null,null,null,null,null,null,null,null,null,null,null,null,null,null,null,null,null,null,null,null,null,null,null,null,null,null,null,null,null,null,null,null,null,null,null,null,null,null,null,null,null,null,null,null,null,null,null,null,null,null,null,null,null,null,null,null,null,null,null,null,null,null,null,null,null,null,null,null,null,null,null,null,null,null,null,null,null,null,null,null,null,null,null,null,null,null,null,null,null,null,null,null,null,null,null,null,null,null,null,null,null,null,null,null,null,null,null,null,null,null,null,null,null,null,null,null,null,null,null,null,null,null,null,null,null,null,null,{"$f":"LEFT($J$46,1)","v":"４"},{"$f":"MID($J$46,3,3)","v":"管理者"},"-","所有者同一と同一チェック",null,null,null,null,null,null,"４管理者-所有者同一と同一チェック","４管理者-所有者同一と同一チェック",null,null,null,null,null,"４管理者-管理者氏名-氏名"]
[null,null,null,null,null,null,null,null,null,null,null,null,null,null,null,null,null,null,"法人名",null,null,null,null,null,null,null,null,null,null,null,null,null,null,null,null,null,null,null,null,null,null,null,null,null,null,null,null,null,null,null,null,null,null,null,null,null,null,null,null,null,null,null,null,null,null,null,null,null,null,null,null,null,null,null,null,null,null,null,null,null,null,null,null,null,null,null,null,null,null,null,null,null,null,null,null,null,null,null,null,null,null,null,null,null,null,null,null,null,null,null,null,null,null,null,null,null,null,null,null,null,null,null,null,null,null,"法人名",{"$f":"TEXT(AB48,\"\")","v":""},null,{"$f":"DW48&\" \"&DW50&\" \"&DW52","v":"  "},{"$f":"DY48","v":"  "},null,null,null,null,null,null,null,null,null,null,null,null,null,null,null,null,null,null,null,null,null,null,null,null,null,null,null,null,null,null,null,null,null,null,null,null,null,null,null,null,null,null,null,null,null,null,null,null,null,null,null,null,null,null,null,null,null,null,null,null,null,null,null,null,null,null,null,null,null,null,null,null,null,null,null,null,null,null,null,null,null,null,null,null,null,null,null,null,null,null,null,null,null,null,null,null,null,null,null,null,null,null,null,null,null,null,null,null,null,null,null,null,null,null,null,null,null,null,null,null,null,null,null,null,null,null,null,null,null,null,null,null,null,null,null,null,null,null,null,null,null,null,null,null,null,null,null,null,null,null,null,null,null,null,null,null,null,null,null,null,null,null,null,null,null,null,null,null,null,null,null,null,null,null,null,null,null,null,null,null,null,{"$f":"LEFT($J$46,1)","v":"４"},{"$f":"MID($J$46,3,3)","v":"管理者"},"-",{"$f":"$M$47","v":"管理者氏名"},"-",{"$f":"S47","v":"フリガナ"},null,null,null,null,"４管理者-管理者氏名-フリガナ","４管理者-管理者氏名-フリガナ",null,null,null,null,null,"４管理者-郵便番号"]
[null,null,null,null,null,null,null,null,null,null,null,null,null,null,null,null,null,null,"フリガナ",null,null,null,null,null,null,null,null,null,null,null,null,null,null,null,null,null,null,null,null,null,null,null,null,null,null,null,null,null,null,null,null,null,null,null,null,null,null,null,null,null,null,null,null,null,null,null,null,null,null,null,null,null,null,null,null,null,null,null,null,null,null,null,null,null,null,null,null,null,null,null,null,null,null,null,null,null,null,null,null,null,null,null,null,null,null,null,null,null,null,null,null,null,null,null,null,null,null,null,null,null,null,null,null,null,null,"フリガナ","",null,null,null,null,null,null,null,null,null,null,null,null,null,null,null,null,null,null,null,null,null,null,null,null,null,null,null,null,null,null,null,null,null,null,null,null,null,null,null,null,null,null,null,null,null,null,null,null,null,null,null,null,null,null,null,null,null,null,null,null,null,null,null,null,null,null,null,null,null,null,null,null,null,null,null,null,null,null,null,null,null,null,null,null,null,null,null,null,null,null,null,null,null,null,null,null,null,null,null,null,null,null,null,null,null,null,null,null,null,null,null,null,null,null,null,null,null,null,null,null,null,null,null,null,null,null,null,null,null,null,null,null,null,null,null,null,null,null,null,null,null,null,null,null,null,null,null,null,null,null,null,null,null,null,null,null,null,null,null,null,null,null,null,null,null,null,null,null,null,null,null,null,null,null,null,null,null,null,null,null,null,null,null,null,"４","管理者","-","管理者氏名","-","法人名",null,null,null,null,"４管理者-管理者氏名-法人名","４管理者-管理者氏名-法人名",null,null,null,null,null,"４管理者-住所"]
[null,null,null,null,null,null,null,null,null,null,null,null,null,null,null,null,null,null,"肩書",null,null,null,null,null,null,null,null,null,null,null,null,null,null,null,null,null,null,null,null,null,null,null,null,null,null,null,null,null,null,null,null,null,null,null,null,null,null,null,null,null,null,null,null,null,null,null,null,null,null,null,null,null,null,null,null,null,null,null,null,null,null,null,null,null,null,null,null,null,null,null,null,null,null,null,null,null,null,null,null,null,null,null,null,null,null,null,null,null,null,null,null,null,null,null,null,null,null,null,null,null,null,null,null,null,null,"肩書","",null,null,null,null,null,null,null,null,null,null,null,null,null,null,null,null,null,null,null,null,null,null,null,null,null,null,null,null,null,null,null,null,null,null,null,null,null,null,null,null,null,null,null,null,null,null,null,null,null,null,null,null,null,null,null,null,null,null,null,null,null,null,null,null,null,null,null,null,null,null,null,null,null,null,null,null,null,null,null,null,null,null,null,null,null,null,null,null,null,null,null,null,null,null,null,null,null,null,null,null,null,null,null,null,null,null,null,null,null,null,null,null,null,null,null,null,null,null,null,null,null,null,null,null,null,null,null,null,null,null,null,null,null,null,null,null,null,null,null,null,null,null,null,null,null,null,null,null,null,null,null,null,null,null,null,null,null,null,null,null,null,null,null,null,null,null,null,null,null,null,null,null,null,null,null,null,null,null,null,null,null,null,null,null,"４","管理者","-","管理者氏名","-","フリガナ",null,null,null,null,"４管理者-管理者氏名-フリガナ","４管理者-管理者氏名-フリガナ",null,null,null,null,null,"４管理者-電話番号"]
[null,null,null,null,null,null,null,null,null,null,null,null,null,null,null,null,null,null,"フリガナ",null,null,null,null,null,null,null,null,null,null,null,null,null,null,null,null,null,null,null,null,null,null,null,null,null,null,null,null,null,null,null,null,null,null,null,null,null,null,null,null,null,null,null,null,null,null,null,null,null,null,null,null,null,null,null,null,null,null,null,null,null,null,null,null,null,null,null,null,null,null,null,null,null,null,null,null,null,null,null,null,null,null,null,null,null,null,null,null,null,null,null,null,null,null,null,null,null,null,null,null,null,null,null,null,null,null,"フリガナ","",null,null,null,null,null,null,null,null,null,null,null,null,null,null,null,null,null,null,null,null,null,null,null,null,null,null,null,null,null,null,null,null,null,null,null,null,null,null,null,null,null,null,null,null,null,null,null,null,null,null,null,null,null,null,null,null,null,null,null,null,null,null,null,null,null,null,null,null,null,null,null,null,null,null,null,null,null,null,null,null,null,null,null,null,null,null,null,null,null,null,null,null,null,null,null,null,null,null,null,null,null,null,null,null,null,null,null,null,null,null,null,null,null,null,null,null,null,null,null,null,null,null,null,null,null,null,null,null,null,null,null,null,null,null,null,null,null,null,null,null,null,null,null,null,null,null,null,null,null,null,null,null,null,null,null,null,null,null,null,null,null,null,null,null,null,null,null,null,null,null,null,null,null,null,null,null,null,null,null,null,null,null,null,null,"４","管理者","-","管理者氏名","-","肩書",null,null,null,null,"４管理者-管理者氏名-肩書","４管理者-管理者氏名-肩書",null,null,null,null,null,"５代表となる調査者-資格-資格名称"]
[null,null,null,null,null,null,null,null,null,null,null,null,null,null,null,null,null,null,"氏名",null,null,null,null,null,null,null,null,null,null,null,null,null,null,null,null,null,null,null,null,null,null,null,null,null,null,null,null,null,null,null,null,null,null,null,null,null,null,null,null,null,null,null,null,null,null,null,null,null,null,null,null,null,null,null,null,null,null,null,null,null,null,null,null,null,null,null,null,null,null,null,null,null,null,null,null,null,null,null,null,null,null,null,null,null,null,null,null,null,null,null,null,null,null,null,null,null,"郵便番号",null,"未入力判定（1で完全未入力）／所有者と同一でない場合限定",null,null,null,null,null,null,"氏名","",null,null,null,null,null,null,null,null,null,null,null,null,null,null,null,null,null,null,null,null,null,null,null,null,null,null,null,null,null,null,null,null,null,null,null,null,null,null,null,null,null,null,null,null,null,null,null,null,null,null,null,null,null,null,null,null,null,null,null,null,null,null,null,null,null,null,null,null,null,null,null,null,null,null,null,null,null,null,null,null,null,null,null,null,null,null,null,null,null,null,null,null,null,null,null,null,null,null,null,null,null,null,null,null,null,null,null,null,null,null,null,null,null,null,null,null,null,null,null,null,null,null,null,null,null,null,null,null,null,null,null,null,null,null,null,null,null,null,null,null,null,null,null,null,null,null,null,null,null,null,null,null,null,null,null,null,null,null,null,null,null,null,null,null,null,null,null,null,null,null,null,null,null,null,null,null,null,null,null,null,null,null,null,null,"４","管理者","-","管理者氏名","-","フリガナ",null,null,null,null,"４管理者-管理者氏名-フリガナ","４管理者-管理者氏名-フリガナ",null,null,null,null,null,"５代表となる調査者-資格-建築士-登録"]
[null,null,null,null,null,null,null,null,null,null,null,null,"郵便番号",null,null,null,null,null,null,null,null,null,null,null,null,null,null,null,null,null,null,null,null,"－",null,null,null,null,null,null,null,null,null,null,null,null,null,null,null,null,null,null,null,null,null,null,null,null,null,null,null,null,null,null,null,null,null,null,null,null,null,null,null,null,null,null,null,null,null,null,null,null,null,null,null,null,null,null,null,null,null,null,null,null,null,null,null,null,null,null,null,null,null,null,null,null,null,null,null,null,null,null,null,null,null,null,{"$f":"CONCATENATE(AB53,\"-\",AK53)","v":"-"},{"$f":"ASC(DM53)","v":"-"},{"$f":"IF(AND($DS$46=FALSE,COUNTA(AB53,AK53)=0),1,0)","v":1},null,null,null,null,null,null,null,null,null,null,null,null,null,null,null,null,null,null,null,null,null,null,null,null,null,null,null,null,null,null,null,null,null,null,null,null,null,null,null,null,null,null,null,null,null,null,null,null,null,null,null,null,null,null,null,null,null,null,null,null,null,null,null,null,null,null,null,null,null,null,null,null,null,null,null,null,null,null,null,null,null,null,null,null,null,null,null,null,null,null,null,null,null,null,null,null,null,null,null,null,null,null,null,null,null,null,null,null,null,null,null,null,null,null,null,null,null,null,null,null,null,null,null,null,null,null,null,null,null,null,null,null,null,null,null,null,null,null,null,null,null,null,null,null,null,null,null,null,null,null,null,null,null,null,null,null,null,null,null,null,null,null,null,null,null,null,null,null,null,null,null,null,null,null,null,null,null,null,null,null,null,null,null,null,null,null,null,null,null,null,null,null,"４","管理者","-","管理者氏名","-","氏名",null,null,null,null,"４管理者-管理者氏名-氏名","４管理者-管理者氏名-氏名",null,null,null,null,null,"５代表となる調査者-資格-建築士-号"]
[null,null,null,null,null,null,null,null,null,null,null,null,"住所",null,null,null,null,null,null,null,null,null,null,null,null,null,null,null,null,null,null,null,null,null,null,null,null,null,null,null,null,null,null,null,null,null,null,null,null,null,null,null,null,null,null,null,null,null,null,null,null,null,null,null,null,null,null,null,null,null,null,null,null,null,null,null,null,null,null,null,null,null,null,null,null,null,null,null,null,null,null,null,null,null,null,null,null,null,null,null,null,null,null,null,null,null,null,null,null,null,null,null,null,null,null,null,"電話番号",null,"未入力判定（1で完全未入力）／所有者と同一でない場合限定",null,null,null,null,null,null,null,null,null,null,null,null,null,null,null,null,null,null,null,null,null,null,null,null,null,null,null,null,null,null,null,null,null,null,null,null,null,null,null,null,null,null,null,null,null,null,null,null,null,null,null,null,null,null,null,null,null,null,null,null,null,null,null,null,null,null,null,null,null,null,null,null,null,null,null,null,null,null,null,null,null,null,null,null,null,null,null,null,null,null,null,null,null,null,null,null,null,null,null,null,null,null,null,null,null,null,null,null,null,null,null,null,null,null,null,null,null,null,null,null,null,null,null,null,null,null,null,null,null,null,null,null,null,null,null,null,null,null,null,null,null,null,null,null,null,null,null,null,null,null,null,null,null,null,null,null,null,null,null,null,null,null,null,null,null,null,null,null,null,null,null,null,null,null,null,null,null,null,null,null,null,null,null,null,null,null,null,null,null,null,null,null,"４","管理者","-",{"$f":"M53","v":"郵便番号"},null,null,null,null,null,null,"４管理者-郵便番号","４管理者-郵便番号",null,null,null,null,null,"５代表となる調査者-資格-特定建築物調査員-号"]
[null,null,null,null,null,null,null,null,null,null,null,null,"電話番号",null,null,null,null,null,null,null,null,null,null,null,null,null,null,null,null,null,null,null,null,"－",null,null,null,null,null,null,null,null,"－",null,null,null,null,null,null,null,null,null,null,null,null,null,null,null,null,null,null,null,null,null,null,null,null,null,null,null,null,null,null,null,null,null,null,null,null,null,null,null,null,null,null,null,null,null,null,null,null,null,null,null,null,null,null,null,null,null,null,null,null,null,null,null,null,null,null,null,null,null,null,null,null,null,{"$f":"CONCATENATE(AB55,\"-\",AK55,\"-\",AT55)","v":"--"},{"$f":"ASC(DM55)","v":"--"},{"$f":"IF(AND($DS$46=FALSE,COUNTA(AB55,AK55)=0),1,0)","v":1},null,null,null,null,null,null,null,null,null,null,null,null,null,null,null,null,null,null,null,null,null,null,null,null,null,null,null,null,null,null,null,null,null,null,null,null,null,null,null,null,null,null,null,null,null,null,null,null,null,null,null,null,null,null,null,null,null,null,null,null,null,null,null,null,null,null,null,null,null,null,null,null,null,null,null,null,null,null,null,null,null,null,null,null,null,null,null,null,null,null,null,null,null,null,null,null,null,null,null,null,null,null,null,null,null,null,null,null,null,null,null,null,null,null,null,null,null,null,null,null,null,null,null,null,null,null,null,null,null,null,null,null,null,null,null,null,null,null,null,null,null,null,null,null,null,null,null,null,null,null,null,null,null,null,null,null,null,null,null,null,null,null,null,null,null,null,null,null,null,null,null,null,null,null,null,null,null,null,null,null,null,null,null,null,null,null,null,null,null,null,null,null,"４","管理者","-",{"$f":"M54","v":"住所"},null,null,null,null,null,null,"４管理者-住所","４管理者-住所",null,null,null,null,null,"５代表となる調査者-氏名-フリガナ"]
[null,null,null,null,null,null,null,null,null,null,null,null,null,null,null,null,null,null,null,null,null,null,null,null,null,null,null,null,null,null,null,null,null,null,null,null,null,null,null,null,null,null,null,null,null,null,null,null,null,null,null,null,null,null,null,null,null,null,null,null,null,null,null,null,null,null,null,null,null,null,null,null,null,null,null,null,null,null,null,null,null,null,null,null,null,null,null,null,null,null,null,null,null,null,null,null,null,null,null,null,null,null,null,null,null,null,null,null,null,null,null,null,null,null,null,null,null,null,null,null,null,null,null,null,null,null,null,null,null,null,null,null,null,null,null,null,null,null,null,null,null,null,null,null,null,null,null,null,null,null,null,null,null,null,null,null,null,null,null,null,null,null,null,null,null,null,null,null,null,null,null,null,null,null,null,null,null,null,null,null,null,null,null,null,null,null,null,null,null,null,null,null,null,null,null,null,null,null,null,null,null,null,null,null,null,null,null,null,null,null,null,null,null,null,null,null,null,null,null,null,null,null,null,null,null,null,null,null,null,null,null,null,null,null,null,null,null,null,null,null,null,null,null,null,null,null,null,null,null,null,null,null,null,null,null,null,null,null,null,null,null,null,null,null,null,null,null,null,null,null,null,null,null,null,null,null,null,null,null,null,null,null,null,null,null,null,null,null,null,null,null,null,null,null,null,null,null,null,null,null,null,null,null,null,null,null,null,null,null,null,null,"４","管理者","-",{"$f":"M55","v":"電話番号"},null,null,null,null,null,null,"４管理者-電話番号","４管理者-電話番号",null,null,null,null,null,"５代表となる調査者-氏名-氏名"]
[]
[]
[null,null,null,null,null,null,null,null,null,null,null,null,null,null,null,null,null,null,null,null,null,null,null,null,null,null,null,null,null,null,null,null,null,null,null,null,null,null,null,null,null,null,null,null,null,null,null,null,null,null,null,null,null,null,null,null,null,null,null,null,null,null,null,null,null,null,null,null,null,null,null,null,null,null,null,null,null,null,null,null,null,null,null,null,null,null,null,null,null,null,null,null,null,null,null,null,null,null,null,null,null,null,null,null,null,null,null,null,null,null,null,null,null,null,null,null,null,null,null,null,null,null,null,null,null,null,null,null,null,null,null,null,null,null,null,null,null,null,null,null,null,null,null,null,null,null,null,null,null,null,null,null,null,null,null,null,null,null,null,null,null,null,null,null,null,null,null,null,null,null,null,null,null,null,null,null,null,null,null,null,null,null,null,null,null,null,null,null,null,null,null,null,null,null,null,null,null,null,null,null,null,null,null,null,null,null,null,null,null,null,null,null,null,null,null,null,null,null,null,null,null,null,null,null,null,null,null,null,null,null,null,null,null,null,null,null,null,null,null,null,null,null,null,null,null,null,null,null,null,null,null,null,null,null,null,null,null,null,null,null,null,null,null,null,null,null,null,null,null,null,null,null,null,null,null,null,null,null,null,null,null,null,null,null,null,null,null,null,null,null,null,null,null,null,null,null,null,null,null,null,null,null,null,null,null,null,null,null,null,null,null,null,null,null,null,null,null,null,null,null,null,null,null,null,null,null,null,null,"５代表となる調査者-勤務先-名称"]
[null,null,null,null,null,null,null,null,null,"５　代表となる調査者",null,null,null,null,null,null,null,null,null,null,null,null,null,null,null,null,null,null,null,null,null,null,null,null,null,null,null,null,null,null,null,null,null,null,null,null,null,null,null,null,null,null,null,null,null,null,null,null,null,null,null,null,null,"第一面３欄",null,null,null,null,null,null,null,null,null,null,null,null,null,null,null,null,null,null,null,null,null,null,null,null,null,null,null,null,null,null,null,null,null,null,null,null,null,null,null,null,null,null,null,null,null,null,null,null,null,null,null,null,null,null,null,null,null,null,null,null,null,null,null,null,null,null,null,null,null,null,null,null,null,null,null,null,null,null,null,null,null,null,null,null,null,null,null,null,null,null,null,null,null,null,null,null,null,null,null,null,null,null,null,null,null,null,null,null,null,null,null,null,null,null,null,null,null,null,null,null,null,null,null,null,null,null,null,null,null,null,null,null,null,null,null,null,null,null,null,null,null,null,null,null,null,null,null,null,null,null,null,null,null,null,null,null,null,null,null,null,null,null,null,null,null,null,null,null,null,null,null,null,null,null,null,null,null,null,null,null,null,null,null,null,null,null,null,null,null,null,null,null,null,null,null,null,null,null,null,null,null,null,null,null,null,null,null,null,null,null,null,null,null,null,null,null,null,null,null,null,null,null,null,null,null,null,null,null,null,null,null,null,null,null,null,null,null,null,null,null,null,null,null,null,null,null,null,null,null,null,null,null,null,null,null,null,null,"","",null,null,null,null,null,"５代表となる調査者-勤務先-事務所登録-建築士事務所"]
[null,null,null,null,null,null,null,null,null,null,null,null,"資格",null,null,null,null,null,"資格名称",null,null,null,null,null,null,null,null,null,null,null,null,null,null,null,null,null,null,null,null,null,null,null,null,null,null,null,null,null,null,null,null,null,null,null,null,null,null,null,null,null,null,null,null,null,null,null,null,null,null,null,null,null,null,null,null,null,null,null,null,null,null,null,null,null,null,null,null,null,null,null,null,null,null,null,null,null,null,null,null,null,null,null,null,null,null,null,null,null,null,null,null,null,null,null,null,null,{"$f":"IF(AB61=\"\",0,IF(AB61=\"特定建築物調査員\",1,2))","v":0},null,null,null,null,null,{"$f":"IF(DM61=2,LEFT($AB$61,2),\"\")","v":""},null,null,null,null,null,null,null,null,null,null,null,null,null,null,null,null,null,null,null,null,null,null,null,null,null,null,null,null,null,null,null,null,null,null,null,null,null,null,null,null,null,null,null,null,null,null,null,null,null,null,null,null,null,null,null,null,null,null,null,null,null,null,null,null,null,null,null,null,null,null,null,null,null,null,null,null,null,null,null,null,null,null,null,null,null,null,null,null,null,null,null,null,null,null,null,null,null,null,null,null,null,null,null,null,null,null,null,null,null,null,null,null,null,null,null,null,null,null,null,null,null,null,null,null,null,null,null,null,null,null,null,null,null,null,null,null,null,null,null,null,null,null,null,null,null,null,null,null,null,null,null,null,null,null,null,null,null,null,null,null,null,null,null,null,null,null,null,null,null,null,null,null,null,null,null,null,null,null,null,null,null,null,null,null,null,null,null,null,{"$f":"LEFT($J$60,1)","v":"５"},{"$f":"MID($J$60,3,8)","v":"代表となる調査者"},"-",{"$f":"$M$61","v":"資格"},"-","資格名称",null,null,null,null,"５代表となる調査者-資格-資格名称","５代表となる調査者-資格-資格名称",null,null,null,null,null,"５代表となる調査者-勤務先-事務所登録-知事登録"]
[null,null,null,null,null,null,null,null,null,null,null,null,null,null,null,null,null,null,"建築士",null,null,null,null,null,null,null,null,null,null,null,null,null,null,null,null,null,null,null,null,null,null,null,"登録",null,null,null,null,null,null,null,null,null,null,null,null,null,null,null,null,null,null,null,null,null,null,null,null,null,null,null,null,null,null,null,null,null,null,null,null,null,null,null,null,null,null,null,null,null,null,null,null,null,null,null,null,null,null,null,null,null,null,null,null,null,null,null,null,null,null,null,null,null,null,null,null,null,{"$f":"IF(OR($AB$61=\"一級建築士\",$AB$61=\"二級建築士\"),1,0)","v":0},null,null,null,null,null,{"$f":"IF($AB$62=\"\",\"\",$AB$62)","v":""},null,null,null,null,null,null,null,null,null,null,null,null,null,null,null,null,null,null,null,null,null,null,null,null,null,null,null,null,null,null,null,null,null,null,null,null,null,null,null,null,null,null,null,null,null,null,null,null,null,null,null,null,null,null,null,null,null,null,null,null,null,null,null,null,null,null,null,null,null,null,null,null,null,null,null,null,null,null,null,null,null,null,null,null,null,null,null,null,null,null,null,null,null,null,null,null,null,null,null,null,null,null,null,null,null,null,null,null,null,null,null,null,null,null,null,null,null,null,null,null,null,null,null,null,null,null,null,null,null,null,null,null,null,null,null,null,null,null,null,null,null,null,null,null,null,null,null,null,null,null,null,null,null,null,null,null,null,null,null,null,null,null,null,null,null,null,null,null,null,null,null,null,null,null,null,null,null,null,null,null,null,null,null,null,null,null,null,null,{"$f":"LEFT($J$60,1)","v":"５"},{"$f":"MID($J$60,3,8)","v":"代表となる調査者"},"-","資格","-",{"$f":"$S$62","v":"建築士"},"-",{"$f":"AQ62","v":"登録"},null,null,"５代表となる調査者-資格-建築士-登録","５代表となる調査者-資格-建築士-登録",null,null,null,null,null,"５代表となる調査者-勤務先-事務所登録-号"]
[null,null,null,null,null,null,null,null,null,null,null,null,null,null,null,null,null,null,null,null,null,null,null,null,null,"第",null,null,null,null,null,null,null,null,null,null,null,null,null,null,null,null,"号",null,null,null,null,null,null,null,null,null,null,null,null,null,null,null,null,null,null,null,null,null,null,null,null,null,null,null,null,null,null,null,null,null,null,null,null,null,null,null,null,null,null,null,null,null,null,null,null,null,null,null,null,null,null,null,null,null,null,null,null,null,null,null,null,null,null,null,null,null,null,null,null,null,null,null,null,null,null,null,{"$f":"IF($AB$63=\"\",\"\",$AB$63)","v":""},null,null,null,null,null,null,null,null,null,null,null,null,null,null,null,null,null,null,null,null,null,null,null,null,null,null,null,null,null,null,null,null,null,null,null,null,null,null,null,null,null,null,null,null,null,null,null,null,null,null,null,null,null,null,null,null,null,null,null,null,null,null,null,null,null,null,null,null,null,null,null,null,null,null,null,null,null,null,null,null,null,null,null,null,null,null,null,null,null,null,null,null,null,null,null,null,null,null,null,null,null,null,null,null,null,null,null,null,null,null,null,null,null,null,null,null,null,null,null,null,null,null,null,null,null,null,null,null,null,null,null,null,null,null,null,null,null,null,null,null,null,null,null,null,null,null,null,null,null,null,null,null,null,null,null,null,null,null,null,null,null,null,null,null,null,null,null,null,null,null,null,null,null,null,null,null,null,null,null,null,null,null,null,null,null,null,null,null,"５","代表となる調査者","-","資格","-","建築士","-",{"$f":"AQ63","v":"号"},null,null,"５代表となる調査者-資格-建築士-号","５代表となる調査者-資格-建築士-号",null,null,null,null,null,"５代表となる調査者-勤務先-郵便番号"]
[null,null,null,null,null,null,null,null,null,null,null,null,null,null,null,null,null,null,"特定建築物調査員",null,null,null,null,null,null,"第",null,null,null,null,null,null,null,null,null,null,null,null,null,null,null,null,"号",null,null,null,null,null,null,null,null,null,null,null,null,null,null,null,null,null,null,null,null,null,null,null,null,null,null,null,null,null,null,null,null,null,null,null,null,null,null,null,null,null,null,null,null,null,null,null,null,null,null,null,null,null,null,null,null,null,null,null,null,null,null,null,null,null,null,null,null,null,null,null,null,null,null,null,null,null,null,null,{"$f":"IF($AB$64=\"\",\"\",$AB$64)","v":""},null,null,null,null,null,null,null,null,null,null,null,null,null,null,null,null,null,null,null,null,null,null,null,null,null,null,null,null,null,null,null,null,null,null,null,null,null,null,null,null,null,null,null,null,null,null,null,null,null,null,null,null,null,null,null,null,null,null,null,null,null,null,null,null,null,null,null,null,null,null,null,null,null,null,null,null,null,null,null,null,null,null,null,null,null,null,null,null,null,null,null,null,null,null,null,null,null,null,null,null,null,null,null,null,null,null,null,null,null,null,null,null,null,null,null,null,null,null,null,null,null,null,null,null,null,null,null,null,null,null,null,null,null,null,null,null,null,null,null,null,null,null,null,null,null,null,null,null,null,null,null,null,null,null,null,null,null,null,null,null,null,null,null,null,null,null,null,null,null,null,null,null,null,null,null,null,null,null,null,null,null,null,null,null,null,null,null,null,"５","代表となる調査者","-","資格","-",{"$f":"$S$64","v":"特定建築物調査員"},"-",{"$f":"AQ64","v":"号"},null,null,"５代表となる調査者-資格-特定建築物調査員-号","５代表となる調査者-資格-特定建築物調査員-号",null,null,null,null,null,"５代表となる調査者-勤務先-郵便番号"]
[null,null,null,null,null,null,null,null,null,null,null,null,"氏名",null,null,null,null,null,"フリガナ",null,null,null,null,null,null,null,null,null,null,null,null,null,null,null,null,null,null,null,null,null,null,null,null,null,null,null,null,null,null,null,null,null,null,null,null,null,null,null,null,null,null,null,null,null,null,null,null,null,null,null,null,null,null,null,null,null,null,null,null,null,null,null,null,null,null,null,null,null,null,null,null,null,null,null,null,null,null,null,null,null,null,null,null,null,null,null,null,null,null,null,null,null,null,null,null,null,null,null,null,null,null,null,{"$f":"IF($AB$65=\"\",\"\",$AB$65)","v":""},null,null,null,null,null,null,null,null,null,null,null,null,null,null,null,null,null,null,null,null,null,null,null,null,null,null,null,null,null,null,null,null,null,null,null,null,null,null,null,null,null,null,null,null,null,null,null,null,null,null,null,null,null,null,null,null,null,null,null,null,null,null,null,null,null,null,null,null,null,null,null,null,null,null,null,null,null,null,null,null,null,null,null,null,null,null,null,null,null,null,null,null,null,null,null,null,null,null,null,null,null,null,null,null,null,null,null,null,null,null,null,null,null,null,null,null,null,null,null,null,null,null,null,null,null,null,null,null,null,null,null,null,null,null,null,null,null,null,null,null,null,null,null,null,null,null,null,null,null,null,null,null,null,null,null,null,null,null,null,null,null,null,null,null,null,null,null,null,null,null,null,null,null,null,null,null,null,null,null,null,null,null,null,null,null,null,null,null,"５","代表となる調査者","-",{"$f":"$M$65","v":"氏名"},"-",{"$f":"S65","v":"フリガナ"},null,null,null,null,"５代表となる調査者-氏名-フリガナ","５代表となる調査者-氏名-フリガナ",null,null,null,null,null,"５代表となる調査者-勤務先-所在地"]
[null,null,null,null,null,null,null,null,null,null,null,null,null,null,null,null,null,null,"氏名",null,null,null,null,null,null,null,null,null,null,null,null,null,null,null,null,null,null,null,null,null,null,null,null,null,null,null,null,null,null,null,null,null,null,null,null,null,null,null,null,null,null,null,null,null,null,null,null,null,null,null,null,null,null,null,null,null,null,null,null,null,null,null,null,null,null,null,null,null,null,null,null,null,null,null,null,null,null,null,null,null,null,null,null,null,null,null,null,null,null,null,null,null,null,null,null,null,null,null,null,null,null,null,{"$f":"IF($AB$66=\"\",\"\",$AB$66)","v":""},null,null,null,null,null,null,null,null,null,null,null,null,null,null,null,null,null,null,null,null,null,null,null,null,null,null,null,null,null,null,null,null,null,null,null,null,null,null,null,null,null,null,null,null,null,null,null,null,null,null,null,null,null,null,null,null,null,null,null,null,null,null,null,null,null,null,null,null,null,null,null,null,null,null,null,null,null,null,null,null,null,null,null,null,null,null,null,null,null,null,null,null,null,null,null,null,null,null,null,null,null,null,null,null,null,null,null,null,null,null,null,null,null,null,null,null,null,null,null,null,null,null,null,null,null,null,null,null,null,null,null,null,null,null,null,null,null,null,null,null,null,null,null,null,null,null,null,null,null,null,null,null,null,null,null,null,null,null,null,null,null,null,null,null,null,null,null,null,null,null,null,null,null,null,null,null,null,null,null,null,null,null,null,null,null,null,null,null,"５","代表となる調査者","-","氏名","-",{"$f":"S66","v":"氏名"},null,null,null,null,"５代表となる調査者-氏名-氏名","５代表となる調査者-氏名-氏名",null,null,null,null,null,"５代表となる調査者-勤務先-電話番号"]
[null,null,null,null,null,null,null,null,null,null,null,null,"勤務先",null,null,null,null,null,"名称",null,null,null,null,null,null,null,null,null,null,null,null,null,null,null,null,null,null,null,null,null,null,null,null,null,null,null,null,null,null,null,null,null,null,null,null,null,null,null,null,null,null,null,null,null,null,null,null,null,null,null,null,null,null,"　調査者が法人に勤務している場合は、調査者の勤務先について記入し、勤務先が建築士事務所のときは、事務所登録番号を併せて記入してください。",null,null,null,null,null,null,null,null,null,null,null,null,null,null,null,null,null,null,null,null,null,null,null,null,null,null,null,null,null,null,null,null,null,null,null,null,null,null,null,null,null,null,null,null,null,null,null,null,{"$f":"IF($AB$67=\"\",\"\",$AB$67)","v":""},null,null,null,null,null,null,null,null,null,null,null,null,null,null,null,null,null,null,null,null,null,null,null,null,null,null,null,null,null,null,null,null,null,null,null,null,null,null,null,null,null,null,null,null,null,null,null,null,null,null,null,null,null,null,null,null,null,null,null,null,null,null,null,null,null,null,null,null,null,null,null,null,null,null,null,null,null,null,null,null,null,null,null,null,null,null,null,null,null,null,null,null,null,null,null,null,null,null,null,null,null,null,null,null,null,null,null,null,null,null,null,null,null,null,null,null,null,null,null,null,null,null,null,null,null,null,null,null,null,null,null,null,null,null,null,null,null,null,null,null,null,null,null,null,null,null,null,null,null,null,null,null,null,null,null,null,null,null,null,null,null,null,null,null,null,null,null,null,null,null,null,null,null,null,null,null,null,null,null,null,null,null,null,null,null,null,null,null,"５","代表となる調査者","-",{"$f":"$M$67","v":"勤務先"},"-",{"$f":"S67","v":"名称"},null,null,null,null,"５代表となる調査者-勤務先-名称","５代表となる調査者-勤務先-名称",null,null,null,null,null,"６その他の調査者１-代表となる調査者と勤務先が同じ1"]
[null,null,null,null,null,null,null,null,null,null,null,null,null,null,null,null,null,null,"事務所登録",null,null,null,null,null,null,null,null,null,null,null,null,null,null,null,null,null,null,null,null,null,null,null,"建築士事務所",null,null,null,null,null,null,null,null,null,null,null,null,null,null,null,null,null,null,null,null,null,null,null,null,null,null,null,null,null,null,null,null,null,null,null,null,null,null,null,null,null,null,null,null,null,null,null,null,null,null,null,null,null,null,null,null,null,null,null,null,null,null,null,null,null,null,null,null,null,null,null,null,null,{"$f":"IF(OR(AB68=\"一級\",AB68=\"二級\"),1,0)","v":0},null,null,null,null,null,{"$f":"IF($AB$68=\"\",\"\",$AB$68)","v":""},null,null,null,null,null,null,null,null,null,null,null,null,null,null,null,null,null,null,null,null,null,null,null,null,null,null,null,null,null,null,null,null,null,null,null,null,null,null,null,null,null,null,null,null,null,null,null,null,null,null,null,null,null,null,null,null,null,null,null,null,null,null,null,null,null,null,null,null,null,null,null,null,null,null,null,null,null,null,null,null,null,null,null,null,null,null,null,null,null,null,null,null,null,null,null,null,null,null,null,null,null,null,null,null,null,null,null,null,null,null,null,null,null,null,null,null,null,null,null,null,null,null,null,null,null,null,null,null,null,null,null,null,null,null,null,null,null,null,null,null,null,null,null,null,null,null,null,null,null,null,null,null,null,null,null,null,null,null,null,null,null,null,null,null,null,null,null,null,null,null,null,null,null,null,null,null,null,null,null,null,null,null,null,null,null,null,null,null,"５","代表となる調査者","-","勤務先","-",{"$f":"$S$68","v":"事務所登録"},"-",{"$f":"AQ68","v":"建築士事務所"},null,null,"５代表となる調査者-勤務先-事務所登録-建築士事務所","５代表となる調査者-勤務先-事務所登録-建築士事務所",null,null,null,null,null,"６その他の調査者１-資格-資格名称"]
[null,null,null,null,null,null,null,null,null,null,null,null,null,null,null,null,null,null,null,null,null,null,null,null,null,null,null,null,null,null,null,null,null,null,null,null,null,null,null,null,null,null,"知事登録",null,null,null,null,null,null,null,null,null,null,null,null,null,null,null,null,null,null,null,null,null,null,null,null,null,null,null,null,null,null,null,null,null,null,null,null,null,null,null,null,null,null,null,null,null,null,null,null,null,null,null,null,null,null,null,null,null,null,null,null,null,null,null,null,null,null,null,null,null,null,null,null,null,null,null,null,null,null,null,{"$f":"IF($AB$69=\"\",\"\",$AB$69)","v":""},null,null,null,null,null,null,null,null,null,null,null,null,null,null,null,null,null,null,null,null,null,null,null,null,null,null,null,null,null,null,null,null,null,null,null,null,null,null,null,null,null,null,null,null,null,null,null,null,null,null,null,null,null,null,null,null,null,null,null,null,null,null,null,null,null,null,null,null,null,null,null,null,null,null,null,null,null,null,null,null,null,null,null,null,null,null,null,null,null,null,null,null,null,null,null,null,null,null,null,null,null,null,null,null,null,null,null,null,null,null,null,null,null,null,null,null,null,null,null,null,null,null,null,null,null,null,null,null,null,null,null,null,null,null,null,null,null,null,null,null,null,null,null,null,null,null,null,null,null,null,null,null,null,null,null,null,null,null,null,null,null,null,null,null,null,null,null,null,null,null,null,null,null,null,null,null,null,null,null,null,null,null,null,null,null,null,null,null,"５","代表となる調査者","-","勤務先","-","事務所登録","-",{"$f":"AQ69","v":"知事登録"},null,null,"５代表となる調査者-勤務先-事務所登録-知事登録","５代表となる調査者-勤務先-事務所登録-知事登録",null,null,null,null,null,"６その他の調査者１-資格-建築士-登録"]
[null,null,null,null,null,null,null,null,null,null,null,null,null,null,null,null,null,null,null,null,null,null,null,null,null,"第",null,null,null,null,null,null,null,null,null,null,null,null,null,null,null,null,"号",null,null,null,null,null,null,null,null,null,null,null,null,null,null,null,null,null,null,null,null,null,null,null,null,null,null,null,null,null,null,null,null,null,null,null,null,null,null,null,null,null,null,null,null,null,null,null,null,null,null,null,null,null,null,null,null,null,null,null,null,null,null,null,null,null,null,null,null,null,null,null,null,null,"郵便番号",null,"未入力判定（1で未入力）",null,null,null,{"$f":"IF($AB$70=\"\",\"\",$AB$70)","v":""},null,null,null,null,null,null,null,null,null,null,null,null,null,null,null,null,null,null,null,null,null,null,null,null,null,null,null,null,null,null,null,null,null,null,null,null,null,null,null,null,null,null,null,null,null,null,null,null,null,null,null,null,null,null,null,null,null,null,null,null,null,null,null,null,null,null,null,null,null,null,null,null,null,null,null,null,null,null,null,null,null,null,null,null,null,null,null,null,null,null,null,null,null,null,null,null,null,null,null,null,null,null,null,null,null,null,null,null,null,null,null,null,null,null,null,null,null,null,null,null,null,null,null,null,null,null,null,null,null,null,null,null,null,null,null,null,null,null,null,null,null,null,null,null,null,null,null,null,null,null,null,null,null,null,null,null,null,null,null,null,null,null,null,null,null,null,null,null,null,null,null,null,null,null,null,null,null,null,null,null,null,null,null,null,null,null,null,null,"５","代表となる調査者","-","勤務先","-","事務所登録","-",{"$f":"AQ70","v":"号"},null,null,"５代表となる調査者-勤務先-事務所登録-号","５代表となる調査者-勤務先-事務所登録-号",null,null,null,null,null,"６その他の調査者１-資格-建築士-号"]
[null,null,null,null,null,null,null,null,null,null,null,null,null,null,null,null,null,null,"郵便番号",null,null,null,null,null,null,null,null,null,null,null,null,null,null,"－",null,null,null,null,null,null,null,null,null,null,null,null,null,null,null,null,null,null,null,null,null,null,null,null,null,null,null,null,null,null,null,null,null,null,null,null,null,null,null,"　調査者の勤務先について記入し、調査者が法人に勤務していない場合は、調査者の住所について記入してください。",null,null,null,null,null,null,null,null,null,null,null,null,null,null,null,null,null,null,null,null,null,null,null,null,null,null,null,null,null,null,null,null,null,null,null,null,null,null,null,null,null,null,{"$f":"CONCATENATE(AB71,\"-\",AK71)","v":"-"},{"$f":"ASC(DM71)","v":"-"},{"$f":"IF(COUNTA(AB71,AK71)=0,1,0)","v":1},null,null,null,{"$f":"IF($DN$71=\"\",\"\",$DN$71)","v":"-"},null,null,null,null,null,null,null,null,null,null,null,null,null,null,null,null,null,null,null,null,null,null,null,null,null,null,null,null,null,null,null,null,null,null,null,null,null,null,null,null,null,null,null,null,null,null,null,null,null,null,null,null,null,null,null,null,null,null,null,null,null,null,null,null,null,null,null,null,null,null,null,null,null,null,null,null,null,null,null,null,null,null,null,null,null,null,null,null,null,null,null,null,null,null,null,null,null,null,null,null,null,null,null,null,null,null,null,null,null,null,null,null,null,null,null,null,null,null,null,null,null,null,null,null,null,null,null,null,null,null,null,null,null,null,null,null,null,null,null,null,null,null,null,null,null,null,null,null,null,null,null,null,null,null,null,null,null,null,null,null,null,null,null,null,null,null,null,null,null,null,null,null,null,null,null,null,null,null,null,null,null,null,null,null,null,null,null,null,"５","代表となる調査者","-","勤務先","-","郵便番号",null,null,null,null,"５代表となる調査者-勤務先-郵便番号","５代表となる調査者-勤務先-郵便番号",null,null,null,null,null,"６その他の調査者１-資格-特定建築物調査員"]
[null,null,null,null,null,null,null,null,null,null,null,null,null,null,null,null,null,null,"所在地",null,null,null,null,null,null,null,null,null,null,null,null,null,null,null,null,null,null,null,null,null,null,null,null,null,null,null,null,null,null,null,null,null,null,null,null,null,null,null,null,null,null,null,null,null,null,null,null,null,null,null,null,null,null,null,null,null,null,null,null,null,null,null,null,null,null,null,null,null,null,null,null,null,null,null,null,null,null,null,null,null,null,null,null,null,null,null,null,null,null,null,null,null,null,null,null,null,"電話番号",null,"未入力判定（1で未入力）",null,null,null,{"$f":"IF($AB$72=\"\",\"\",$AB$72)","v":""},null,null,null,null,null,null,null,null,null,null,null,null,null,null,null,null,null,null,null,null,null,null,null,null,null,null,null,null,null,null,null,null,null,null,null,null,null,null,null,null,null,null,null,null,null,null,null,null,null,null,null,null,null,null,null,null,null,null,null,null,null,null,null,null,null,null,null,null,null,null,null,null,null,null,null,null,null,null,null,null,null,null,null,null,null,null,null,null,null,null,null,null,null,null,null,null,null,null,null,null,null,null,null,null,null,null,null,null,null,null,null,null,null,null,null,null,null,null,null,null,null,null,null,null,null,null,null,null,null,null,null,null,null,null,null,null,null,null,null,null,null,null,null,null,null,null,null,null,null,null,null,null,null,null,null,null,null,null,null,null,null,null,null,null,null,null,null,null,null,null,null,null,null,null,null,null,null,null,null,null,null,null,null,null,null,null,null,null,"５","代表となる調査者","-","勤務先","-",{"$f":"S71","v":"郵便番号"},null,null,null,null,{"$f":"CONCATENATE(KZ72,LA72,LB72,LC72,LD72,LE72,LF72,LG72,LH72,LI72)","v":"５代表となる調査者-勤務先-郵便番号"},"５代表となる調査者-勤務先-郵便番号",null,null,null,null,null,"６その他の調査者１-氏名-フリガナ"]
[null,null,null,null,null,null,null,null,null,null,null,null,null,null,null,null,null,null,"電話番号",null,null,null,null,null,null,null,null,null,null,null,null,null,null,"－",null,null,null,null,null,null,null,null,"－",null,null,null,null,null,null,null,null,null,null,null,null,null,null,null,null,null,null,null,null,null,null,null,null,null,null,null,null,null,null,null,null,null,null,null,null,null,null,null,null,null,null,null,null,null,null,null,null,null,null,null,null,null,null,null,null,null,null,null,null,null,null,null,null,null,null,null,null,null,null,null,null,null,{"$f":"CONCATENATE(AB73,\"-\",AK73,\"-\",AT73)","v":"--"},{"$f":"ASC(DM73)","v":"--"},{"$f":"IF(COUNTA(AB73,AK73,AT73)=0,1,0)","v":1},null,null,null,{"$f":"IF($DN$73=\"\",\"\",$DN$73)","v":"--"},null,null,null,null,null,null,null,null,null,null,null,null,null,null,null,null,null,null,null,null,null,null,null,null,null,null,null,null,null,null,null,null,null,null,null,null,null,null,null,null,null,null,null,null,null,null,null,null,null,null,null,null,null,null,null,null,null,null,null,null,null,null,null,null,null,null,null,null,null,null,null,null,null,null,null,null,null,null,null,null,null,null,null,null,null,null,null,null,null,null,null,null,null,null,null,null,null,null,null,null,null,null,null,null,null,null,null,null,null,null,null,null,null,null,null,null,null,null,null,null,null,null,null,null,null,null,null,null,null,null,null,null,null,null,null,null,null,null,null,null,null,null,null,null,null,null,null,null,null,null,null,null,null,null,null,null,null,null,null,null,null,null,null,null,null,null,null,null,null,null,null,null,null,null,null,null,null,null,null,null,null,null,null,null,null,null,null,null,"５","代表となる調査者","-","勤務先","-",{"$f":"S72","v":"所在地"},null,null,null,null,"５代表となる調査者-勤務先-所在地","５代表となる調査者-勤務先-所在地",null,null,null,null,null,"６その他の調査者１-氏名-氏名"]
[null,null,null,null,null,null,null,null,null,null,null,null,null,null,null,null,null,null,null,null,null,null,null,null,null,null,null,null,null,null,null,null,null,null,null,null,null,null,null,null,null,null,null,null,null,null,null,null,null,null,null,null,null,null,null,null,null,null,null,null,null,null,null,null,null,null,null,null,null,null,null,null,null,null,null,null,null,null,null,null,null,null,null,null,null,null,null,null,null,null,null,null,null,null,null,null,null,null,null,null,null,null,null,null,null,null,null,null,null,null,null,null,null,null,null,null,null,null,null,null,null,null,null,null,null,null,null,null,null,null,null,null,null,null,null,null,null,null,null,null,null,null,null,null,null,null,null,null,null,null,null,null,null,null,null,null,null,null,null,null,null,null,null,null,null,null,null,null,null,null,null,null,null,null,null,null,null,null,null,null,null,null,null,null,null,null,null,null,null,null,null,null,null,null,null,null,null,null,null,null,null,null,null,null,null,null,null,null,null,null,null,null,null,null,null,null,null,null,null,null,null,null,null,null,null,null,null,null,null,null,null,null,null,null,null,null,null,null,null,null,null,null,null,null,null,null,null,null,null,null,null,null,null,null,null,null,null,null,null,null,null,null,null,null,null,null,null,null,null,null,null,null,null,null,null,null,null,null,null,null,null,null,null,null,null,null,null,null,null,null,null,null,null,null,null,null,null,null,null,null,null,null,null,null,null,null,null,null,null,null,null,"５","代表となる調査者","-","勤務先","-",{"$f":"S73","v":"電話番号"},null,null,null,null,"５代表となる調査者-勤務先-電話番号","５代表となる調査者-勤務先-電話番号",null,null,null,null,null,"６その他の調査者１-勤務先-名称"]
[null,null,null,null,null,null,null,null,null,null,null,null,null,null,null,null,null,null,null,null,null,null,null,null,null,null,null,null,null,null,null,null,null,null,null,null,null,null,null,null,null,null,null,null,null,null,null,null,null,null,null,null,null,null,null,null,null,null,null,null,null,null,null,null,null,null,null,null,null,null,null,null,null,null,null,null,null,null,null,null,null,null,null,null,null,null,null,null,null,null,null,null,null,null,null,null,null,null,null,null,null,null,null,null,null,null,null,null,null,null,null,null,null,null,null,null,null,null,null,null,null,null,null,null,null,null,null,null,null,null,null,null,null,null,null,null,null,null,null,null,null,null,null,null,null,null,null,null,null,null,null,null,null,null,null,null,null,null,null,null,null,null,null,null,null,null,null,null,null,null,null,null,null,null,null,null,null,null,null,null,null,null,null,null,null,null,null,null,null,null,null,null,null,null,null,null,null,null,null,null,null,null,null,null,null,null,null,null,null,null,null,null,null,null,null,null,null,null,null,null,null,null,null,null,null,null,null,null,null,null,null,null,null,null,null,null,null,null,null,null,null,null,null,null,null,null,null,null,null,null,null,null,null,null,null,null,null,null,null,null,null,null,null,null,null,null,null,null,null,null,null,null,null,null,null,null,null,null,null,null,null,null,null,null,null,null,null,null,null,null,null,null,null,null,null,null,null,null,null,null,null,null,null,null,null,null,null,null,null,null,null,null,null,null,null,null,null,null,null,null,null,"","",null,null,null,null,null,"６その他の調査者１-勤務先-事務所登録-建築士事務所"]
[null,null,null,null,null,null,null,null,null,null,null,null,null,null,null,null,null,null,null,null,null,null,null,null,null,null,null,null,null,null,null,null,null,null,null,null,null,null,null,null,null,null,null,null,null,null,null,null,null,null,null,null,null,null,null,null,null,null,null,null,null,null,null,null,null,null,null,null,null,null,null,null,null,null,null,null,null,null,null,null,null,null,null,null,null,null,null,null,null,null,null,null,null,null,null,null,null,null,null,null,null,null,null,null,null,null,null,null,null,null,null,null,null,null,null,null,null,null,null,null,null,null,null,null,null,null,null,null,null,null,null,null,null,null,null,null,null,null,null,null,null,null,null,null,null,null,null,null,null,null,null,null,null,null,null,null,null,null,null,null,null,null,null,null,null,null,null,null,null,null,null,null,null,null,null,null,null,null,null,null,null,null,null,null,null,null,null,null,null,null,null,null,null,null,null,null,null,null,null,null,null,null,null,null,null,null,null,null,null,null,null,null,null,null,null,null,null,null,null,null,null,null,null,null,null,null,null,null,null,null,null,null,null,null,null,null,null,null,null,null,null,null,null,null,null,null,null,null,null,null,null,null,null,null,null,null,null,null,null,null,null,null,null,null,null,null,null,null,null,null,null,null,null,null,null,null,null,null,null,null,null,null,null,null,null,null,null,null,null,null,null,null,null,null,null,null,null,null,null,null,null,null,null,null,null,null,null,null,null,null,null,null,null,null,null,null,null,null,null,null,null,"","",null,null,null,null,null,"６その他の調査者１-勤務先-事務所登録-知事登録"]
[null,null,null,null,null,null,null,null,null,null,null,null,null,null,null,null,null,null,null,null,null,null,null,null,null,null,null,null,null,null,null,null,null,null,null,null,null,null,null,null,null,null,null,null,null,null,null,null,null,null,null,null,null,null,null,null,null,null,null,null,null,null,null,null,null,null,null,null,null,null,null,null,null,null,null,null,null,null,null,null,null,null,null,null,null,null,null,null,null,null,null,null,null,null,null,null,null,null,null,null,null,null,null,null,null,null,null,null,null,null,null,null,null,null,null,null,null,null,null,null,null,null,null,null,null,null,null,null,null,null,null,null,null,null,null,null,null,null,null,null,null,null,null,null,null,null,null,null,null,null,null,null,null,null,null,null,null,null,null,null,null,null,null,null,null,null,null,null,null,null,null,null,null,null,null,null,null,null,null,null,null,null,null,null,null,null,null,null,null,null,null,null,null,null,null,null,null,null,null,null,null,null,null,null,null,null,null,null,null,null,null,null,null,null,null,null,null,null,null,null,null,null,null,null,null,null,null,null,null,null,null,null,null,null,null,null,null,null,null,null,null,null,null,null,null,null,null,null,null,null,null,null,null,null,null,null,null,null,null,null,null,null,null,null,null,null,null,null,null,null,null,null,null,null,null,null,null,null,null,null,null,null,null,null,null,null,null,null,null,null,null,null,null,null,null,null,null,null,null,null,null,null,null,null,null,null,null,null,null,null,null,null,null,null,null,null,null,null,null,null,null,"","",null,null,null,null,null,"６その他の調査者１-勤務先-事務所登録-号"]
[null,null,null,null,null,null,null,null,null,"６　その他の調査者１",null,null,null,null,null,null,null,null,null,null,null,null,null,null,null,null,null,null,null,null,null,null,null,null,null,null,null,null,null,{"$f":"IF($DS$78=TRUE,\"→勤務先が同一の場合は勤務先欄は記入不要です\",\"\")","v":""},null,null,null,null,null,null,null,null,null,null,null,null,null,null,null,null,null,null,null,null,null,null,null,"第一面３欄",null,null,null,null,null,null,null,null,null,null,null,null,null,null,null,null,null,null,null,null,null,null,null,null,null,null,null,null,null,null,null,null,null,null,null,null,null,null,null,null,null,null,null,null,null,null,null,null,null,null,null,null,"特定建築物調査員判定",null,null,null,null,null,false,null,null,null,null,null,null,null,null,null,null,null,null,null,null,null,null,null,null,null,null,null,null,null,null,null,null,null,null,null,null,null,null,null,null,null,null,null,null,null,null,null,null,null,null,null,null,null,null,null,null,null,null,null,null,null,null,null,null,null,null,null,null,null,null,null,null,null,null,null,null,null,null,null,null,null,null,null,null,null,null,null,null,null,null,null,null,null,null,null,null,null,null,null,null,null,null,null,null,null,null,null,null,null,null,null,null,null,null,null,null,null,null,null,null,null,null,null,null,null,null,null,null,null,null,null,null,null,null,null,null,null,null,null,null,null,null,null,null,null,null,null,null,null,null,null,null,null,null,null,null,null,null,null,null,null,null,null,null,null,null,null,null,null,null,null,null,null,null,null,null,null,null,null,null,null,null,null,null,null,null,null,null,null,null,null,null,null,null,null,null,null,null,null,null,null,null,null,null,"","",null,null,null,null,null,"６その他の調査者１-勤務先-郵便番号"]
[null,null,null,null,null,null,null,null,null,null,null,null,"資格",null,null,null,null,null,"資格名称",null,null,null,null,null,null,null,null,null,null,null,null,null,null,null,null,null,null,null,null,null,null,null,null,null,null,null,null,null,null,null,null,null,null,null,null,null,null,null,null,null,null,null,null,null,null,null,null,null,null,null,null,null,null," 代表となる調査者と勤務先が同じ場合、チェックを入れてください。その場合は、報告書及び概要書には、５.代表となる調査者に入力した勤務先が転記されます。",null,null,null,null,null,null,null,null,null,null,null,null,null,null,null,null,null,null,null,null,null,null,null,null,null,null,null,null,null,null,null,null,null,null,null,null,null,null,null,null,null,null,{"$f":"IF(AB79=\"\",0,IF(AB79=\"特定建築物調査員\",1,2))","v":0},null,null,null,null,null,{"$f":"IF(DM79=2,LEFT($AB79,2),\"\")","v":""},null,null,null,null,null,null,null,null,null,null,null,null,null,null,null,null,null,null,null,null,null,null,null,null,null,null,null,null,null,null,null,null,null,null,null,null,null,null,null,null,null,null,null,null,null,null,null,null,null,null,null,null,null,null,null,null,null,null,null,null,null,null,null,null,null,null,null,null,null,null,null,null,null,null,null,null,null,null,null,null,null,null,null,null,null,null,null,null,null,null,null,null,null,null,null,null,null,null,null,null,null,null,null,null,null,null,null,null,null,null,null,null,null,null,null,null,null,null,null,null,null,null,null,null,null,null,null,null,null,null,null,null,null,null,null,null,null,null,null,null,null,null,null,null,null,null,null,null,null,null,null,null,null,null,null,null,null,null,null,null,null,null,null,null,null,null,null,null,null,null,null,null,null,null,null,null,null,null,null,null,null,null,null,null,null,null,null,null,{"$f":"LEFT($J$78,1)","v":"６"},{"$f":"MID($J$78,3,8)","v":"その他の調査者１"},"-","代表となる調査者と勤務先が同じ1",null,null,null,null,null,null,"６その他の調査者１-代表となる調査者と勤務先が同じ1","６その他の調査者１-代表となる調査者と勤務先が同じ1",null,null,null,null,null,"６その他の調査者１-勤務先-所在地"]
[null,null,null,null,null,null,null,null,null,null,null,null,null,null,null,null,null,null,"建築士",null,null,null,null,null,null,null,null,null,null,null,null,null,null,null,null,null,null,null,null,null,null,null,"登録",null,null,null,null,null,null,null,null,null,null,null,null,null,null,null,null,null,null,null,null,null,null,null,null,null,null,null,null,null,null,null,null,null,null,null,null,null,null,null,null,null,null,null,null,null,null,null,null,null,null,null,null,null,null,null,null,null,null,null,null,null,null,null,null,null,null,null,null,null,null,null,null,null,{"$f":"IF(OR(AB86=\"一級\",AB86=\"二級\"),1,0)","v":0},null,null,null,null,null,{"$f":"IF($AB$80=\"\",\"\",$AB$80)","v":""},null,null,null,null,null,null,null,null,null,null,null,null,null,null,null,null,null,null,null,null,null,null,null,null,null,null,null,null,null,null,null,null,null,null,null,null,null,null,null,null,null,null,null,null,null,null,null,null,null,null,null,null,null,null,null,null,null,null,null,null,null,null,null,null,null,null,null,null,null,null,null,null,null,null,null,null,null,null,null,null,null,null,null,null,null,null,null,null,null,null,null,null,null,null,null,null,null,null,null,null,null,null,null,null,null,null,null,null,null,null,null,null,null,null,null,null,null,null,null,null,null,null,null,null,null,null,null,null,null,null,null,null,null,null,null,null,null,null,null,null,null,null,null,null,null,null,null,null,null,null,null,null,null,null,null,null,null,null,null,null,null,null,null,null,null,null,null,null,null,null,null,null,null,null,null,null,null,null,null,null,null,null,null,null,null,null,null,null,{"$f":"LEFT($J$78,1)","v":"６"},{"$f":"MID($J$78,3,8)","v":"その他の調査者１"},"-",{"$f":"$M$79","v":"資格"},"-",{"$f":"$S$79","v":"資格名称"},null,null,null,null,"６その他の調査者１-資格-資格名称","６その他の調査者１-資格-資格名称",null,null,null,null,null,"６その他の調査者１-勤務先-電話番号"]
[null,null,null,null,null,null,null,null,null,null,null,null,null,null,null,null,null,null,null,null,null,null,null,null,null,"第",null,null,null,null,null,null,null,null,null,null,null,null,null,null,null,null,"号",null,null,null,null,null,null,null,null,null,null,null,null,null,null,null,null,null,null,null,null,null,null,null,null,null,null,null,null,null,null,null,null,null,null,null,null,null,null,null,null,null,null,null,null,null,null,null,null,null,null,null,null,null,null,null,null,null,null,null,null,null,null,null,null,null,null,null,null,null,null,null,null,null,null,null,null,null,null,null,{"$f":"IF($AB$81=\"\",\"\",$AB$81)","v":""},null,null,null,null,null,null,null,null,null,null,null,null,null,null,null,null,null,null,null,null,null,null,null,null,null,null,null,null,null,null,null,null,null,null,null,null,null,null,null,null,null,null,null,null,null,null,null,null,null,null,null,null,null,null,null,null,null,null,null,null,null,null,null,null,null,null,null,null,null,null,null,null,null,null,null,null,null,null,null,null,null,null,null,null,null,null,null,null,null,null,null,null,null,null,null,null,null,null,null,null,null,null,null,null,null,null,null,null,null,null,null,null,null,null,null,null,null,null,null,null,null,null,null,null,null,null,null,null,null,null,null,null,null,null,null,null,null,null,null,null,null,null,null,null,null,null,null,null,null,null,null,null,null,null,null,null,null,null,null,null,null,null,null,null,null,null,null,null,null,null,null,null,null,null,null,null,null,null,null,null,null,null,null,null,null,null,null,null,"６","その他の調査者１","-","資格","-",{"$f":"$S$80","v":"建築士"},"-","登録",null,null,"６その他の調査者１-資格-建築士-登録","６その他の調査者１-資格-建築士-登録",null,null,null,null,null,"６その他の調査者１-勤務先-郵便番号"]
[null,null,null,null,null,null,null,null,null,null,null,null,null,null,null,null,null,null,"特定建築物調査員",null,null,null,null,null,null,"第",null,null,null,null,null,null,null,null,null,null,null,null,null,null,null,null,"号",null,null,null,null,null,null,null,null,null,null,null,null,null,null,null,null,null,null,null,null,null,null,null,null,null,null,null,null,null,null,null,null,null,null,null,null,null,null,null,null,null,null,null,null,null,null,null,null,null,null,null,null,null,null,null,null,null,null,null,null,null,null,null,null,null,null,null,null,null,null,null,null,null,null,null,null,null,null,null,{"$f":"IF($AB$82=\"\",\"\",$AB$82)","v":""},null,null,null,null,null,null,null,null,null,null,null,null,null,null,null,null,null,null,null,null,null,null,null,null,null,null,null,null,null,null,null,null,null,null,null,null,null,null,null,null,null,null,null,null,null,null,null,null,null,null,null,null,null,null,null,null,null,null,null,null,null,null,null,null,null,null,null,null,null,null,null,null,null,null,null,null,null,null,null,null,null,null,null,null,null,null,null,null,null,null,null,null,null,null,null,null,null,null,null,null,null,null,null,null,null,null,null,null,null,null,null,null,null,null,null,null,null,null,null,null,null,null,null,null,null,null,null,null,null,null,null,null,null,null,null,null,null,null,null,null,null,null,null,null,null,null,null,null,null,null,null,null,null,null,null,null,null,null,null,null,null,null,null,null,null,null,null,null,null,null,null,null,null,null,null,null,null,null,null,null,null,null,null,null,null,null,null,null,"６","その他の調査者１","-","資格","-","建築士","-","号",null,null,"６その他の調査者１-資格-建築士-号","６その他の調査者１-資格-建築士-号",null,null,null,null,null,"７その他の調査者２-代表となる調査者と勤務先が同じ2"]
[null,null,null,null,null,null,null,null,null,null,null,null,"氏名",null,null,null,null,null,"フリガナ",null,null,null,null,null,null,null,null,null,null,null,null,null,null,null,null,null,null,null,null,null,null,null,null,null,null,null,null,null,null,null,null,null,null,null,null,null,null,null,null,null,null,null,null,null,null,null,null,null,null,null,null,null,null,null,null,null,null,null,null,null,null,null,null,null,null,null,null,null,null,null,null,null,null,null,null,null,null,null,null,null,null,null,null,null,null,null,null,null,null,null,null,null,null,null,null,null,null,null,null,null,null,null,{"$f":"IF($AB$83=\"\",\"\",$AB$83)","v":""},null,null,null,null,null,null,null,null,null,null,null,null,null,null,null,null,null,null,null,null,null,null,null,null,null,null,null,null,null,null,null,null,null,null,null,null,null,null,null,null,null,null,null,null,null,null,null,null,null,null,null,null,null,null,null,null,null,null,null,null,null,null,null,null,null,null,null,null,null,null,null,null,null,null,null,null,null,null,null,null,null,null,null,null,null,null,null,null,null,null,null,null,null,null,null,null,null,null,null,null,null,null,null,null,null,null,null,null,null,null,null,null,null,null,null,null,null,null,null,null,null,null,null,null,null,null,null,null,null,null,null,null,null,null,null,null,null,null,null,null,null,null,null,null,null,null,null,null,null,null,null,null,null,null,null,null,null,null,null,null,null,null,null,null,null,null,null,null,null,null,null,null,null,null,null,null,null,null,null,null,null,null,null,null,null,null,null,null,"６","その他の調査者１","-","資格","-",{"$f":"$S$82","v":"特定建築物調査員"},null,null,null,null,"６その他の調査者１-資格-特定建築物調査員","６その他の調査者１-資格-特定建築物調査員",null,null,null,null,null,"７その他の調査者２-資格-資格名称"]
[null,null,null,null,null,null,null,null,null,null,null,null,null,null,null,null,null,null,"氏名",null,null,null,null,null,null,null,null,null,null,null,null,null,null,null,null,null,null,null,null,null,null,null,null,null,null,null,null,null,null,null,null,null,null,null,null,null,null,null,null,null,null,null,null,null,null,null,null,null,null,null,null,null,null,null,null,null,null,null,null,null,null,null,null,null,null,null,null,null,null,null,null,null,null,null,null,null,null,null,null,null,null,null,null,null,null,null,null,null,null,null,null,null,null,null,null,null,null,null,null,null,null,null,{"$f":"IF($AB$84=\"\",\"\",$AB$84)","v":""},null,null,null,null,null,null,null,null,null,null,null,null,null,null,null,null,null,null,null,null,null,null,null,null,null,null,null,null,null,null,null,null,null,null,null,null,null,null,null,null,null,null,null,null,null,null,null,null,null,null,null,null,null,null,null,null,null,null,null,null,null,null,null,null,null,null,null,null,null,null,null,null,null,null,null,null,null,null,null,null,null,null,null,null,null,null,null,null,null,null,null,null,null,null,null,null,null,null,null,null,null,null,null,null,null,null,null,null,null,null,null,null,null,null,null,null,null,null,null,null,null,null,null,null,null,null,null,null,null,null,null,null,null,null,null,null,null,null,null,null,null,null,null,null,null,null,null,null,null,null,null,null,null,null,null,null,null,null,null,null,null,null,null,null,null,null,null,null,null,null,null,null,null,null,null,null,null,null,null,null,null,null,null,null,null,null,null,null,"６","その他の調査者１","-",{"$f":"$M$83","v":"氏名"},"-",{"$f":"S83","v":"フリガナ"},null,null,null,null,"６その他の調査者１-氏名-フリガナ","６その他の調査者１-氏名-フリガナ",null,null,null,null,null,"７その他の調査者２-資格-建築士-登録"]
[null,null,null,null,null,null,null,null,null,null,null,null,"勤務先",null,null,null,null,null,"名称",null,null,null,null,null,null,null,null,null,null,null,null,null,null,null,null,null,null,null,null,null,null,null,null,null,null,null,null,null,null,null,null,null,null,null,null,null,null,null,null,null,null,null,null,null,null,null,null,null,null,null,null,null,null,null,null,null,null,null,null,null,null,null,null,null,null,null,null,null,null,null,null,null,null,null,null,null,null,null,null,null,null,null,null,null,null,null,null,null,null,null,null,null,null,null,null,null,null,null,null,null,null,null,{"$f":"IF($AB$85=\"\",\"\",$AB$85)","v":""},null,null,null,null,null,null,null,null,null,null,null,null,null,null,null,null,null,null,null,null,null,null,null,null,null,null,null,null,null,null,null,null,null,null,null,null,null,null,null,null,null,null,null,null,null,null,null,null,null,null,null,null,null,null,null,null,null,null,null,null,null,null,null,null,null,null,null,null,null,null,null,null,null,null,null,null,null,null,null,null,null,null,null,null,null,null,null,null,null,null,null,null,null,null,null,null,null,null,null,null,null,null,null,null,null,null,null,null,null,null,null,null,null,null,null,null,null,null,null,null,null,null,null,null,null,null,null,null,null,null,null,null,null,null,null,null,null,null,null,null,null,null,null,null,null,null,null,null,null,null,null,null,null,null,null,null,null,null,null,null,null,null,null,null,null,null,null,null,null,null,null,null,null,null,null,null,null,null,null,null,null,null,null,null,null,null,null,null,"６","その他の調査者１","-","氏名","-",{"$f":"S84","v":"氏名"},null,null,null,null,"６その他の調査者１-氏名-氏名","６その他の調査者１-氏名-氏名",null,null,null,null,null,"７その他の調査者２-資格-建築士-号"]
[null,null,null,null,null,null,null,null,null,null,null,null,null,null,null,null,null,null,"事務所登録",null,null,null,null,null,null,null,null,null,null,null,null,null,null,null,null,null,null,null,null,null,null,null,"建築士事務所",null,null,null,null,null,null,null,null,null,null,null,null,null,null,null,null,null,null,null,null,null,null,null,null,null,null,null,null,null,null,null,null,null,null,null,null,null,null,null,null,null,null,null,null,null,null,null,null,null,null,null,null,null,null,null,null,null,null,null,null,null,null,null,null,null,null,null,null,null,null,null,null,null,null,null,null,null,null,null,{"$f":"IF($AB$86=\"\",\"\",$AB$86)","v":""},null,null,null,null,null,null,null,null,null,null,null,null,null,null,null,null,null,null,null,null,null,null,null,null,null,null,null,null,null,null,null,null,null,null,null,null,null,null,null,null,null,null,null,null,null,null,null,null,null,null,null,null,null,null,null,null,null,null,null,null,null,null,null,null,null,null,null,null,null,null,null,null,null,null,null,null,null,null,null,null,null,null,null,null,null,null,null,null,null,null,null,null,null,null,null,null,null,null,null,null,null,null,null,null,null,null,null,null,null,null,null,null,null,null,null,null,null,null,null,null,null,null,null,null,null,null,null,null,null,null,null,null,null,null,null,null,null,null,null,null,null,null,null,null,null,null,null,null,null,null,null,null,null,null,null,null,null,null,null,null,null,null,null,null,null,null,null,null,null,null,null,null,null,null,null,null,null,null,null,null,null,null,null,null,null,null,null,null,"６","その他の調査者１","-",{"$f":"$M$85","v":"勤務先"},"-",{"$f":"$S$85","v":"名称"},null,null,null,null,"６その他の調査者１-勤務先-名称","６その他の調査者１-勤務先-名称",null,null,null,null,null,"７その他の調査者２-資格-特定建築物調査員-号"]
[null,null,null,null,null,null,null,null,null,null,null,null,null,null,null,null,null,null,null,null,null,null,null,null,null,null,null,null,null,null,null,null,null,null,null,null,null,null,null,null,null,null,"知事登録",null,null,null,null,null,null,null,null,null,null,null,null,null,null,null,null,null,null,null,null,null,null,null,null,null,null,null,null,null,null,null,null,null,null,null,null,null,null,null,null,null,null,null,null,null,null,null,null,null,null,null,null,null,null,null,null,null,null,null,null,null,null,null,null,null,null,null,null,null,null,null,null,null,null,null,null,null,null,null,{"$f":"IF($AB$87=\"\",\"\",$AB$87)","v":""},null,null,null,null,null,null,null,null,null,null,null,null,null,null,null,null,null,null,null,null,null,null,null,null,null,null,null,null,null,null,null,null,null,null,null,null,null,null,null,null,null,null,null,null,null,null,null,null,null,null,null,null,null,null,null,null,null,null,null,null,null,null,null,null,null,null,null,null,null,null,null,null,null,null,null,null,null,null,null,null,null,null,null,null,null,null,null,null,null,null,null,null,null,null,null,null,null,null,null,null,null,null,null,null,null,null,null,null,null,null,null,null,null,null,null,null,null,null,null,null,null,null,null,null,null,null,null,null,null,null,null,null,null,null,null,null,null,null,null,null,null,null,null,null,null,null,null,null,null,null,null,null,null,null,null,null,null,null,null,null,null,null,null,null,null,null,null,null,null,null,null,null,null,null,null,null,null,null,null,null,null,null,null,null,null,null,null,null,"６","その他の調査者１","-","勤務先","-",{"$f":"$S$86","v":"事務所登録"},"-",{"$f":"AQ86","v":"建築士事務所"},null,null,"６その他の調査者１-勤務先-事務所登録-建築士事務所","６その他の調査者１-勤務先-事務所登録-建築士事務所",null,null,null,null,null,"７その他の調査者２-氏名-フリガナ"]
[null,null,null,null,null,null,null,null,null,null,null,null,null,null,null,null,null,null,null,null,null,null,null,null,null,"第",null,null,null,null,null,null,null,null,null,null,null,null,null,null,null,null,"号",null,null,null,null,null,null,null,null,null,null,null,null,null,null,null,null,null,null,null,null,null,null,null,null,null,null,null,null,null,null,null,null,null,null,null,null,null,null,null,null,null,null,null,null,null,null,null,null,null,null,null,null,null,null,null,null,null,null,null,null,null,null,null,null,null,null,null,null,null,null,null,null,null,"郵便番号","未入力判定（1で未入力／代表となる調査者と勤務先が同じでない場合限定）↓",null,null,null,null,{"$f":"IF($AB$88=\"\",\"\",$AB$88)","v":""},null,null,null,null,null,null,null,null,null,null,null,null,null,null,null,null,null,null,null,null,null,null,null,null,null,null,null,null,null,null,null,null,null,null,null,null,null,null,null,null,null,null,null,null,null,null,null,null,null,null,null,null,null,null,null,null,null,null,null,null,null,null,null,null,null,null,null,null,null,null,null,null,null,null,null,null,null,null,null,null,null,null,null,null,null,null,null,null,null,null,null,null,null,null,null,null,null,null,null,null,null,null,null,null,null,null,null,null,null,null,null,null,null,null,null,null,null,null,null,null,null,null,null,null,null,null,null,null,null,null,null,null,null,null,null,null,null,null,null,null,null,null,null,null,null,null,null,null,null,null,null,null,null,null,null,null,null,null,null,null,null,null,null,null,null,null,null,null,null,null,null,null,null,null,null,null,null,null,null,null,null,null,null,null,null,null,null,null,"６","その他の調査者１","-","勤務先","-","事務所登録","-",{"$f":"AQ87","v":"知事登録"},null,null,"６その他の調査者１-勤務先-事務所登録-知事登録","６その他の調査者１-勤務先-事務所登録-知事登録",null,null,null,null,null,"７その他の調査者２-氏名-氏名"]
[null,null,null,null,null,null,null,null,null,null,null,null,null,null,null,null,null,null,"郵便番号",null,null,null,null,null,null,null,null,null,null,null,null,null,null,"－",null,null,null,null,null,null,null,null,null,null,null,null,null,null,null,null,null,null,null,null,null,null,null,null,null,null,null,null,null,null,null,null,null,null,null,null,null,null,null,null,null,null,null,null,null,null,null,null,null,null,null,null,null,null,null,null,null,null,null,null,null,null,null,null,null,null,null,null,null,null,null,null,null,null,null,null,null,null,null,null,null,null,{"$f":"CONCATENATE(AB89,\"-\",AK89)","v":"-"},{"$f":"ASC(DM89)","v":"-"},{"$f":"IF(DS78=TRUE,DS62,AB89)","v":0},{"$f":"IF(DS78=TRUE,DT62,AK89)","v":0},null,{"$f":"IF(AND($DS$78=FALSE,COUNTA(AB89,AK89)=0),1,0)","v":1},{"$f":"IF($DN$71=\"\",\"\",$DN$71)","v":"-"},null,null,null,null,null,null,null,null,null,null,null,null,null,null,null,null,null,null,null,null,null,null,null,null,null,null,null,null,null,null,null,null,null,null,null,null,null,null,null,null,null,null,null,null,null,null,null,null,null,null,null,null,null,null,null,null,null,null,null,null,null,null,null,null,null,null,null,null,null,null,null,null,null,null,null,null,null,null,null,null,null,null,null,null,null,null,null,null,null,null,null,null,null,null,null,null,null,null,null,null,null,null,null,null,null,null,null,null,null,null,null,null,null,null,null,null,null,null,null,null,null,null,null,null,null,null,null,null,null,null,null,null,null,null,null,null,null,null,null,null,null,null,null,null,null,null,null,null,null,null,null,null,null,null,null,null,null,null,null,null,null,null,null,null,null,null,null,null,null,null,null,null,null,null,null,null,null,null,null,null,null,null,null,null,null,null,null,null,"６","その他の調査者１","-","勤務先","-","事務所登録","-",{"$f":"AQ88","v":"号"},null,null,"６その他の調査者１-勤務先-事務所登録-号","６その他の調査者１-勤務先-事務所登録-号",null,null,null,null,null,"７その他の調査者２-勤務先-名称"]
[null,null,null,null,null,null,null,null,null,null,null,null,null,null,null,null,null,null,"所在地",null,null,null,null,null,null,null,null,null,null,null,null,null,null,null,null,null,null,null,null,null,null,null,null,null,null,null,null,null,null,null,null,null,null,null,null,null,null,null,null,null,null,null,null,null,null,null,null,null,null,null,null,null,null,null,null,null,null,null,null,null,null,null,null,null,null,null,null,null,null,null,null,null,null,null,null,null,null,null,null,null,null,null,null,null,null,null,null,null,null,null,null,null,null,null,null,null,"電話番号","未入力判定（1で未入力／代表となる調査者と勤務先が同じでない場合限定）↓",null,null,null,null,{"$f":"IF($AB$72=\"\",\"\",$AB$72)","v":""},null,null,null,null,null,null,null,null,null,null,null,null,null,null,null,null,null,null,null,null,null,null,null,null,null,null,null,null,null,null,null,null,null,null,null,null,null,null,null,null,null,null,null,null,null,null,null,null,null,null,null,null,null,null,null,null,null,null,null,null,null,null,null,null,null,null,null,null,null,null,null,null,null,null,null,null,null,null,null,null,null,null,null,null,null,null,null,null,null,null,null,null,null,null,null,null,null,null,null,null,null,null,null,null,null,null,null,null,null,null,null,null,null,null,null,null,null,null,null,null,null,null,null,null,null,null,null,null,null,null,null,null,null,null,null,null,null,null,null,null,null,null,null,null,null,null,null,null,null,null,null,null,null,null,null,null,null,null,null,null,null,null,null,null,null,null,null,null,null,null,null,null,null,null,null,null,null,null,null,null,null,null,null,null,null,null,null,null,"６","その他の調査者１","-","勤務先","-",{"$f":"S89","v":"郵便番号"},null,null,null,null,"６その他の調査者１-勤務先-郵便番号","６その他の調査者１-勤務先-郵便番号",null,null,null,null,null,"７その他の調査者２-勤務先-事務所登録-建築士事務所"]
[null,null,null,null,null,null,null,null,null,null,null,null,null,null,null,null,null,null,"電話番号",null,null,null,null,null,null,null,null,null,null,null,null,null,null,"－",null,null,null,null,null,null,null,null,"－",null,null,null,null,null,null,null,null,null,null,null,null,null,null,null,null,null,null,null,null,null,null,null,null,null,null,null,null,null,null,null,null,null,null,null,null,null,null,null,null,null,null,null,null,null,null,null,null,null,null,null,null,null,null,null,null,null,null,null,null,null,null,null,null,null,null,null,null,null,null,null,null,null,{"$f":"CONCATENATE(AB91,\"-\",AK91,\"-\",AT91)","v":"--"},{"$f":"ASC(DM91)","v":"--"},{"$f":"IF(DS78=TRUE,DS64,AB91)","v":0},{"$f":"IF(DS78=TRUE,DT64,AK91)","v":0},{"$f":"IF(DS78=TRUE,DU64,AT91)","v":0},{"$f":"IF(AND($DS$78=FALSE,COUNTA(AB91,AK91)=0),1,0)","v":1},{"$f":"IF($DN$73=\"\",\"\",$DN$73)","v":"--"},null,null,null,null,null,null,null,null,null,null,null,null,null,null,null,null,null,null,null,null,null,null,null,null,null,null,null,null,null,null,null,null,null,null,null,null,null,null,null,null,null,null,null,null,null,null,null,null,null,null,null,null,null,null,null,null,null,null,null,null,null,null,null,null,null,null,null,null,null,null,null,null,null,null,null,null,null,null,null,null,null,null,null,null,null,null,null,null,null,null,null,null,null,null,null,null,null,null,null,null,null,null,null,null,null,null,null,null,null,null,null,null,null,null,null,null,null,null,null,null,null,null,null,null,null,null,null,null,null,null,null,null,null,null,null,null,null,null,null,null,null,null,null,null,null,null,null,null,null,null,null,null,null,null,null,null,null,null,null,null,null,null,null,null,null,null,null,null,null,null,null,null,null,null,null,null,null,null,null,null,null,null,null,null,null,null,null,null,"６","その他の調査者１","-","勤務先","-",{"$f":"S90","v":"所在地"},null,null,null,null,"６その他の調査者１-勤務先-所在地","６その他の調査者１-勤務先-所在地",null,null,null,null,null,"７その他の調査者２-勤務先-事務所登録-知事登録"]
[null,null,null,null,null,null,null,null,null,null,null,null,null,null,null,null,null,null,null,null,null,null,null,null,null,null,null,null,null,null,null,null,null,null,null,null,null,null,null,null,null,null,null,null,null,null,null,null,null,null,null,null,null,null,null,null,null,null,null,null,null,null,null,null,null,null,null,null,null,null,null,null,null,null,null,null,null,null,null,null,null,null,null,null,null,null,null,null,null,null,null,null,null,null,null,null,null,null,null,null,null,null,null,null,null,null,null,null,null,null,null,null,null,null,null,null,null,null,null,null,null,null,null,null,null,null,null,null,null,null,null,null,null,null,null,null,null,null,null,null,null,null,null,null,null,null,null,null,null,null,null,null,null,null,null,null,null,null,null,null,null,null,null,null,null,null,null,null,null,null,null,null,null,null,null,null,null,null,null,null,null,null,null,null,null,null,null,null,null,null,null,null,null,null,null,null,null,null,null,null,null,null,null,null,null,null,null,null,null,null,null,null,null,null,null,null,null,null,null,null,null,null,null,null,null,null,null,null,null,null,null,null,null,null,null,null,null,null,null,null,null,null,null,null,null,null,null,null,null,null,null,null,null,null,null,null,null,null,null,null,null,null,null,null,null,null,null,null,null,null,null,null,null,null,null,null,null,null,null,null,null,null,null,null,null,null,null,null,null,null,null,null,null,null,null,null,null,null,null,null,null,null,null,null,null,null,null,null,null,null,null,"６","その他の調査者１","-","勤務先","-",{"$f":"S91","v":"電話番号"},null,null,null,null,"６その他の調査者１-勤務先-電話番号","６その他の調査者１-勤務先-電話番号",null,null,null,null,null,"７その他の調査者２-勤務先-事務所登録-号"]
[]
[null,null,null,null,null,null,null,null,null,null,null,null,null,null,null,null,null,null,null,null,null,null,null,null,null,null,null,null,null,null,null,null,null,null,null,null,null,null,null,null,null,null,null,null,null,null,null,null,null,null,null,null,null,null,null,null,null,null,null,null,null,null,null,null,null,null,null,null,null,null,null,null,null,null,null,null,null,null,null,null,null,null,null,null,null,null,null,null,null,null,null,null,null,null,null,null,null,null,null,null,null,null,null,null,null,null,null,null,null,null,null,null,null,null,null,null,null,null,null,null,null,null,null,null,null,null,null,null,null,null,null,null,null,null,null,null,null,null,null,null,null,null,null,null,null,null,null,null,null,null,null,null,null,null,null,null,null,null,null,null,null,null,null,null,null,null,null,null,null,null,null,null,null,null,null,null,null,null,null,null,null,null,null,null,null,null,null,null,null,null,null,null,null,null,null,null,null,null,null,null,null,null,null,null,null,null,null,null,null,null,null,null,null,null,null,null,null,null,null,null,null,null,null,null,null,null,null,null,null,null,null,null,null,null,null,null,null,null,null,null,null,null,null,null,null,null,null,null,null,null,null,null,null,null,null,null,null,null,null,null,null,null,null,null,null,null,null,null,null,null,null,null,null,null,null,null,null,null,null,null,null,null,null,null,null,null,null,null,null,null,null,null,null,null,null,null,null,null,null,null,null,null,null,null,null,null,null,null,null,null,null,"６","その他の調査者１","-","勤務先","-","郵便番号",null,null,null,null,"６その他の調査者１-勤務先-郵便番号","６その他の調査者１-勤務先-郵便番号",null,null,null,null,null,"７その他の調査者２-勤務先-郵便番号"]
[null,null,null,null,null,null,null,null,null,null,null,null,null,null,null,null,null,null,null,null,null,null,null,null,null,null,null,null,null,null,null,null,null,null,null,null,null,null,null,null,null,null,null,null,null,null,null,null,null,null,null,null,null,null,null,null,null,null,null,null,null,null,null,null,null,null,null,null,null,null,null,null,null,null,null,null,null,null,null,null,null,null,null,null,null,null,null,null,null,null,null,null,null,null,null,null,null,null,null,null,null,null,null,null,null,null,null,null,null,null,null,null,null,null,null,null,null,null,null,null,null,null,null,null,null,null,null,null,null,null,null,null,null,null,null,null,null,null,null,null,null,null,null,null,null,null,null,null,null,null,null,null,null,null,null,null,null,null,null,null,null,null,null,null,null,null,null,null,null,null,null,null,null,null,null,null,null,null,null,null,null,null,null,null,null,null,null,null,null,null,null,null,null,null,null,null,null,null,null,null,null,null,null,null,null,null,null,null,null,null,null,null,null,null,null,null,null,null,null,null,null,null,null,null,null,null,null,null,null,null,null,null,null,null,null,null,null,null,null,null,null,null,null,null,null,null,null,null,null,null,null,null,null,null,null,null,null,null,null,null,null,null,null,null,null,null,null,null,null,null,null,null,null,null,null,null,null,null,null,null,null,null,null,null,null,null,null,null,null,null,null,null,null,null,null,null,null,null,null,null,null,null,null,null,null,null,null,null,null,null,null,null,null,null,null,null,null,null,null,null,null,"","",null,null,null,null,null,"７その他の調査者２-勤務先-所在地"]
[null,null,null,null,null,null,null,null,null,"７　その他の調査者２",null,null,null,null,null,null,null,null,null,null,null,null,null,null,null,null,null,null,null,null,null,null,null,null,null,null,null,null,null,{"$f":"IF($DS$96=TRUE,\"→勤務先が同一の場合は勤務先欄は記入不要です\",\"\")","v":""},null,null,null,null,null,null,null,null,null,null,null,null,null,null,null,null,null,null,null,null,null,null,null,"第一面別紙",null,null,null,null,null,null,null,null,null,null,null,null,null,null,null,null,null,null,null,null,null,null,null,null,null,null,null,null,null,null,null,null,null,null,null,null,null,null,null,null,null,null,null,null,null,null,null,null,null,null,null,null,"空白で反映","1級2級変換",null,null,null,null,false,null,null,null,null,null,null,null,null,null,null,null,null,null,null,null,null,null,null,null,null,null,null,null,null,null,null,null,null,null,null,null,null,null,null,null,null,null,null,null,null,null,null,null,null,null,null,null,null,null,null,null,null,null,null,null,null,null,null,null,null,null,null,null,null,null,null,null,null,null,null,null,null,null,null,null,null,null,null,null,null,null,null,null,null,null,null,null,null,null,null,null,null,null,null,null,null,null,null,null,null,null,null,null,null,null,null,null,null,null,null,null,null,null,null,null,null,null,null,null,null,null,null,null,null,null,null,null,null,null,null,null,null,null,null,null,null,null,null,null,null,null,null,null,null,null,null,null,null,null,null,null,null,null,null,null,null,null,null,null,null,null,null,null,null,null,null,null,null,null,null,null,null,null,null,null,null,null,null,null,null,null,null,null,null,null,null,null,null,null,null,null,null,null,null,null,null,null,null,"","",null,null,null,null,null,"７その他の調査者２-勤務先-電話番号"]
[null,null,null,null,null,null,null,null,null,null,null,null,"資格",null,null,null,null,null,"資格名称",null,null,null,null,null,null,null,null,null,null,null,null,null,null,null,null,null,null,null,null,null,null,null,null,null,null,null,null,null,null,null,null,null,null,null,null,null,null,null,null,null,null,null,null,null,null,null,null,null,null,null,null,null,null," 代表となる調査者と勤務先が同じ場合、チェックを入れてください。その場合は、報告書及び概要書には、５.代表となる調査者に入力した勤務先が転記されます。",null,null,null,null,null,null,null,null,null,null,null,null,null,null,null,null,null,null,null,null,null,null,null,null,null,null,null,null,null,null,null,null,null,null,null,null,null,null,null,null,null,null,{"$f":"IF(AB97=\"\",0,IF(AB97=\"特定建築物調査員\",1,2))","v":0},null,null,null,null,null,{"$f":"IF(DM97=2,LEFT($AB97,2),\"\")","v":""},null,null,null,null,null,null,null,null,null,null,null,null,null,null,null,null,null,null,null,null,null,null,null,null,null,null,null,null,null,null,null,null,null,null,null,null,null,null,null,null,null,null,null,null,null,null,null,null,null,null,null,null,null,null,null,null,null,null,null,null,null,null,null,null,null,null,null,null,null,null,null,null,null,null,null,null,null,null,null,null,null,null,null,null,null,null,null,null,null,null,null,null,null,null,null,null,null,null,null,null,null,null,null,null,null,null,null,null,null,null,null,null,null,null,null,null,null,null,null,null,null,null,null,null,null,null,null,null,null,null,null,null,null,null,null,null,null,null,null,null,null,null,null,null,null,null,null,null,null,null,null,null,null,null,null,null,null,null,null,null,null,null,null,null,null,null,null,null,null,null,null,null,null,null,null,null,null,null,null,null,null,null,null,null,null,null,null,null,{"$f":"LEFT($J$96,1)","v":"７"},{"$f":"MID($J$96,3,8)","v":"その他の調査者２"},"-","代表となる調査者と勤務先が同じ2",null,null,null,null,null,null,"７その他の調査者２-代表となる調査者と勤務先が同じ2","７その他の調査者２-代表となる調査者と勤務先が同じ2",null,null,null,null,null,"７その他の調査者２-勤務先-郵便番号"]
[null,null,null,null,null,null,null,null,null,null,null,null,null,null,null,null,null,null,"建築士",null,null,null,null,null,null,null,null,null,null,null,null,null,null,null,null,null,null,null,null,null,null,null,"登録",null,null,null,null,null,null,null,null,null,null,null,null,null,null,null,null,null,null,null,null,null,null,null,null,null,null,null,null,null,null,null,null,null,null,null,null,null,null,null,null,null,null,null,null,null,null,null,null,null,null,null,null,null,null,null,null,null,null,null,null,null,null,null,null,null,null,null,null,null,null,null,null,null,{"$f":"IF(OR($AB$97=\"一級建築士\",$AB$97=\"二級建築士\"),1,0)","v":0},{"$f":"LEFT(AB97,2)","v":""},null,null,null,null,{"$f":"IF(AB98=\"\",\"\",AB98)","v":""},null,null,null,null,null,null,null,null,null,null,null,null,null,null,null,null,null,null,null,null,null,null,null,null,null,null,null,null,null,null,null,null,null,null,null,null,null,null,null,null,null,null,null,null,null,null,null,null,null,null,null,null,null,null,null,null,null,null,null,null,null,null,null,null,null,null,null,null,null,null,null,null,null,null,null,null,null,null,null,null,null,null,null,null,null,null,null,null,null,null,null,null,null,null,null,null,null,null,null,null,null,null,null,null,null,null,null,null,null,null,null,null,null,null,null,null,null,null,null,null,null,null,null,null,null,null,null,null,null,null,null,null,null,null,null,null,null,null,null,null,null,null,null,null,null,null,null,null,null,null,null,null,null,null,null,null,null,null,null,null,null,null,null,null,null,null,null,null,null,null,null,null,null,null,null,null,null,null,null,null,null,null,null,null,null,null,null,null,{"$f":"LEFT($J$96,1)","v":"７"},{"$f":"MID($J$96,3,8)","v":"その他の調査者２"},"-",{"$f":"$M$97","v":"資格"},"-",{"$f":"$S$97","v":"資格名称"},null,null,null,null,"７その他の調査者２-資格-資格名称","７その他の調査者２-資格-資格名称",null,null,null,null,null,"８敷地の位置-防火地域等-防火地域等　1"]
[null,null,null,null,null,null,null,null,null,null,null,null,null,null,null,null,null,null,null,null,null,null,null,null,null,"第",null,null,null,null,null,null,null,null,null,null,null,null,null,null,null,null,"号",null,null,null,null,null,null,null,null,null,null,null,null,null,null,null,null,null,null,null,null,null,null,null,null,null,null,null,null,null,null,null,null,null,null,null,null,null,null,null,null,null,null,null,null,null,null,null,null,null,null,null,null,null,null,null,null,null,null,null,null,null,null,null,null,null,null,null,null,null,null,null,null,null,null,null,null,null,null,null,{"$f":"IF(AB99=\"\",\"\",AB99)","v":""},null,null,null,null,null,null,null,null,null,null,null,null,null,null,null,null,null,null,null,null,null,null,null,null,null,null,null,null,null,null,null,null,null,null,null,null,null,null,null,null,null,null,null,null,null,null,null,null,null,null,null,null,null,null,null,null,null,null,null,null,null,null,null,null,null,null,null,null,null,null,null,null,null,null,null,null,null,null,null,null,null,null,null,null,null,null,null,null,null,null,null,null,null,null,null,null,null,null,null,null,null,null,null,null,null,null,null,null,null,null,null,null,null,null,null,null,null,null,null,null,null,null,null,null,null,null,null,null,null,null,null,null,null,null,null,null,null,null,null,null,null,null,null,null,null,null,null,null,null,null,null,null,null,null,null,null,null,null,null,null,null,null,null,null,null,null,null,null,null,null,null,null,null,null,null,null,null,null,null,null,null,null,null,null,null,null,null,null,"７","その他の調査者２","-","資格","-",{"$f":"$S$98","v":"建築士"},"-",{"$f":"AQ98","v":"登録"},null,null,"７その他の調査者２-資格-建築士-登録","７その他の調査者２-資格-建築士-登録",null,null,null,null,null,"８敷地の位置-防火地域等-防火地域等　2"]
[null,null,null,null,null,null,null,null,null,null,null,null,null,null,null,null,null,null,"特定建築物調査員",null,null,null,null,null,null,"第",null,null,null,null,null,null,null,null,null,null,null,null,null,null,null,null,"号",null,null,null,null,null,null,null,null,null,null,null,null,null,null,null,null,null,null,null,null,null,null,null,null,null,null,null,null,null,null,null,null,null,null,null,null,null,null,null,null,null,null,null,null,null,null,null,null,null,null,null,null,null,null,null,null,null,null,null,null,null,null,null,null,null,null,null,null,null,null,null,null,null,null,null,null,null,null,null,{"$f":"IF(AB100=\"\",\"\",AB100)","v":""},null,null,null,null,null,null,null,null,null,null,null,null,null,null,null,null,null,null,null,null,null,null,null,null,null,null,null,null,null,null,null,null,null,null,null,null,null,null,null,null,null,null,null,null,null,null,null,null,null,null,null,null,null,null,null,null,null,null,null,null,null,null,null,null,null,null,null,null,null,null,null,null,null,null,null,null,null,null,null,null,null,null,null,null,null,null,null,null,null,null,null,null,null,null,null,null,null,null,null,null,null,null,null,null,null,null,null,null,null,null,null,null,null,null,null,null,null,null,null,null,null,null,null,null,null,null,null,null,null,null,null,null,null,null,null,null,null,null,null,null,null,null,null,null,null,null,null,null,null,null,null,null,null,null,null,null,null,null,null,null,null,null,null,null,null,null,null,null,null,null,null,null,null,null,null,null,null,null,null,null,null,null,null,null,null,null,null,null,"７","その他の調査者２","-","資格","-","建築士","-",{"$f":"AQ99","v":"号"},null,null,"７その他の調査者２-資格-建築士-号","７その他の調査者２-資格-建築士-号",null,null,null,null,null,"８敷地の位置-防火地域等-防火地域等　3"]
[null,null,null,null,null,null,null,null,null,null,null,null,"氏名",null,null,null,null,null,"フリガナ",null,null,null,null,null,null,null,null,null,null,null,null,null,null,null,null,null,null,null,null,null,null,null,null,null,null,null,null,null,null,null,null,null,null,null,null,null,null,null,null,null,null,null,null,null,null,null,null,null,null,null,null,null,null,null,null,null,null,null,null,null,null,null,null,null,null,null,null,null,null,null,null,null,null,null,null,null,null,null,null,null,null,null,null,null,null,null,null,null,null,null,null,null,null,null,null,null,null,null,null,null,null,null,{"$f":"IF(AB101=\"\",\"\",AB101)","v":""},null,null,null,null,null,null,null,null,null,null,null,null,null,null,null,null,null,null,null,null,null,null,null,null,null,null,null,null,null,null,null,null,null,null,null,null,null,null,null,null,null,null,null,null,null,null,null,null,null,null,null,null,null,null,null,null,null,null,null,null,null,null,null,null,null,null,null,null,null,null,null,null,null,null,null,null,null,null,null,null,null,null,null,null,null,null,null,null,null,null,null,null,null,null,null,null,null,null,null,null,null,null,null,null,null,null,null,null,null,null,null,null,null,null,null,null,null,null,null,null,null,null,null,null,null,null,null,null,null,null,null,null,null,null,null,null,null,null,null,null,null,null,null,null,null,null,null,null,null,null,null,null,null,null,null,null,null,null,null,null,null,null,null,null,null,null,null,null,null,null,null,null,null,null,null,null,null,null,null,null,null,null,null,null,null,null,null,null,"７","その他の調査者２","-","資格","-",{"$f":"$S$100","v":"特定建築物調査員"},"-",{"$f":"AQ100","v":"号"},null,null,"７その他の調査者２-資格-特定建築物調査員-号","７その他の調査者２-資格-特定建築物調査員-号",null,null,null,null,null,"８敷地の位置-防火地域等-その他"]
[null,null,null,null,null,null,null,null,null,null,null,null,null,null,null,null,null,null,"氏名",null,null,null,null,null,null,null,null,null,null,null,null,null,null,null,null,null,null,null,null,null,null,null,null,null,null,null,null,null,null,null,null,null,null,null,null,null,null,null,null,null,null,null,null,null,null,null,null,null,null,null,null,null,null,null,null,null,null,null,null,null,null,null,null,null,null,null,null,null,null,null,null,null,null,null,null,null,null,null,null,null,null,null,null,null,null,null,null,null,null,null,null,null,null,null,null,null,null,null,null,null,null,null,"",null,null,null,null,null,null,null,null,null,null,null,null,null,null,null,null,null,null,null,null,null,null,null,null,null,null,null,null,null,null,null,null,null,null,null,null,null,null,null,null,null,null,null,null,null,null,null,null,null,null,null,null,null,null,null,null,null,null,null,null,null,null,null,null,null,null,null,null,null,null,null,null,null,null,null,null,null,null,null,null,null,null,null,null,null,null,null,null,null,null,null,null,null,null,null,null,null,null,null,null,null,null,null,null,null,null,null,null,null,null,null,null,null,null,null,null,null,null,null,null,null,null,null,null,null,null,null,null,null,null,null,null,null,null,null,null,null,null,null,null,null,null,null,null,null,null,null,null,null,null,null,null,null,null,null,null,null,null,null,null,null,null,null,null,null,null,null,null,null,null,null,null,null,null,null,null,null,null,null,null,null,null,null,null,null,null,null,null,"７","その他の調査者２","-",{"$f":"$M$101","v":"氏名"},"-",{"$f":"S101","v":"フリガナ"},null,null,null,null,"７その他の調査者２-氏名-フリガナ","７その他の調査者２-氏名-フリガナ",null,null,null,null,null,"８敷地の位置-用途地域-用途地域　1"]
[null,null,null,null,null,null,null,null,null,null,null,null,"勤務先",null,null,null,null,null,"名称",null,null,null,null,null,null,null,null,null,null,null,null,null,null,null,null,null,null,null,null,null,null,null,null,null,null,null,null,null,null,null,null,null,null,null,null,null,null,null,null,null,null,null,null,null,null,null,null,null,null,null,null,null,null,null,null,null,null,null,null,null,null,null,null,null,null,null,null,null,null,null,null,null,null,null,null,null,null,null,null,null,null,null,null,null,null,null,null,null,null,null,null,null,null,null,null,null,null,null,null,null,null,null,{"$f":"IF(AB103=\"\",\"\",AB103)","v":""},null,null,null,null,null,null,null,null,null,null,null,null,null,null,null,null,null,null,null,null,null,null,null,null,null,null,null,null,null,null,null,null,null,null,null,null,null,null,null,null,null,null,null,null,null,null,null,null,null,null,null,null,null,null,null,null,null,null,null,null,null,null,null,null,null,null,null,null,null,null,null,null,null,null,null,null,null,null,null,null,null,null,null,null,null,null,null,null,null,null,null,null,null,null,null,null,null,null,null,null,null,null,null,null,null,null,null,null,null,null,null,null,null,null,null,null,null,null,null,null,null,null,null,null,null,null,null,null,null,null,null,null,null,null,null,null,null,null,null,null,null,null,null,null,null,null,null,null,null,null,null,null,null,null,null,null,null,null,null,null,null,null,null,null,null,null,null,null,null,null,null,null,null,null,null,null,null,null,null,null,null,null,null,null,null,null,null,null,"７","その他の調査者２","-","氏名","-",{"$f":"S102","v":"氏名"},null,null,null,null,"７その他の調査者２-氏名-氏名","７その他の調査者２-氏名-氏名",null,null,null,null,null,"８敷地の位置-用途地域-用途地域　2"]
[null,null,null,null,null,null,null,null,null,null,null,null,null,null,null,null,null,null,"事務所登録",null,null,null,null,null,null,null,null,null,null,null,null,null,null,null,null,null,null,null,null,null,null,null,"建築士事務所",null,null,null,null,null,null,null,null,null,null,null,null,null,null,null,null,null,null,null,null,null,null,null,null,null,null,null,null,null,null,null,null,null,null,null,null,null,null,null,null,null,null,null,null,null,null,null,null,null,null,null,null,null,null,null,null,null,null,null,null,null,null,null,null,null,null,null,null,null,null,null,null,null,{"$f":"IF(OR($AB$104=\"一級\",$AB$104=\"二級\"),1,0)","v":0},null,null,null,null,null,{"$f":"IF(AB104=\"\",\"\",AB104)","v":""},null,null,null,null,null,null,null,null,null,null,null,null,null,null,null,null,null,null,null,null,null,null,null,null,null,null,null,null,null,null,null,null,null,null,null,null,null,null,null,null,null,null,null,null,null,null,null,null,null,null,null,null,null,null,null,null,null,null,null,null,null,null,null,null,null,null,null,null,null,null,null,null,null,null,null,null,null,null,null,null,null,null,null,null,null,null,null,null,null,null,null,null,null,null,null,null,null,null,null,null,null,null,null,null,null,null,null,null,null,null,null,null,null,null,null,null,null,null,null,null,null,null,null,null,null,null,null,null,null,null,null,null,null,null,null,null,null,null,null,null,null,null,null,null,null,null,null,null,null,null,null,null,null,null,null,null,null,null,null,null,null,null,null,null,null,null,null,null,null,null,null,null,null,null,null,null,null,null,null,null,null,null,null,null,null,null,null,null,"７","その他の調査者２","-",{"$f":"$M$103","v":"勤務先"},"-",{"$f":"$S$103","v":"名称"},null,null,null,null,"７その他の調査者２-勤務先-名称","７その他の調査者２-勤務先-名称",null,null,null,null,null,"８敷地の位置-用途地域-用途地域　3"]
[null,null,null,null,null,null,null,null,null,null,null,null,null,null,null,null,null,null,null,null,null,null,null,null,null,null,null,null,null,null,null,null,null,null,null,null,null,null,null,null,null,null,"知事登録",null,null,null,null,null,null,null,null,null,null,null,null,null,null,null,null,null,null,null,null,null,null,null,null,null,null,null,null,null,null,null,null,null,null,null,null,null,null,null,null,null,null,null,null,null,null,null,null,null,null,null,null,null,null,null,null,null,null,null,null,null,null,null,null,null,null,null,null,null,null,null,null,null,null,null,null,null,null,null,{"$f":"IF(AB105=\"\",\"\",AB105)","v":""},null,null,null,null,null,null,null,null,null,null,null,null,null,null,null,null,null,null,null,null,null,null,null,null,null,null,null,null,null,null,null,null,null,null,null,null,null,null,null,null,null,null,null,null,null,null,null,null,null,null,null,null,null,null,null,null,null,null,null,null,null,null,null,null,null,null,null,null,null,null,null,null,null,null,null,null,null,null,null,null,null,null,null,null,null,null,null,null,null,null,null,null,null,null,null,null,null,null,null,null,null,null,null,null,null,null,null,null,null,null,null,null,null,null,null,null,null,null,null,null,null,null,null,null,null,null,null,null,null,null,null,null,null,null,null,null,null,null,null,null,null,null,null,null,null,null,null,null,null,null,null,null,null,null,null,null,null,null,null,null,null,null,null,null,null,null,null,null,null,null,null,null,null,null,null,null,null,null,null,null,null,null,null,null,null,null,null,null,"７","その他の調査者２","-","勤務先","-",{"$f":"$S$104","v":"事務所登録"},"-",{"$f":"AQ104","v":"建築士事務所"},null,null,"７その他の調査者２-勤務先-事務所登録-建築士事務所","７その他の調査者２-勤務先-事務所登録-建築士事務所",null,null,null,null,null,"９建物及びその敷地の概要-構造-構造　1"]
[null,null,null,null,null,null,null,null,null,null,null,null,null,null,null,null,null,null,null,null,null,null,null,null,null,"第",null,null,null,null,null,null,null,null,null,null,null,null,null,null,null,null,"号",null,null,null,null,null,null,null,null,null,null,null,null,null,null,null,null,null,null,null,null,null,null,null,null,null,null,null,null,null,null,null,null,null,null,null,null,null,null,null,null,null,null,null,null,null,null,null,null,null,null,null,null,null,null,null,null,null,null,null,null,null,null,null,null,null,null,null,null,null,null,null,null,null,null,"郵便番号","未入力判定（1で未入力）",null,null,null,{"$f":"IF(AB106=\"\",\"\",AB106)","v":""},null,null,null,null,null,null,null,null,null,null,null,null,null,null,null,null,null,null,null,null,null,null,null,null,null,null,null,null,null,null,null,null,null,null,null,null,null,null,null,null,null,null,null,null,null,null,null,null,null,null,null,null,null,null,null,null,null,null,null,null,null,null,null,null,null,null,null,null,null,null,null,null,null,null,null,null,null,null,null,null,null,null,null,null,null,null,null,null,null,null,null,null,null,null,null,null,null,null,null,null,null,null,null,null,null,null,null,null,null,null,null,null,null,null,null,null,null,null,null,null,null,null,null,null,null,null,null,null,null,null,null,null,null,null,null,null,null,null,null,null,null,null,null,null,null,null,null,null,null,null,null,null,null,null,null,null,null,null,null,null,null,null,null,null,null,null,null,null,null,null,null,null,null,null,null,null,null,null,null,null,null,null,null,null,null,null,null,null,"７","その他の調査者２","-","勤務先","-","事務所登録","-",{"$f":"AQ105","v":"知事登録"},null,null,"７その他の調査者２-勤務先-事務所登録-知事登録","７その他の調査者２-勤務先-事務所登録-知事登録",null,null,null,null,null,"９建物及びその敷地の概要-構造-構造　2"]
[null,null,null,null,null,null,null,null,null,null,null,null,null,null,null,null,null,null,"郵便番号",null,null,null,null,null,null,null,null,null,null,null,null,null,null,"－",null,null,null,null,null,null,null,null,null,null,null,null,null,null,null,null,null,null,null,null,null,null,null,null,null,null,null,null,null,null,null,null,null,null,null,null,null,null,null,null,null,null,null,null,null,null,null,null,null,null,null,null,null,null,null,null,null,null,null,null,null,null,null,null,null,null,null,null,null,null,null,null,null,null,null,null,null,null,null,null,null,null,{"$f":"CONCATENATE(AB107,\"-\",AK107)","v":"-"},{"$f":"ASC(DM107)","v":"-"},{"$f":"IF(AND($DS$96=FALSE,COUNTA(AB107,AK107)=0),1,0)","v":1},null,null,null,{"$f":"IF(DN107=\"\",\"\",DN107)","v":"-"},null,null,null,null,null,null,null,null,null,null,null,null,null,null,null,null,null,null,null,null,null,null,null,null,null,null,null,null,null,null,null,null,null,null,null,null,null,null,null,null,null,null,null,null,null,null,null,null,null,null,null,null,null,null,null,null,null,null,null,null,null,null,null,null,null,null,null,null,null,null,null,null,null,null,null,null,null,null,null,null,null,null,null,null,null,null,null,null,null,null,null,null,null,null,null,null,null,null,null,null,null,null,null,null,null,null,null,null,null,null,null,null,null,null,null,null,null,null,null,null,null,null,null,null,null,null,null,null,null,null,null,null,null,null,null,null,null,null,null,null,null,null,null,null,null,null,null,null,null,null,null,null,null,null,null,null,null,null,null,null,null,null,null,null,null,null,null,null,null,null,null,null,null,null,null,null,null,null,null,null,null,null,null,null,null,null,null,null,"７","その他の調査者２","-","勤務先","-","事務所登録","-",{"$f":"AQ106","v":"号"},null,null,"７その他の調査者２-勤務先-事務所登録-号","７その他の調査者２-勤務先-事務所登録-号",null,null,null,null,null,"９建物及びその敷地の概要-構造-構造　3"]
[null,null,null,null,null,null,null,null,null,null,null,null,null,null,null,null,null,null,"所在地",null,null,null,null,null,null,null,null,null,null,null,null,null,null,null,null,null,null,null,null,null,null,null,null,null,null,null,null,null,null,null,null,null,null,null,null,null,null,null,null,null,null,null,null,null,null,null,null,null,null,null,null,null,null,null,null,null,null,null,null,null,null,null,null,null,null,null,null,null,null,null,null,null,null,null,null,null,null,null,null,null,null,null,null,null,null,null,null,null,null,null,null,null,null,null,null,null,"電話番号",null,"未入力判定（1で未入力）",null,null,null,"",null,null,null,null,null,null,null,null,null,null,null,null,null,null,null,null,null,null,null,null,null,null,null,null,null,null,null,null,null,null,null,null,null,null,null,null,null,null,null,null,null,null,null,null,null,null,null,null,null,null,null,null,null,null,null,null,null,null,null,null,null,null,null,null,null,null,null,null,null,null,null,null,null,null,null,null,null,null,null,null,null,null,null,null,null,null,null,null,null,null,null,null,null,null,null,null,null,null,null,null,null,null,null,null,null,null,null,null,null,null,null,null,null,null,null,null,null,null,null,null,null,null,null,null,null,null,null,null,null,null,null,null,null,null,null,null,null,null,null,null,null,null,null,null,null,null,null,null,null,null,null,null,null,null,null,null,null,null,null,null,null,null,null,null,null,null,null,null,null,null,null,null,null,null,null,null,null,null,null,null,null,null,null,null,null,null,null,null,"７","その他の調査者２","-","勤務先","-",{"$f":"S107","v":"郵便番号"},null,null,null,null,"７その他の調査者２-勤務先-郵便番号","７その他の調査者２-勤務先-郵便番号",null,null,null,null,null,"９建物及びその敷地の概要-構造-その他"]
[null,null,null,null,null,null,null,null,null,null,null,null,null,null,null,null,null,null,"電話番号",null,null,null,null,null,null,null,null,null,null,null,null,null,null,"－",null,null,null,null,null,null,null,null,"－",null,null,null,null,null,null,null,null,null,null,null,null,null,null,null,null,null,null,null,null,null,null,null,null,null,null,null,null,null,null,null,null,null,null,null,null,null,null,null,null,null,null,null,null,null,null,null,null,null,null,null,null,null,null,null,null,null,null,null,null,null,null,null,null,null,null,null,null,null,null,null,null,null,{"$f":"CONCATENATE(AB109,\"-\",AK109,\"-\",AT109)","v":"--"},{"$f":"ASC(DM109)","v":"--"},{"$f":"IF(AND($DS$96=FALSE,COUNTA(AB109,AK109)=0),1,0)","v":1},null,null,null,{"$f":"IF(DN109=\"\",\"\",DN109)","v":"--"},null,null,null,null,null,null,null,null,null,null,null,null,null,null,null,null,null,null,null,null,null,null,null,null,null,null,null,null,null,null,null,null,null,null,null,null,null,null,null,null,null,null,null,null,null,null,null,null,null,null,null,null,null,null,null,null,null,null,null,null,null,null,null,null,null,null,null,null,null,null,null,null,null,null,null,null,null,null,null,null,null,null,null,null,null,null,null,null,null,null,null,null,null,null,null,null,null,null,null,null,null,null,null,null,null,null,null,null,null,null,null,null,null,null,null,null,null,null,null,null,null,null,null,null,null,null,null,null,null,null,null,null,null,null,null,null,null,null,null,null,null,null,null,null,null,null,null,null,null,null,null,null,null,null,null,null,null,null,null,null,null,null,null,null,null,null,null,null,null,null,null,null,null,null,null,null,null,null,null,null,null,null,null,null,null,null,null,null,{"$f":"LEFT($J$96,1)","v":"７"},"その他の調査者２","-","勤務先","-",{"$f":"S108","v":"所在地"},null,null,null,null,"７その他の調査者２-勤務先-所在地","７その他の調査者２-勤務先-所在地",null,null,null,null,null,"９建物及びその敷地の概要-構造-地上"]
[null,null,null,null,null,null,null,null,null,null,null,null,null,null,null,null,null,null,null,null,null,null,null,null,null,null,null,null,null,null,null,null,null,null,null,null,null,null,null,null,null,null,null,null,null,null,null,null,null,null,null,null,null,null,null,null,null,null,null,null,null,null,null,null,null,null,null,null,null,null,null,null,null,null,null,null,null,null,null,null,null,null,null,null,null,null,null,null,null,null,null,null,null,null,null,null,null,null,null,null,null,null,null,null,null,null,null,null,null,null,null,null,null,null,null,null,null,null,null,null,null,null,null,null,null,null,null,null,null,null,null,null,null,null,null,null,null,null,null,null,null,null,null,null,null,null,null,null,null,null,null,null,null,null,null,null,null,null,null,null,null,null,null,null,null,null,null,null,null,null,null,null,null,null,null,null,null,null,null,null,null,null,null,null,null,null,null,null,null,null,null,null,null,null,null,null,null,null,null,null,null,null,null,null,null,null,null,null,null,null,null,null,null,null,null,null,null,null,null,null,null,null,null,null,null,null,null,null,null,null,null,null,null,null,null,null,null,null,null,null,null,null,null,null,null,null,null,null,null,null,null,null,null,null,null,null,null,null,null,null,null,null,null,null,null,null,null,null,null,null,null,null,null,null,null,null,null,null,null,null,null,null,null,null,null,null,null,null,null,null,null,null,null,null,null,null,null,null,null,null,null,null,null,null,null,null,null,null,null,null,null,{"$f":"LEFT($J$96,1)","v":"７"},"その他の調査者２","-","勤務先","-",{"$f":"S109","v":"電話番号"},null,null,null,null,"７その他の調査者２-勤務先-電話番号","７その他の調査者２-勤務先-電話番号",null,null,null,null,null,"９建物及びその敷地の概要-階数-地下"]
[null,null,null,null,null,null,null,null,null,null,null,null,null,null,null,null,null,null,null,null,null,null,null,null,null,null,null,null,null,null,null,null,null,null,null,null,null,null,null,null,null,null,null,null,null,null,null,null,null,null,null,null,null,null,null,null,null,null,null,null,null,null,null,null,null,null,null,null,null,null,null,null,null,null,null,null,null,null,null,null,null,null,null,null,null,null,null,null,null,null,null,null,null,null,null,null,null,null,null,null,null,null,null,null,null,null,null,null,null,null,null,null,null,null,null,null,null,null,null,null,null,null,null,null,null,null,null,null,null,null,null,null,null,null,null,null,null,null,null,null,null,null,null,null,null,null,null,null,null,null,null,null,null,null,null,null,null,null,null,null,null,null,null,null,null,null,null,null,null,null,null,null,null,null,null,null,null,null,null,null,null,null,null,null,null,null,null,null,null,null,null,null,null,null,null,null,null,null,null,null,null,null,null,null,null,null,null,null,null,null,null,null,null,null,null,null,null,null,null,null,null,null,null,null,null,null,null,null,null,null,null,null,null,null,null,null,null,null,null,null,null,null,null,null,null,null,null,null,null,null,null,null,null,null,null,null,null,null,null,null,null,null,null,null,null,null,null,null,null,null,null,null,null,null,null,null,null,null,null,null,null,null,null,null,null,null,null,null,null,null,null,null,null,null,null,null,null,null,null,null,null,null,null,null,null,null,null,null,null,null,null,null,null,null,null,null,{"$f":"S110","v":0},null,null,null,null,"0","0",null,null,null,null,null,"９建物及びその敷地の概要-敷地面積"]
[null,null,null,null,null,null,null,null,null,null,null,null,null,null,null,null,null,null,null,null,null,null,null,null,null,null,null,null,null,null,null,null,null,null,null,null,null,null,null,null,null,null,null,null,null,null,null,null,null,null,null,null,null,null,null,null,null,null,null,null,null,null,null,null,null,null,null,null,null,null,null,null,null,null,null,null,null,null,null,null,null,null,null,null,null,null,null,null,null,null,null,null,null,null,null,null,null,null,null,null,null,null,null,null,null,null,null,null,null,null,null,null,null,null,null,null,null,null,null,null,null,null,null,null,null,null,null,null,null,null,null,null,null,null,null,null,null,null,null,null,null,null,null,null,null,null,null,null,null,null,null,null,null,null,null,null,null,null,null,null,null,null,null,null,null,null,null,null,null,null,null,null,null,null,null,null,null,null,null,null,null,null,null,null,null,null,null,null,null,null,null,null,null,null,null,null,null,null,null,null,null,null,null,null,null,null,null,null,null,null,null,null,null,null,null,null,null,null,null,null,null,null,null,null,null,null,null,null,null,null,null,null,null,null,null,null,null,null,null,null,null,null,null,null,null,null,null,null,null,null,null,null,null,null,null,null,null,null,null,null,null,null,null,null,null,null,null,null,null,null,null,null,null,null,null,null,null,null,null,null,null,null,null,null,null,null,null,null,null,null,null,null,null,null,null,null,null,null,null,null,null,null,null,null,null,null,null,null,null,null,null,"７","その他の調査者２","-","勤務先","-","郵便番号",null,null,null,null,"７その他の調査者２-勤務先-郵便番号","７その他の調査者２-勤務先-郵便番号",null,null,null,null,null,"９建物及びその敷地の概要-建築面積"]
[null,null,null,null,null,null,null,null,null,null,null,null,null,null,null,null,null,null,null,null,null,null,null,null,null,null,null,null,null,null,null,null,null,null,null,null,null,null,null,null,null,null,null,null,null,null,null,null,null,null,null,null,null,null,null,null,null,null,null,null,null,null,null,null,null,null,null,null,null,null,null,null,null,null,null,null,null,null,null,null,null,null,null,null,null,null,null,null,null,null,null,null,null,null,null,null,null,null,null,null,null,null,null,null,null,null,null,null,null,null,null,null,null,null,null,null,null,null,null,null,null,null,null,null,null,null,null,null,null,null,null,null,null,null,null,null,null,null,null,null,null,null,null,null,null,null,null,null,null,null,null,null,null,null,null,null,null,null,null,null,null,null,null,null,null,null,null,null,null,null,null,null,null,null,null,null,null,null,null,null,null,null,null,null,null,null,null,null,null,null,null,null,null,null,null,null,null,null,null,null,null,null,null,null,null,null,null,null,null,null,null,null,null,null,null,null,null,null,null,null,null,null,null,null,null,null,null,null,null,null,null,null,null,null,null,null,null,null,null,null,null,null,null,null,null,null,null,null,null,null,null,null,null,null,null,null,null,null,null,null,null,null,null,null,null,null,null,null,null,null,null,null,null,null,null,null,null,null,null,null,null,null,null,null,null,null,null,null,null,null,null,null,null,null,null,null,null,null,null,null,null,null,null,null,null,null,null,null,null,null,null,null,null,null,null,null,null,null,null,null,null,"","",null,null,null,null,null,"１０性能検証法等の適用-耐火性能検証法"]
[null,null,null,null,null,null,null,null,null,"８　敷地の位置",null,null,null,null,null,null,null,null,null,null,null,null,null,null,null,null,null,null,null,null,null,null,null,null,null,null,null,null,null,null,null,null,null,null,null,null,null,null,null,null,null,null,null,null,null,null,null,null,null,null,null,null,null,"第二面１欄",null,null,null,null,null,null,null,null,null,null,null,null,null,null,null,null,null,null,null,null,null,null,null,null,null,null,null,null,null,null,null,null,null,null,null,null,null,null,null,null,null,null,null,null,null,null,null,null,null,null,null,null,null,null,null,null,null,null,null,null,null,null,null,null,null,null,null,null,null,null,null,null,null,null,null,null,null,null,null,null,null,null,null,null,null,null,null,null,null,null,null,null,null,null,null,null,null,null,null,null,null,null,null,null,null,null,null,null,null,null,null,null,null,null,null,null,null,null,null,null,null,null,null,null,null,null,null,null,null,null,null,null,null,null,null,null,null,null,null,null,null,null,null,null,null,null,null,null,null,null,null,null,null,null,null,null,null,null,null,null,null,null,null,null,null,null,null,null,null,null,null,null,null,null,null,null,null,null,null,null,null,null,null,null,null,null,null,null,null,null,null,null,null,null,null,null,null,null,null,null,null,null,null,null,null,null,null,null,null,null,null,null,null,null,null,null,null,null,null,null,null,null,null,null,null,null,null,null,null,null,null,null,null,null,null,null,null,null,null,null,null,null,null,null,null,null,null,null,null,null,null,null,null,null,null,null,null,"","",null,null,null,null,null,"１０性能検証法等の適用-防火区画検証法"]
[null,null,null,null,null,null,null,null,null,null,null,null,"防火地域等",null,null,null,null,null,"防火地域等　1",null,null,null,null,null,null,null,null,null,null,null,null,null,null,null,null,null,null,null,null,null,null,null,{"$f":"IF(AB115=\"\",\"←どれか１つ以上選んでください\",\"\")","v":"←どれか１つ以上選んでください"},null,null,null,null,null,null,null,null,null,null,null,null,null,null,null,null,null,null,null,null,null,null,null,null,null,null,null,null,null,null,"　敷地が複数の地域にまたがるときは、プルダウン選択肢より該当するものを選択してください。",null,null,null,null,null,null,null,null,null,null,null,null,null,null,null,null,null,null,null,null,null,null,null,null,null,null,null,null,null,null,null,null,null,null,null,null,null,null,null,null,null,null,"その他",null,"防火地域","準防火地域","法第22条区域","その他","指定なし",null,null,null,null,null,null,null,null,null,null,null,null,null,null,null,null,null,null,null,null,null,null,null,null,null,null,null,null,null,null,null,null,null,null,null,null,null,null,null,null,null,null,null,null,null,null,null,null,null,null,null,null,null,null,null,null,null,null,null,null,null,null,null,null,null,null,null,null,null,null,null,null,null,null,null,null,null,null,null,null,null,null,null,null,null,null,null,null,null,null,null,null,null,null,null,null,null,null,null,null,null,null,null,null,null,null,null,null,null,null,null,null,null,null,null,null,null,null,null,null,null,null,null,null,null,null,null,null,null,null,null,null,null,null,null,null,null,null,null,null,null,null,null,null,null,null,null,null,null,null,null,null,null,null,null,null,null,null,null,null,null,null,null,null,null,null,null,null,null,null,null,null,null,null,null,null,null,null,null,null,null,null,null,null,null,null,null,null,{"$f":"LEFT($J$114,1)","v":"８"},{"$f":"MID($J$114,3,8)","v":"敷地の位置"},"-",{"$f":"$M$115","v":"防火地域等"},"-",{"$f":"S115","v":"防火地域等　1"},null,null,null,null,"８敷地の位置-防火地域等-防火地域等　1","８敷地の位置-防火地域等-防火地域等　1",null,null,null,null,null,"１０性能検証法等の適用-区画避難安全検証法"]
[null,null,null,null,null,null,null,null,null,null,null,null,null,null,null,null,null,null,"防火地域等　2",null,null,null,null,null,null,null,null,null,null,null,null,null,null,null,null,null,null,null,null,null,null,null,null,null,null,null,null,null,null,null,null,null,null,null,null,null,null,null,null,null,null,null,null,null,null,null,null,null,null,null,null,null,null,"　災害危険区域に指定されている場合その他建築基準法又はそれに基づく命令により地域等の指定がされている場合は、プルダウン選択肢より「その他」を選択し、併せてその内容を記入して下さい。",null,null,null,null,null,null,null,null,null,null,null,null,null,null,null,null,null,null,null,null,null,null,null,null,null,null,null,null,null,null,null,null,null,null,null,null,null,null,null,null,null,null,{"$f":"COUNTIFS(AB115:AP117,\"その他\")","v":0},null,{"$f":"IF(COUNTIF($AB$115:$AP$117,DO115)=1,\"レ\",\"\")","v":""},{"$f":"IF(COUNTIF($AB$115:$AP$117,DP115)=1,\"レ\",\"\")","v":""},"","","",null,null,null,null,null,null,null,null,null,null,null,null,null,null,null,null,null,null,null,null,null,null,null,null,null,null,null,null,null,null,null,null,null,null,null,null,null,null,null,null,null,null,null,null,null,null,null,null,null,null,null,null,null,null,null,null,null,null,null,null,null,null,null,null,null,null,null,null,null,null,null,null,null,null,null,null,null,null,null,null,null,null,null,null,null,null,null,null,null,null,null,null,null,null,null,null,null,null,null,null,null,null,null,null,null,null,null,null,null,null,null,null,null,null,null,null,null,null,null,null,null,null,null,null,null,null,null,null,null,null,null,null,null,null,null,null,null,null,null,null,null,null,null,null,null,null,null,null,null,null,null,null,null,null,null,null,null,null,null,null,null,null,null,null,null,null,null,null,null,null,null,null,null,null,null,null,null,null,null,null,null,null,null,null,null,null,null,null,{"$f":"LEFT($J$114,1)","v":"８"},{"$f":"MID($J$114,3,8)","v":"敷地の位置"},"-","防火地域等","-","防火地域等　2",null,null,null,null,"８敷地の位置-防火地域等-防火地域等　2","８敷地の位置-防火地域等-防火地域等　2",null,null,null,null,null,"１０性能検証法等の適用-区画避難安全検証法-階"]
[null,null,null,null,null,null,null,null,null,null,null,null,null,null,null,null,null,null,"防火地域等　3",null,null,null,null,null,null,null,null,null,null,null,null,null,null,null,null,null,null,null,null,null,null,null,null,null,null,null,null,null,null,null,null,null,null,null,null,null,null,null,null,null,null,null,null,null,null,null,null,null,null,null,null,null,null,null,null,null,null,null,null,null,null,null,null,null,null,null,null,null,null,null,null,null,null,null,null,null,null,null,null,null,null,null,null,null,null,null,null,null,null,null,null,null,null,null,null,null,null,null,null,null,null,null,null,null,null,null,null,null,null,null,null,null,null,null,null,null,null,null,null,null,null,null,null,null,null,null,null,null,null,null,null,null,null,null,null,null,null,null,null,null,null,null,null,null,null,null,null,null,null,null,null,null,null,null,null,null,null,null,null,null,null,null,null,null,null,null,null,null,null,null,null,null,null,null,null,null,null,null,null,null,null,null,null,null,null,null,null,null,null,null,null,null,null,null,null,null,null,null,null,null,null,null,null,null,null,null,null,null,null,null,null,null,null,null,null,null,null,null,null,null,null,null,null,null,null,null,null,null,null,null,null,null,null,null,null,null,null,null,null,null,null,null,null,null,null,null,null,null,null,null,null,null,null,null,null,null,null,null,null,null,null,null,null,null,null,null,null,null,null,null,null,null,null,null,null,null,null,null,null,null,null,null,null,null,null,null,null,null,null,null,null,"８","敷地の位置","-","防火地域等","-","防火地域等　3",null,null,null,null,"８敷地の位置-防火地域等-防火地域等　3","８敷地の位置-防火地域等-防火地域等　3",null,null,null,null,null,"１０性能検証法等の適用-階避難安全検証法"]
[null,null,null,null,null,null,null,null,null,null,null,null,null,null,null,null,null,null,"その他",null,null,null,null,null,null,null,null,null,null,null,null,null,null,null,null,null,null,null,null,null,null,null,{"$f":"IF(AND(DM116>0,AB118=\"\"),\"←その他の場合、説明を入力してください\",\"\")","v":""},null,null,null,null,null,null,null,null,null,null,null,null,null,null,null,null,null,null,null,null,null,null,null,null,null,null,null,null,null,null,null,null,null,null,null,null,null,null,null,null,null,null,null,null,null,null,null,null,null,null,null,null,null,null,null,null,null,null,null,null,null,null,null,null,null,null,null,null,null,null,null,null,null,null,null,null,null,null,null,null,null,null,null,null,null,null,null,null,null,null,null,null,null,null,null,null,null,null,null,null,null,null,null,null,null,null,null,null,null,null,null,null,null,null,null,null,null,null,null,null,null,null,null,null,null,null,null,null,null,null,null,null,null,null,null,null,null,null,null,null,null,null,null,null,null,null,null,null,null,null,null,null,null,null,null,null,null,null,null,null,null,null,null,null,null,null,null,null,null,null,null,null,null,null,null,null,null,null,null,null,null,null,null,null,null,null,null,null,null,null,null,null,null,null,null,null,null,null,null,null,null,null,null,null,null,null,null,null,null,null,null,null,null,null,null,null,null,null,null,null,null,null,null,null,null,null,null,null,null,null,null,null,null,null,null,null,null,null,null,null,null,null,null,null,null,null,null,null,null,null,null,null,null,null,null,null,null,null,null,null,null,null,null,null,null,null,null,null,"８","敷地の位置","-","防火地域等","-","その他",null,null,null,null,"８敷地の位置-防火地域等-その他","８敷地の位置-防火地域等-その他",null,null,null,null,null,"１０性能検証法等の適用-階避難安全検証法"]
[null,null,null,null,null,null,null,null,null,null,null,null,"用途地域",null,null,null,null,null,"用途地域　1",null,null,null,null,null,null,null,null,null,null,null,null,null,null,null,null,null,null,null,null,null,null,null,{"$f":"IF(AB119=\"\",\"←どれか１つ以上選んでください\",\"\")","v":"←どれか１つ以上選んでください"},null,null,null,null,null,null,null,null,null,null,null,null,null,null,null,null,null,null,null,null,null,null,null,null,null,null,null,null,null,null,"　該当する用途地域名を全て記入してください。",null,null,null,null,null,null,null,null,null,null,null,null,null,null,null,null,null,null,null,null,null,null,null,null,null,null,null,null,null,null,null,null,null,null,null,null,null,null,null,null,null,null,null,null,null,null,null,null,null,null,null,null,null,null,null,null,null,null,null,null,null,null,null,null,null,null,null,null,null,null,null,null,null,null,null,null,null,null,null,null,null,null,null,null,null,null,null,null,null,null,null,null,null,null,null,null,null,null,null,null,null,null,null,null,null,null,null,null,null,null,null,null,null,null,null,null,null,null,null,null,null,null,null,null,null,null,null,null,null,null,null,null,null,null,null,null,null,null,null,null,null,null,null,null,null,null,null,null,null,null,null,null,null,null,null,null,null,null,null,null,null,null,null,null,null,null,null,null,null,null,null,null,null,null,null,null,null,null,null,null,null,null,null,null,null,null,null,null,null,null,null,null,null,null,null,null,null,null,null,null,null,null,null,null,null,null,null,null,null,null,null,null,null,null,null,null,null,null,null,null,null,null,null,null,null,null,null,null,null,null,null,null,null,null,null,null,null,"８","敷地の位置","-",{"$f":"$M$119","v":"用途地域"},"-","用途地域　1",null,null,null,null,"８敷地の位置-用途地域-用途地域　1","８敷地の位置-用途地域-用途地域　1",null,null,null,null,null,"１０性能検証法等の適用-全館避難安全検証法"]
[null,null,null,null,null,null,null,null,null,null,null,null,null,null,null,null,null,null,"用途地域　2",null,null,null,null,null,null,null,null,null,null,null,null,null,null,null,null,null,null,null,null,null,null,null,null,null,null,null,null,null,null,null,null,null,null,null,null,null,null,null,null,null,null,null,null,null,null,null,null,null,null,null,null,null,null,null,null,null,null,null,null,null,null,null,null,null,null,null,null,null,null,null,null,null,null,null,null,null,null,null,null,null,null,null,null,null,null,null,null,null,null,null,null,null,null,null,null,null,null,null,null,null,null,null,null,null,null,null,null,null,null,null,null,null,null,null,null,null,null,null,null,null,null,null,null,null,null,null,null,null,null,null,null,null,null,null,null,null,null,null,null,null,null,null,null,null,null,null,null,null,null,null,null,null,null,null,null,null,null,null,null,null,null,null,null,null,null,null,null,null,null,null,null,null,null,null,null,null,null,null,null,null,null,null,null,null,null,null,null,null,null,null,null,null,null,null,null,null,null,null,null,null,null,null,null,null,null,null,null,null,null,null,null,null,null,null,null,null,null,null,null,null,null,null,null,null,null,null,null,null,null,null,null,null,null,null,null,null,null,null,null,null,null,null,null,null,null,null,null,null,null,null,null,null,null,null,null,null,null,null,null,null,null,null,null,null,null,null,null,null,null,null,null,null,null,null,null,null,null,null,null,null,null,null,null,null,null,null,null,null,null,null,null,"８","敷地の位置","-","用途地域","-","用途地域　2",null,null,null,null,"８敷地の位置-用途地域-用途地域　2","８敷地の位置-用途地域-用途地域　2",null,null,null,null,null,"１０性能検証法等の適用-その他"]
[null,null,null,null,null,null,null,null,null,null,null,null,null,null,null,null,null,null,"用途地域　3",null,null,null,null,null,null,null,null,null,null,null,null,null,null,null,null,null,null,null,null,null,null,null,null,null,null,null,null,null,null,null,null,null,null,null,null,null,null,null,null,null,null,null,null,null,null,null,null,null,null,null,null,null,null,null,null,null,null,null,null,null,null,null,null,null,null,null,null,null,null,null,null,null,null,null,null,null,null,null,null,null,null,null,null,null,null,null,null,null,null,null,null,null,null,null,null,null,null,null,null,null,null,null,null,null,null,null,null,null,null,null,null,null,null,null,null,null,null,null,null,null,null,null,null,null,null,null,null,null,null,null,null,null,null,null,null,null,null,null,null,null,null,null,null,null,null,null,null,null,null,null,null,null,null,null,null,null,null,null,null,null,null,null,null,null,null,null,null,null,null,null,null,null,null,null,null,null,null,null,null,null,null,null,null,null,null,null,null,null,null,null,null,null,null,null,null,null,null,null,null,null,null,null,null,null,null,null,null,null,null,null,null,null,null,null,null,null,null,null,null,null,null,null,null,null,null,null,null,null,null,null,null,null,null,null,null,null,null,null,null,null,null,null,null,null,null,null,null,null,null,null,null,null,null,null,null,null,null,null,null,null,null,null,null,null,null,null,null,null,null,null,null,null,null,null,null,null,null,null,null,null,null,null,null,null,null,null,null,null,null,null,null,"８","敷地の位置","-","用途地域","-","用途地域　3",null,null,null,null,"８敷地の位置-用途地域-用途地域　3","８敷地の位置-用途地域-用途地域　3",null,null,null,null,null,"性能検証法等の適用"]
[null,null,null,null,null,null,null,null,null,null,null,null,null,null,null,null,null,null,null,null,null,null,null,null,null,null,null,null,null,null,null,null,null,null,null,null,null,null,null,null,null,null,null,null,null,null,null,null,null,null,null,null,null,null,null,null,null,null,null,null,null,null,null,null,null,null,null,null,null,null,null,null,null,null,null,null,null,null,null,null,null,null,null,null,null,null,null,null,null,null,null,null,null,null,null,null,null,null,null,null,null,null,null,null,null,null,null,null,null,null,null,null,null,null,null,null,null,null,null,null,null,null,null,null,null,null,null,null,null,null,null,null,null,null,null,null,null,null,null,null,null,null,null,null,null,null,null,null,null,null,null,null,null,null,null,null,null,null,null,null,null,null,null,null,null,null,null,null,null,null,null,null,null,null,null,null,null,null,null,null,null,null,null,null,null,null,null,null,null,null,null,null,null,null,null,null,null,null,null,null,null,null,null,null,null,null,null,null,null,null,null,null,null,null,null,null,null,null,null,null,null,null,null,null,null,null,null,null,null,null,null,null,null,null,null,null,null,null,null,null,null,null,null,null,null,null,null,null,null,null,null,null,null,null,null,null,null,null,null,null,null,null,null,null,null,null,null,null,null,null,null,null,null,null,null,null,null,null,null,null,null,null,null,null,null,null,null,null,null,null,null,null,null,null,null,null,null,null,null,null,null,null,null,null,null,null,null,null,null,null,null,null,null,null,null,null,null,null,null,null,null,"","",null,null,null,null,null,"性能検証法等の適用"]
[]
[null,null,null,null,null,null,null,null,null,null,null,null,null,null,null,null,null,null,null,null,null,null,null,null,null,null,null,null,null,null,null,null,null,null,null,null,null,null,null,null,null,null,null,null,null,null,null,null,null,null,null,null,null,null,null,null,null,null,null,null,null,null,null,null,null,null,null,null,null,null,null,null,null,null,null,null,null,null,null,null,null,null,null,null,null,null,null,null,null,null,null,null,null,null,null,null,null,null,null,null,null,null,null,null,null,null,null,null,null,null,null,null,null,null,null,null,null,null,null,null,null,null,null,null,null,null,null,null,null,null,null,null,null,null,null,null,null,null,null,null,null,null,null,null,null,null,null,null,null,null,null,null,null,null,null,null,null,null,null,null,null,null,null,null,null,null,null,null,null,null,null,null,null,null,null,null,null,null,null,null,null,null,null,null,null,null,null,null,null,null,null,null,null,null,null,null,null,null,null,null,null,null,null,null,null,null,null,null,null,null,null,null,null,null,null,null,null,null,null,null,null,null,null,null,null,null,null,null,null,null,null,null,null,null,null,null,null,null,null,null,null,null,null,null,null,null,null,null,null,null,null,null,null,null,null,null,null,null,null,null,null,null,null,null,null,null,null,null,null,null,null,null,null,null,null,null,null,null,null,null,null,null,null,null,null,null,null,null,null,null,null,null,null,null,null,null,null,null,null,null,null,null,null,null,null,null,null,null,null,null,null,null,null,null,null,null,null,null,null,null,null,"","",null,null,null,null,null,"１１増築、改築、用途変更等の経過-年月日-年_1"]
[null,null,null,null,null,null,null,null,null,null,null,null,null,null,null,null,null,null,null,null,null,null,null,null,null,null,null,null,null,null,null,null,null,null,null,null,null,null,null,null,null,null,null,null,null,null,null,null,null,null,null,null,null,null,null,null,null,null,null,null,null,null,null,null,null,null,null,null,null,null,null,null,null,null,null,null,null,null,null,null,null,null,null,null,null,null,null,null,null,null,null,null,null,null,null,null,null,null,null,null,null,null,null,null,null,null,null,null,null,null,null,null,null,null,null,null,null,null,null,null,null,null,null,null,null,null,null,null,null,null,null,null,null,null,null,null,null,null,null,null,null,null,null,null,null,null,null,null,null,null,null,null,null,null,null,null,null,null,null,null,null,null,null,null,null,null,null,null,null,null,null,null,null,null,null,null,null,null,null,null,null,null,null,null,null,null,null,null,null,null,null,null,null,null,null,null,null,null,null,null,null,null,null,null,null,null,null,null,null,null,null,null,null,null,null,null,null,null,null,null,null,null,null,null,null,null,null,null,null,null,null,null,null,null,null,null,null,null,null,null,null,null,null,null,null,null,null,null,null,null,null,null,null,null,null,null,null,null,null,null,null,null,null,null,null,null,null,null,null,null,null,null,null,null,null,null,null,null,null,null,null,null,null,null,null,null,null,null,null,null,null,null,null,null,null,null,null,null,null,null,null,null,null,null,null,null,null,null,null,null,null,null,null,null,null,null,null,null,null,null,null,"","",null,null,null,null,null,"１１増築、改築、用途変更等の経過-年月日-月"]
[null,null,null,null,null,null,null,null,null,null,null,null,null,null,null,null,null,null,null,null,null,null,null,null,null,null,null,null,null,null,null,null,null,null,null,null,null,null,null,null,null,null,null,null,null,null,null,null,null,null,null,null,null,null,null,null,null,null,null,null,null,null,null,null,null,null,null,null,null,null,null,null,null,null,null,null,null,null,null,null,null,null,null,null,null,null,null,null,null,null,null,null,null,null,null,null,null,null,null,null,null,null,null,null,null,null,null,null,null,null,null,null,null,null,null,null,null,null,null,null,null,null,null,null,null,null,null,null,null,null,null,null,null,null,null,null,null,null,null,null,null,null,null,null,null,null,null,null,null,null,null,null,null,null,null,null,null,null,null,null,null,null,null,null,null,null,null,null,null,null,null,null,null,null,null,null,null,null,null,null,null,null,null,null,null,null,null,null,null,null,null,null,null,null,null,null,null,null,null,null,null,null,null,null,null,null,null,null,null,null,null,null,null,null,null,null,null,null,null,null,null,null,null,null,null,null,null,null,null,null,null,null,null,null,null,null,null,null,null,null,null,null,null,null,null,null,null,null,null,null,null,null,null,null,null,null,null,null,null,null,null,null,null,null,null,null,null,null,null,null,null,null,null,null,null,null,null,null,null,null,null,null,null,null,null,null,null,null,null,null,null,null,null,null,null,null,null,null,null,null,null,null,null,null,null,null,null,null,null,null,null,null,null,null,null,null,null,null,null,null,null,"","",null,null,null,null,null,"１１増築、改築、用途変更等の経過-年月日-月_3"]
[null,null,null,null,null,null,null,null,null,null,null,null,null,null,null,null,null,null,null,null,null,null,null,null,null,null,null,null,null,null,null,null,null,null,null,null,null,null,null,null,null,null,null,null,null,null,null,null,null,null,null,null,null,null,null,null,null,null,null,null,null,null,null,null,null,null,null,null,null,null,null,null,null,null,null,null,null,null,null,null,null,null,null,null,null,null,null,null,null,null,null,null,null,null,null,null,null,null,null,null,null,null,null,null,null,null,null,null,null,null,null,null,null,null,null,null,null,null,null,null,null,null,null,null,null,null,null,null,null,null,null,null,null,null,null,null,null,null,null,null,null,null,null,null,null,null,null,null,null,null,null,null,null,null,null,null,null,null,null,null,null,null,null,null,null,null,null,null,null,null,null,null,null,null,null,null,null,null,null,null,null,null,null,null,null,null,null,null,null,null,null,null,null,null,null,null,null,null,null,null,null,null,null,null,null,null,null,null,null,null,null,null,null,null,null,null,null,null,null,null,null,null,null,null,null,null,null,null,null,null,null,null,null,null,null,null,null,null,null,null,null,null,null,null,null,null,null,null,null,null,null,null,null,null,null,null,null,null,null,null,null,null,null,null,null,null,null,null,null,null,null,null,null,null,null,null,null,null,null,null,null,null,null,null,null,null,null,null,null,null,null,null,null,null,null,null,null,null,null,null,null,null,null,null,null,null,null,null,null,null,null,null,null,null,null,null,null,null,null,null,null,"","",null,null,null,null,null,"１２関連図書の整備-直近の確認申請-確認-交付年月日-元号"]
[null,null,null,null,null,null,null,null,null,null,null,null,"工事種別",null,null,null,null,null,null,null,null,null,null,null,null,null,null,null,null,null,null,null,null,null,null,null,null,null,null,null,null,null,null,"←選択肢にない場合は、直接入力してください。",null,null,null,null,null,null,null,null,null,null,null,null,null,null,null,null,null,null,null,null,null,null,null,null,null,null,null,null,null,null,null,null,null,null,null,null,null,null,null,null,null,null,null,null,null,null,null,null,null,null,null,null,null,null,null,null,null,null,null,null,null,null,null,null,null,null,null,null,null,null,null,null,null,null,null,null,null,null,null,null,null,null,null,null,null,null,null,null,null,null,null,null,null,null,null,null,null,null,null,null,null,null,null,null,null,null,null,null,null,null,null,null,null,null,null,null,null,null,null,null,null,null,null,null,null,null,null,null,null,null,null,null,null,null,null,null,null,null,null,null,null,null,null,null,null,null,null,null,null,null,null,null,null,null,null,null,null,null,null,null,null,null,null,null,null,null,null,null,null,null,null,null,null,null,null,null,null,null,null,null,null,null,null,null,null,null,null,null,null,null,null,null,null,null,null,null,null,null,null,null,null,null,null,null,null,null,null,null,null,null,null,null,null,null,null,null,null,null,null,null,null,null,null,null,null,null,null,null,null,null,null,null,null,null,null,null,null,null,null,null,null,null,null,null,null,null,null,null,null,null,null,null,null,null,null,null,null,null,null,null,null,null,null,null,null,null,null,"１１","増築、改築、用途変更等の経過","-",{"$f":"M155","v":"工事種別"},"_","2",null,null,null,null,"１１増築、改築、用途変更等の経過-工事種別_2","１１増築、改築、用途変更等の経過-工事種別_2",null,null,null,null,null,"１２関連図書の整備-直近の確認申請-完了-交付年月日-年"]
[null,null,null,null,null,null,null,null,null,null,null,null,null,null,null,null,null,null,null,null,"工事種別",null,null,null,null,null,null,null,null,null,null,null,null,null,null,null,null,null,null,null,null,null,null,null,{"$f":"IF(AND(AB170=\"有\",DN170<7),\"←確認済証が有る場合、種別と交付番号等の入力が必要です\",\"\")","v":""},null,null,null,null,null,null,null,null,null,null,null,null,null,null,null,null,null,null,null,null,null,null,null,null,null,null,null,null,null,null,null,null,null,null,null,null,null,null,null,null,null,null,null,null,null,null,null,null,null,null,null,null,null,null,null,null,null,null,null,null,null,null,null,null,null,null,null,null,null,null,null,null,null,{"$f":"IF($AB$170=\"有\",\"レ\",\"\")","v":""},{"$f":"IF($AB$170=\"無\",\"レ\",\"\")","v":""},null,{"$f":"IF($AB$171=\"新築\",\"レ\",\"\")","v":""},{"$f":"IF($AB$171=\"増築\",\"レ\",\"\")","v":""},{"$f":"IF($AB$171=\"改築\",\"レ\",\"\")","v":""},{"$f":"IF($AB$171=\"移転\",\"レ\",\"\")","v":""},{"$f":"IF($AB$171=\"用途変更\",\"レ\",\"\")","v":""},{"$f":"IF($AB$171=\"大規模の修繕\",\"レ\",\"\")","v":""},{"$f":"IF($AB$171=\"大規模の模様替\",\"レ\",\"\")","v":""},{"$f":"IF($AB$171=\"大規模の模様替\",\"レ\",\"\")","v":""},null,null,null,null,null,null,null,null,null,null,null,null,null,null,null,null,null,null,null,null,null,null,null,null,null,null,null,null,null,null,null,null,null,null,null,null,null,null,null,null,null,null,null,null,null,null,null,null,null,null,null,null,null,null,null,null,null,null,null,null,null,null,null,null,null,null,null,null,null,null,null,null,null,null,null,null,null,null,null,null,null,null,null,null,null,null,null,null,null,null,null,null,null,null,null,null,null,null,null,null,null,null,null,null,null,null,null,null,null,null,null,null,null,null,null,null,null,null,null,null,null,null,null,null,null,null,null,null,null,null,null,null,null,null,null,null,null,null,null,null,null,null,null,null,null,null,null,null,null,null,null,null,null,null,null,null,null,null,null,null,null,null,null,null,null,null,null,null,null,null,null,null,null,null,null,null,null,null,null,null,null,null,{"$f":"LEFT($J$150,2)","v":"１１"},"増築、改築、用途変更等の経過","-",{"$f":"$M$160","v":"年月日"},"-",{"$f":"$AR$160","v":"日"},"_","4",null,null,"１１増築、改築、用途変更等の経過-年月日-日_4","１１増築、改築、用途変更等の経過-年月日-日_4",null,null,null,null,null,"１２関連図書の整備-新築時の確認申請-確認-交付年月日-日"]
[null,null,null,null,null,null,null,null,null,null,null,null,null,null,null,null,null,null,null,null,"検査機関",null,null,null,null,null,null,null,null,null,null,null,null,null,null,null,null,null,null,null,null,null,null,null,null,null,null,{"$f":"IF(AND(AB177=\"有\",AB180=\"指定確認検査機関\",AB181=\"\"),\"←指定確認検査機関名が必要です\",\"\")","v":""},null,null,null,null,null,null,null,null,null,null,null,null,null,null,null,null,null,null,null,null,null,null,null,null,null,null,null,null,null,null,null,null,null,null,null,null,null,null,null,null,null,null,null,null,null,null,null,null,null,null,null,null,null,null,null,null,null,null,null,null,null,null,null,null,null,null,null,null,null,null,{"$f":"IF(AB180=\"建築主事\",\"レ\",\"\")","v":""},{"$f":"IF(AB180=\"指定確認検査機関\",\"レ\",\"\")","v":""},null,null,null,null,null,null,null,null,null,null,null,null,null,null,null,null,null,null,null,null,null,null,null,null,null,null,null,null,null,null,null,null,null,null,null,null,null,null,null,null,null,null,null,null,null,null,null,null,null,null,null,null,null,null,null,null,null,null,null,null,null,null,null,null,null,null,null,null,null,null,null,null,null,null,null,null,null,null,null,null,null,null,null,null,null,null,null,null,null,null,null,null,null,null,null,null,null,null,null,null,null,null,null,null,null,null,null,null,null,null,null,null,null,null,null,null,null,null,null,null,null,null,null,null,null,null,null,null,null,null,null,null,null,null,null,null,null,null,null,null,null,null,null,null,null,null,null,null,null,null,null,null,null,null,null,null,null,null,null,null,null,null,null,null,null,null,null,null,null,null,null,null,null,null,null,null,null,null,null,null,null,null,null,null,null,null,null,null,null,null,null,"１２","関連図書の整備","-","直近の確認申請","-","確認","-","交付年月日","-","年","１２関連図書の整備-直近の確認申請-確認-交付年月日-年","１２関連図書の整備-直近の確認申請-確認-交付年月日-年",null,null,null,null,null,"１２関連図書の整備-新築時の確認申請-完了-交付者"]
[null,null,null,null,null,null,null,null,null,null,null,null,"前回の調査に関する書類の写し",null,null,null,null,null,null,null,null,null,null,null,null,null,null,null,null,null,null,null,null,{"$f":"IF(AB197=\"\",\"←どちらかは必ず選んでください\",\"\")","v":"←どちらかは必ず選んでください"},null,null,null,null,null,null,null,null,null,null,null,null,null,null,null,null,null,null,null,null,null,null,null,null,null,null,null,null,null,null,null,null,null,null,null,null,null,null,null,"　前回の定期調査の結果を記録した書類の保存の有無について記入してください。",null,null,null,null,null,null,null,null,null,null,null,null,null,null,null,null,null,null,null,null,null,null,null,null,null,null,null,null,null,null,null,null,null,null,null,null,null,null,null,null,null,null,null,null,{"$f":"IF(AB196=\"有\",\"レ\",\"\")","v":""},{"$f":"IF(AB196=\"無\",\"レ\",\"\")","v":""},null,{"$f":"IF(AB197=\"有\",\"レ\",\"\")","v":""},{"$f":"IF(AB197=\"無\",\"レ\",\"\")","v":""},{"$f":"IF(AB197=\"対象外\",\"レ\",\"\")","v":""},null,null,null,null,null,null,null,null,null,null,null,null,null,null,null,null,null,null,null,null,null,null,null,null,null,null,null,null,null,null,null,null,null,null,null,null,null,null,null,null,null,null,null,null,null,null,null,null,null,null,null,null,null,null,null,null,null,null,null,null,null,null,null,null,null,null,null,null,null,null,null,null,null,null,null,null,null,null,null,null,null,null,null,null,null,null,null,null,null,null,null,null,null,null,null,null,null,null,null,null,null,null,null,null,null,null,null,null,null,null,null,null,null,null,null,null,null,null,null,null,null,null,null,null,null,null,null,null,null,null,null,null,null,null,null,null,null,null,null,null,null,null,null,null,null,null,null,null,null,null,null,null,null,null,null,null,null,null,null,null,null,null,null,null,null,null,null,null,null,null,null,null,null,null,null,null,null,null,null,null,null,null,null,null,null,null,null,"１２","関連図書の整備","-","新築時の確認申請","-","確認","-","確認済証の有無",null,null,"１２関連図書の整備-新築時の確認申請-確認-確認済証の有無","１２関連図書の整備-新築時の確認申請-確認-確認済証の有無",null,null,null,null,null,"１４調査及び検査の状況-建築設備の検査-実施日-年"]
[null,null,null,null,null,null,null,null,null,null,null,null,null,null,null,null,null,null,null,null,null,null,null,null,null,null,null,null,null,null,null,null,null,null,null,null,null,null,null,null,null,null,null,null,null,null,null,null,null,null,null,null,null,null,null,null,null,null,null,null,null,null,null,null,null,null,null,null,null,null,null,null,null,null,null,null,null,null,null,null,null,null,null,null,null,null,null,null,null,null,null,null,null,null,null,null,null,null,null,null,null,null,null,null,null,null,null,null,null,null,null,null,null,null,null,null,null,null,null,null,null,null,null,null,null,null,null,null,null,null,null,null,null,null,null,null,null,null,null,null,null,null,null,null,null,null,null,null,null,null,null,null,null,null,null,null,null,null,null,null,null,null,null,null,null,null,null,null,null,null,null,null,null,null,null,null,null,null,null,null,null,null,null,null,null,null,null,null,null,null,null,null,null,null,null,null,null,null,null,null,null,null,null,null,null,null,null,null,null,null,null,null,null,null,null,null,null,null,null,null,null,null,null,null,null,null,null,null,null,null,null,null,null,null,null,null,null,null,null,null,null,null,null,null,null,null,null,null,null,null,null,null,null,null,null,null,null,null,null,null,null,null,null,null,null,null,null,null,null,null,null,null,null,null,null,null,null,null,null,null,null,null,null,null,null,null,null,null,null,null,null,null,null,null,null,null,null,null,null,null,null,null,null,null,null,null,null,null,null,null,null,null,null,null,null,null,null,null,null,null,null,"","",null,null,null,null,null,"１４調査及び検査の状況-昇降機等の検査-実施日-日"]
[]
[null,null,null,null,null,null,null,null,null,null,null,null,null,null,null,null,null,null,null,null,null,null,null,null,null,null,null,null,null,null,null,null,null,null,null,null,null,null,null,null,null,null,null,null,null,null,null,null,null,null,null,null,null,null,null,null,null,null,null,null,null,null,null,null,null,null,null,null,null,null,null,null,null,null,null,null,null,null,null,null,null,null,null,null,null,null,null,null,null,null,null,null,null,null,null,null,null,null,null,null,null,null,null,null,null,null,null,null,null,null,null,null,null,null,null,null,null,null,null,null,null,null,null,null,null,null,null,null,null,null,null,null,null,null,null,null,null,null,null,null,null,null,null,null,null,null,null,null,null,null,null,null,null,null,null,null,null,null,null,null,null,null,null,null,null,null,null,null,null,null,null,null,null,null,null,null,null,null,null,null,null,null,null,null,null,null,null,null,null,null,null,null,null,null,null,null,null,null,null,null,null,null,null,null,null,null,null,null,null,null,null,null,null,null,null,null,null,null,null,null,null,null,null,null,null,null,null,null,null,null,null,null,null,null,null,null,null,null,null,null,null,null,null,null,null,null,null,null,null,null,null,null,null,null,null,null,null,null,null,null,null,null,null,null,null,null,null,null,null,null,null,null,null,null,null,null,null,null,null,null,null,null,null,null,null,null,null,null,null,null,null,null,null,null,null,null,null,null,null,null,null,null,null,null,null,null,null,null,null,null,null,"１２","関連図書の整備","-","新築時の確認申請","-",{"$f":"M197","v":"前回の調査に関する書類の写し"},null,null,null,null,"１２関連図書の整備-新築時の確認申請-前回の調査に関する書類の写し","１２関連図書の整備-新築時の確認申請-前回の調査に関する書類の写し",null,null,null,null,null,"１７建築物等に係る不具合等の状況-不具合等の記録"]
[null,null,null,null,null,null,null,null,null,null,null,null,"不具合等",null,null,null,null,null,null,null,null,null,null,null,null,null,null,null,null,null,{"$f":"IF(AB241=\"\",\"←どちらかは必ず選んでください\",\"\")","v":"←どちらかは必ず選んでください"},null,null,null,null,null,null,null,null,null,null,null,null,null,null,null,null,null,null,null,null,null,null,null,null,null,null,null,null,null,null,null,null,null,null,null,null,null,null,null,null,null,null,"　前回調査時以降に把握した建築物等に係る不具合等のうち第三面の２欄において指摘されるもの以外のものについて、把握できる範囲において記入してください。",null,null,null,null,null,null,null,null,null,null,null,null,null,null,null,null,null,null,null,null,null,null,null,null,null,null,null,null,null,null,null,null,null,null,null,null,null,null,null,null,null,null,null,null,"有","無",null,"有","無",null,null,null,null,null,null,null,null,null,null,null,null,null,null,null,null,null,null,null,null,null,null,null,null,null,null,null,null,null,null,null,null,null,null,null,null,null,null,null,null,null,null,null,null,null,null,null,null,null,null,null,null,null,null,null,null,null,null,null,null,null,null,null,null,null,null,null,null,null,null,null,null,null,null,null,null,null,null,null,null,null,null,null,null,null,null,null,null,null,null,null,null,null,null,null,null,null,null,null,null,null,null,null,null,null,null,null,null,null,null,null,null,null,null,null,null,null,null,null,null,null,null,null,null,null,null,null,null,null,null,null,null,null,null,null,null,null,null,null,null,null,null,null,null,null,null,null,null,null,null,null,null,null,null,null,null,null,null,null,null,null,null,null,null,null,null,null,null,null,null,null,null,null,null,null,null,null,null,null,null,null,null,null,null,null,null,null,null,{"$f":"LEFT($J$208,2)","v":"１４"},{"$f":"MID($J$208,4,16)","v":"調査及び検査の状況"},"-",{"$f":"$M$209","v":"今回の調査　実施日"},"-",{"$f":"$AB$209","v":"令和"},null,null,null,null,"１４調査及び検査の状況-今回の調査　実施日-令和","１４調査及び検査の状況-今回の調査　実施日-令和",null,null,null,null,null,"１７建築物等に係る不具合等の状況-不具合等を把握した年月-月_2"]
[null,null,null,null,null,null,null,null,null,null,null,null,null,null,null,null,null,null,null,null,null,null,null,null,null,null,null,null,null,null,null,null,null,null,null,null,null,null,null,null,null,null,null,null,null,null,null,null,null,null,null,null,null,null,null,null,null,null,null,null,null,null,null,null,null,null,null,null,null,null,null,null,null,null,null,null,null,null,null,null,null,null,null,null,null,null,null,null,null,null,null,null,null,null,null,null,null,null,null,null,null,null,null,null,null,null,null,null,null,null,null,null,null,null,null,null,null,null,null,null,null,null,null,null,null,null,null,null,null,null,null,null,null,null,null,null,null,null,null,null,null,null,null,null,null,null,null,null,null,null,null,null,null,null,null,null,null,null,null,null,null,null,null,null,null,null,null,null,null,null,null,null,null,null,null,null,null,null,null,null,null,null,null,null,null,null,null,null,null,null,null,null,null,null,null,null,null,null,null,null,null,null,null,null,null,null,null,null,null,null,null,null,null,null,null,null,null,null,null,null,null,null,null,null,null,null,null,null,null,null,null,null,null,null,null,null,null,null,null,null,null,null,null,null,null,null,null,null,null,null,null,null,null,null,null,null,null,null,null,null,null,null,null,null,null,null,null,null,null,null,null,null,null,null,null,null,null,null,null,null,null,null,null,null,null,null,null,null,null,null,null,null,null,null,null,null,null,null,null,null,null,null,null,null,null,null,null,null,null,null,null,"１４","調査及び検査の状況","-",{"$f":"$M$212","v":"建築設備の検査"},"-","実施日","-",{"$f":"$AM$213","v":"月"},null,null,"１４調査及び検査の状況-建築設備の検査-実施日-月","１４調査及び検査の状況-建築設備の検査-実施日-月",null,null,null,null,null,"１７建築物等に係る不具合等の状況-不具合等を把握した年月-年_4"]
[null,null,null,null,null,null,null,null,null,null,null,null,"全面打診等の実施状況",null,null,null,null,null,null,null,null,null,null,null,null,null,null,"（時期：",null,null,null,null,null,null,null,null,null,null,null,"年",null,null,null,null,"月に",null,null,{"$f":"IF(OR(AB262=プルダウン選択肢!K33,'1_入力シート【基本情報】'!AB262=プルダウン選択肢!K34),\"実施\",IF('1_入力シート【基本情報】'!AB262=プルダウン選択肢!K35,\"竣工\",\"\"))","v":""},null,null,"）",null,null,null,null,null,null,null,null,null,null,null,null,null,null,null,null,null,null,null,null,null,null,null,null,null,null,null,null,null,null,null,null,null,null,null,null,null,null,null,null,null,null,null,null,null,null,null,null,null,null,null,null,null,null,null,null,null,null,null,null,null,null,null,null,null,"安全対策を実施しているため、全面打診等は不要",4,null,null,null,null,null,null,null,null,null,null,null,null,null,null,null,null,null,null,null,null,null,null,null,null,null,null,null,null,null,null,null,null,null,null,null,null,null,null,null,null,null,null,null,null,null,null,null,null,null,null,null,null,null,null,null,null,null,null,null,null,null,null,null,null,null,null,null,null,null,null,null,null,null,null,null,null,null,null,null,null,null,null,null,null,null,null,null,null,null,null,null,null,null,null,null,null,null,null,null,null,null,null,null,null,null,null,null,null,null,null,null,null,null,null,null,null,null,null,null,null,null,null,null,null,null,null,null,null,null,null,null,null,null,null,null,null,null,null,null,null,null,null,null,null,null,null,null,null,null,null,null,null,null,null,null,null,null,null,null,null,null,null,null,null,null,null,null,null,null,null,null,null,null,null,null,null,null,null,null,null,null,null,null,null,null,null,null,null,null,null,null,null,null,"１４","調査及び検査の状況","-","昇降機等の検査","-",{"$f":"$S$215","v":"実施日"},"-",{"$f":"$AM$215","v":"月"},null,null,"１４調査及び検査の状況-昇降機等の検査-実施日-月","１４調査及び検査の状況-昇降機等の検査-実施日-月",null,null,null,null,null,"１７建築物等に係る不具合等の状況-改善（予定）年月-年\n（令和）_4"]
[null,null,null,null,null,null,null,null,null,null,null,null,null,null,null,null,null,null,null,null,null,null,null,null,null,null,null,null,null,null,null,null,null,null,null,null,null,null,null,null,null,null,null,null,null,null,null,null,null,null,null,null,null,null,null,null,null,null,null,null,null,null,null,null,null,null,null,null,null,null,null,null,null,null,null,null,null,null,null,null,null,null,null,null,null,null,null,null,null,null,null,null,null,null,null,null,null,null,null,null,null,null,null,null,null,null,null,null,null,null,null,null,null,null,null,null,null,null,null,null,null,null,null,null,null,null,null,null,null,null,null,null,null,null,null,null,null,null,null,null,null,null,null,null,null,null,null,null,null,null,null,null,null,null,null,null,null,null,null,null,null,null,null,null,null,null,null,null,null,null,null,null,null,null,null,null,null,null,null,null,null,null,null,null,null,null,null,null,null,null,null,null,null,null,null,null,null,null,null,null,null,null,null,null,null,null,null,null,null,null,null,null,null,null,null,null,null,null,null,null,null,null,null,null,null,null,null,null,null,null,null,null,null,null,null,null,null,null,null,null,null,null,null,null,null,null,null,null,null,null,null,null,null,null,null,null,null,null,null,null,null,null,null,null,null,null,null,null,null,null,null,null,null,null,null,null,null,null,null,null,null,null,null,null,null,null,null,null,null,null,null,null,null,null,null,null,null,null,null,null,null,null,null,null,null,null,null,null,null,null,null,null,null,null,null,null,null,null,null,null,null,"","",null,null,null,null,null,"２１自由記入欄"]
[null,null,null,null,null,null,null,null,null,null,null,null,null,null,null,null,null,null,null,null,null,null,null,null,null,null,null,null,null,null,null,null,null,null,null,null,null,null,null,null,null,null,null,null,null,null,null,null,null,null,null,null,null,null,null,null,null,null,null,null,null,null,null,null,null,null,null,null,null,null,null,null,null,null,null,null,null,null,null,null,null,null,null,null,null,null,null,null,null,null,null,null,null,null,null,null,null,null,null,null,null,null,null,null,null,null,null,null,null,null,null,null,null,null,null,null,null,null,null,null,null,null,null,null,null,null,null,null,null,null,null,null,null,null,null,null,null,null,null,null,null,null,null,null,null,null,null,null,null,null,null,null,null,null,null,null,null,null,null,null,null,null,null,null,null,null,null,null,null,null,null,null,null,null,null,null,null,null,null,null,null,null,null,null,null,null,null,null,null,null,null,null,null,null,null,null,null,null,null,null,null,null,null,null,null,null,null,null,null,null,null,null,null,null,null,null,null,null,null,null,null,null,null,null,null,null,null,null,null,null,null,null,null,null,null,null,null,null,null,null,null,null,null,null,null,null,null,null,null,null,null,null,null,null,null,null,null,null,null,null,null,null,null,null,null,null,null,null,null,null,null,null,null,null,null,null,null,null,null,null,null,null,null,null,null,null,null,null,null,null,null,null,null,null,null,null,null,null,null,null,null,null,null,null,null,null,null,null,null,null,null,"１６","耐震診断及び耐震改修の調査状況","-","耐震診断","-","実施予定年月","-",{"$f":"$AM$233","v":"月実施予定"},null,null,"１６耐震診断及び耐震改修の調査状況-耐震診断-実施予定年月-月実施予定","１６耐震診断及び耐震改修の調査状況-耐震診断-実施予定年月-月実施予定",null,null,null,null,null,"２２調査結果-敷地及び地盤-1(1)-改善（予定）年月-年\n(令和)"]
[null,null,null,null,null,null,null,null,null,null,null,null,"番号",null,null,"調　査　項　目",null,null,null,null,null,null,null,null,null,null,null,null,null,null,null,"調査結果",null,null,null,null,null,null,null,null,null,null,null,"調査者\n番号",null,"指摘の具体的内容等",null,null,null,null,null,null,null,null,null,"改善策の具体的内容等",null,null,null,null,null,null,null,null,null,null,null,null,null,null,"改善（予定）年月",null,null,null,null,null,null,null,null,"該当法令・注意事項",null,null,null,null,null,null,null,null,null,null,null,null,null,null,null,null,null,null,null,null,null,null,null,null,null,null,null,null,null,null,null,null,null,null,null,null,null,null,null,null,null,null,null,null,null,null,null,null,"指摘の具体的内容等\n要是正＋（既存不適格）",null,null,"改善（予定）\n年月",null,null,null,null,"改善（予定）\n年月",null,null,null,null,null,null,null,null,"シート","セル　上端","セル　下端",null,"報告書１面5欄用",null,null,null,null,"要是正",null,null,null,null,"既存不適格",null,null,null,null,null,null,null,null,null,null,null,null,"改善（予定）\n年月",null,null,null,null,null,null,null,null,null,null,null,null,null,null,null,null,null,null,null,null,null,null,null,null,null,null,null,null,null,null,null,null,null,null,null,null,null,null,null,null,null,null,null,null,null,null,null,null,null,null,null,null,null,null,null,null,null,null,null,null,null,null,null,null,null,null,null,null,null,null,null,null,null,null,null,null,null,null,null,null,null,null,null,null,null,null,null,null,null,null,null,null,null,null,null,null,null,null,null,null,null,null,null,null,null,null,null,null,null,null,null,null,null,null,null,null,null,null,null,null,null,null,null,null,null,null,null,null,null,null,null,null,null,"１７","建築物等に係る不具合等の状況","-","不具合等を把握した年月","-",{"$f":"$M$244","v":"年"},"_",1,null,null,"１７建築物等に係る不具合等の状況-不具合等を把握した年月-年_1","１７建築物等に係る不具合等の状況-不具合等を把握した年月-年_1",null,null,null,null,null,"２２調査結果-敷地及び地盤-1(3)-指摘の具体的内容等"]
[null,null,null,null,null,null,null,null,null,null,null,null,"1(8)",null,null,"擁壁",null,null,null,null,"擁壁の劣化及び損傷の状況",null,null,null,null,null,null,null,null,null,null,null,null,null,null,null,null,null,null,null,null,null,null,null,null,null,null,null,null,null,null,null,null,null,null,null,null,null,null,null,null,null,null,null,null,null,null,null,null,null,null,null,null,null,null,null,null,null,null,null,null,null,null,null,null,null,null,null,null,null,null,null,null,null,null,null,null,null,null,"",null,null,null,null,null,null,"",null,null,null,null,null,null,null,null,null,0,0,0,0,"1(8)",{"$f":"IF($U314=\"\",P314,U314)","v":"擁壁の劣化及び損傷の状況"},0,"",{"$f":"IF($DT314=\"要是正\",MAX($DU$307:DU313)+1,\"\")","v":""},{"$f":"IF($DT314=\"要是正\",MAX($DV$306:DV313)+1,\"\")","v":""},"","","","","",{"$f":"IF(OR(DT314=\"要是正\",DT314=\"既存不適格\"),IF(OR(DS314<2,BY314<>\"予定\"),\"\",\"令和\"&BS314&\"年\"&BV314&\"月1日\"),\"\")","v":""},"0","","0","","","0","","0","",{"$error":"#N/A"},{"$error":"#N/A"},{"$error":"#N/A"},9,"#'3_入力シート【写真】'","A249","AU270",null,8,{"$f":"DM509","v":""},{"$f":"DN509","v":""},{"$f":"DO509","v":""},{"$f":"DP509","v":""},{"$f":"EE527","v":"0"},"対象外",{"$f":"EF$509","v":""},"現在不使用","現在不使用",{"$f":"EJ527","v":"0"},"対象外",{"$f":"EK$509","v":""},"現在不使用","現在不使用",null,null,"","","",0,"",null,"","0","","0","",null,0,null,null,null,null,null,null,null,null,null,null,null,null,null,null,null,null,null,null,null,null,null,null,null,null,null,null,null,null,null,null,null,null,null,null,null,null,null,null,null,null,null,null,null,null,null,null,null,null,null,null,null,null,null,null,null,null,null,null,null,null,null,null,null,null,null,null,null,null,null,null,null,null,null,null,null,null,null,null,null,null,null,null,null,null,null,null,null,null,null,null,null,null,null,null,null,null,null,null,null,null,null,null,null,null,null,null,null,null,null,null,null,null,null,null,null,null,null,null,null,null,null,null,null,null,null,null,null,"１７","建築物等に係る不具合等の状況","-","不具合等を把握した年月","-",{"$f":"$M$244","v":"年"},"_",2,null,null,"１７建築物等に係る不具合等の状況-不具合等を把握した年月-年_2","１７建築物等に係る不具合等の状況-不具合等を把握した年月-年_2",null,null,null,null,null,"２２調査結果-敷地及び地盤-1(4)-改善（予定）年月-年\n(令和)"]
[null,null,null,null,null,null,null,null,null,null,null,null,"2(3)",null,null,"土台（木造に限る。）",null,null,null,null,"土台の沈下等の状況",null,null,null,null,null,null,null,null,null,null,null,null,null,null,null,null,null,null,null,null,null,null,null,null,null,null,null,null,null,null,null,null,null,null,null,null,null,null,null,null,null,null,null,null,null,null,null,null,null,null,null,null,null,null,null,null,null,null,null,null,null,null,null,null,null,null,null,null,null,null,null,null,null,null,null,null,null,null,"",null,null,null,null,null,null,"",null,null,null,null,null,null,null,null,null,0,0,0,0,"2(3)",{"$f":"IF($U327=\"\",P327,U327)","v":"土台の沈下等の状況"},0,"",{"$f":"IF($DT327=\"要是正\",MAX($DU$306:DU326)+1,\"\")","v":""},{"$f":"IF($DT327=\"要是正\",MAX($DV$321:DV326)+1,\"\")","v":""},"","","","","","","0","","0","","","0","","0","",{"$error":"#N/A"},{"$error":"#N/A"},{"$error":"#N/A"},13,"#'3_入力シート【写真】'","A369","AU390",null,null,null,null,null,null,null,null,null,null,null,null,null,null,null,null,null,null,"","","",0,"",null,"","0","","0","",null,0,null,null,null,null,null,null,null,null,null,null,null,null,null,null,null,null,null,null,null,null,null,null,null,null,null,null,null,null,null,null,null,null,null,null,null,null,null,null,null,null,null,null,null,null,null,null,null,null,null,null,null,null,null,null,null,null,null,null,null,null,null,null,null,null,null,null,null,null,null,null,null,null,null,null,null,null,null,null,null,null,null,null,null,null,null,null,null,null,null,null,null,null,null,null,null,null,null,null,null,null,null,null,null,null,null,null,null,null,null,null,null,null,null,null,null,null,null,null,null,null,null,null,null,null,null,null,null,"１７","建築物等に係る不具合等の状況","-",{"$f":"$M$243","v":"不具合等を把握した年月"},"-","元号","_",3,null,null,"１７建築物等に係る不具合等の状況-不具合等を把握した年月-元号_3","１７建築物等に係る不具合等の状況-不具合等を把握した年月-元号_3",null,null,null,null,null,"２２調査結果-敷地及び地盤-1(5)-改善（予定）年月-月"]
[null,null,null,null,null,null,null,null,null,null,null,null,"屋上及び屋根",null,null,null,null,null,null,null,null,null,null,null,null,null,null,null,null,null,null,null,null,null,null,null,null,null,null,null,null,null,null,null,null,null,null,null,null,null,null,null,null,null,null,null,null,null,null,null,null,null,null,null,null,null,null,null,null,null,null,null,null,null,null,null,null,null,null,null,null,null,null,null,null,null,null,null,null,null,null,null,null,null,null,null,null,null,null,{"$f":"IF(AND(DT349=\"要是正\",DU349<21),HYPERLINK(\"#\"&EL349&\"!\"&EM349&\":\"&EN349&\"\",\"関連写真添付\"),\"\")","v":""},null,null,null,null,null,null,null,null,null,null,null,null,null,null,null,null,{"$f":"IF(AND(DN349=\"\",DO349=\"\",DP349=\"\",DM366<>0),\"レ\",\"\")","v":""},{"$f":"IF(AND(DO349=\"\",DP349=\"\",DN366<>0),\"レ\",\"\")","v":""},{"$f":"IF(DO366<>0,\"レ\",\"\")","v":""},{"$f":"IF(AND(DO349=\"\",DP366<>0),\"レ\",\"\")","v":""},null,null,null,null,{"$f":"IF($DT349=\"要是正\",MAX($DU$306:DU348)+1,\"\")","v":""},null,null,null,{"$f":"SUBSTITUTE(TRIM(DY352&\"　\"&DY353&\"　\"&DY354&\"　\"&DY355&\"　\"&DY356&\"　\"&DY357&\"　\"&DY358&\"　\"&DY359&\"　\"&DY360&\"　\"&DY361&\"　\"&DY362&\"　\"&DY363&\"　\"&DY364&\"　\"&DY365),\"　\",\",\")","v":""},"要是正",null,{"$f":"IF(COUNTIF(ED352:ED365,1)>0,\"レ\",\"\")","v":""},null,{"$f":"IF(EB349=\"レ\",TEXT(EE366,\"e\"),\"\")","v":""},{"$f":"IF(EB349=\"レ\",MONTH(EE366),IF(AND(DO349=\"レ\",EF349=\"レ\",EF366=0),\"\",IF(AND(DO349=\"レ\",EF349=\"レ\",EF366>0),\"\",\"\")))","v":""},{"$f":"IF(EB349=\"\",IF(OR(EF366>0,DO349=\"レ\"),\"レ\",\"\"),\"\")","v":""},{"$f":"IF(AND(COUNTIF(DT352:DT360,\"要是正\")=0,COUNTIF(EI352:EI360,1)>0),\"レ\",\"\")","v":""},null,{"$f":"IF(EG349=\"レ\",TEXT(EJ366,\"e\"),\"\")","v":""},{"$f":"IF(EG349=\"レ\",MONTH(EJ366),IF(AND(DP349=\"レ\",EK349=\"レ\",EK366=0),\"\",IF(AND(DP349=\"レ\",EK349=\"レ\",EK366>0),\"\",\"\")))","v":""},{"$f":"IF(EG349=\"\",IF(OR(EK366>0,DP349=\"レ\"),\"レ\",\"\"),\"\")","v":""},{"$f":"VLOOKUP($DU349,$EO$306:$ER$334,2,FALSE)","v":{"$error":"#N/A"}},{"$f":"VLOOKUP($DU349,$EO$306:$ER$334,3,FALSE)","v":{"$error":"#N/A"}},{"$f":"VLOOKUP($DU349,$EO$306:$ER$334,4,FALSE)","v":{"$error":"#N/A"}},null,null,null,null,null,null,null,null,null,null,null,null,null,null,null,null,null,null,null,null,null,null,"","","",null,"",null,{"$f":"IF(COUNTIF(FS352:FS365,1)>0,\"レ\",\"\")","v":""},null,{"$f":"IF(FQ349=\"レ\",TEXT(FT366,\"ee\"),\"\")","v":""},{"$f":"IF(FQ349=\"レ\",MONTH(FT366),IF(AND(FH349=\"レ\",FU349=\"レ\",FU366=0),\"\",IF(AND(FH349=\"レ\",FU349=\"レ\",FU366>0),\"未定\",\"\")))","v":""},{"$f":"IF(FQ349=\"\",IF(OR(FU366>0,FH349=\"レ\"),\"レ\",\"\"),\"\")","v":""},null,{"$f":"IF(AF349=\"△既存不適格\",AT349&\"(既存不適格)\",AT349)","v":0},null,null,null,null,null,null,null,null,null,null,null,null,null,null,null,null,null,null,null,null,null,null,null,null,null,null,null,null,null,null,null,null,null,null,null,null,null,null,null,null,null,null,null,null,null,null,null,null,null,null,null,null,null,null,null,null,null,null,null,null,null,null,null,null,null,null,null,null,null,null,null,null,null,null,null,null,null,null,null,null,null,null,null,null,null,null,null,null,null,null,null,null,null,null,null,null,null,null,null,null,null,null,null,null,null,null,null,null,null,null,null,null,null,null,null,null,null,null,null,null,null,null,null,null,null,null,null,"１７","建築物等に係る不具合等の状況","-",{"$f":"$BF$243","v":"改善措置の概要等又は改善の予定がない場合は理由"},"_","4",null,null,null,null,"１７建築物等に係る不具合等の状況-改善措置の概要等又は改善の予定がない場合は理由_4","１７建築物等に係る不具合等の状況-改善措置の概要等又は改善の予定がない場合は理由_4",null,null,null,null,null,"２２調査結果-敷地及び地盤-1(8)-調査者\n番号"]
[null,null,null,null,null,null,null,null,null,null,null,null,"3(2)",null,null,"屋上周り（屋上面を除く。）",null,null,null,null,"パラペットの立上り面の劣化及び損傷の状況",null,null,null,null,null,null,null,null,null,null,null,null,null,null,null,null,null,null,null,null,null,null,null,null,null,null,null,null,null,null,null,null,null,null,null,null,null,null,null,null,null,null,null,null,null,null,null,null,null,null,null,null,null,null,null,null,null,null,null,null,null,null,null,null,null,null,null,null,null,null,null,null,null,null,null,null,null,null,"",null,null,null,null,null,null,"",null,null,null,null,null,null,null,null,null,0,0,0,0,"3(2)",{"$f":"IF($U353=\"\",P353,U353)","v":"パラペットの立上り面の劣化及び損傷の状況"},0,"",{"$f":"IF($DT353=\"要是正\",MAX($DU$306:DU352)+1,\"\")","v":""},{"$f":"IF($DT353=\"要是正\",MAX($DV$348:DV352)+1,\"\")","v":""},"","",{"$f":"IF($DT353=\"要是正\",IF(AT353=\"\",\"\",DQ353 &\" \" & AT353),\"\")","v":""},"","","",{"$f":"IF(EB353=\"\",\"0\",DATEVALUE(EB353))","v":"0"},{"$f":"IF(DT353=\"要是正\",IF(AND(BY353=\"予定\",DS353=2),1,IF(BY353=\"改善済\",2,\"\")),\"\")","v":""},{"$f":"IF(ED353=1,EC353,\"0\")","v":"0"},"",{"$f":"IF(DT353=\"既存不適格\",IF(OR(DS353<2,BY353<>\"予定\"),\"\",\"令和\"&BS353&\"年\"&BV353&\"月1日\"),\"\")","v":""},{"$f":"IF(EG353=\"\",\"0\",DATEVALUE(EG353))","v":"0"},{"$f":"IF(DT353=\"既存不適格\",IF(AND(BY353=\"予定\",DS353=2),1,IF(BY353=\"改善済\",2,\"\")),\"\")","v":""},{"$f":"IF(EI353=1,EH353,\"0\")","v":"0"},"",{"$error":"#N/A"},{"$error":"#N/A"},{"$error":"#N/A"},null,null,null,null,null,null,null,null,null,null,null,null,null,null,null,null,null,null,null,null,null,null,"","","",0,"",null,"","0","",{"$f":"IF(FS353=1,FR353,\"0\")","v":"0"},"",null,0,null,null,null,null,null,null,null,null,null,null,null,null,null,null,null,null,null,null,null,null,null,null,null,null,null,null,null,null,null,null,null,null,null,null,null,null,null,null,null,null,null,null,null,null,null,null,null,null,null,null,null,null,null,null,null,null,null,null,null,null,null,null,null,null,null,null,null,null,null,null,null,null,null,null,null,null,null,null,null,null,null,null,null,null,null,null,null,null,null,null,null,null,null,null,null,null,null,null,null,null,null,null,null,null,null,null,null,null,null,null,null,null,null,null,null,null,null,null,null,null,null,null,null,null,null,null,null,{"$f":"LEFT($J$260,2)","v":"１９"},{"$f":"MID($J$260,4,14)","v":"外装仕上げ材等について"},"-",{"$f":"$M$261","v":"外装仕上材のタイル・石貼り等、モルタル塗り等の使用"},null,null,null,null,null,null,"１９外装仕上げ材等について-外装仕上材のタイル・石貼り等、モルタル塗り等の使用","１９外装仕上げ材等について-外装仕上材のタイル・石貼り等、モルタル塗り等の使用",null,null,null,null,null,"２２調査結果-敷地及び地盤-1(8)-改善（予定）年月-月"]
[null,null,null,null,null,null,null,null,null,null,null,null,"4(3)",null,null,null,null,"令第112条第18項に規定する区画の状況",null,null,null,null,null,null,null,null,null,null,null,null,null,null,null,null,null,null,null,null,null,null,null,null,null,null,null,null,null,null,null,null,null,null,null,null,null,null,null,null,null,null,null,null,null,null,null,null,null,null,null,null,null,null,null,null,null,null,null,null,null,null,null,null,null,null,null,null,null,null,null,null,null,null,null,null,null,null,null,null,null,"",null,null,null,null,null,null,"",null,null,null,null,null,null,null,null,null,0,0,0,0,"4(3)","令第112条第18項に規定する区画の状況",0,"",{"$f":"IF($DT372=\"要是正\",MAX($DU$306:DU371)+1,\"\")","v":""},{"$f":"IF($DT372=\"要是正\",MAX($DV$366:DV371)+1,\"\")","v":""},"","","","","","","0","","0","","","0","","0","",{"$error":"#N/A"},{"$error":"#N/A"},{"$error":"#N/A"},null,null,null,null,null,null,null,null,null,null,null,null,null,null,null,null,null,null,null,null,null,null,"","","",0,"",null,"","0","","0","",null,0,null,null,null,null,null,null,null,null,null,null,null,null,null,null,null,null,null,null,null,null,null,null,null,null,null,null,null,null,null,null,null,null,null,null,null,null,null,null,null,null,null,null,null,null,null,null,null,null,null,null,null,null,null,null,null,null,null,null,null,null,null,null,null,null,null,null,null,null,null,null,null,null,null,null,null,null,null,null,null,null,null,null,null,null,null,null,null,null,null,null,null,null,null,null,null,null,null,null,null,null,null,null,null,null,null,null,null,null,null,null,null,null,null,null,null,null,null,null,null,null,null,null,null,null,null,null,null,"２０","設備（法第12条第三項関係など）","-","小荷物専用昇降機の有無","-","定期報告対象",null,null,null,null,"２０設備（法第12条第三項関係など）-小荷物専用昇降機の有無-定期報告対象","２０設備（法第12条第三項関係など）-小荷物専用昇降機の有無-定期報告対象",null,null,null,null,null,"２２調査結果-建築物の外部-2(1)-改善（予定）年月-月"]
[null,null,null,null,null,null,null,null,null,null,null,null,"4(19)",null,null,null,null,null,null,null,"鉄筋コンクリート造及び鉄骨鉄筋コンクリート造の床躯体の劣化及び損傷の状況",null,null,null,null,null,null,null,null,null,null,null,null,null,null,null,null,null,null,null,null,null,null,null,null,null,null,null,null,null,null,null,null,null,null,null,null,null,null,null,null,null,null,null,null,null,null,null,null,null,null,null,null,null,null,null,null,null,null,null,null,null,null,null,null,null,null,null,null,null,null,null,null,null,null,null,null,null,null,"",null,null,null,null,null,null,"",null,null,null,null,null,null,null,null,null,0,0,0,0,"4(19)",{"$f":"IF($U388=\"\",R386,U388)","v":"鉄筋コンクリート造及び鉄骨鉄筋コンクリート造の床躯体の劣化及び損傷の状況"},0,"",{"$f":"IF($DT388=\"要是正\",MAX($DU$306:DU387)+1,\"\")","v":""},{"$f":"IF($DT388=\"要是正\",MAX($DV$366:DV387)+1,\"\")","v":""},"","","","","","","0","","0","","","0","","0","",{"$error":"#N/A"},{"$error":"#N/A"},{"$error":"#N/A"},null,null,null,null,null,null,null,null,null,null,null,null,null,null,null,null,null,null,null,null,null,null,"","","",0,"",null,"","0","","0","",null,0,null,null,null,null,null,null,null,null,null,null,null,null,null,null,null,null,null,null,null,null,null,null,null,null,null,null,null,null,null,null,null,null,null,null,null,null,null,null,null,null,null,null,null,null,null,null,null,null,null,null,null,null,null,null,null,null,null,null,null,null,null,null,null,null,null,null,null,null,null,null,null,null,null,null,null,null,null,null,null,null,null,null,null,null,null,null,null,null,null,null,null,null,null,null,null,null,null,null,null,null,null,null,null,null,null,null,null,null,null,null,null,null,null,null,null,null,null,null,null,null,null,null,null,null,null,null,null,"","","-","敷地及び地盤","-","1(1)","-","改善（予定）年月","-",{"$f":"$LD$395","v":"状況"},"-敷地及び地盤-1(1)-改善（予定）年月-状況","２２調査結果-敷地及び地盤-1(1)-改善（予定）年月-未定",null,null,null,null,null,"２２調査結果-建築物の外部-2(4)-調査結果"]
[null,null,null,null,null,null,null,null,null,null,null,null,"4(26)",null,null,"防火設備（防火扉、防火シャッターその他これらに類するものに限る。）又は戸",null,null,null,null,"区画に対応した防火設備又は戸の設置の状況",null,null,null,null,null,null,null,null,null,null,null,null,null,null,null,null,null,null,null,null,null,null,null,null,null,null,null,null,null,null,null,null,null,null,null,null,null,null,null,null,null,null,null,null,null,null,null,null,null,null,null,null,null,null,null,null,null,null,null,null,null,null,null,null,null,null,null,null,null,null,null,null,null,null,null,null,null,null,"",null,null,null,null,null,null,"",null,null,null,null,null,null,null,null,null,0,0,0,0,"4(26)","区画に対応した防火設備又は戸の設置の状況",0,"",{"$f":"IF($DT395=\"要是正\",MAX($DU$306:DU394)+1,\"\")","v":""},{"$f":"IF($DT395=\"要是正\",MAX($DV$366:DV394)+1,\"\")","v":""},"","","","","","","0","","0","","","0","","0","",{"$error":"#N/A"},{"$error":"#N/A"},{"$error":"#N/A"},null,null,null,null,null,null,null,null,null,null,null,null,null,null,null,null,null,null,null,null,null,null,"","","",0,"",null,"","0","","0","",null,0,null,null,null,null,null,null,null,null,null,null,null,null,null,null,null,null,null,null,null,null,null,null,null,null,null,null,null,null,null,null,null,null,null,null,null,null,null,null,null,null,null,null,null,null,null,null,null,null,null,null,null,null,null,null,null,null,null,null,null,null,null,null,null,null,null,null,null,null,null,null,null,null,null,null,null,null,null,null,null,null,null,null,null,null,null,null,null,null,null,null,null,null,null,null,null,null,null,null,null,null,null,null,null,null,null,null,null,null,null,null,null,null,null,null,null,null,null,null,null,null,null,null,null,null,null,null,null,"","","-","敷地及び地盤","-","1(2)","-","改善（予定）年月","-",{"$f":"$BY$324","v":"状況"},"-敷地及び地盤-1(2)-改善（予定）年月-状況","２２調査結果-敷地及び地盤-1(2)-改善（予定）年月-未定",null,null,null,null,null,"２２調査結果-建築物の外部-2(5)-調査結果"]
[null,null,null,null,null,null,null,null,null,null,null,null,"4(41)",null,null,null,null,null,null,null,"換気設備の設置の状況",null,null,null,null,null,null,null,null,null,null,null,null,null,null,null,null,null,null,null,null,null,null,null,null,null,null,null,null,null,null,null,null,null,null,null,null,null,null,null,null,null,null,null,null,null,null,null,null,null,null,null,null,null,null,null,null,null,null,null,null,null,null,null,null,null,null,null,null,null,null,null,null,null,null,null,null,null,null,"",null,null,null,null,null,null,"",null,null,null,null,null,null,null,null,null,0,0,0,0,"4(41)","換気設備の設置の状況",0,"",{"$f":"IF($DT410=\"要是正\",MAX($DU$306:DU409)+1,\"\")","v":""},{"$f":"IF($DT410=\"要是正\",MAX($DV$366:DV409)+1,\"\")","v":""},"","","","","","","0","","0","","","0","","0","",{"$error":"#N/A"},{"$error":"#N/A"},{"$error":"#N/A"},null,null,null,null,null,null,null,null,null,null,null,null,null,null,null,null,null,null,null,null,null,null,"","","",0,"",null,"","0","","0","",null,0,null,null,null,null,null,null,null,null,null,null,null,null,null,null,null,null,null,null,null,null,null,null,null,null,null,null,null,null,null,null,null,null,null,null,null,null,null,null,null,null,null,null,null,null,null,null,null,null,null,null,null,null,null,null,null,null,null,null,null,null,null,null,null,null,null,null,null,null,null,null,null,null,null,null,null,null,null,null,null,null,null,null,null,null,null,null,null,null,null,null,null,null,null,null,null,null,null,null,null,null,null,null,null,null,null,null,null,null,null,null,null,null,null,null,null,null,null,null,null,null,null,null,null,null,null,null,null,"","","-","敷地及び地盤","-","1(4)","-","改善（予定）年月","-",{"$f":"$BV$369","v":"月"},"-敷地及び地盤-1(4)-改善（予定）年月-月","２２調査結果-敷地及び地盤-1(4)-改善（予定）年月-月",null,null,null,null,null,"２２調査結果-建築物の外部-2(7)-調査者\n番号"]
[null,null,null,null,null,null,null,null,null,null,null,null,"4(48)",null,null,null,null,null,null,null,null,null,null,null,null,null,null,null,null,null,null,null,null,null,null,null,null,null,null,null,null,null,null,null,null,null,null,null,null,null,null,null,null,null,null,null,null,null,null,null,null,null,null,null,null,null,null,null,null,null,null,null,null,null,null,null,null,null,null,{"$f":"IF(DX225=1,\"１５石綿を添加した建築材料の調査状況に該当なしと記載あり\",\"\")","v":""},null,null,null,null,null,null,null,null,null,null,null,null,null,null,null,null,null,null,null,{"$f":"IF(AND(DT417=\"要是正\",DU417<21),HYPERLINK(\"#\"&EL417&\"!\"&EM417&\":\"&EN417&\"\",\"関連写真添付\"),\"\")","v":""},null,null,null,null,null,null,{"$f":"IF(AND(DU417<>\"\",DU417>20),\"「別途様式を作成、提出してください。」\",\"\")","v":""},null,null,null,null,null,null,null,null,null,{"$f":"COUNTIFS(AF417,\"ー対象外\")","v":0},{"$f":"COUNTIFS(AF417,\"○指摘なし\")","v":0},{"$f":"COUNTIFS(AF417,\"×要是正（既存不適格以外）\")","v":0},{"$f":"COUNTIFS(AF417,\"△既存不適格\")","v":0},"4(48)",{"$f":"IF($U417=\"\",R417,U417)","v":0},{"$f":"COUNTA(BS417:BX417)","v":0},{"$f":"IF(AF417=\"×要是正（既存不適格以外）\",\"要是正\",\"\")&IF(AF417=\"△既存不適格\",\"既存不適格\",\"\")","v":""},{"$f":"IF($DT417=\"要是正\",MAX($DU$306:DU416)+1,\"\")","v":""},{"$f":"IF(OR($DT417=\"要是正\",$DT417=\"既存不適格\"),MAX($DV$366:DV416)+1,\"\")","v":""},{"$f":"IF(OR(AF417=\"×要是正（既存不適格以外）\",AF417=\"△既存不適格\"),DQ417,\"\")","v":""},{"$f":"IF($DT417=\"要是正\",$DR417,IF(DT417=\"既存不適格\",DR417&\"（既存不適格）\",\"\"))","v":""},{"$f":"IF($DT417=\"要是正\",$DQ417 &\" \" & AT417,IF($DT417=\"既存不適格\",$DQ417&\" \"&AT417&\"（\"&DT417&\"）\",\"\"))","v":""},{"$f":"IF($DT417=\"要是正\",IF(BD417=\"\",\"\",BD417),\"\")","v":""},{"$f":"IF(BY417=\"未定\",\"未定\",IF(FR417=\"0\",\"\",IF(BY417=\"予定\",TEXT(FR417,\"([$-ja-JP]ge.m);@\"),IF(BY417=\"改善済\",TEXT(FR417,\"[$-ja-JP]ge.m;@\"),TEXT(EC417,\"[$-ja-JP]ge.m;@\")))))","v":""},{"$f":"IF(OR(DT417=\"要是正\",DT417=\"既存不適格\"),IF(OR(DS417<2,BY417<>\"予定\"),\"\",\"令和\"&BS417&\"年\"&BV417&\"月1日\"),\"\")","v":""},{"$f":"IF(EB417=\"\",\"0\",DATEVALUE(EB417))","v":"0"},{"$f":"IF(OR(DT417=\"要是正\",DT417=\"既存不適格\"),IF(AND(BY417=\"予定\",DS417=2),1,IF(BY417=\"改善済\",2,\"\")),\"\")","v":""},{"$f":"IF(ED417=1,EC417,\"0\")","v":"0"},{"$f":"IF(AND(OR(DT417=\"要是正\",DT417=\"既存不適格\"),AND(DS417=0,BY417=\"未定\")),BY417,\"\")","v":""},{"$f":"IF(DT417=\"既存不適格\",IF(OR(DS417<2,BY417<>\"予定\"),\"\",\"令和\"&BS417&\"年\"&BV417&\"月1日\"),\"\")","v":""},{"$f":"IF(EG417=\"\",\"0\",DATEVALUE(EG417))","v":"0"},{"$f":"IF(DT417=\"既存不適格\",IF(AND(BY417=\"予定\",DS417=2),1,IF(BY417=\"改善済\",2,\"\")),\"\")","v":""},{"$f":"IF(EI417=1,EH417,\"0\")","v":"0"},{"$f":"IF(AND(DT417=\"既存不適格\",AND(DS417=0,BY417=\"未定\")),BY417,\"\")","v":""},{"$f":"VLOOKUP($DU417,$EO$306:$ER$334,2,FALSE)","v":{"$error":"#N/A"}},{"$f":"VLOOKUP($DU417,$EO$306:$ER$334,3,FALSE)","v":{"$error":"#N/A"}},{"$f":"VLOOKUP($DU417,$EO$306:$ER$334,4,FALSE)","v":{"$error":"#N/A"}},null,null,null,null,null,null,null,null,null,null,null,null,null,null,null,null,null,null,null,null,null,null,"","","",{"$f":"AR417","v":0},"",null,{"$f":"IF(OR(DT417=\"要是正\",DT417=\"既存不適格\"),IF(OR(DS417<2,BY417<>\"予定\"),\"\",\"令和\"&BS417&\"年\"&BV417&\"月1日\"),\"\")","v":""},{"$f":"IF(FQ417=\"\",\"0\",DATEVALUE(FQ417))","v":"0"},{"$f":"IF(OR(DT417=\"要是正\",DT417=\"既存不適格\"),IF(AND(BY417=\"予定\",DS417=2),1,IF(BY417=\"改善済\",2,\"\")),\"\")","v":""},{"$f":"IF(FS417=1,FR417,\"0\")","v":"0"},{"$f":"IF(AND(OR(DT417=\"要是正\",DT417=\"既存不適格\"),AND(DS417=0,BY417=\"未定\")),BY417,\"\")","v":""},null,{"$f":"IF(AF417=\"△既存不適格\",AT417&\"(既存不適格)\",AT417)","v":0},null,null,null,null,null,null,null,null,null,null,null,null,null,null,null,null,null,null,null,null,null,null,null,null,null,null,null,null,null,null,null,null,null,null,null,null,null,null,null,null,null,null,null,null,null,null,null,null,null,null,null,null,null,null,null,null,null,null,null,null,null,null,null,null,null,null,null,null,null,null,null,null,null,null,null,null,null,null,null,null,null,null,null,null,null,null,null,null,null,null,null,null,null,null,null,null,null,null,null,null,null,null,null,null,null,null,null,null,null,null,null,null,null,null,null,null,null,null,null,null,null,null,null,null,null,null,null,"","","-","敷地及び地盤","-","1(5)","-",{"$f":"$BD$323","v":"改善策の具体的内容等"},null,null,{"$f":"CONCATENATE(KU417,KV417,KW417,KX417,KY417,KZ417,LA417,LB417,LC417,LD417)","v":"-敷地及び地盤-1(5)-改善策の具体的内容等"},"２２調査結果-敷地及び地盤-1(5)-改善策の具体的内容等",null,null,null,null,null,"２２調査結果-建築物の外部-2(8)-調査結果"]
[null,null,null,null,null,null,null,null,null,null,null,null,"5(3)",null,null,null,null,null,null,null,"物品の放置の状況",null,null,null,null,null,null,null,null,null,null,null,null,null,null,null,null,null,null,null,null,null,null,null,null,null,null,null,null,null,null,null,null,null,null,null,null,null,null,null,null,null,null,null,null,null,null,null,null,null,null,null,null,null,null,null,null,null,null,null,null,null,null,null,null,null,null,null,null,null,null,null,null,null,null,null,null,null,null,"",null,null,null,null,null,null,"",null,null,null,null,null,null,null,null,null,0,0,0,0,"5(3)","物品の放置の状況",0,"",{"$f":"IF($DT428=\"要是正\",MAX($DU$306:DU427)+1,\"\")","v":""},{"$f":"IF($DT428=\"要是正\",MAX($DV$422:DV427)+1,\"\")","v":""},"","","","","","","0","","0","","","0","","0","",{"$error":"#N/A"},{"$error":"#N/A"},{"$error":"#N/A"},null,null,null,null,null,null,null,null,null,null,null,null,null,null,null,null,null,null,null,null,null,null,"","","",0,"",null,"","0","","0","",null,0,null,null,null,null,null,null,null,null,null,null,null,null,null,null,null,null,null,null,null,null,null,null,null,null,null,null,null,null,null,null,null,null,null,null,null,null,null,null,null,null,null,null,null,null,null,null,null,null,null,null,null,null,null,null,null,null,null,null,null,null,null,null,null,null,null,null,null,null,null,null,null,null,null,null,null,null,null,null,null,null,null,null,null,null,null,null,null,null,null,null,null,null,null,null,null,null,null,null,null,null,null,null,null,null,null,null,null,null,null,null,null,null,null,null,null,null,null,null,null,null,null,null,null,null,null,null,null,"","","-","敷地及び地盤","-","1(6)","-",{"$f":"$AT$323","v":"指摘の具体的内容等"},null,null,"-敷地及び地盤-1(6)-指摘の具体的内容等","２２調査結果-敷地及び地盤-1(6)-指摘の具体的内容等",null,null,null,null,null,"２２調査結果-建築物の外部-2(9)-調査結果"]
[null,null,null,null,null,null,null,null,null,null,null,null,"5(14)",null,null,null,null,null,null,null,"物品の放置の状況",null,null,null,null,null,null,null,null,null,null,null,null,null,null,null,null,null,null,null,null,null,null,null,null,null,null,null,null,null,null,null,null,null,null,null,null,null,null,null,null,null,null,null,null,null,null,null,null,null,null,null,null,null,null,null,null,null,null,null,null,null,null,null,null,null,null,null,null,null,null,null,null,null,null,null,null,null,null,"",null,null,null,null,null,null,"",null,null,null,null,null,null,null,null,null,0,0,0,0,"5(14)",{"$f":"IF($U439=\"\",R436,U439)","v":"物品の放置の状況"},0,"",{"$f":"IF($DT439=\"要是正\",MAX($DU$306:DU438)+1,\"\")","v":""},{"$f":"IF($DT439=\"要是正\",MAX($DV$422:DV438)+1,\"\")","v":""},"","","","","","","0","","0","","","0","","0","",{"$error":"#N/A"},{"$error":"#N/A"},{"$error":"#N/A"},null,null,null,null,null,null,null,null,null,null,null,null,null,null,null,null,null,null,null,null,null,null,"","","",0,"",null,"","0","","0","",null,0,null,null,null,null,null,null,null,null,null,null,null,null,null,null,null,null,null,null,null,null,null,null,null,null,null,null,null,null,null,null,null,null,null,null,null,null,null,null,null,null,null,null,null,null,null,null,null,null,null,null,null,null,null,null,null,null,null,null,null,null,null,null,null,null,null,null,null,null,null,null,null,null,null,null,null,null,null,null,null,null,null,null,null,null,null,null,null,null,null,null,null,null,null,null,null,null,null,null,null,null,null,null,null,null,null,null,null,null,null,null,null,null,null,null,null,null,null,null,null,null,null,null,null,null,null,null,null,"","","-","敷地及び地盤","-","1(7)","-","改善（予定）年月","-",{"$f":"$BV$369","v":"月"},"-敷地及び地盤-1(7)-改善（予定）年月-月","２２調査結果-敷地及び地盤-1(7)-改善（予定）年月-月",null,null,null,null,null,"２２調査結果屋上及び屋根-3(1)-改善（予定）年月-年\n(令和)"]
[null,null,null,null,null,null,null,null,null,null,null,null,"5(34)",null,null,null,null,null,null,null,"乗降ロビー等の排煙設備の作動の状況",null,null,null,null,null,null,null,null,null,null,null,null,null,null,null,null,null,null,null,null,null,null,null,null,null,null,null,null,null,null,null,null,null,null,null,null,null,null,null,null,null,null,null,null,null,null,null,null,null,null,null,null,null,null,null,null,null,null,null,null,null,null,null,null,null,null,null,null,null,null,null,null,null,null,null,null,null,null,"",null,null,null,null,null,null,"",null,null,null,null,null,null,null,null,null,0,0,0,0,"5(34)",{"$f":"IF($U459=\"\",R457,U459)","v":"乗降ロビー等の排煙設備の作動の状況"},0,"",{"$f":"IF($DT459=\"要是正\",MAX($DU$306:DU458)+1,\"\")","v":""},{"$f":"IF($DT459=\"要是正\",MAX($DV$422:DV458)+1,\"\")","v":""},"","","","","","","0","","0","","","0","","0","",{"$error":"#N/A"},{"$error":"#N/A"},{"$error":"#N/A"},null,null,null,null,null,null,null,null,null,null,null,null,null,null,null,null,null,null,null,null,null,null,"","","",0,"",null,"","0","","0","",null,0,null,null,null,null,null,null,null,null,null,null,null,null,null,null,null,null,null,null,null,null,null,null,null,null,null,null,null,null,null,null,null,null,null,null,null,null,null,null,null,null,null,null,null,null,null,null,null,null,null,null,null,null,null,null,null,null,null,null,null,null,null,null,null,null,null,null,null,null,null,null,null,null,null,null,null,null,null,null,null,null,null,null,null,null,null,null,null,null,null,null,null,null,null,null,null,null,null,null,null,null,null,null,null,null,null,null,null,null,null,null,null,null,null,null,null,null,null,null,null,null,null,null,null,null,null,null,null,"","","-","建築物の外部","-",{"$f":"$M$325","v":"2(1)"},"-",{"$f":"$AR$305","v":"調査者\n番号"},null,null,"-建築物の外部-2(1)-調査者\n番号","２２調査結果-建築物の外部-2(1)-調査者\n番号",null,null,null,null,null,"２２調査結果屋上及び屋根-3(4)-改善策の具体的内容等"]
[null,null,null,null,null,null,null,null,null,null,null,null,null,null,null,null,null,null,null,null,null,null,null,null,null,null,null,null,null,null,null,null,null,null,null,null,null,null,null,null,null,null,null,null,null,null,null,null,null,null,null,null,null,null,null,null,null,null,null,null,null,null,null,null,null,null,null,null,null,null,"年\n(令和)",null,null,"月",null,null,"状況",null,null,null,null,null,null,null,null,null,null,null,null,null,null,null,null,null,null,null,null,null,null,null,null,null,null,null,null,null,null,null,null,null,null,null,null,null,null,null,"対象外項目","指摘なし","要是正","既存不適格","項目番号\n関数なし","項目","年月カウント","要是正と既存不適格","要是正カウント（別添2リンク先）","カウント\n報告書用","項目番号",null,null,null,null,"変換\n/有(予定)","西暦変換\n/有（済）","未来の年月\nカウント/年","未来の直近/月","未定/無","変換/有","西暦変換/(有)","未来の年月\nカウント/年","未来の直近/月","未定/無","シート","セル　上端","セル　下端",null,null,null,null,null,null,null,null,null,null,null,null,null,null,null,null,null,null,null,null,null,null,null,null,null,null,null,null,"変換\n/有(予定)","西暦変換\n/有（済）","未来の年月\nカウント/年","未来の直近/月","未定/無",null,0,null,null,null,null,null,null,null,null,null,null,null,null,null,null,null,null,null,null,null,null,null,null,null,null,null,null,null,null,null,null,null,null,null,null,null,null,null,null,null,null,null,null,null,null,null,null,null,null,null,null,null,null,null,null,null,null,null,null,null,null,null,null,null,null,null,null,null,null,null,null,null,null,null,null,null,null,null,null,null,null,null,null,null,null,null,null,null,null,null,null,null,null,null,null,null,null,null,null,null,null,null,null,null,null,null,null,null,null,null,null,null,null,null,null,null,null,null,null,null,null,null,null,null,null,null,null,null,"","","-","建築物の外部","-","2(2)","-",{"$f":"$BD$323","v":"改善策の具体的内容等"},null,null,"-建築物の外部-2(2)-改善策の具体的内容等","２２調査結果-建築物の外部-2(2)-改善策の具体的内容等",null,null,null,null,null,"２２調査結果屋上及び屋根-3(5)-改善（予定）年月-未定"]
[null,null,null,null,null,null,null,null,null,null,null,null,"6(8)",null,null,null,null,"令第138条第１項第１号に掲げる煙突",null,null,"煙突本体の劣化及び損傷の状況",null,null,null,null,null,null,null,null,null,null,null,null,null,null,null,null,null,null,null,null,null,null,null,null,null,null,null,null,null,null,null,null,null,null,null,null,null,null,null,null,null,null,null,null,null,null,null,null,null,null,null,null,null,null,null,null,null,null,null,null,null,null,null,null,null,null,null,null,null,null,null,null,null,null,null,null,null,null,"",null,null,null,null,null,null,"",null,null,null,null,null,null,null,null,null,0,0,0,0,"6(8)","煙突本体の劣化及び損傷の状況",0,"",{"$f":"IF($DT482=\"要是正\",MAX($DU$306:DU481)+1,\"\")","v":""},{"$f":"IF($DT482=\"要是正\",MAX($DV$471:DV481)+1,\"\")","v":""},"","","","","","","0","","0","","","0","","0","",{"$error":"#N/A"},{"$error":"#N/A"},{"$error":"#N/A"},null,null,null,null,null,null,null,null,null,null,null,null,null,null,null,null,null,null,null,null,null,null,"","","",0,"",null,"","0","","0","",null,0,null,null,null,null,null,null,null,null,null,null,null,null,null,null,null,null,null,null,null,null,null,null,null,null,null,null,null,null,null,null,null,null,null,null,null,null,null,null,null,null,null,null,null,null,null,null,null,null,null,null,null,null,null,null,null,null,null,null,null,null,null,null,null,null,null,null,null,null,null,null,null,null,null,null,null,null,null,null,null,null,null,null,null,null,null,null,null,null,null,null,null,null,null,null,null,null,null,null,null,null,null,null,null,null,null,null,null,null,null,null,null,null,null,null,null,null,null,null,null,null,null,null,null,null,null,null,null,"","","-","建築物の外部","-","2(3)","-",{"$f":"$BD$323","v":"改善策の具体的内容等"},null,null,"-建築物の外部-2(3)-改善策の具体的内容等","２２調査結果-建築物の外部-2(3)-改善策の具体的内容等",null,null,null,null,null,"２２調査結果屋上及び屋根-3(7)-調査結果"]
[null,null,null,null,null,null,null,null,null,null,null,null,"7(4)",null,null,null,null,null,null,null,null,null,null,null,null,null,null,null,null,null,null,null,null,null,null,null,null,null,null,null,null,null,null,null,null,null,null,null,null,null,null,null,null,null,null,null,null,null,null,null,null,null,null,null,null,null,null,null,null,null,null,null,null,null,null,null,null,null,null,null,null,null,null,null,null,null,null,null,null,null,null,null,null,null,null,null,null,null,null,"",null,null,null,null,null,null,"",null,null,null,null,null,null,null,null,null,{"$f":"COUNTIFS(AF496,\"ー対象外\")","v":0},{"$f":"COUNTIFS(AF496,\"○指摘なし\")","v":0},{"$f":"COUNTIFS(AF496,\"×要是正（既存不適格以外）\")","v":0},{"$f":"COUNTIFS(AF496,\"△既存不適格\")","v":0},"7(4)",{"$f":"IF($U496=\"\",R496,U496)","v":0},{"$f":"COUNTA(BS496:BX496)","v":0},{"$f":"IF(AF496=\"×要是正（既存不適格以外）\",\"要是正\",\"\")&IF(AF496=\"△既存不適格\",\"既存不適格\",\"\")","v":""},{"$f":"IF($DT496=\"要是正\",MAX($DU$306:DU495)+1,\"\")","v":""},{"$f":"IF($DT496=\"要是正\",MAX($DV$489:DV495)+1,\"\")","v":""},{"$f":"IF(OR(AF496=\"×要是正（既存不適格以外）\",AF496=\"△既存不適格\"),DQ496,\"\")","v":""},"","",{"$f":"IF($DT496=\"要是正\",IF(BD496=\"\",\"\",BD496),\"\")","v":""},"","","0","","0","","","0","","0","",{"$error":"#N/A"},{"$error":"#N/A"},{"$error":"#N/A"},null,null,null,null,null,null,null,null,null,null,null,null,null,null,null,null,null,null,null,null,null,null,"","","",0,"",null,"","0","","0","",null,0,null,null,null,null,null,null,null,null,null,null,null,null,null,null,null,null,null,null,null,null,null,null,null,null,null,null,null,null,null,null,null,null,null,null,null,null,null,null,null,null,null,null,null,null,null,null,null,null,null,null,null,null,null,null,null,null,null,null,null,null,null,null,null,null,null,null,null,null,null,null,null,null,null,null,null,null,null,null,null,null,null,null,null,null,null,null,null,null,null,null,null,null,null,null,null,null,null,null,null,null,null,null,null,null,null,null,null,null,null,null,null,null,null,null,null,null,null,null,null,null,null,null,null,null,null,null,null,"","","-","建築物の外部","-","2(4)","-",{"$f":"$BS$305","v":"改善（予定）年月"},"-",{"$f":"$BS$369","v":"年\n(令和)"},"-建築物の外部-2(4)-改善（予定）年月-年\n(令和)","２２調査結果-建築物の外部-2(4)-改善（予定）年月-年\n(令和)",null,null,null,null,null,"２２調査結果屋上及び屋根-3(8)-指摘の具体的内容等"]
[null,null,null,null,null,null,null,null,null,null,null,null,"7(13)",null,null,null,null,null,null,null,null,null,null,null,null,null,null,null,null,null,null,null,null,null,null,null,null,null,null,null,null,null,null,null,null,null,null,null,null,null,null,null,null,null,null,null,null,null,null,null,null,null,null,null,null,null,null,null,null,null,null,null,null,null,null,null,null,null,null,null,null,null,null,null,null,null,null,null,null,null,null,null,null,null,null,null,null,null,null,"",null,null,null,null,null,null,"",null,null,null,null,null,null,null,null,null,0,0,0,0,"7(13)",0,0,"",{"$f":"IF($DT505=\"要是正\",MAX($DU$306:DU504)+1,\"\")","v":""},{"$f":"IF($DT505=\"要是正\",MAX($DV$489:DV504)+1,\"\")","v":""},"","","","","","","0","","0","","","0","","0","",{"$error":"#N/A"},{"$error":"#N/A"},{"$error":"#N/A"},null,null,null,null,null,null,null,null,null,null,null,null,null,null,null,null,null,null,null,null,null,null,"","","",0,null,null,"","0","","0","",null,0,null,null,null,null,null,null,null,null,null,null,null,null,null,null,null,null,null,null,null,null,null,null,null,null,null,null,null,null,null,null,null,null,null,null,null,null,null,null,null,null,null,null,null,null,null,null,null,null,null,null,null,null,null,null,null,null,null,null,null,null,null,null,null,null,null,null,null,null,null,null,null,null,null,null,null,null,null,null,null,null,null,null,null,null,null,null,null,null,null,null,null,null,null,null,null,null,null,null,null,null,null,null,null,null,null,null,null,null,null,null,null,null,null,null,null,null,null,null,null,null,null,null,null,null,null,null,null,"","","-","建築物の外部","-","2(5)","-","指摘の具体的内容等",null,null,"-建築物の外部-2(5)-指摘の具体的内容等","２２調査結果-建築物の外部-2(5)-指摘の具体的内容等",null,null,null,null,null,"２２調査結果屋上及び屋根-3(9)-調査者\n番号"]
[null,null,null,null,null,null,null,null,null,null,null,null,null,null,null,null,null,null,null,null,null,null,null,null,null,null,null,null,null,null,null,null,null,null,null,null,null,null,null,null,null,null,null,null,null,null,null,null,null,null,null,null,null,null,null,null,null,null,null,null,null,null,null,null,null,null,null,null,null,null,null,null,null,null,null,null,null,null,null,null,null,null,null,null,null,null,null,null,null,null,null,null,null,null,null,null,null,null,null,{"$f":"IF(AND(DT522=\"要是正\",DU522<21),HYPERLINK(\"#\"&EL522&\"!\"&EM522&\":\"&EN522&\"\",\"関連写真添付\"),\"\")","v":""},null,null,null,null,null,null,{"$f":"IF(AND(DU522<>\"\",DU522>20),\"「別途様式を作成、提出してください。」\",\"\")","v":""},null,null,null,null,null,null,null,null,null,{"$f":"COUNTIFS(AF522,\"ー対象外\")","v":0},{"$f":"COUNTIFS(AF522,\"○指摘なし\")","v":0},{"$f":"COUNTIFS(AF522,\"×要是正（既存不適格以外）\")","v":0},{"$f":"COUNTIFS(AF522,\"△既存不適格\")","v":0},{"$f":"M522","v":0},{"$f":"P522","v":0},{"$f":"COUNTA(BS522:BX522)","v":0},{"$f":"IF(AF522=\"×要是正（既存不適格以外）\",\"要是正\",\"\")&IF(AF522=\"△既存不適格\",\"既存不適格\",\"\")","v":""},{"$f":"IF($DT522=\"要是正\",MAX($DU$306:DU521)+1,\"\")","v":""},{"$f":"IF($DT522=\"要是正\",MAX($DV$508:DV521)+1,\"\")","v":""},{"$f":"IF(OR(AF522=\"×要是正（既存不適格以外）\",AF522=\"△既存不適格\"),DQ522,\"\")","v":""},"",{"$f":"IF($DT522=\"要是正\",IF(AT522=\"\",\"\",DQ522 &\" \" & AT522),\"\")","v":""},{"$f":"IF($DT522=\"要是正\",IF(BD522=\"\",\"\",BD522),\"\")","v":""},{"$f":"IF(BY522=\"未定\",\"未定\",IF(FR522=\"0\",\"\",IF(BY522=\"予定\",TEXT(FR522,\"([$-ja-JP]ge.m);@\"),IF(BY522=\"改善済\",TEXT(FR522,\"[$-ja-JP]ge.m;@\"),TEXT(EC522,\"[$-ja-JP]ge.m;@\")))))","v":""},{"$f":"IF(OR(DT522=\"要是正\",DT522=\"既存不適格\"),IF(OR(DS522<2,BY522<>\"予定\"),\"\",\"令和\"&BS522&\"年\"&BV522&\"月1日\"),\"\")","v":""},{"$f":"IF(EB522=\"\",\"0\",DATEVALUE(EB522))","v":"0"},{"$f":"IF(DT522=\"要是正\",IF(AND(BY522=\"予定\",DS522=2),1,IF(BY522=\"改善済\",2,\"\")),\"\")","v":""},{"$f":"IF(ED522=1,EC522,\"0\")","v":"0"},{"$f":"IF(AND(DT522=\"要是正\",AND(DS522=0,BY522=\"未定\")),BY522,\"\")","v":""},{"$f":"IF(DT522=\"既存不適格\",IF(OR(DS522<2,BY522<>\"予定\"),\"\",\"令和\"&BS522&\"年\"&BV522&\"月1日\"),\"\")","v":""},{"$f":"IF(EG522=\"\",\"0\",DATEVALUE(EG522))","v":"0"},{"$f":"IF(DT522=\"既存不適格\",IF(AND(BY522=\"予定\",DS522=2),1,IF(BY522=\"改善済\",2,\"\")),\"\")","v":""},{"$f":"IF(EI522=1,EH522,\"0\")","v":"0"},{"$f":"IF(AND(DT522=\"既存不適格\",AND(DS522=0,BY522=\"未定\")),BY522,\"\")","v":""},{"$f":"VLOOKUP($DU522,$EO$306:$ER$334,2,FALSE)","v":{"$error":"#N/A"}},{"$f":"VLOOKUP($DU522,$EO$306:$ER$334,3,FALSE)","v":{"$error":"#N/A"}},{"$f":"VLOOKUP($DU522,$EO$306:$ER$334,4,FALSE)","v":{"$error":"#N/A"}},null,null,null,null,null,null,null,null,null,null,null,null,null,null,null,null,null,null,null,null,null,null,"","","",{"$f":"AR522","v":0},"",null,{"$f":"IF(NOT(OR(BY522=\"未定\",BY522=\"\")),\"令和\"&BS522&\"年\"&BV522&\"月1日\",\"\")","v":""},{"$f":"IF(FQ522=\"\",\"0\",DATEVALUE(FQ522))","v":"0"},{"$f":"IF(OR(BY522=\"予定\",BY522=\"改善済\"),1,\"\")","v":""},{"$f":"IF(FS522=1,FR522,\"0\")","v":"0"},{"$f":"IF(AND(FM522=\"要是正\",AND(FL522=0,DR522=\"未定\")),DR522,\"\")","v":""},null,{"$f":"IF(AF522=\"△既存不適格\",AT522&\"(既存不適格)\",AT522)","v":0},null,null,null,null,null,null,null,null,null,null,null,null,null,null,null,null,null,null,null,null,null,null,null,null,null,null,null,null,null,null,null,null,null,null,null,null,null,null,null,null,null,null,null,null,null,null,null,null,null,null,null,null,null,null,null,null,null,null,null,null,null,null,null,null,null,null,null,null,null,null,null,null,null,null,null,null,null,null,null,null,null,null,null,null,null,null,null,null,null,null,null,null,null,null,null,null,null,null,null,null,null,null,null,null,null,null,null,null,null,null,null,null,null,null,null,null,null,null,null,null,null,null,null,null,null,null,null,"","","-","建築物の外部","-",{"$f":"$M$331","v":"2(7)"},"-",{"$f":"$AF$305","v":"調査結果"},null,null,{"$f":"CONCATENATE(KU522,KV522,KW522,KX522,KY522,KZ522,LA522,LB522,LC522,LD522)","v":"-建築物の外部-2(7)-調査結果"},"２２調査結果-建築物の外部-2(7)-調査結果",null,null,null,null,null,"２２調査結果建築物の内部-4(2)-調査者\n番号"]
[null,null,null,null,null,null,null,null,null,null,null,null,null,null,null,null,null,null,null,null,null,null,null,null,null,null,null,null,null,null,null,null,null,null,null,null,null,null,null,null,null,null,null,null,null,null,null,null,null,null,null,null,null,null,null,null,null,null,null,null,null,null,null,null,null,null,null,null,null,null,null,null,null,null,null,null,null,null,null,null,null,null,null,null,null,null,null,null,null,null,null,null,null,null,null,null,null,null,null,null,null,null,null,null,null,null,null,null,null,null,null,null,null,null,null,null,null,null,null,null,null,null,null,null,null,null,null,null,null,null,null,null,null,null,null,null,null,null,null,null,null,null,null,null,null,null,null,null,null,null,null,null,null,null,null,null,null,null,null,null,null,null,null,null,null,null,null,null,null,null,null,null,null,null,null,null,null,null,null,null,null,null,null,null,null,null,null,null,null,null,null,null,null,null,null,null,null,null,null,null,null,null,null,null,null,null,null,null,null,null,null,null,null,null,null,null,null,null,null,null,null,null,null,null,null,null,null,null,null,null,null,null,null,null,null,null,null,null,null,null,null,null,null,null,null,null,null,null,null,null,null,null,null,null,null,null,null,null,null,null,null,null,null,null,null,null,null,null,null,null,null,null,null,null,null,null,null,null,null,null,null,null,null,null,null,null,null,null,null,null,null,null,null,null,null,null,null,null,null,null,null,null,null,null,null,null,"","","-","建築物の外部","-","2(7)","-",{"$f":"$AT$323","v":"指摘の具体的内容等"},null,null,"-建築物の外部-2(7)-指摘の具体的内容等","２２調査結果-建築物の外部-2(7)-指摘の具体的内容等",null,null,null,null,null,"２２調査結果建築物の内部-4(2)-改善策の具体的内容等"]
[null,null,null,null,null,null,null,null,null,null,null,null,null,null,null,null,null,null,null,null,null,null,null,null,null,null,null,null,null,null,null,null,null,null,null,null,null,null,null,null,null,null,null,null,null,null,null,null,null,null,null,null,null,null,null,null,null,null,null,null,null,null,null,null,null,null,null,null,null,null,null,null,null,null,null,null,null,null,null,null,null,null,null,null,null,null,null,null,null,null,null,null,null,null,null,null,null,null,null,null,null,null,null,null,null,null,null,null,null,null,null,null,null,null,null,null,null,null,null,null,null,null,null,null,null,null,null,null,null,null,null,null,null,null,null,null,null,null,null,null,null,null,null,null,null,null,null,null,null,null,null,null,null,null,null,null,null,null,null,null,null,null,null,null,null,null,null,null,null,null,null,null,null,null,null,null,null,null,null,null,null,null,null,null,null,null,null,null,null,null,null,null,null,null,null,null,null,null,null,null,null,null,null,null,null,null,null,null,null,null,null,null,null,null,null,null,null,null,null,null,null,null,null,null,null,null,null,null,null,null,null,null,null,null,null,null,null,null,null,null,null,null,null,null,null,null,null,null,null,null,null,null,null,null,null,null,null,null,null,null,null,null,null,null,null,null,null,null,null,null,null,null,null,null,null,null,null,null,null,null,null,null,null,null,null,null,null,null,null,null,null,null,null,null,null,null,null,null,null,null,null,null,null,null,null,null,"","","-","建築物の外部","-","2(9)","-",{"$f":"$AT$323","v":"指摘の具体的内容等"},null,null,"-建築物の外部-2(9)-指摘の具体的内容等","２２調査結果-建築物の外部-2(9)-指摘の具体的内容等",null,null,null,null,null,"２２調査結果建築物の内部-4(4)-改善（予定）年月-月"]
[null,null,null,null,null,null,null,null,null,null,null,null,null,null,null,null,null,null,null,null,null,null,null,null,null,null,null,null,null,null,null,null,null,null,null,null,null,null,null,null,null,null,null,null,null,null,null,null,null,null,null,null,null,null,null,null,null,null,null,null,null,null,null,null,null,null,null,null,null,null,null,null,null,null,null,null,null,null,null,null,null,null,null,null,null,null,null,null,null,null,null,null,null,null,null,null,null,null,null,null,null,null,null,null,null,null,null,null,null,null,null,null,null,null,null,null,null,null,null,null,null,null,null,null,null,null,null,null,null,null,null,null,null,null,null,null,null,null,null,null,null,null,null,null,null,null,null,null,null,null,null,null,null,null,null,null,null,null,null,null,null,null,null,null,null,null,null,null,null,null,null,null,null,null,null,null,null,null,null,null,null,null,null,null,null,null,null,null,null,null,null,null,null,null,null,null,null,null,null,null,null,null,null,null,null,null,null,null,null,null,null,null,null,null,null,null,null,null,null,null,null,null,null,null,null,null,null,null,null,null,null,null,null,null,null,null,null,null,null,null,null,null,null,null,null,null,null,null,null,null,null,null,null,null,null,null,null,null,null,null,null,null,null,null,null,null,null,null,null,null,null,null,null,null,null,null,null,null,null,null,null,null,null,null,null,null,null,null,null,null,null,null,null,null,null,null,null,null,null,null,null,null,null,null,null,null,null,null,null,null,null,"","",null,"屋上及び屋根","-","3(2)","-","改善（予定）年月","-",{"$f":"$LD$395","v":"状況"},"屋上及び屋根-3(2)-改善（予定）年月-状況","２２調査結果屋上及び屋根-3(2)-改善（予定）年月-未定",null,null,null,null,null,"２２調査結果建築物の内部-4(7)-改善（予定）年月-年\n(令和)"]
[null,null,null,null,null,null,null,null,null,null,null,null,null,null,null,null,null,null,null,null,null,null,null,null,null,null,null,null,null,null,null,null,null,null,null,null,null,null,null,null,null,null,null,null,null,null,null,null,null,null,null,null,null,null,null,null,null,null,null,null,null,null,null,null,null,null,null,null,null,null,null,null,null,null,null,null,null,null,null,null,null,null,null,null,null,null,null,null,null,null,null,null,null,null,null,null,null,null,null,null,null,null,null,null,null,null,null,null,null,null,null,null,null,null,null,null,null,null,null,null,null,null,null,null,null,null,null,null,null,null,null,null,null,null,null,null,null,null,null,null,null,null,null,null,null,null,null,null,null,null,null,null,null,null,null,null,null,null,null,null,null,null,null,null,null,null,null,null,null,null,null,null,null,null,null,null,null,null,null,null,null,null,null,null,null,null,null,null,null,null,null,null,null,null,null,null,null,null,null,null,null,null,null,null,null,null,null,null,null,null,null,null,null,null,null,null,null,null,null,null,null,null,null,null,null,null,null,null,null,null,null,null,null,null,null,null,null,null,null,null,null,null,null,null,null,null,null,null,null,null,null,null,null,null,null,null,null,null,null,null,null,null,null,null,null,null,null,null,null,null,null,null,null,null,null,null,null,null,null,null,null,null,null,null,null,null,null,null,null,null,null,null,null,null,null,null,null,null,null,null,null,null,null,null,null,null,null,null,null,null,null,null,null,null,null,null,null,null,null,null,null,"","",null,null,null,null,null,"２２調査結果建築物の内部-4(8)-改善（予定）年月-未定"]
[null,null,null,null,null,null,null,null,null,null,null,null,null,null,null,null,null,null,null,null,null,null,null,null,null,null,null,null,null,null,null,null,null,null,null,null,null,null,null,null,null,null,null,null,null,null,null,null,null,null,null,null,null,null,null,null,null,null,null,null,null,null,null,null,null,null,null,null,null,null,null,null,null,null,null,null,null,null,null,null,null,null,null,null,null,null,null,null,null,null,null,null,null,null,null,null,null,null,null,null,null,null,null,null,null,null,null,null,null,null,null,null,null,null,null,null,null,null,null,null,null,null,null,null,null,null,null,null,null,null,null,null,null,null,null,null,null,null,null,null,null,null,null,null,null,null,null,null,null,null,null,null,null,null,null,null,null,null,null,null,null,null,null,null,null,null,null,null,null,null,null,null,null,null,null,null,null,null,null,null,null,null,null,null,null,null,null,null,null,null,null,null,null,null,null,null,null,null,null,null,null,null,null,null,null,null,null,null,null,null,null,null,null,null,null,null,null,null,null,null,null,null,null,null,null,null,null,null,null,null,null,null,null,null,null,null,null,null,null,null,null,null,null,null,null,null,null,null,null,null,null,null,null,null,null,null,null,null,null,null,null,null,null,null,null,null,null,null,null,null,null,null,null,null,null,null,null,null,null,null,null,null,null,null,null,null,null,null,null,null,null,null,null,null,null,null,null,null,null,null,null,null,null,null,null,null,null,null,null,null,null,"","",null,"屋上及び屋根","-","3(5)","-",{"$f":"$BS$305","v":"改善（予定）年月"},"-",{"$f":"$BS$369","v":"年\n(令和)"},"屋上及び屋根-3(5)-改善（予定）年月-年\n(令和)","２２調査結果屋上及び屋根-3(5)-改善（予定）年月-年\n(令和)",null,null,null,null,null,"２２調査結果建築物の内部-4(10)-改善（予定）年月-月"]
[null,null,null,null,null,null,null,null,null,null,null,null,null,null,null,null,null,null,null,null,null,null,null,null,null,null,null,null,null,null,null,null,null,null,null,null,null,null,null,null,null,null,null,null,null,null,null,null,null,null,null,null,null,null,null,null,null,null,null,null,null,null,null,null,null,null,null,null,null,null,null,null,null,null,null,null,null,null,null,null,null,null,null,null,null,null,null,null,null,null,null,null,null,null,null,null,null,null,null,null,null,null,null,null,null,null,null,null,null,null,null,null,null,null,null,null,null,null,null,null,null,null,null,null,null,null,null,null,null,null,null,null,null,null,null,null,null,null,null,null,null,null,null,null,null,null,null,null,null,null,null,null,null,null,null,null,null,null,null,null,null,null,null,null,null,null,null,null,null,null,null,null,null,null,null,null,null,null,null,null,null,null,null,null,null,null,null,null,null,null,null,null,null,null,null,null,null,null,null,null,null,null,null,null,null,null,null,null,null,null,null,null,null,null,null,null,null,null,null,null,null,null,null,null,null,null,null,null,null,null,null,null,null,null,null,null,null,null,null,null,null,null,null,null,null,null,null,null,null,null,null,null,null,null,null,null,null,null,null,null,null,null,null,null,null,null,null,null,null,null,null,null,null,null,null,null,null,null,null,null,null,null,null,null,null,null,null,null,null,null,null,null,null,null,null,null,null,null,null,null,null,null,null,null,null,null,null,null,null,null,null,"","",null,"屋上及び屋根","-","3(6)","-","改善（予定）年月","-",{"$f":"$LD$395","v":"状況"},"屋上及び屋根-3(6)-改善（予定）年月-状況","２２調査結果屋上及び屋根-3(6)-改善（予定）年月-未定",null,null,null,null,null,"２２調査結果建築物の内部-4(12)-調査者\n番号"]
[null,null,null,null,null,null,null,null,null,null,null,null,null,null,null,null,null,null,null,null,null,null,null,null,null,null,null,null,null,null,null,null,null,null,null,null,null,null,null,null,null,null,null,null,null,null,null,null,null,null,null,null,null,null,null,null,null,null,null,null,null,null,null,null,null,null,null,null,null,null,null,null,null,null,null,null,null,null,null,null,null,null,null,null,null,null,null,null,null,null,null,null,null,null,null,null,null,null,null,null,null,null,null,null,null,null,null,null,null,null,null,null,null,null,null,null,null,null,null,null,null,null,null,null,null,null,null,null,null,null,null,null,null,null,null,null,null,null,null,null,null,null,null,null,null,null,null,null,null,null,null,null,null,null,null,null,null,null,null,null,null,null,null,null,null,null,null,null,null,null,null,null,null,null,null,null,null,null,null,null,null,null,null,null,null,null,null,null,null,null,null,null,null,null,null,null,null,null,null,null,null,null,null,null,null,null,null,null,null,null,null,null,null,null,null,null,null,null,null,null,null,null,null,null,null,null,null,null,null,null,null,null,null,null,null,null,null,null,null,null,null,null,null,null,null,null,null,null,null,null,null,null,null,null,null,null,null,null,null,null,null,null,null,null,null,null,null,null,null,null,null,null,null,null,null,null,null,null,null,null,null,null,null,null,null,null,null,null,null,null,null,null,null,null,null,null,null,null,null,null,null,null,null,null,null,null,null,null,null,null,null,"","",null,"屋上及び屋根","-","3(8)","-",{"$f":"$AT$323","v":"指摘の具体的内容等"},null,null,"屋上及び屋根-3(8)-指摘の具体的内容等","２２調査結果屋上及び屋根-3(8)-指摘の具体的内容等",null,null,null,null,null,"２２調査結果建築物の内部-4(13)-改善（予定）年月-未定"]
[null,null,null,null,null,null,null,null,null,null,null,null,null,null,null,null,null,null,null,null,null,null,null,null,null,null,null,null,null,null,null,null,null,null,null,null,null,null,null,null,null,null,null,null,null,null,null,null,null,null,null,null,null,null,null,null,null,null,null,null,null,null,null,null,null,null,null,null,null,null,null,null,null,null,null,null,null,null,null,null,null,null,null,null,null,null,null,null,null,null,null,null,null,null,null,null,null,null,null,null,null,null,null,null,null,null,null,null,null,null,null,null,null,null,null,null,null,null,null,null,null,null,null,null,null,null,null,null,null,null,null,null,null,null,null,null,null,null,null,null,null,null,null,null,null,null,null,null,null,null,null,null,null,null,null,null,null,null,null,null,null,null,null,null,null,null,null,null,null,null,null,null,null,null,null,null,null,null,null,null,null,null,null,null,null,null,null,null,null,null,null,null,null,null,null,null,null,null,null,null,null,null,null,null,null,null,null,null,null,null,null,null,null,null,null,null,null,null,null,null,null,null,null,null,null,null,null,null,null,null,null,null,null,null,null,null,null,null,null,null,null,null,null,null,null,null,null,null,null,null,null,null,null,null,null,null,null,null,null,null,null,null,null,null,null,null,null,null,null,null,null,null,null,null,null,null,null,null,null,null,null,null,null,null,null,null,null,null,null,null,null,null,null,null,null,null,null,null,null,null,null,null,null,null,null,null,null,null,null,null,null,"","",null,"屋上及び屋根","-",{"$f":"$M$360","v":"3(9)"},"-",{"$f":"$AR$305","v":"調査者\n番号"},null,null,"屋上及び屋根-3(9)-調査者\n番号","２２調査結果屋上及び屋根-3(9)-調査者\n番号",null,null,null,null,null,"２２調査結果建築物の内部-4(14)-改善（予定）年月-未定"]
[null,null,null,null,null,null,null,null,null,null,null,null,null,null,null,null,null,null,null,null,null,null,null,null,null,null,null,null,null,null,null,null,null,null,null,null,null,null,null,null,null,null,null,null,null,null,null,null,null,null,null,null,null,null,null,null,null,null,null,null,null,null,null,null,null,null,null,null,null,null,null,null,null,null,null,null,null,null,null,null,null,null,null,null,null,null,null,null,null,null,null,null,null,null,null,null,null,null,null,null,null,null,null,null,null,null,null,null,null,null,null,null,null,null,null,null,null,null,null,null,null,null,null,null,null,null,null,null,null,null,null,null,null,null,null,null,null,null,null,null,null,null,null,null,null,null,null,null,null,null,null,null,null,null,null,null,null,null,null,null,null,null,null,null,null,null,null,null,null,null,null,null,null,null,null,null,null,null,null,null,null,null,null,null,null,null,null,null,null,null,null,null,null,null,null,null,null,null,null,null,null,null,null,null,null,null,null,null,null,null,null,null,null,null,null,null,null,null,null,null,null,null,null,null,null,null,null,null,null,null,null,null,null,null,null,null,null,null,null,null,null,null,null,null,null,null,null,null,null,null,null,null,null,null,null,null,null,null,null,null,null,null,null,null,null,null,null,null,null,null,null,null,null,null,null,null,null,null,null,null,null,null,null,null,null,null,null,null,null,null,null,null,null,null,null,null,null,null,null,null,null,null,null,null,null,null,null,null,null,null,null,"","",null,{"$f":"$M$367","v":"建築物の内部"},"-",{"$f":"$M$371","v":"4(2)"},"-",{"$f":"$AF$305","v":"調査結果"},null,null,"建築物の内部-4(2)-調査結果","２２調査結果建築物の内部-4(2)-調査結果",null,null,null,null,null,"２２調査結果建築物の内部-4(17)-調査結果"]
[null,null,null,null,null,null,null,null,null,null,null,null,null,null,null,null,null,null,null,null,null,null,null,null,null,null,null,null,null,null,null,null,null,null,null,null,null,null,null,null,null,null,null,null,null,null,null,null,null,null,null,null,null,null,null,null,null,null,null,null,null,null,null,null,null,null,null,null,null,null,null,null,null,null,null,null,null,null,null,null,null,null,null,null,null,null,null,null,null,null,null,null,null,null,null,null,null,null,null,null,null,null,null,null,null,null,null,null,null,null,null,null,null,null,null,null,null,null,null,null,null,null,null,null,null,null,null,null,null,null,null,null,null,null,null,null,null,null,null,null,null,null,null,null,null,null,null,null,null,null,null,null,null,null,null,null,null,null,null,null,null,null,null,null,null,null,null,null,null,null,null,null,null,null,null,null,null,null,null,null,null,null,null,null,null,null,null,null,null,null,null,null,null,null,null,null,null,null,null,null,null,null,null,null,null,null,null,null,null,null,null,null,null,null,null,null,null,null,null,null,null,null,null,null,null,null,null,null,null,null,null,null,null,null,null,null,null,null,null,null,null,null,null,null,null,null,null,null,null,null,null,null,null,null,null,null,null,null,null,null,null,null,null,null,null,null,null,null,null,null,null,null,null,null,null,null,null,null,null,null,null,null,null,null,null,null,null,null,null,null,null,null,null,null,null,null,null,null,null,null,null,null,null,null,null,null,null,null,null,null,null,"","",null,"建築物の内部","-","4(4)","-",{"$f":"$BS$305","v":"改善（予定）年月"},"-",{"$f":"$BS$369","v":"年\n(令和)"},"建築物の内部-4(4)-改善（予定）年月-年\n(令和)","２２調査結果建築物の内部-4(4)-改善（予定）年月-年\n(令和)",null,null,null,null,null,"２２調査結果建築物の内部-4(19)-改善（予定）年月-未定"]
[null,null,null,null,null,null,null,null,null,null,null,null,null,null,null,null,null,null,null,null,null,null,null,null,null,null,null,null,null,null,null,null,null,null,null,null,null,null,null,null,null,null,null,null,null,null,null,null,null,null,null,null,null,null,null,null,null,null,null,null,null,null,null,null,null,null,null,null,null,null,null,null,null,null,null,null,null,null,null,null,null,null,null,null,null,null,null,null,null,null,null,null,null,null,null,null,null,null,null,null,null,null,null,null,null,null,null,null,null,null,null,null,null,null,null,null,null,null,null,null,null,null,null,null,null,null,null,null,null,null,null,null,null,null,null,null,null,null,null,null,null,null,null,null,null,null,null,null,null,null,null,null,null,null,null,null,null,null,null,null,null,null,null,null,null,null,null,null,null,null,null,null,null,null,null,null,null,null,null,null,null,null,null,null,null,null,null,null,null,null,null,null,null,null,null,null,null,null,null,null,null,null,null,null,null,null,null,null,null,null,null,null,null,null,null,null,null,null,null,null,null,null,null,null,null,null,null,null,null,null,null,null,null,null,null,null,null,null,null,null,null,null,null,null,null,null,null,null,null,null,null,null,null,null,null,null,null,null,null,null,null,null,null,null,null,null,null,null,null,null,null,null,null,null,null,null,null,null,null,null,null,null,null,null,null,null,null,null,null,null,null,null,null,null,null,null,null,null,null,null,null,null,null,null,null,null,null,null,null,null,null,"","",null,"建築物の内部","-","4(4)","-","改善（予定）年月","-",{"$f":"$LD$395","v":"状況"},"建築物の内部-4(4)-改善（予定）年月-状況","２２調査結果建築物の内部-4(4)-改善（予定）年月-未定",null,null,null,null,null,"２２調査結果建築物の内部-4(20)-調査者\n番号"]
[null,null,null,null,null,null,null,null,null,null,null,null,null,null,null,null,null,null,null,null,null,null,null,null,null,null,null,null,null,null,null,null,null,null,null,null,null,null,null,null,null,null,null,null,null,null,null,null,null,null,null,null,null,null,null,null,null,null,null,null,null,null,null,null,null,null,null,null,null,null,null,null,null,null,null,null,null,null,null,null,null,null,null,null,null,null,null,null,null,null,null,null,null,null,null,null,null,null,null,null,null,null,null,null,null,null,null,null,null,null,null,null,null,null,null,null,null,null,null,null,null,null,null,null,null,null,null,null,null,null,null,null,null,null,null,null,null,null,null,null,null,null,null,null,null,null,null,null,null,null,null,null,null,null,null,null,null,null,null,null,null,null,null,null,null,null,null,null,null,null,null,null,null,null,null,null,null,null,null,null,null,null,null,null,null,null,null,null,null,null,null,null,null,null,null,null,null,null,null,null,null,null,null,null,null,null,null,null,null,null,null,null,null,null,null,null,null,null,null,null,null,null,null,null,null,null,null,null,null,null,null,null,null,null,null,null,null,null,null,null,null,null,null,null,null,null,null,null,null,null,null,null,null,null,null,null,null,null,null,null,null,null,null,null,null,null,null,null,null,null,null,null,null,null,null,null,null,null,null,null,null,null,null,null,null,null,null,null,null,null,null,null,null,null,null,null,null,null,null,null,null,null,null,null,null,null,null,null,null,null,null,"","",null,"建築物の内部","-","4(7)","-",{"$f":"$BD$323","v":"改善策の具体的内容等"},null,null,"建築物の内部-4(7)-改善策の具体的内容等","２２調査結果建築物の内部-4(7)-改善策の具体的内容等",null,null,null,null,null,"２２調査結果建築物の内部-4(23)-調査者\n番号"]
[null,null,null,null,null,null,null,null,null,null,null,null,null,null,null,null,null,null,null,null,null,null,null,null,null,null,null,null,null,null,null,null,null,null,null,null,null,null,null,null,null,null,null,null,null,null,null,null,null,null,null,null,null,null,null,null,null,null,null,null,null,null,null,null,null,null,null,null,null,null,null,null,null,null,null,null,null,null,null,null,null,null,null,null,null,null,null,null,null,null,null,null,null,null,null,null,null,null,null,null,null,null,null,null,null,null,null,null,null,null,null,null,null,null,null,null,null,null,null,null,null,null,null,null,null,null,null,null,null,null,null,null,null,null,null,null,null,null,null,null,null,null,null,null,null,null,null,null,null,null,null,null,null,null,null,null,null,null,null,null,null,null,null,null,null,null,null,null,null,null,null,null,null,null,null,null,null,null,null,null,null,null,null,null,null,null,null,null,null,null,null,null,null,null,null,null,null,null,null,null,null,null,null,null,null,null,null,null,null,null,null,null,null,null,null,null,null,null,null,null,null,null,null,null,null,null,null,null,null,null,null,null,null,null,null,null,null,null,null,null,null,null,null,null,null,null,null,null,null,null,null,null,null,null,null,null,null,null,null,null,null,null,null,null,null,null,null,null,null,null,null,null,null,null,null,null,null,null,null,null,null,null,null,null,null,null,null,null,null,null,null,null,null,null,null,null,null,null,null,null,null,null,null,null,null,null,null,null,null,null,null,"","",null,{"$f":"$M$367","v":"建築物の内部"},"-",{"$f":"$M$377","v":"4(8)"},"-",{"$f":"$AF$305","v":"調査結果"},null,null,"建築物の内部-4(8)-調査結果","２２調査結果建築物の内部-4(8)-調査結果",null,null,null,null,null,"２２調査結果建築物の内部-4(23)-改善（予定）年月-未定"]
[null,null,null,null,null,null,null,null,null,null,null,null,null,null,null,null,null,null,null,null,null,null,null,null,null,null,null,null,null,null,null,null,null,null,null,null,null,null,null,null,null,null,null,null,null,null,null,null,null,null,null,null,null,null,null,null,null,null,null,null,null,null,null,null,null,null,null,null,null,null,null,null,null,null,null,null,null,null,null,null,null,null,null,null,null,null,null,null,null,null,null,null,null,null,null,null,null,null,null,null,null,null,null,null,null,null,null,null,null,null,null,null,null,null,null,null,null,null,null,null,null,null,null,null,null,null,null,null,null,null,null,null,null,null,null,null,null,null,null,null,null,null,null,null,null,null,null,null,null,null,null,null,null,null,null,null,null,null,null,null,null,null,null,null,null,null,null,null,null,null,null,null,null,null,null,null,null,null,null,null,null,null,null,null,null,null,null,null,null,null,null,null,null,null,null,null,null,null,null,null,null,null,null,null,null,null,null,null,null,null,null,null,null,null,null,null,null,null,null,null,null,null,null,null,null,null,null,null,null,null,null,null,null,null,null,null,null,null,null,null,null,null,null,null,null,null,null,null,null,null,null,null,null,null,null,null,null,null,null,null,null,null,null,null,null,null,null,null,null,null,null,null,null,null,null,null,null,null,null,null,null,null,null,null,null,null,null,null,null,null,null,null,null,null,null,null,null,null,null,null,null,null,null,null,null,null,null,null,null,null,null,{"$f":"LEFT($J$297,2)","v":""},{"$f":"MID($J$297,4,4)","v":""},null,{"$f":"$M$367","v":"建築物の内部"},"-",{"$f":"$M$379","v":"4(10)"},"-",{"$f":"$AF$305","v":"調査結果"},null,null,"建築物の内部-4(10)-調査結果","２２調査結果建築物の内部-4(10)-調査結果",null,null,null,null,null,"２２調査結果建築物の内部-4(32)-調査者\n番号"]
[null,null,null,null,null,null,null,null,null,null,null,null,null,null,null,null,null,null,null,null,null,null,null,null,null,null,null,null,null,null,null,null,null,null,null,null,null,null,null,null,null,null,null,null,null,null,null,null,null,null,null,null,null,null,null,null,null,null,null,null,null,null,null,null,null,null,null,null,null,null,null,null,null,null,null,null,null,null,null,null,null,null,null,null,null,null,null,null,null,null,null,null,null,null,null,null,null,null,null,null,null,null,null,null,null,null,null,null,null,null,null,null,null,null,null,null,null,null,null,null,null,null,null,null,null,null,null,null,null,null,null,null,null,null,null,null,null,null,null,null,null,null,null,null,null,null,null,null,null,null,null,null,null,null,null,null,null,null,null,null,null,null,null,null,null,null,null,null,null,null,null,null,null,null,null,null,null,null,null,null,null,null,null,null,null,null,null,null,null,null,null,null,null,null,null,null,null,null,null,null,null,null,null,null,null,null,null,null,null,null,null,null,null,null,null,null,null,null,null,null,null,null,null,null,null,null,null,null,null,null,null,null,null,null,null,null,null,null,null,null,null,null,null,null,null,null,null,null,null,null,null,null,null,null,null,null,null,null,null,null,null,null,null,null,null,null,null,null,null,null,null,null,null,null,null,null,null,null,null,null,null,null,null,null,null,null,null,null,null,null,null,null,null,null,null,null,null,null,null,null,null,null,null,null,null,null,null,null,null,null,null,"","",null,"建築物の内部","-","4(11)","-",{"$f":"$BS$305","v":"改善（予定）年月"},"-",{"$f":"$BS$369","v":"年\n(令和)"},"建築物の内部-4(11)-改善（予定）年月-年\n(令和)","２２調査結果建築物の内部-4(11)-改善（予定）年月-年\n(令和)",null,null,null,null,null,"２２調査結果建築物の内部-4(33)-改善（予定）年月-未定"]
[null,null,null,null,null,null,null,null,null,null,null,null,null,null,null,null,null,null,null,null,null,null,null,null,null,null,null,null,null,null,null,null,null,null,null,null,null,null,null,null,null,null,null,null,null,null,null,null,null,null,null,null,null,null,null,null,null,null,null,null,null,null,null,null,null,null,null,null,null,null,null,null,null,null,null,null,null,null,null,null,null,null,null,null,null,null,null,null,null,null,null,null,null,null,null,null,null,null,null,null,null,null,null,null,null,null,null,null,null,null,null,null,null,null,null,null,null,null,null,null,null,null,null,null,null,null,null,null,null,null,null,null,null,null,null,null,null,null,null,null,null,null,null,null,null,null,null,null,null,null,null,null,null,null,null,null,null,null,null,null,null,null,null,null,null,null,null,null,null,null,null,null,null,null,null,null,null,null,null,null,null,null,null,null,null,null,null,null,null,null,null,null,null,null,null,null,null,null,null,null,null,null,null,null,null,null,null,null,null,null,null,null,null,null,null,null,null,null,null,null,null,null,null,null,null,null,null,null,null,null,null,null,null,null,null,null,null,null,null,null,null,null,null,null,null,null,null,null,null,null,null,null,null,null,null,null,null,null,null,null,null,null,null,null,null,null,null,null,null,null,null,null,null,null,null,null,null,null,null,null,null,null,null,null,null,null,null,null,null,null,null,null,null,null,null,null,null,null,null,null,null,null,null,null,null,null,null,null,null,null,null,"","",null,"建築物の内部","-","4(13)","-",{"$f":"$AT$323","v":"指摘の具体的内容等"},null,null,"建築物の内部-4(13)-指摘の具体的内容等","２２調査結果建築物の内部-4(13)-指摘の具体的内容等",null,null,null,null,null,"２２調査結果建築物の内部-4(35)-改善（予定）年月-未定"]
[null,null,null,null,null,null,null,null,null,null,null,null,null,null,null,null,null,null,null,null,null,null,null,null,null,null,null,null,null,null,null,null,null,null,null,null,null,null,null,null,null,null,null,null,null,null,null,null,null,null,null,null,null,null,null,null,null,null,null,null,null,null,null,null,null,null,null,null,null,null,null,null,null,null,null,null,null,null,null,null,null,null,null,null,null,null,null,null,null,null,null,null,null,null,null,null,null,null,null,null,null,null,null,null,null,null,null,null,null,null,null,null,null,null,null,null,null,null,null,null,null,null,null,null,null,null,null,null,null,null,null,null,null,null,null,null,null,null,null,null,null,null,null,null,null,null,null,null,null,null,null,null,null,null,null,null,null,null,null,null,null,null,null,null,null,null,null,null,null,null,null,null,null,null,null,null,null,null,null,null,null,null,null,null,null,null,null,null,null,null,null,null,null,null,null,null,null,null,null,null,null,null,null,null,null,null,null,null,null,null,null,null,null,null,null,null,null,null,null,null,null,null,null,null,null,null,null,null,null,null,null,null,null,null,null,null,null,null,null,null,null,null,null,null,null,null,null,null,null,null,null,null,null,null,null,null,null,null,null,null,null,null,null,null,null,null,null,null,null,null,null,null,null,null,null,null,null,null,null,null,null,null,null,null,null,null,null,null,null,null,null,null,null,null,null,null,null,null,null,null,null,null,null,null,null,null,null,null,null,null,null,"","",null,"建築物の内部","-","4(14)","-",{"$f":"$BD$323","v":"改善策の具体的内容等"},null,null,"建築物の内部-4(14)-改善策の具体的内容等","２２調査結果建築物の内部-4(14)-改善策の具体的内容等",null,null,null,null,null,"２２調査結果建築物の内部-4(37)-調査者\n番号"]
[null,null,null,null,null,null,null,null,null,null,null,null,null,null,null,null,null,null,null,null,null,null,null,null,null,null,null,null,null,null,null,null,null,null,null,null,null,null,null,null,null,null,null,null,null,null,null,null,null,null,null,null,null,null,null,null,null,null,null,null,null,null,null,null,null,null,null,null,null,null,null,null,null,null,null,null,null,null,null,null,null,null,null,null,null,null,null,null,null,null,null,null,null,null,null,null,null,null,null,null,null,null,null,null,null,null,null,null,null,null,null,null,null,null,null,null,null,null,null,null,null,null,null,null,null,null,null,null,null,null,null,null,null,null,null,null,null,null,null,null,null,null,null,null,null,null,null,null,null,null,null,null,null,null,null,null,null,null,null,null,null,null,null,null,null,null,null,null,null,null,null,null,null,null,null,null,null,null,null,null,null,null,null,null,null,null,null,null,null,null,null,null,null,null,null,null,null,null,null,null,null,null,null,null,null,null,null,null,null,null,null,null,null,null,null,null,null,null,null,null,null,null,null,null,null,null,null,null,null,null,null,null,null,null,null,null,null,null,null,null,null,null,null,null,null,null,null,null,null,null,null,null,null,null,null,null,null,null,null,null,null,null,null,null,null,null,null,null,null,null,null,null,null,null,null,null,null,null,null,null,null,null,null,null,null,null,null,null,null,null,null,null,null,null,null,null,null,null,null,null,null,null,null,null,null,null,null,null,null,null,null,{"$f":"LEFT($J$297,2)","v":""},{"$f":"MID($J$297,4,4)","v":""},null,{"$f":"$M$367","v":"建築物の内部"},"-",{"$f":"$M$385","v":"4(16)"},"-",{"$f":"$AF$305","v":"調査結果"},null,null,"建築物の内部-4(16)-調査結果","２２調査結果建築物の内部-4(16)-調査結果",null,null,null,null,null,"２２調査結果建築物の内部-4(44)-調査結果"]
[null,null,null,null,null,null,null,null,null,null,null,null,null,null,null,null,null,null,null,null,null,null,null,null,null,null,null,null,null,null,null,null,null,null,null,null,null,null,null,null,null,null,null,null,null,null,null,null,null,null,null,null,null,null,null,null,null,null,null,null,null,null,null,null,null,null,null,null,null,null,null,null,null,null,null,null,null,null,null,null,null,null,null,null,null,null,null,null,null,null,null,null,null,null,null,null,null,null,null,null,null,null,null,null,null,null,null,null,null,null,null,null,null,null,null,null,null,null,null,null,null,null,null,null,null,null,null,null,null,null,null,null,null,null,null,null,null,null,null,null,null,null,null,null,null,null,null,null,null,null,null,null,null,null,null,null,null,null,null,null,null,null,null,null,null,null,null,null,null,null,null,null,null,null,null,null,null,null,null,null,null,null,null,null,null,null,null,null,null,null,null,null,null,null,null,null,null,null,null,null,null,null,null,null,null,null,null,null,null,null,null,null,null,null,null,null,null,null,null,null,null,null,null,null,null,null,null,null,null,null,null,null,null,null,null,null,null,null,null,null,null,null,null,null,null,null,null,null,null,null,null,null,null,null,null,null,null,null,null,null,null,null,null,null,null,null,null,null,null,null,null,null,null,null,null,null,null,null,null,null,null,null,null,null,null,null,null,null,null,null,null,null,null,null,null,null,null,null,null,null,null,null,null,null,null,null,null,null,null,null,null,"","",null,"建築物の内部","-","4(18)","-","改善（予定）年月","-",{"$f":"$LD$395","v":"状況"},"建築物の内部-4(18)-改善（予定）年月-状況","２２調査結果建築物の内部-4(18)-改善（予定）年月-未定",null,null,null,null,null,"２２調査結果建築物の内部-4(47)-調査者\n番号"]
[null,null,null,null,null,null,null,null,null,null,null,null,null,null,null,null,null,null,null,null,null,null,null,null,null,null,null,null,null,null,null,null,null,null,null,null,null,null,null,null,null,null,null,null,null,null,null,null,null,null,null,null,null,null,null,null,null,null,null,null,null,null,null,null,null,null,null,null,null,null,null,null,null,null,null,null,null,null,null,null,null,null,null,null,null,null,null,null,null,null,null,null,null,null,null,null,null,null,null,null,null,null,null,null,null,null,null,null,null,null,null,null,null,null,null,null,null,null,null,null,null,null,null,null,null,null,null,null,null,null,null,null,null,null,null,null,null,null,null,null,null,null,null,null,null,null,null,null,null,null,null,null,null,null,null,null,null,null,null,null,null,null,null,null,null,null,null,null,null,null,null,null,null,null,null,null,null,null,null,null,null,null,null,null,null,null,null,null,null,null,null,null,null,null,null,null,null,null,null,null,null,null,null,null,null,null,null,null,null,null,null,null,null,null,null,null,null,null,null,null,null,null,null,null,null,null,null,null,null,null,null,null,null,null,null,null,null,null,null,null,null,null,null,null,null,null,null,null,null,null,null,null,null,null,null,null,null,null,null,null,null,null,null,null,null,null,null,null,null,null,null,null,null,null,null,null,null,null,null,null,null,null,null,null,null,null,null,null,null,null,null,null,null,null,null,null,null,null,null,null,null,null,null,null,null,null,null,null,null,null,null,"","",null,"建築物の内部","-","4(20)","-",{"$f":"$BD$323","v":"改善策の具体的内容等"},null,null,"建築物の内部-4(20)-改善策の具体的内容等","２２調査結果建築物の内部-4(20)-改善策の具体的内容等",null,null,null,null,null,"２２調査結果避難施設等-5(2)-調査結果"]
[null,null,null,null,null,null,null,null,null,null,null,null,null,null,null,null,null,null,null,null,null,null,null,null,null,null,null,null,null,null,null,null,null,null,null,null,null,null,null,null,null,null,null,null,null,null,null,null,null,null,null,null,null,null,null,null,null,null,null,null,null,null,null,null,null,null,null,null,null,null,null,null,null,null,null,null,null,null,null,null,null,null,null,null,null,null,null,null,null,null,null,null,null,null,null,null,null,null,null,null,null,null,null,null,null,null,null,null,null,null,null,null,null,null,null,null,null,null,null,null,null,null,null,null,null,null,null,null,null,null,null,null,null,null,null,null,null,null,null,null,null,null,null,null,null,null,null,null,null,null,null,null,null,null,null,null,null,null,null,null,null,null,null,null,null,null,null,null,null,null,null,null,null,null,null,null,null,null,null,null,null,null,null,null,null,null,null,null,null,null,null,null,null,null,null,null,null,null,null,null,null,null,null,null,null,null,null,null,null,null,null,null,null,null,null,null,null,null,null,null,null,null,null,null,null,null,null,null,null,null,null,null,null,null,null,null,null,null,null,null,null,null,null,null,null,null,null,null,null,null,null,null,null,null,null,null,null,null,null,null,null,null,null,null,null,null,null,null,null,null,null,null,null,null,null,null,null,null,null,null,null,null,null,null,null,null,null,null,null,null,null,null,null,null,null,null,null,null,null,null,null,null,null,null,null,null,null,null,null,null,null,"","",null,"建築物の内部","-",{"$f":"$M$390","v":"4(21)"},"-",{"$f":"$AR$305","v":"調査者\n番号"},null,null,"建築物の内部-4(21)-調査者\n番号","２２調査結果建築物の内部-4(21)-調査者\n番号",null,null,null,null,null,"２２調査結果避難施設等-5(2)-改善（予定）年月-未定"]
[null,null,null,null,null,null,null,null,null,null,null,null,null,null,null,null,null,null,null,null,null,null,null,null,null,null,null,null,null,null,null,null,null,null,null,null,null,null,null,null,null,null,null,null,null,null,null,null,null,null,null,null,null,null,null,null,null,null,null,null,null,null,null,null,null,null,null,null,null,null,null,null,null,null,null,null,null,null,null,null,null,null,null,null,null,null,null,null,null,null,null,null,null,null,null,null,null,null,null,null,null,null,null,null,null,null,null,null,null,null,null,null,null,null,null,null,null,null,null,null,null,null,null,null,null,null,null,null,null,null,null,null,null,null,null,null,null,null,null,null,null,null,null,null,null,null,null,null,null,null,null,null,null,null,null,null,null,null,null,null,null,null,null,null,null,null,null,null,null,null,null,null,null,null,null,null,null,null,null,null,null,null,null,null,null,null,null,null,null,null,null,null,null,null,null,null,null,null,null,null,null,null,null,null,null,null,null,null,null,null,null,null,null,null,null,null,null,null,null,null,null,null,null,null,null,null,null,null,null,null,null,null,null,null,null,null,null,null,null,null,null,null,null,null,null,null,null,null,null,null,null,null,null,null,null,null,null,null,null,null,null,null,null,null,null,null,null,null,null,null,null,null,null,null,null,null,null,null,null,null,null,null,null,null,null,null,null,null,null,null,null,null,null,null,null,null,null,null,null,null,null,null,null,null,null,null,null,null,null,null,null,"","",null,"建築物の内部","-",{"$f":"$M$392","v":"4(23)"},"-",{"$f":"$AR$305","v":"調査者\n番号"},null,null,"建築物の内部-4(23)-調査者\n番号","２２調査結果建築物の内部-4(23)-調査者\n番号",null,null,null,null,null,"２２調査結果避難施設等-5(5)-調査者\n番号"]
[null,null,null,null,null,null,null,null,null,null,null,null,null,null,null,null,null,null,null,null,null,null,null,null,null,null,null,null,null,null,null,null,null,null,null,null,null,null,null,null,null,null,null,null,null,null,null,null,null,null,null,null,null,null,null,null,null,null,null,null,null,null,null,null,null,null,null,null,null,null,null,null,null,null,null,null,null,null,null,null,null,null,null,null,null,null,null,null,null,null,null,null,null,null,null,null,null,null,null,null,null,null,null,null,null,null,null,null,null,null,null,null,null,null,null,null,null,null,null,null,null,null,null,null,null,null,null,null,null,null,null,null,null,null,null,null,null,null,null,null,null,null,null,null,null,null,null,null,null,null,null,null,null,null,null,null,null,null,null,null,null,null,null,null,null,null,null,null,null,null,null,null,null,null,null,null,null,null,null,null,null,null,null,null,null,null,null,null,null,null,null,null,null,null,null,null,null,null,null,null,null,null,null,null,null,null,null,null,null,null,null,null,null,null,null,null,null,null,null,null,null,null,null,null,null,null,null,null,null,null,null,null,null,null,null,null,null,null,null,null,null,null,null,null,null,null,null,null,null,null,null,null,null,null,null,null,null,null,null,null,null,null,null,null,null,null,null,null,null,null,null,null,null,null,null,null,null,null,null,null,null,null,null,null,null,null,null,null,null,null,null,null,null,null,null,null,null,null,null,null,null,null,null,null,null,null,null,null,null,null,null,{"$f":"LEFT($J$297,2)","v":""},{"$f":"MID($J$297,4,4)","v":""},null,{"$f":"$M$367","v":"建築物の内部"},"-",{"$f":"$M$393","v":"4(24)"},"-",{"$f":"$AF$305","v":"調査結果"},null,null,"建築物の内部-4(24)-調査結果","２２調査結果建築物の内部-4(24)-調査結果",null,null,null,null,null,"２２調査結果避難施設等-5(6)-調査者\n番号"]
[null,null,null,null,null,null,null,null,null,null,null,null,null,null,null,null,null,null,null,null,null,null,null,null,null,null,null,null,null,null,null,null,null,null,null,null,null,null,null,null,null,null,null,null,null,null,null,null,null,null,null,null,null,null,null,null,null,null,null,null,null,null,null,null,null,null,null,null,null,null,null,null,null,null,null,null,null,null,null,null,null,null,null,null,null,null,null,null,null,null,null,null,null,null,null,null,null,null,null,null,null,null,null,null,null,null,null,null,null,null,null,null,null,null,null,null,null,null,null,null,null,null,null,null,null,null,null,null,null,null,null,null,null,null,null,null,null,null,null,null,null,null,null,null,null,null,null,null,null,null,null,null,null,null,null,null,null,null,null,null,null,null,null,null,null,null,null,null,null,null,null,null,null,null,null,null,null,null,null,null,null,null,null,null,null,null,null,null,null,null,null,null,null,null,null,null,null,null,null,null,null,null,null,null,null,null,null,null,null,null,null,null,null,null,null,null,null,null,null,null,null,null,null,null,null,null,null,null,null,null,null,null,null,null,null,null,null,null,null,null,null,null,null,null,null,null,null,null,null,null,null,null,null,null,null,null,null,null,null,null,null,null,null,null,null,null,null,null,null,null,null,null,null,null,null,null,null,null,null,null,null,null,null,null,null,null,null,null,null,null,null,null,null,null,null,null,null,null,null,null,null,null,null,null,null,null,null,null,null,null,null,null,null,null,null,null,null,null,null,null,null,"","",null,null,null,null,null,"２２調査結果避難施設等-5(8)-指摘の具体的内容等"]
[null,null,null,null,null,null,null,null,null,null,null,null,null,null,null,null,null,null,null,null,null,null,null,null,null,null,null,null,null,null,null,null,null,null,null,null,null,null,null,null,null,null,null,null,null,null,null,null,null,null,null,null,null,null,null,null,null,null,null,null,null,null,null,null,null,null,null,null,null,null,null,null,null,null,null,null,null,null,null,null,null,null,null,null,null,null,null,null,null,null,null,null,null,null,null,null,null,null,null,null,null,null,null,null,null,null,null,null,null,null,null,null,null,null,null,null,null,null,null,null,null,null,null,null,null,null,null,null,null,null,null,null,null,null,null,null,null,null,null,null,null,null,null,null,null,null,null,null,null,null,null,null,null,null,null,null,null,null,null,null,null,null,null,null,null,null,null,null,null,null,null,null,null,null,null,null,null,null,null,null,null,null,null,null,null,null,null,null,null,null,null,null,null,null,null,null,null,null,null,null,null,null,null,null,null,null,null,null,null,null,null,null,null,null,null,null,null,null,null,null,null,null,null,null,null,null,null,null,null,null,null,null,null,null,null,null,null,null,null,null,null,null,null,null,null,null,null,null,null,null,null,null,null,null,null,null,null,null,null,null,null,null,null,null,null,null,null,null,null,null,null,null,null,null,null,null,null,null,null,null,null,null,null,null,null,null,null,null,null,null,null,null,null,null,null,null,null,null,null,null,null,null,null,null,null,null,null,null,null,null,null,"","",null,"建築物の内部","-","4(32)","-","改善（予定）年月","-",{"$f":"$LD$395","v":"状況"},"建築物の内部-4(32)-改善（予定）年月-状況","２２調査結果建築物の内部-4(32)-改善（予定）年月-未定",null,null,null,null,null,"２２調査結果避難施設等-5(9)-指摘の具体的内容等"]
[null,null,null,null,null,null,null,null,null,null,null,null,null,null,null,null,null,null,null,null,null,null,null,null,null,null,null,null,null,null,null,null,null,null,null,null,null,null,null,null,null,null,null,null,null,null,null,null,null,null,null,null,null,null,null,null,null,null,null,null,null,null,null,null,null,null,null,null,null,null,null,null,null,null,null,null,null,null,null,null,null,null,null,null,null,null,null,null,null,null,null,null,null,null,null,null,null,null,null,null,null,null,null,null,null,null,null,null,null,null,null,null,null,null,null,null,null,null,null,null,null,null,null,null,null,null,null,null,null,null,null,null,null,null,null,null,null,null,null,null,null,null,null,null,null,null,null,null,null,null,null,null,null,null,null,null,null,null,null,null,null,null,null,null,null,null,null,null,null,null,null,null,null,null,null,null,null,null,null,null,null,null,null,null,null,null,null,null,null,null,null,null,null,null,null,null,null,null,null,null,null,null,null,null,null,null,null,null,null,null,null,null,null,null,null,null,null,null,null,null,null,null,null,null,null,null,null,null,null,null,null,null,null,null,null,null,null,null,null,null,null,null,null,null,null,null,null,null,null,null,null,null,null,null,null,null,null,null,null,null,null,null,null,null,null,null,null,null,null,null,null,null,null,null,null,null,null,null,null,null,null,null,null,null,null,null,null,null,null,null,null,null,null,null,null,null,null,null,null,null,null,null,null,null,null,null,null,null,null,null,null,"","",null,"建築物の内部","-","4(35)","-","改善（予定）年月","-",{"$f":"$BV$369","v":"月"},"建築物の内部-4(35)-改善（予定）年月-月","２２調査結果建築物の内部-4(35)-改善（予定）年月-月",null,null,null,null,null,"２２調査結果避難施設等-5(12)-改善（予定）年月-年\n(令和)"]
[null,null,null,null,null,null,null,null,null,null,null,null,null,null,null,null,null,null,null,null,null,null,null,null,null,null,null,null,null,null,null,null,null,null,null,null,null,null,null,null,null,null,null,null,null,null,null,null,null,null,null,null,null,null,null,null,null,null,null,null,null,null,null,null,null,null,null,null,null,null,null,null,null,null,null,null,null,null,null,null,null,null,null,null,null,null,null,null,null,null,null,null,null,null,null,null,null,null,null,null,null,null,null,null,null,null,null,null,null,null,null,null,null,null,null,null,null,null,null,null,null,null,null,null,null,null,null,null,null,null,null,null,null,null,null,null,null,null,null,null,null,null,null,null,null,null,null,null,null,null,null,null,null,null,null,null,null,null,null,null,null,null,null,null,null,null,null,null,null,null,null,null,null,null,null,null,null,null,null,null,null,null,null,null,null,null,null,null,null,null,null,null,null,null,null,null,null,null,null,null,null,null,null,null,null,null,null,null,null,null,null,null,null,null,null,null,null,null,null,null,null,null,null,null,null,null,null,null,null,null,null,null,null,null,null,null,null,null,null,null,null,null,null,null,null,null,null,null,null,null,null,null,null,null,null,null,null,null,null,null,null,null,null,null,null,null,null,null,null,null,null,null,null,null,null,null,null,null,null,null,null,null,null,null,null,null,null,null,null,null,null,null,null,null,null,null,null,null,null,null,null,null,null,null,null,null,null,null,null,null,null,"","",null,"建築物の内部","-",{"$f":"$M$406","v":"4(37)"},"-",{"$f":"$AR$305","v":"調査者\n番号"},null,null,"建築物の内部-4(37)-調査者\n番号","２２調査結果建築物の内部-4(37)-調査者\n番号",null,null,null,null,null,"２２調査結果避難施設等-5(14)-指摘の具体的内容等"]
[null,null,null,null,null,null,null,null,null,null,null,null,null,null,null,null,null,null,null,null,null,null,null,null,null,null,null,null,null,null,null,null,null,null,null,null,null,null,null,null,null,null,null,null,null,null,null,null,null,null,null,null,null,null,null,null,null,null,null,null,null,null,null,null,null,null,null,null,null,null,null,null,null,null,null,null,null,null,null,null,null,null,null,null,null,null,null,null,null,null,null,null,null,null,null,null,null,null,null,null,null,null,null,null,null,null,null,null,null,null,null,null,null,null,null,null,null,null,null,null,null,null,null,null,null,null,null,null,null,null,null,null,null,null,null,null,null,null,null,null,null,null,null,null,null,null,null,null,null,null,null,null,null,null,null,null,null,null,null,null,null,null,null,null,null,null,null,null,null,null,null,null,null,null,null,null,null,null,null,null,null,null,null,null,null,null,null,null,null,null,null,null,null,null,null,null,null,null,null,null,null,null,null,null,null,null,null,null,null,null,null,null,null,null,null,null,null,null,null,null,null,null,null,null,null,null,null,null,null,null,null,null,null,null,null,null,null,null,null,null,null,null,null,null,null,null,null,null,null,null,null,null,null,null,null,null,null,null,null,null,null,null,null,null,null,null,null,null,null,null,null,null,null,null,null,null,null,null,null,null,null,null,null,null,null,null,null,null,null,null,null,null,null,null,null,null,null,null,null,null,null,null,null,null,null,null,null,null,null,null,null,"","",null,"建築物の内部","-","4(43)","-",{"$f":"$BS$305","v":"改善（予定）年月"},"-",{"$f":"$BS$369","v":"年\n(令和)"},"建築物の内部-4(43)-改善（予定）年月-年\n(令和)","２２調査結果建築物の内部-4(43)-改善（予定）年月-年\n(令和)",null,null,null,null,null,"２２調査結果避難施設等-5(15)-改善（予定）年月-未定"]
[null,null,null,null,null,null,null,null,null,null,null,null,null,null,null,null,null,null,null,null,null,null,null,null,null,null,null,null,null,null,null,null,null,null,null,null,null,null,null,null,null,null,null,null,null,null,null,null,null,null,null,null,null,null,null,null,null,null,null,null,null,null,null,null,null,null,null,null,null,null,null,null,null,null,null,null,null,null,null,null,null,null,null,null,null,null,null,null,null,null,null,null,null,null,null,null,null,null,null,null,null,null,null,null,null,null,null,null,null,null,null,null,null,null,null,null,null,null,null,null,null,null,null,null,null,null,null,null,null,null,null,null,null,null,null,null,null,null,null,null,null,null,null,null,null,null,null,null,null,null,null,null,null,null,null,null,null,null,null,null,null,null,null,null,null,null,null,null,null,null,null,null,null,null,null,null,null,null,null,null,null,null,null,null,null,null,null,null,null,null,null,null,null,null,null,null,null,null,null,null,null,null,null,null,null,null,null,null,null,null,null,null,null,null,null,null,null,null,null,null,null,null,null,null,null,null,null,null,null,null,null,null,null,null,null,null,null,null,null,null,null,null,null,null,null,null,null,null,null,null,null,null,null,null,null,null,null,null,null,null,null,null,null,null,null,null,null,null,null,null,null,null,null,null,null,null,null,null,null,null,null,null,null,null,null,null,null,null,null,null,null,null,null,null,null,null,null,null,null,null,null,null,null,null,null,null,null,null,null,null,null,"","",null,"建築物の内部","-","4(45)","-",{"$f":"$BD$323","v":"改善策の具体的内容等"},null,null,"建築物の内部-4(45)-改善策の具体的内容等","２２調査結果建築物の内部-4(45)-改善策の具体的内容等",null,null,null,null,null,"２２調査結果避難施設等-5(17)-調査結果"]
[null,null,null,null,null,null,null,null,null,null,null,null,null,null,null,null,null,null,null,null,null,null,null,null,null,null,null,null,null,null,null,null,null,null,null,null,null,null,null,null,null,null,null,null,null,null,null,null,null,null,null,null,null,null,null,null,null,null,null,null,null,null,null,null,null,null,null,null,null,null,null,null,null,null,null,null,null,null,null,null,null,null,null,null,null,null,null,null,null,null,null,null,null,null,null,null,null,null,null,null,null,null,null,null,null,null,null,null,null,null,null,null,null,null,null,null,null,null,null,null,null,null,null,null,null,null,null,null,null,null,null,null,null,null,null,null,null,null,null,null,null,null,null,null,null,null,null,null,null,null,null,null,null,null,null,null,null,null,null,null,null,null,null,null,null,null,null,null,null,null,null,null,null,null,null,null,null,null,null,null,null,null,null,null,null,null,null,null,null,null,null,null,null,null,null,null,null,null,null,null,null,null,null,null,null,null,null,null,null,null,null,null,null,null,null,null,null,null,null,null,null,null,null,null,null,null,null,null,null,null,null,null,null,null,null,null,null,null,null,null,null,null,null,null,null,null,null,null,null,null,null,null,null,null,null,null,null,null,null,null,null,null,null,null,null,null,null,null,null,null,null,null,null,null,null,null,null,null,null,null,null,null,null,null,null,null,null,null,null,null,null,null,null,null,null,null,null,null,null,null,null,null,null,null,null,null,null,null,null,null,null,"","",null,"建築物の内部","-","4(46)","-",{"$f":"$BD$323","v":"改善策の具体的内容等"},null,null,"建築物の内部-4(46)-改善策の具体的内容等","２２調査結果建築物の内部-4(46)-改善策の具体的内容等",null,null,null,null,null,"２２調査結果避難施設等-5(18)-調査者\n番号"]
[null,null,null,null,null,null,null,null,null,null,null,null,null,null,null,null,null,null,null,null,null,null,null,null,null,null,null,null,null,null,null,null,null,null,null,null,null,null,null,null,null,null,null,null,null,null,null,null,null,null,null,null,null,null,null,null,null,null,null,null,null,null,null,null,null,null,null,null,null,null,null,null,null,null,null,null,null,null,null,null,null,null,null,null,null,null,null,null,null,null,null,null,null,null,null,null,null,null,null,null,null,null,null,null,null,null,null,null,null,null,null,null,null,null,null,null,null,null,null,null,null,null,null,null,null,null,null,null,null,null,null,null,null,null,null,null,null,null,null,null,null,null,null,null,null,null,null,null,null,null,null,null,null,null,null,null,null,null,null,null,null,null,null,null,null,null,null,null,null,null,null,null,null,null,null,null,null,null,null,null,null,null,null,null,null,null,null,null,null,null,null,null,null,null,null,null,null,null,null,null,null,null,null,null,null,null,null,null,null,null,null,null,null,null,null,null,null,null,null,null,null,null,null,null,null,null,null,null,null,null,null,null,null,null,null,null,null,null,null,null,null,null,null,null,null,null,null,null,null,null,null,null,null,null,null,null,null,null,null,null,null,null,null,null,null,null,null,null,null,null,null,null,null,null,null,null,null,null,null,null,null,null,null,null,null,null,null,null,null,null,null,null,null,null,null,null,null,null,null,null,null,null,null,null,null,null,null,null,null,null,null,"","",null,"避難施設等","-",{"$f":"$M$426","v":"5(1)"},"-",{"$f":"$AR$305","v":"調査者\n番号"},null,null,"避難施設等-5(1)-調査者\n番号","２２調査結果避難施設等-5(1)-調査者\n番号",null,null,null,null,null,"２２調査結果避難施設等-5(20)-調査者\n番号"]
[null,null,null,null,null,null,null,null,null,null,null,null,null,null,null,null,null,null,null,null,null,null,null,null,null,null,null,null,null,null,null,null,null,null,null,null,null,null,null,null,null,null,null,null,null,null,null,null,null,null,null,null,null,null,null,null,null,null,null,null,null,null,null,null,null,null,null,null,null,null,null,null,null,null,null,null,null,null,null,null,null,null,null,null,null,null,null,null,null,null,null,null,null,null,null,null,null,null,null,null,null,null,null,null,null,null,null,null,null,null,null,null,null,null,null,null,null,null,null,null,null,null,null,null,null,null,null,null,null,null,null,null,null,null,null,null,null,null,null,null,null,null,null,null,null,null,null,null,null,null,null,null,null,null,null,null,null,null,null,null,null,null,null,null,null,null,null,null,null,null,null,null,null,null,null,null,null,null,null,null,null,null,null,null,null,null,null,null,null,null,null,null,null,null,null,null,null,null,null,null,null,null,null,null,null,null,null,null,null,null,null,null,null,null,null,null,null,null,null,null,null,null,null,null,null,null,null,null,null,null,null,null,null,null,null,null,null,null,null,null,null,null,null,null,null,null,null,null,null,null,null,null,null,null,null,null,null,null,null,null,null,null,null,null,null,null,null,null,null,null,null,null,null,null,null,null,null,null,null,null,null,null,null,null,null,null,null,null,null,null,null,null,null,null,null,null,null,null,null,null,null,null,null,null,null,null,null,null,null,null,null,"","",null,"避難施設等","-","5(2)","-",{"$f":"$AT$323","v":"指摘の具体的内容等"},null,null,"避難施設等-5(2)-指摘の具体的内容等","２２調査結果避難施設等-5(2)-指摘の具体的内容等",null,null,null,null,null,"２２調査結果避難施設等-5(21)-改善策の具体的内容等"]
[null,null,null,null,null,null,null,null,null,null,null,null,null,null,null,null,null,null,null,null,null,null,null,null,null,null,null,null,null,null,null,null,null,null,null,null,null,null,null,null,null,null,null,null,null,null,null,null,null,null,null,null,null,null,null,null,null,null,null,null,null,null,null,null,null,null,null,null,null,null,null,null,null,null,null,null,null,null,null,null,null,null,null,null,null,null,null,null,null,null,null,null,null,null,null,null,null,null,null,null,null,null,null,null,null,null,null,null,null,null,null,null,null,null,null,null,null,null,null,null,null,null,null,null,null,null,null,null,null,null,null,null,null,null,null,null,null,null,null,null,null,null,null,null,null,null,null,null,null,null,null,null,null,null,null,null,null,null,null,null,null,null,null,null,null,null,null,null,null,null,null,null,null,null,null,null,null,null,null,null,null,null,null,null,null,null,null,null,null,null,null,null,null,null,null,null,null,null,null,null,null,null,null,null,null,null,null,null,null,null,null,null,null,null,null,null,null,null,null,null,null,null,null,null,null,null,null,null,null,null,null,null,null,null,null,null,null,null,null,null,null,null,null,null,null,null,null,null,null,null,null,null,null,null,null,null,null,null,null,null,null,null,null,null,null,null,null,null,null,null,null,null,null,null,null,null,null,null,null,null,null,null,null,null,null,null,null,null,null,null,null,null,null,null,null,null,null,null,null,null,null,null,null,null,null,null,null,null,null,null,null,null,null,null,null,null,null,null,null,null,null,"","",null,null,null,null,null,"２２調査結果避難施設等-5(23)-指摘の具体的内容等"]
[null,null,null,null,null,null,null,null,null,null,null,null,null,null,null,null,null,null,null,null,null,null,null,null,null,null,null,null,null,null,null,null,null,null,null,null,null,null,null,null,null,null,null,null,null,null,null,null,null,null,null,null,null,null,null,null,null,null,null,null,null,null,null,null,null,null,null,null,null,null,null,null,null,null,null,null,null,null,null,null,null,null,null,null,null,null,null,null,null,null,null,null,null,null,null,null,null,null,null,null,null,null,null,null,null,null,null,null,null,null,null,null,null,null,null,null,null,null,null,null,null,null,null,null,null,null,null,null,null,null,null,null,null,null,null,null,null,null,null,null,null,null,null,null,null,null,null,null,null,null,null,null,null,null,null,null,null,null,null,null,null,null,null,null,null,null,null,null,null,null,null,null,null,null,null,null,null,null,null,null,null,null,null,null,null,null,null,null,null,null,null,null,null,null,null,null,null,null,null,null,null,null,null,null,null,null,null,null,null,null,null,null,null,null,null,null,null,null,null,null,null,null,null,null,null,null,null,null,null,null,null,null,null,null,null,null,null,null,null,null,null,null,null,null,null,null,null,null,null,null,null,null,null,null,null,null,null,null,null,null,null,null,null,null,null,null,null,null,null,null,null,null,null,null,null,null,null,null,null,null,null,null,null,null,null,null,null,null,null,null,null,null,null,null,null,null,null,null,null,null,null,null,null,null,null,null,null,null,null,null,null,"","",null,"避難施設等","-",{"$f":"$M$431","v":"5(6)"},"-",{"$f":"$AR$305","v":"調査者\n番号"},null,null,{"$f":"CONCATENATE(KZ951,LA951,LB951,LC951,LD951,LE951,LF951,LG951,LH951,LI951)","v":"避難施設等-5(6)-調査者\n番号"},"２２調査結果避難施設等-5(6)-調査者\n番号",null,null,null,null,null,"２２調査結果避難施設等-5(25)-改善（予定）年月-未定"]
[null,null,null,null,null,null,null,null,null,null,null,null,null,null,null,null,null,null,null,null,null,null,null,null,null,null,null,null,null,null,null,null,null,null,null,null,null,null,null,null,null,null,null,null,null,null,null,null,null,null,null,null,null,null,null,null,null,null,null,null,null,null,null,null,null,null,null,null,null,null,null,null,null,null,null,null,null,null,null,null,null,null,null,null,null,null,null,null,null,null,null,null,null,null,null,null,null,null,null,null,null,null,null,null,null,null,null,null,null,null,null,null,null,null,null,null,null,null,null,null,null,null,null,null,null,null,null,null,null,null,null,null,null,null,null,null,null,null,null,null,null,null,null,null,null,null,null,null,null,null,null,null,null,null,null,null,null,null,null,null,null,null,null,null,null,null,null,null,null,null,null,null,null,null,null,null,null,null,null,null,null,null,null,null,null,null,null,null,null,null,null,null,null,null,null,null,null,null,null,null,null,null,null,null,null,null,null,null,null,null,null,null,null,null,null,null,null,null,null,null,null,null,null,null,null,null,null,null,null,null,null,null,null,null,null,null,null,null,null,null,null,null,null,null,null,null,null,null,null,null,null,null,null,null,null,null,null,null,null,null,null,null,null,null,null,null,null,null,null,null,null,null,null,null,null,null,null,null,null,null,null,null,null,null,null,null,null,null,null,null,null,null,null,null,null,null,null,null,null,null,null,null,null,null,null,null,null,null,null,null,null,"","",null,"避難施設等","-","5(6)","-","改善（予定）年月","-",{"$f":"$BV$369","v":"月"},"避難施設等-5(6)-改善（予定）年月-月","２２調査結果避難施設等-5(6)-改善（予定）年月-月",null,null,null,null,null,"２２調査結果避難施設等-5(26)-改善策の具体的内容等"]
[null,null,null,null,null,null,null,null,null,null,null,null,null,null,null,null,null,null,null,null,null,null,null,null,null,null,null,null,null,null,null,null,null,null,null,null,null,null,null,null,null,null,null,null,null,null,null,null,null,null,null,null,null,null,null,null,null,null,null,null,null,null,null,null,null,null,null,null,null,null,null,null,null,null,null,null,null,null,null,null,null,null,null,null,null,null,null,null,null,null,null,null,null,null,null,null,null,null,null,null,null,null,null,null,null,null,null,null,null,null,null,null,null,null,null,null,null,null,null,null,null,null,null,null,null,null,null,null,null,null,null,null,null,null,null,null,null,null,null,null,null,null,null,null,null,null,null,null,null,null,null,null,null,null,null,null,null,null,null,null,null,null,null,null,null,null,null,null,null,null,null,null,null,null,null,null,null,null,null,null,null,null,null,null,null,null,null,null,null,null,null,null,null,null,null,null,null,null,null,null,null,null,null,null,null,null,null,null,null,null,null,null,null,null,null,null,null,null,null,null,null,null,null,null,null,null,null,null,null,null,null,null,null,null,null,null,null,null,null,null,null,null,null,null,null,null,null,null,null,null,null,null,null,null,null,null,null,null,null,null,null,null,null,null,null,null,null,null,null,null,null,null,null,null,null,null,null,null,null,null,null,null,null,null,null,null,null,null,null,null,null,null,null,null,null,null,null,null,null,null,null,null,null,null,null,null,null,null,null,null,null,{"$f":"LEFT($J$297,2)","v":""},{"$f":"MID($J$297,4,4)","v":""},null,{"$f":"$M$423","v":"避難施設等"},"-",{"$f":"$M$434","v":"5(9)"},"-",{"$f":"$AF$305","v":"調査結果"},null,null,"避難施設等-5(9)-調査結果","２２調査結果避難施設等-5(9)-調査結果",null,null,null,null,null,"２２調査結果避難施設等-5(29)-調査者\n番号"]
[null,null,null,null,null,null,null,null,null,null,null,null,null,null,null,null,null,null,null,null,null,null,null,null,null,null,null,null,null,null,null,null,null,null,null,null,null,null,null,null,null,null,null,null,null,null,null,null,null,null,null,null,null,null,null,null,null,null,null,null,null,null,null,null,null,null,null,null,null,null,null,null,null,null,null,null,null,null,null,null,null,null,null,null,null,null,null,null,null,null,null,null,null,null,null,null,null,null,null,null,null,null,null,null,null,null,null,null,null,null,null,null,null,null,null,null,null,null,null,null,null,null,null,null,null,null,null,null,null,null,null,null,null,null,null,null,null,null,null,null,null,null,null,null,null,null,null,null,null,null,null,null,null,null,null,null,null,null,null,null,null,null,null,null,null,null,null,null,null,null,null,null,null,null,null,null,null,null,null,null,null,null,null,null,null,null,null,null,null,null,null,null,null,null,null,null,null,null,null,null,null,null,null,null,null,null,null,null,null,null,null,null,null,null,null,null,null,null,null,null,null,null,null,null,null,null,null,null,null,null,null,null,null,null,null,null,null,null,null,null,null,null,null,null,null,null,null,null,null,null,null,null,null,null,null,null,null,null,null,null,null,null,null,null,null,null,null,null,null,null,null,null,null,null,null,null,null,null,null,null,null,null,null,null,null,null,null,null,null,null,null,null,null,null,null,null,null,null,null,null,null,null,null,null,null,null,null,null,null,null,null,null,null,null,null,null,null,null,null,null,null,"","",null,null,null,null,null,"２２調査結果避難施設等-5(30)-調査者\n番号"]
[null,null,null,null,null,null,null,null,null,null,null,null,null,null,null,null,null,null,null,null,null,null,null,null,null,null,null,null,null,null,null,null,null,null,null,null,null,null,null,null,null,null,null,null,null,null,null,null,null,null,null,null,null,null,null,null,null,null,null,null,null,null,null,null,null,null,null,null,null,null,null,null,null,null,null,null,null,null,null,null,null,null,null,null,null,null,null,null,null,null,null,null,null,null,null,null,null,null,null,null,null,null,null,null,null,null,null,null,null,null,null,null,null,null,null,null,null,null,null,null,null,null,null,null,null,null,null,null,null,null,null,null,null,null,null,null,null,null,null,null,null,null,null,null,null,null,null,null,null,null,null,null,null,null,null,null,null,null,null,null,null,null,null,null,null,null,null,null,null,null,null,null,null,null,null,null,null,null,null,null,null,null,null,null,null,null,null,null,null,null,null,null,null,null,null,null,null,null,null,null,null,null,null,null,null,null,null,null,null,null,null,null,null,null,null,null,null,null,null,null,null,null,null,null,null,null,null,null,null,null,null,null,null,null,null,null,null,null,null,null,null,null,null,null,null,null,null,null,null,null,null,null,null,null,null,null,null,null,null,null,null,null,null,null,null,null,null,null,null,null,null,null,null,null,null,null,null,null,null,null,null,null,null,null,null,null,null,null,null,null,null,null,null,null,null,null,null,null,null,null,null,null,null,null,null,null,null,null,null,null,null,null,null,null,null,null,null,null,null,null,null,"","",null,null,null,null,null,"２２調査結果避難施設等-5(32)-改善策の具体的内容等"]
[null,null,null,null,null,null,null,null,null,null,null,null,null,null,null,null,null,null,null,null,null,null,null,null,null,null,null,null,null,null,null,null,null,null,null,null,null,null,null,null,null,null,null,null,null,null,null,null,null,null,null,null,null,null,null,null,null,null,null,null,null,null,null,null,null,null,null,null,null,null,null,null,null,null,null,null,null,null,null,null,null,null,null,null,null,null,null,null,null,null,null,null,null,null,null,null,null,null,null,null,null,null,null,null,null,null,null,null,null,null,null,null,null,null,null,null,null,null,null,null,null,null,null,null,null,null,null,null,null,null,null,null,null,null,null,null,null,null,null,null,null,null,null,null,null,null,null,null,null,null,null,null,null,null,null,null,null,null,null,null,null,null,null,null,null,null,null,null,null,null,null,null,null,null,null,null,null,null,null,null,null,null,null,null,null,null,null,null,null,null,null,null,null,null,null,null,null,null,null,null,null,null,null,null,null,null,null,null,null,null,null,null,null,null,null,null,null,null,null,null,null,null,null,null,null,null,null,null,null,null,null,null,null,null,null,null,null,null,null,null,null,null,null,null,null,null,null,null,null,null,null,null,null,null,null,null,null,null,null,null,null,null,null,null,null,null,null,null,null,null,null,null,null,null,null,null,null,null,null,null,null,null,null,null,null,null,null,null,null,null,null,null,null,null,null,null,null,null,null,null,null,null,null,null,null,null,null,null,null,null,null,"","",null,"避難施設等","-",{"$f":"$M$438","v":"5(13)"},"-",{"$f":"$AR$305","v":"調査者\n番号"},null,null,"避難施設等-5(13)-調査者\n番号","２２調査結果避難施設等-5(13)-調査者\n番号",null,null,null,null,null,"２２調査結果避難施設等-5(33)-改善（予定）年月-未定"]
[null,null,null,null,null,null,null,null,null,null,null,null,null,null,null,null,null,null,null,null,null,null,null,null,null,null,null,null,null,null,null,null,null,null,null,null,null,null,null,null,null,null,null,null,null,null,null,null,null,null,null,null,null,null,null,null,null,null,null,null,null,null,null,null,null,null,null,null,null,null,null,null,null,null,null,null,null,null,null,null,null,null,null,null,null,null,null,null,null,null,null,null,null,null,null,null,null,null,null,null,null,null,null,null,null,null,null,null,null,null,null,null,null,null,null,null,null,null,null,null,null,null,null,null,null,null,null,null,null,null,null,null,null,null,null,null,null,null,null,null,null,null,null,null,null,null,null,null,null,null,null,null,null,null,null,null,null,null,null,null,null,null,null,null,null,null,null,null,null,null,null,null,null,null,null,null,null,null,null,null,null,null,null,null,null,null,null,null,null,null,null,null,null,null,null,null,null,null,null,null,null,null,null,null,null,null,null,null,null,null,null,null,null,null,null,null,null,null,null,null,null,null,null,null,null,null,null,null,null,null,null,null,null,null,null,null,null,null,null,null,null,null,null,null,null,null,null,null,null,null,null,null,null,null,null,null,null,null,null,null,null,null,null,null,null,null,null,null,null,null,null,null,null,null,null,null,null,null,null,null,null,null,null,null,null,null,null,null,null,null,null,null,null,null,null,null,null,null,null,null,null,null,null,null,null,null,null,null,null,null,null,"","",null,"避難施設等","-","5(14)","-","改善（予定）年月","-",{"$f":"$BV$369","v":"月"},"避難施設等-5(14)-改善（予定）年月-月","２２調査結果避難施設等-5(14)-改善（予定）年月-月",null,null,null,null,null,"２２調査結果避難施設等-5(35)-改善（予定）年月-年\n(令和)"]
[null,null,null,null,null,null,null,null,null,null,null,null,null,null,null,null,null,null,null,null,null,null,null,null,null,null,null,null,null,null,null,null,null,null,null,null,null,null,null,null,null,null,null,null,null,null,null,null,null,null,null,null,null,null,null,null,null,null,null,null,null,null,null,null,null,null,null,null,null,null,null,null,null,null,null,null,null,null,null,null,null,null,null,null,null,null,null,null,null,null,null,null,null,null,null,null,null,null,null,null,null,null,null,null,null,null,null,null,null,null,null,null,null,null,null,null,null,null,null,null,null,null,null,null,null,null,null,null,null,null,null,null,null,null,null,null,null,null,null,null,null,null,null,null,null,null,null,null,null,null,null,null,null,null,null,null,null,null,null,null,null,null,null,null,null,null,null,null,null,null,null,null,null,null,null,null,null,null,null,null,null,null,null,null,null,null,null,null,null,null,null,null,null,null,null,null,null,null,null,null,null,null,null,null,null,null,null,null,null,null,null,null,null,null,null,null,null,null,null,null,null,null,null,null,null,null,null,null,null,null,null,null,null,null,null,null,null,null,null,null,null,null,null,null,null,null,null,null,null,null,null,null,null,null,null,null,null,null,null,null,null,null,null,null,null,null,null,null,null,null,null,null,null,null,null,null,null,null,null,null,null,null,null,null,null,null,null,null,null,null,null,null,null,null,null,null,null,null,null,null,null,null,null,null,null,null,null,null,null,null,null,"","",null,{"$f":"$M$423","v":"避難施設等"},"-",{"$f":"$M$441","v":"5(16)"},"-",{"$f":"$AF$305","v":"調査結果"},null,null,"避難施設等-5(16)-調査結果","２２調査結果避難施設等-5(16)-調査結果",null,null,null,null,null,"２２調査結果避難施設等-5(37)-調査者\n番号"]
[null,null,null,null,null,null,null,null,null,null,null,null,null,null,null,null,null,null,null,null,null,null,null,null,null,null,null,null,null,null,null,null,null,null,null,null,null,null,null,null,null,null,null,null,null,null,null,null,null,null,null,null,null,null,null,null,null,null,null,null,null,null,null,null,null,null,null,null,null,null,null,null,null,null,null,null,null,null,null,null,null,null,null,null,null,null,null,null,null,null,null,null,null,null,null,null,null,null,null,null,null,null,null,null,null,null,null,null,null,null,null,null,null,null,null,null,null,null,null,null,null,null,null,null,null,null,null,null,null,null,null,null,null,null,null,null,null,null,null,null,null,null,null,null,null,null,null,null,null,null,null,null,null,null,null,null,null,null,null,null,null,null,null,null,null,null,null,null,null,null,null,null,null,null,null,null,null,null,null,null,null,null,null,null,null,null,null,null,null,null,null,null,null,null,null,null,null,null,null,null,null,null,null,null,null,null,null,null,null,null,null,null,null,null,null,null,null,null,null,null,null,null,null,null,null,null,null,null,null,null,null,null,null,null,null,null,null,null,null,null,null,null,null,null,null,null,null,null,null,null,null,null,null,null,null,null,null,null,null,null,null,null,null,null,null,null,null,null,null,null,null,null,null,null,null,null,null,null,null,null,null,null,null,null,null,null,null,null,null,null,null,null,null,null,null,null,null,null,null,null,null,null,null,null,null,null,null,null,null,null,null,null,null,null,null,null,null,null,null,null,null,"","",null,null,null,null,null,"２２調査結果避難施設等-5(39)-指摘の具体的内容等"]
[null,null,null,null,null,null,null,null,null,null,null,null,null,null,null,null,null,null,null,null,null,null,null,null,null,null,null,null,null,null,null,null,null,null,null,null,null,null,null,null,null,null,null,null,null,null,null,null,null,null,null,null,null,null,null,null,null,null,null,null,null,null,null,null,null,null,null,null,null,null,null,null,null,null,null,null,null,null,null,null,null,null,null,null,null,null,null,null,null,null,null,null,null,null,null,null,null,null,null,null,null,null,null,null,null,null,null,null,null,null,null,null,null,null,null,null,null,null,null,null,null,null,null,null,null,null,null,null,null,null,null,null,null,null,null,null,null,null,null,null,null,null,null,null,null,null,null,null,null,null,null,null,null,null,null,null,null,null,null,null,null,null,null,null,null,null,null,null,null,null,null,null,null,null,null,null,null,null,null,null,null,null,null,null,null,null,null,null,null,null,null,null,null,null,null,null,null,null,null,null,null,null,null,null,null,null,null,null,null,null,null,null,null,null,null,null,null,null,null,null,null,null,null,null,null,null,null,null,null,null,null,null,null,null,null,null,null,null,null,null,null,null,null,null,null,null,null,null,null,null,null,null,null,null,null,null,null,null,null,null,null,null,null,null,null,null,null,null,null,null,null,null,null,null,null,null,null,null,null,null,null,null,null,null,null,null,null,null,null,null,null,null,null,null,null,null,null,null,null,null,null,null,null,null,null,null,null,null,null,null,null,"","",null,"避難施設等","-","5(19)","-",{"$f":"$BD$323","v":"改善策の具体的内容等"},null,null,"避難施設等-5(19)-改善策の具体的内容等","２２調査結果避難施設等-5(19)-改善策の具体的内容等",null,null,null,null,null,"２２調査結果その他-6(1)-調査者\n番号"]
[null,null,null,null,null,null,null,null,null,null,null,null,null,null,null,null,null,null,null,null,null,null,null,null,null,null,null,null,null,null,null,null,null,null,null,null,null,null,null,null,null,null,null,null,null,null,null,null,null,null,null,null,null,null,null,null,null,null,null,null,null,null,null,null,null,null,null,null,null,null,null,null,null,null,null,null,null,null,null,null,null,null,null,null,null,null,null,null,null,null,null,null,null,null,null,null,null,null,null,null,null,null,null,null,null,null,null,null,null,null,null,null,null,null,null,null,null,null,null,null,null,null,null,null,null,null,null,null,null,null,null,null,null,null,null,null,null,null,null,null,null,null,null,null,null,null,null,null,null,null,null,null,null,null,null,null,null,null,null,null,null,null,null,null,null,null,null,null,null,null,null,null,null,null,null,null,null,null,null,null,null,null,null,null,null,null,null,null,null,null,null,null,null,null,null,null,null,null,null,null,null,null,null,null,null,null,null,null,null,null,null,null,null,null,null,null,null,null,null,null,null,null,null,null,null,null,null,null,null,null,null,null,null,null,null,null,null,null,null,null,null,null,null,null,null,null,null,null,null,null,null,null,null,null,null,null,null,null,null,null,null,null,null,null,null,null,null,null,null,null,null,null,null,null,null,null,null,null,null,null,null,null,null,null,null,null,null,null,null,null,null,null,null,null,null,null,null,null,null,null,null,null,null,null,null,null,null,null,null,null,null,"","",null,"避難施設等","-","5(19)","-","改善（予定）年月","-",{"$f":"$BV$369","v":"月"},"避難施設等-5(19)-改善（予定）年月-月","２２調査結果避難施設等-5(19)-改善（予定）年月-月",null,null,null,null,null,"２２調査結果その他-6(1)-改善策の具体的内容等"]
[null,null,null,null,null,null,null,null,null,null,null,null,null,null,null,null,null,null,null,null,null,null,null,null,null,null,null,null,null,null,null,null,null,null,null,null,null,null,null,null,null,null,null,null,null,null,null,null,null,null,null,null,null,null,null,null,null,null,null,null,null,null,null,null,null,null,null,null,null,null,null,null,null,null,null,null,null,null,null,null,null,null,null,null,null,null,null,null,null,null,null,null,null,null,null,null,null,null,null,null,null,null,null,null,null,null,null,null,null,null,null,null,null,null,null,null,null,null,null,null,null,null,null,null,null,null,null,null,null,null,null,null,null,null,null,null,null,null,null,null,null,null,null,null,null,null,null,null,null,null,null,null,null,null,null,null,null,null,null,null,null,null,null,null,null,null,null,null,null,null,null,null,null,null,null,null,null,null,null,null,null,null,null,null,null,null,null,null,null,null,null,null,null,null,null,null,null,null,null,null,null,null,null,null,null,null,null,null,null,null,null,null,null,null,null,null,null,null,null,null,null,null,null,null,null,null,null,null,null,null,null,null,null,null,null,null,null,null,null,null,null,null,null,null,null,null,null,null,null,null,null,null,null,null,null,null,null,null,null,null,null,null,null,null,null,null,null,null,null,null,null,null,null,null,null,null,null,null,null,null,null,null,null,null,null,null,null,null,null,null,null,null,null,null,null,null,null,null,null,null,null,null,null,null,null,null,null,null,null,null,null,"","",null,"避難施設等","-","5(22)","-",{"$f":"$AT$323","v":"指摘の具体的内容等"},null,null,"避難施設等-5(22)-指摘の具体的内容等","２２調査結果避難施設等-5(22)-指摘の具体的内容等",null,null,null,null,null,"２２調査結果その他-6(4)-改善策の具体的内容等"]
[null,null,null,null,null,null,null,null,null,null,null,null,null,null,null,null,null,null,null,null,null,null,null,null,null,null,null,null,null,null,null,null,null,null,null,null,null,null,null,null,null,null,null,null,null,null,null,null,null,null,null,null,null,null,null,null,null,null,null,null,null,null,null,null,null,null,null,null,null,null,null,null,null,null,null,null,null,null,null,null,null,null,null,null,null,null,null,null,null,null,null,null,null,null,null,null,null,null,null,null,null,null,null,null,null,null,null,null,null,null,null,null,null,null,null,null,null,null,null,null,null,null,null,null,null,null,null,null,null,null,null,null,null,null,null,null,null,null,null,null,null,null,null,null,null,null,null,null,null,null,null,null,null,null,null,null,null,null,null,null,null,null,null,null,null,null,null,null,null,null,null,null,null,null,null,null,null,null,null,null,null,null,null,null,null,null,null,null,null,null,null,null,null,null,null,null,null,null,null,null,null,null,null,null,null,null,null,null,null,null,null,null,null,null,null,null,null,null,null,null,null,null,null,null,null,null,null,null,null,null,null,null,null,null,null,null,null,null,null,null,null,null,null,null,null,null,null,null,null,null,null,null,null,null,null,null,null,null,null,null,null,null,null,null,null,null,null,null,null,null,null,null,null,null,null,null,null,null,null,null,null,null,null,null,null,null,null,null,null,null,null,null,null,null,null,null,null,null,null,null,null,null,null,null,null,null,null,null,null,null,null,"","",null,{"$f":"$M$423","v":"避難施設等"},"-",{"$f":"$M$449","v":"5(24)"},"-",{"$f":"$AF$305","v":"調査結果"},null,null,"避難施設等-5(24)-調査結果","２２調査結果避難施設等-5(24)-調査結果",null,null,null,null,null,"２２調査結果その他-6(6)-改善策の具体的内容等"]
[null,null,null,null,null,null,null,null,null,null,null,null,null,null,null,null,null,null,null,null,null,null,null,null,null,null,null,null,null,null,null,null,null,null,null,null,null,null,null,null,null,null,null,null,null,null,null,null,null,null,null,null,null,null,null,null,null,null,null,null,null,null,null,null,null,null,null,null,null,null,null,null,null,null,null,null,null,null,null,null,null,null,null,null,null,null,null,null,null,null,null,null,null,null,null,null,null,null,null,null,null,null,null,null,null,null,null,null,null,null,null,null,null,null,null,null,null,null,null,null,null,null,null,null,null,null,null,null,null,null,null,null,null,null,null,null,null,null,null,null,null,null,null,null,null,null,null,null,null,null,null,null,null,null,null,null,null,null,null,null,null,null,null,null,null,null,null,null,null,null,null,null,null,null,null,null,null,null,null,null,null,null,null,null,null,null,null,null,null,null,null,null,null,null,null,null,null,null,null,null,null,null,null,null,null,null,null,null,null,null,null,null,null,null,null,null,null,null,null,null,null,null,null,null,null,null,null,null,null,null,null,null,null,null,null,null,null,null,null,null,null,null,null,null,null,null,null,null,null,null,null,null,null,null,null,null,null,null,null,null,null,null,null,null,null,null,null,null,null,null,null,null,null,null,null,null,null,null,null,null,null,null,null,null,null,null,null,null,null,null,null,null,null,null,null,null,null,null,null,null,null,null,null,null,null,null,null,null,null,null,null,"","",null,"避難施設等","-","5(24)","-","改善（予定）年月","-",{"$f":"$BV$369","v":"月"},"避難施設等-5(24)-改善（予定）年月-月","２２調査結果避難施設等-5(24)-改善（予定）年月-月",null,null,null,null,null,"２２調査結果その他-6(7)-調査者\n番号"]
[null,null,null,null,null,null,null,null,null,null,null,null,null,null,null,null,null,null,null,null,null,null,null,null,null,null,null,null,null,null,null,null,null,null,null,null,null,null,null,null,null,null,null,null,null,null,null,null,null,null,null,null,null,null,null,null,null,null,null,null,null,null,null,null,null,null,null,null,null,null,null,null,null,null,null,null,null,null,null,null,null,null,null,null,null,null,null,null,null,null,null,null,null,null,null,null,null,null,null,null,null,null,null,null,null,null,null,null,null,null,null,null,null,null,null,null,null,null,null,null,null,null,null,null,null,null,null,null,null,null,null,null,null,null,null,null,null,null,null,null,null,null,null,null,null,null,null,null,null,null,null,null,null,null,null,null,null,null,null,null,null,null,null,null,null,null,null,null,null,null,null,null,null,null,null,null,null,null,null,null,null,null,null,null,null,null,null,null,null,null,null,null,null,null,null,null,null,null,null,null,null,null,null,null,null,null,null,null,null,null,null,null,null,null,null,null,null,null,null,null,null,null,null,null,null,null,null,null,null,null,null,null,null,null,null,null,null,null,null,null,null,null,null,null,null,null,null,null,null,null,null,null,null,null,null,null,null,null,null,null,null,null,null,null,null,null,null,null,null,null,null,null,null,null,null,null,null,null,null,null,null,null,null,null,null,null,null,null,null,null,null,null,null,null,null,null,null,null,null,null,null,null,null,null,null,null,null,null,null,null,null,"","",null,"避難施設等","-","5(26)","-","改善（予定）年月","-",{"$f":"$LD$395","v":"状況"},"避難施設等-5(26)-改善（予定）年月-状況","２２調査結果避難施設等-5(26)-改善（予定）年月-未定",null,null,null,null,null,"２２調査結果その他-6(9)-改善（予定）年月-年\n(令和)"]
[null,null,null,null,null,null,null,null,null,null,null,null,null,null,null,null,null,null,null,null,null,null,null,null,null,null,null,null,null,null,null,null,null,null,null,null,null,null,null,null,null,null,null,null,null,null,null,null,null,null,null,null,null,null,null,null,null,null,null,null,null,null,null,null,null,null,null,null,null,null,null,null,null,null,null,null,null,null,null,null,null,null,null,null,null,null,null,null,null,null,null,null,null,null,null,null,null,null,null,null,null,null,null,null,null,null,null,null,null,null,null,null,null,null,null,null,null,null,null,null,null,null,null,null,null,null,null,null,null,null,null,null,null,null,null,null,null,null,null,null,null,null,null,null,null,null,null,null,null,null,null,null,null,null,null,null,null,null,null,null,null,null,null,null,null,null,null,null,null,null,null,null,null,null,null,null,null,null,null,null,null,null,null,null,null,null,null,null,null,null,null,null,null,null,null,null,null,null,null,null,null,null,null,null,null,null,null,null,null,null,null,null,null,null,null,null,null,null,null,null,null,null,null,null,null,null,null,null,null,null,null,null,null,null,null,null,null,null,null,null,null,null,null,null,null,null,null,null,null,null,null,null,null,null,null,null,null,null,null,null,null,null,null,null,null,null,null,null,null,null,null,null,null,null,null,null,null,null,null,null,null,null,null,null,null,null,null,null,null,null,null,null,null,null,null,null,null,null,null,null,null,null,null,null,null,null,null,null,null,null,null,"","",null,"避難施設等","-","5(27)","-","改善（予定）年月","-",{"$f":"$BV$369","v":"月"},"避難施設等-5(27)-改善（予定）年月-月","２２調査結果避難施設等-5(27)-改善（予定）年月-月",null,null,null,null,null,"２２調査結果上記以外の調査項目-7(1)-改善（予定）年月-年\n(令和)"]
[null,null,null,null,null,null,null,null,null,null,null,null,null,null,null,null,null,null,null,null,null,null,null,null,null,null,null,null,null,null,null,null,null,null,null,null,null,null,null,null,null,null,null,null,null,null,null,null,null,null,null,null,null,null,null,null,null,null,null,null,null,null,null,null,null,null,null,null,null,null,null,null,null,null,null,null,null,null,null,null,null,null,null,null,null,null,null,null,null,null,null,null,null,null,null,null,null,null,null,null,null,null,null,null,null,null,null,null,null,null,null,null,null,null,null,null,null,null,null,null,null,null,null,null,null,null,null,null,null,null,null,null,null,null,null,null,null,null,null,null,null,null,null,null,null,null,null,null,null,null,null,null,null,null,null,null,null,null,null,null,null,null,null,null,null,null,null,null,null,null,null,null,null,null,null,null,null,null,null,null,null,null,null,null,null,null,null,null,null,null,null,null,null,null,null,null,null,null,null,null,null,null,null,null,null,null,null,null,null,null,null,null,null,null,null,null,null,null,null,null,null,null,null,null,null,null,null,null,null,null,null,null,null,null,null,null,null,null,null,null,null,null,null,null,null,null,null,null,null,null,null,null,null,null,null,null,null,null,null,null,null,null,null,null,null,null,null,null,null,null,null,null,null,null,null,null,null,null,null,null,null,null,null,null,null,null,null,null,null,null,null,null,null,null,null,null,null,null,null,null,null,null,null,null,null,null,null,null,null,null,null,"","",null,"避難施設等","-","5(30)","-",{"$f":"$AT$323","v":"指摘の具体的内容等"},null,null,"避難施設等-5(30)-指摘の具体的内容等","２２調査結果避難施設等-5(30)-指摘の具体的内容等",null,null,null,null,null,"２２調査結果上記以外の調査項目-7(4)-改善（予定）年月-年\n(令和)"]
[null,null,null,null,null,null,null,null,null,null,null,null,null,null,null,null,null,null,null,null,null,null,null,null,null,null,null,null,null,null,null,null,null,null,null,null,null,null,null,null,null,null,null,null,null,null,null,null,null,null,null,null,null,null,null,null,null,null,null,null,null,null,null,null,null,null,null,null,null,null,null,null,null,null,null,null,null,null,null,null,null,null,null,null,null,null,null,null,null,null,null,null,null,null,null,null,null,null,null,null,null,null,null,null,null,null,null,null,null,null,null,null,null,null,null,null,null,null,null,null,null,null,null,null,null,null,null,null,null,null,null,null,null,null,null,null,null,null,null,null,null,null,null,null,null,null,null,null,null,null,null,null,null,null,null,null,null,null,null,null,null,null,null,null,null,null,null,null,null,null,null,null,null,null,null,null,null,null,null,null,null,null,null,null,null,null,null,null,null,null,null,null,null,null,null,null,null,null,null,null,null,null,null,null,null,null,null,null,null,null,null,null,null,null,null,null,null,null,null,null,null,null,null,null,null,null,null,null,null,null,null,null,null,null,null,null,null,null,null,null,null,null,null,null,null,null,null,null,null,null,null,null,null,null,null,null,null,null,null,null,null,null,null,null,null,null,null,null,null,null,null,null,null,null,null,null,null,null,null,null,null,null,null,null,null,null,null,null,null,null,null,null,null,null,null,null,null,null,null,null,null,null,null,null,null,null,null,null,null,null,null,{"$f":"LEFT($J$297,2)","v":""},{"$f":"MID($J$297,4,4)","v":""},null,{"$f":"$M$423","v":"避難施設等"},"-",{"$f":"$M$457","v":"5(32)"},"-",{"$f":"$AF$305","v":"調査結果"},null,null,"避難施設等-5(32)-調査結果","２２調査結果避難施設等-5(32)-調査結果",null,null,null,null,null,"２２調査結果上記以外の調査項目-7(6)-改善（予定）年月-年\n(令和)"]
[null,null,null,null,null,null,null,null,null,null,null,null,null,null,null,null,null,null,null,null,null,null,null,null,null,null,null,null,null,null,null,null,null,null,null,null,null,null,null,null,null,null,null,null,null,null,null,null,null,null,null,null,null,null,null,null,null,null,null,null,null,null,null,null,null,null,null,null,null,null,null,null,null,null,null,null,null,null,null,null,null,null,null,null,null,null,null,null,null,null,null,null,null,null,null,null,null,null,null,null,null,null,null,null,null,null,null,null,null,null,null,null,null,null,null,null,null,null,null,null,null,null,null,null,null,null,null,null,null,null,null,null,null,null,null,null,null,null,null,null,null,null,null,null,null,null,null,null,null,null,null,null,null,null,null,null,null,null,null,null,null,null,null,null,null,null,null,null,null,null,null,null,null,null,null,null,null,null,null,null,null,null,null,null,null,null,null,null,null,null,null,null,null,null,null,null,null,null,null,null,null,null,null,null,null,null,null,null,null,null,null,null,null,null,null,null,null,null,null,null,null,null,null,null,null,null,null,null,null,null,null,null,null,null,null,null,null,null,null,null,null,null,null,null,null,null,null,null,null,null,null,null,null,null,null,null,null,null,null,null,null,null,null,null,null,null,null,null,null,null,null,null,null,null,null,null,null,null,null,null,null,null,null,null,null,null,null,null,null,null,null,null,null,null,null,null,null,null,null,null,null,null,null,null,null,null,null,null,null,null,null,"","",null,"避難施設等","-",{"$f":"$M$458","v":"5(33)"},"-",{"$f":"$AR$305","v":"調査者\n番号"},null,null,"避難施設等-5(33)-調査者\n番号","２２調査結果避難施設等-5(33)-調査者\n番号",null,null,null,null,null,"２２調査結果上記以外の調査項目-7(7)-改善（予定）年月-未定"]
[null,null,null,null,null,null,null,null,null,null,null,null,null,null,null,null,null,null,null,null,null,null,null,null,null,null,null,null,null,null,null,null,null,null,null,null,null,null,null,null,null,null,null,null,null,null,null,null,null,null,null,null,null,null,null,null,null,null,null,null,null,null,null,null,null,null,null,null,null,null,null,null,null,null,null,null,null,null,null,null,null,null,null,null,null,null,null,null,null,null,null,null,null,null,null,null,null,null,null,null,null,null,null,null,null,null,null,null,null,null,null,null,null,null,null,null,null,null,null,null,null,null,null,null,null,null,null,null,null,null,null,null,null,null,null,null,null,null,null,null,null,null,null,null,null,null,null,null,null,null,null,null,null,null,null,null,null,null,null,null,null,null,null,null,null,null,null,null,null,null,null,null,null,null,null,null,null,null,null,null,null,null,null,null,null,null,null,null,null,null,null,null,null,null,null,null,null,null,null,null,null,null,null,null,null,null,null,null,null,null,null,null,null,null,null,null,null,null,null,null,null,null,null,null,null,null,null,null,null,null,null,null,null,null,null,null,null,null,null,null,null,null,null,null,null,null,null,null,null,null,null,null,null,null,null,null,null,null,null,null,null,null,null,null,null,null,null,null,null,null,null,null,null,null,null,null,null,null,null,null,null,null,null,null,null,null,null,null,null,null,null,null,null,null,null,null,null,null,null,null,null,null,null,null,null,null,null,null,null,null,null,"","",null,"避難施設等","-","5(34)","-","改善（予定）年月","-",{"$f":"$LD$395","v":"状況"},"避難施設等-5(34)-改善（予定）年月-状況","２２調査結果避難施設等-5(34)-改善（予定）年月-未定",null,null,null,null,null,"２２調査結果上記以外の調査項目-7(9)-改善（予定）年月-月"]
[null,null,null,null,null,null,null,null,null,null,null,null,null,null,null,null,null,null,null,null,null,null,null,null,null,null,null,null,null,null,null,null,null,null,null,null,null,null,null,null,null,null,null,null,null,null,null,null,null,null,null,null,null,null,null,null,null,null,null,null,null,null,null,null,null,null,null,null,null,null,null,null,null,null,null,null,null,null,null,null,null,null,null,null,null,null,null,null,null,null,null,null,null,null,null,null,null,null,null,null,null,null,null,null,null,null,null,null,null,null,null,null,null,null,null,null,null,null,null,null,null,null,null,null,null,null,null,null,null,null,null,null,null,null,null,null,null,null,null,null,null,null,null,null,null,null,null,null,null,null,null,null,null,null,null,null,null,null,null,null,null,null,null,null,null,null,null,null,null,null,null,null,null,null,null,null,null,null,null,null,null,null,null,null,null,null,null,null,null,null,null,null,null,null,null,null,null,null,null,null,null,null,null,null,null,null,null,null,null,null,null,null,null,null,null,null,null,null,null,null,null,null,null,null,null,null,null,null,null,null,null,null,null,null,null,null,null,null,null,null,null,null,null,null,null,null,null,null,null,null,null,null,null,null,null,null,null,null,null,null,null,null,null,null,null,null,null,null,null,null,null,null,null,null,null,null,null,null,null,null,null,null,null,null,null,null,null,null,null,null,null,null,null,null,null,null,null,null,null,null,null,null,null,null,null,null,null,null,null,null,null,"","",null,{"$f":"$M$423","v":"避難施設等"},"-",{"$f":"$M$461","v":"5(36)"},"-",{"$f":"$AF$305","v":"調査結果"},null,null,"避難施設等-5(36)-調査結果","２２調査結果避難施設等-5(36)-調査結果",null,null,null,null,null,"２２調査結果上記1から7に記載のない事項-1行目-調査結果"]
[null,null,null,null,null,null,null,null,null,null,null,null,null,null,null,null,null,null,null,null,null,null,null,null,null,null,null,null,null,null,null,null,null,null,null,null,null,null,null,null,null,null,null,null,null,null,null,null,null,null,null,null,null,null,null,null,null,null,null,null,null,null,null,null,null,null,null,null,null,null,null,null,null,null,null,null,null,null,null,null,null,null,null,null,null,null,null,null,null,null,null,null,null,null,null,null,null,null,null,null,null,null,null,null,null,null,null,null,null,null,null,null,null,null,null,null,null,null,null,null,null,null,null,null,null,null,null,null,null,null,null,null,null,null,null,null,null,null,null,null,null,null,null,null,null,null,null,null,null,null,null,null,null,null,null,null,null,null,null,null,null,null,null,null,null,null,null,null,null,null,null,null,null,null,null,null,null,null,null,null,null,null,null,null,null,null,null,null,null,null,null,null,null,null,null,null,null,null,null,null,null,null,null,null,null,null,null,null,null,null,null,null,null,null,null,null,null,null,null,null,null,null,null,null,null,null,null,null,null,null,null,null,null,null,null,null,null,null,null,null,null,null,null,null,null,null,null,null,null,null,null,null,null,null,null,null,null,null,null,null,null,null,null,null,null,null,null,null,null,null,null,null,null,null,null,null,null,null,null,null,null,null,null,null,null,null,null,null,null,null,null,null,null,null,null,null,null,null,null,null,null,null,null,null,null,null,null,null,null,null,null,{"$f":"LEFT($J$297,2)","v":""},{"$f":"MID($J$297,4,4)","v":""},null,{"$f":"$M$423","v":"避難施設等"},"-",{"$f":"$M$463","v":"5(38)"},"-",{"$f":"$AF$305","v":"調査結果"},null,null,"避難施設等-5(38)-調査結果","２２調査結果避難施設等-5(38)-調査結果",null,null,null,null,null,"２２調査結果上記1から7に記載のない事項-3行目-調査結果"]
[null,null,null,null,null,null,null,null,null,null,null,null,null,null,null,null,null,null,null,null,null,null,null,null,null,null,null,null,null,null,null,null,null,null,null,null,null,null,null,null,null,null,null,null,null,null,null,null,null,null,null,null,null,null,null,null,null,null,null,null,null,null,null,null,null,null,null,null,null,null,null,null,null,null,null,null,null,null,null,null,null,null,null,null,null,null,null,null,null,null,null,null,null,null,null,null,null,null,null,null,null,null,null,null,null,null,null,null,null,null,null,null,null,null,null,null,null,null,null,null,null,null,null,null,null,null,null,null,null,null,null,null,null,null,null,null,null,null,null,null,null,null,null,null,null,null,null,null,null,null,null,null,null,null,null,null,null,null,null,null,null,null,null,null,null,null,null,null,null,null,null,null,null,null,null,null,null,null,null,null,null,null,null,null,null,null,null,null,null,null,null,null,null,null,null,null,null,null,null,null,null,null,null,null,null,null,null,null,null,null,null,null,null,null,null,null,null,null,null,null,null,null,null,null,null,null,null,null,null,null,null,null,null,null,null,null,null,null,null,null,null,null,null,null,null,null,null,null,null,null,null,null,null,null,null,null,null,null,null,null,null,null,null,null,null,null,null,null,null,null,null,null,null,null,null,null,null,null,null,null,null,null,null,null,null,null,null,null,null,null,null,null,null,null,null,null,null,null,null,null,null,null,null,null,null,null,null,null,null,null,null,null,null,null,null,null,null,null,null,null,null,"","",null,null,null,null,null,"２２調査結果上記1から7に記載のない事項-4行目-調査項目"]
[null,null,null,null,null,null,null,null,null,null,null,null,null,null,null,null,null,null,null,null,null,null,null,null,null,null,null,null,null,null,null,null,null,null,null,null,null,null,null,null,null,null,null,null,null,null,null,null,null,null,null,null,null,null,null,null,null,null,null,null,null,null,null,null,null,null,null,null,null,null,null,null,null,null,null,null,null,null,null,null,null,null,null,null,null,null,null,null,null,null,null,null,null,null,null,null,null,null,null,null,null,null,null,null,null,null,null,null,null,null,null,null,null,null,null,null,null,null,null,null,null,null,null,null,null,null,null,null,null,null,null,null,null,null,null,null,null,null,null,null,null,null,null,null,null,null,null,null,null,null,null,null,null,null,null,null,null,null,null,null,null,null,null,null,null,null,null,null,null,null,null,null,null,null,null,null,null,null,null,null,null,null,null,null,null,null,null,null,null,null,null,null,null,null,null,null,null,null,null,null,null,null,null,null,null,null,null,null,null,null,null,null,null,null,null,null,null,null,null,null,null,null,null,null,null,null,null,null,null,null,null,null,null,null,null,null,null,null,null,null,null,null,null,null,null,null,null,null,null,null,null,null,null,null,null,null,null,null,null,null,null,null,null,null,null,null,null,null,null,null,null,null,null,null,null,null,null,null,null,null,null,null,null,null,null,null,null,null,null,null,null,null,null,null,null,null,null,null,null,null,null,null,null,null,null,null,null,null,null,null,null,"","",null,"避難施設等","-","5(40)","-","改善（予定）年月","-",{"$f":"$LD$395","v":"状況"},"避難施設等-5(40)-改善（予定）年月-状況","２２調査結果避難施設等-5(40)-改善（予定）年月-未定",null,null,null,null,null,"２２調査結果上記1から7に記載のない事項-5行目-改善（予定）年月-未定"]
[null,null,null,null,null,null,null,null,null,null,null,null,null,null,null,null,null,null,null,null,null,null,null,null,null,null,null,null,null,null,null,null,null,null,null,null,null,null,null,null,null,null,null,null,null,null,null,null,null,null,null,null,null,null,null,null,null,null,null,null,null,null,null,null,null,null,null,null,null,null,null,null,null,null,null,null,null,null,null,null,null,null,null,null,null,null,null,null,null,null,null,null,null,null,null,null,null,null,null,null,null,null,null,null,null,null,null,null,null,null,null,null,null,null,null,null,null,null,null,null,null,null,null,null,null,null,null,null,null,null,null,null,null,null,null,null,null,null,null,null,null,null,null,null,null,null,null,null,null,null,null,null,null,null,null,null,null,null,null,null,null,null,null,null,null,null,null,null,null,null,null,null,null,null,null,null,null,null,null,null,null,null,null,null,null,null,null,null,null,null,null,null,null,null,null,null,null,null,null,null,null,null,null,null,null,null,null,null,null,null,null,null,null,null,null,null,null,null,null,null,null,null,null,null,null,null,null,null,null,null,null,null,null,null,null,null,null,null,null,null,null,null,null,null,null,null,null,null,null,null,null,null,null,null,null,null,null,null,null,null,null,null,null,null,null,null,null,null,null,null,null,null,null,null,null,null,null,null,null,null,null,null,null,null,null,null,null,null,null,null,null,null,null,null,null,null,null,null,null,null,null,null,null,null,null,null,null,null,null,null,null,"","",null,"その他","-","6(1)","-","改善（予定）年月","-",{"$f":"$LD$395","v":"状況"},"その他-6(1)-改善（予定）年月-状況","２２調査結果その他-6(1)-改善（予定）年月-未定",null,null,null,null,null,"２２調査結果上記1から7に記載のない事項-7行目-改善（予定）年月-未定"]
[null,null,null,null,null,null,null,null,null,null,null,null,null,null,null,null,null,null,null,null,null,null,null,null,null,null,null,null,null,null,null,null,null,null,null,null,null,null,null,null,null,null,null,null,null,null,null,null,null,null,null,null,null,null,null,null,null,null,null,null,null,null,null,null,null,null,null,null,null,null,null,null,null,null,null,null,null,null,null,null,null,null,null,null,null,null,null,null,null,null,null,null,null,null,null,null,null,null,null,null,null,null,null,null,null,null,null,null,null,null,null,null,null,null,null,null,null,null,null,null,null,null,null,null,null,null,null,null,null,null,null,null,null,null,null,null,null,null,null,null,null,null,null,null,null,null,null,null,null,null,null,null,null,null,null,null,null,null,null,null,null,null,null,null,null,null,null,null,null,null,null,null,null,null,null,null,null,null,null,null,null,null,null,null,null,null,null,null,null,null,null,null,null,null,null,null,null,null,null,null,null,null,null,null,null,null,null,null,null,null,null,null,null,null,null,null,null,null,null,null,null,null,null,null,null,null,null,null,null,null,null,null,null,null,null,null,null,null,null,null,null,null,null,null,null,null,null,null,null,null,null,null,null,null,null,null,null,null,null,null,null,null,null,null,null,null,null,null,null,null,null,null,null,null,null,null,null,null,null,null,null,null,null,null,null,null,null,null,null,null,null,null,null,null,null,null,null,null,null,null,null,null,null,null,null,null,null,null,null,null,null,"","",null,"その他","-","6(2)","-",{"$f":"$BS$305","v":"改善（予定）年月"},"-",{"$f":"$BS$369","v":"年\n(令和)"},"その他-6(2)-改善（予定）年月-年\n(令和)","２２調査結果その他-6(2)-改善（予定）年月-年\n(令和)",null,null,null,null,null,"２２調査結果上記1から7に記載のない事項-8行目-改善（予定）年月-年\n(令和)"]
[null,null,null,null,null,null,null,null,null,null,null,null,null,null,null,null,null,null,null,null,null,null,null,null,null,null,null,null,null,null,null,null,null,null,null,null,null,null,null,null,null,null,null,null,null,null,null,null,null,null,null,null,null,null,null,null,null,null,null,null,null,null,null,null,null,null,null,null,null,null,null,null,null,null,null,null,null,null,null,null,null,null,null,null,null,null,null,null,null,null,null,null,null,null,null,null,null,null,null,null,null,null,null,null,null,null,null,null,null,null,null,null,null,null,null,null,null,null,null,null,null,null,null,null,null,null,null,null,null,null,null,null,null,null,null,null,null,null,null,null,null,null,null,null,null,null,null,null,null,null,null,null,null,null,null,null,null,null,null,null,null,null,null,null,null,null,null,null,null,null,null,null,null,null,null,null,null,null,null,null,null,null,null,null,null,null,null,null,null,null,null,null,null,null,null,null,null,null,null,null,null,null,null,null,null,null,null,null,null,null,null,null,null,null,null,null,null,null,null,null,null,null,null,null,null,null,null,null,null,null,null,null,null,null,null,null,null,null,null,null,null,null,null,null,null,null,null,null,null,null,null,null,null,null,null,null,null,null,null,null,null,null,null,null,null,null,null,null,null,null,null,null,null,null,null,null,null,null,null,null,null,null,null,null,null,null,null,null,null,null,null,null,null,null,null,null,null,null,null,null,null,null,null,null,null,null,null,null,null,null,null,"","",null,{"$f":"$M$472","v":"その他"},"-",{"$f":"$M$479","v":"6(5)"},"-",{"$f":"$AF$305","v":"調査結果"},null,null,"その他-6(5)-調査結果","２２調査結果その他-6(5)-調査結果",null,null,null,null,null,"階別用途別床面積-1-小分類"]
[null,null,null,null,null,null,null,null,null,null,null,null,null,null,null,null,null,null,null,null,null,null,null,null,null,null,null,null,null,null,null,null,null,null,null,null,null,null,null,null,null,null,null,null,null,null,null,null,null,null,null,null,null,null,null,null,null,null,null,null,null,null,null,null,null,null,null,null,null,null,null,null,null,null,null,null,null,null,null,null,null,null,null,null,null,null,null,null,null,null,null,null,null,null,null,null,null,null,null,null,null,null,null,null,null,null,null,null,null,null,null,null,null,null,null,null,null,null,null,null,null,null,null,null,null,null,null,null,null,null,null,null,null,null,null,null,null,null,null,null,null,null,null,null,null,null,null,null,null,null,null,null,null,null,null,null,null,null,null,null,null,null,null,null,null,null,null,null,null,null,null,null,null,null,null,null,null,null,null,null,null,null,null,null,null,null,null,null,null,null,null,null,null,null,null,null,null,null,null,null,null,null,null,null,null,null,null,null,null,null,null,null,null,null,null,null,null,null,null,null,null,null,null,null,null,null,null,null,null,null,null,null,null,null,null,null,null,null,null,null,null,null,null,null,null,null,null,null,null,null,null,null,null,null,null,null,null,null,null,null,null,null,null,null,null,null,null,null,null,null,null,null,null,null,null,null,null,null,null,null,null,null,null,null,null,null,null,null,null,null,null,null,null,null,null,null,null,null,null,null,null,null,null,null,null,null,null,null,null,null,null,"","",null,"その他","-","6(6)","-",{"$f":"$BD$323","v":"改善策の具体的内容等"},null,null,"その他-6(6)-改善策の具体的内容等","２２調査結果その他-6(6)-改善策の具体的内容等",null,null,null,null,null,"階別用途別床面積-1-2階"]
[null,null,null,null,null,null,null,null,null,null,null,null,null,null,null,null,null,null,null,null,null,null,null,null,null,null,null,null,null,null,null,null,null,null,null,null,null,null,null,null,null,null,null,null,null,null,null,null,null,null,null,null,null,null,null,null,null,null,null,null,null,null,null,null,null,null,null,null,null,null,null,null,null,null,null,null,null,null,null,null,null,null,null,null,null,null,null,null,null,null,null,null,null,null,null,null,null,null,null,null,null,null,null,null,null,null,null,null,null,null,null,null,null,null,null,null,null,null,null,null,null,null,null,null,null,null,null,null,null,null,null,null,null,null,null,null,null,null,null,null,null,null,null,null,null,null,null,null,null,null,null,null,null,null,null,null,null,null,null,null,null,null,null,null,null,null,null,null,null,null,null,null,null,null,null,null,null,null,null,null,null,null,null,null,null,null,null,null,null,null,null,null,null,null,null,null,null,null,null,null,null,null,null,null,null,null,null,null,null,null,null,null,null,null,null,null,null,null,null,null,null,null,null,null,null,null,null,null,null,null,null,null,null,null,null,null,null,null,null,null,null,null,null,null,null,null,null,null,null,null,null,null,null,null,null,null,null,null,null,null,null,null,null,null,null,null,null,null,null,null,null,null,null,null,null,null,null,null,null,null,null,null,null,null,null,null,null,null,null,null,null,null,null,null,null,null,null,null,null,null,null,null,null,null,null,null,null,null,null,null,null,"","",null,"その他","-","6(7)","-","改善（予定）年月","-",{"$f":"$LD$395","v":"状況"},"その他-6(7)-改善（予定）年月-状況","２２調査結果その他-6(7)-改善（予定）年月-未定",null,null,null,null,null,"階別用途別床面積-1-13階"]
[null,null,null,null,null,null,null,null,null,null,null,null,null,null,null,null,null,null,null,null,null,null,null,null,null,null,null,null,null,null,null,null,null,null,null,null,null,null,null,null,null,null,null,null,null,null,null,null,null,null,null,null,null,null,null,null,null,null,null,null,null,null,null,null,null,null,null,null,null,null,null,null,null,null,null,null,null,null,null,null,null,null,null,null,null,null,null,null,null,null,null,null,null,null,null,null,null,null,null,null,null,null,null,null,null,null,null,null,null,null,null,null,null,null,null,null,null,null,null,null,null,null,null,null,null,null,null,null,null,null,null,null,null,null,null,null,null,null,null,null,null,null,null,null,null,null,null,null,null,null,null,null,null,null,null,null,null,null,null,null,null,null,null,null,null,null,null,null,null,null,null,null,null,null,null,null,null,null,null,null,null,null,null,null,null,null,null,null,null,null,null,null,null,null,null,null,null,null,null,null,null,null,null,null,null,null,null,null,null,null,null,null,null,null,null,null,null,null,null,null,null,null,null,null,null,null,null,null,null,null,null,null,null,null,null,null,null,null,null,null,null,null,null,null,null,null,null,null,null,null,null,null,null,null,null,null,null,null,null,null,null,null,null,null,null,null,null,null,null,null,null,null,null,null,null,null,null,null,null,null,null,null,null,null,null,null,null,null,null,null,null,null,null,null,null,null,null,null,null,null,null,null,null,null,null,null,null,null,null,null,null,"","",null,"その他","-","6(8)","-","改善（予定）年月","-",{"$f":"$LD$395","v":"状況"},"その他-6(8)-改善（予定）年月-状況","２２調査結果その他-6(8)-改善（予定）年月-未定",null,null,null,null,null,"階別用途別床面積-1-21階"]
[null,null,null,null,null,null,null,null,null,null,null,null,null,null,null,null,null,null,null,null,null,null,null,null,null,null,null,null,null,null,null,null,null,null,null,null,null,null,null,null,null,null,null,null,null,null,null,null,null,null,null,null,null,null,null,null,null,null,null,null,null,null,null,null,null,null,null,null,null,null,null,null,null,null,null,null,null,null,null,null,null,null,null,null,null,null,null,null,null,null,null,null,null,null,null,null,null,null,null,null,null,null,null,null,null,null,null,null,null,null,null,null,null,null,null,null,null,null,null,null,null,null,null,null,null,null,null,null,null,null,null,null,null,null,null,null,null,null,null,null,null,null,null,null,null,null,null,null,null,null,null,null,null,null,null,null,null,null,null,null,null,null,null,null,null,null,null,null,null,null,null,null,null,null,null,null,null,null,null,null,null,null,null,null,null,null,null,null,null,null,null,null,null,null,null,null,null,null,null,null,null,null,null,null,null,null,null,null,null,null,null,null,null,null,null,null,null,null,null,null,null,null,null,null,null,null,null,null,null,null,null,null,null,null,null,null,null,null,null,null,null,null,null,null,null,null,null,null,null,null,null,null,null,null,null,null,null,null,null,null,null,null,null,null,null,null,null,null,null,null,null,null,null,null,null,null,null,null,null,null,null,null,null,null,null,null,null,null,null,null,null,null,null,null,null,null,null,null,null,null,null,null,null,null,null,null,null,null,null,null,null,"","",null,"上記以外の調査項目","-","7(1)","-",{"$f":"$BS$305","v":"改善（予定）年月"},"-",{"$f":"$BS$369","v":"年\n(令和)"},"上記以外の調査項目-7(1)-改善（予定）年月-年\n(令和)","２２調査結果上記以外の調査項目-7(1)-改善（予定）年月-年\n(令和)",null,null,null,null,null,"階別用途別床面積-1-35階"]
[null,null,null,null,null,null,null,null,null,null,null,null,null,null,null,null,null,null,null,null,null,null,null,null,null,null,null,null,null,null,null,null,null,null,null,null,null,null,null,null,null,null,null,null,null,null,null,null,null,null,null,null,null,null,null,null,null,null,null,null,null,null,null,null,null,null,null,null,null,null,null,null,null,null,null,null,null,null,null,null,null,null,null,null,null,null,null,null,null,null,null,null,null,null,null,null,null,null,null,null,null,null,null,null,null,null,null,null,null,null,null,null,null,null,null,null,null,null,null,null,null,null,null,null,null,null,null,null,null,null,null,null,null,null,null,null,null,null,null,null,null,null,null,null,null,null,null,null,null,null,null,null,null,null,null,null,null,null,null,null,null,null,null,null,null,null,null,null,null,null,null,null,null,null,null,null,null,null,null,null,null,null,null,null,null,null,null,null,null,null,null,null,null,null,null,null,null,null,null,null,null,null,null,null,null,null,null,null,null,null,null,null,null,null,null,null,null,null,null,null,null,null,null,null,null,null,null,null,null,null,null,null,null,null,null,null,null,null,null,null,null,null,null,null,null,null,null,null,null,null,null,null,null,null,null,null,null,null,null,null,null,null,null,null,null,null,null,null,null,null,null,null,null,null,null,null,null,null,null,null,null,null,null,null,null,null,null,null,null,null,null,null,null,null,null,null,null,null,null,null,null,null,null,null,null,null,null,null,null,null,null,"","",null,"上記以外の調査項目","-","7(2)","-","改善（予定）年月","-",{"$f":"$BV$369","v":"月"},"上記以外の調査項目-7(2)-改善（予定）年月-月","２２調査結果上記以外の調査項目-7(2)-改善（予定）年月-月",null,null,null,null,null,"階別用途別床面積-1-33階"]
[null,null,null,null,null,null,null,null,null,null,null,null,null,null,null,null,null,null,null,null,null,null,null,null,null,null,null,null,null,null,null,null,null,null,null,null,null,null,null,null,null,null,null,null,null,null,null,null,null,null,null,null,null,null,null,null,null,null,null,null,null,null,null,null,null,null,null,null,null,null,null,null,null,null,null,null,null,null,null,null,null,null,null,null,null,null,null,null,null,null,null,null,null,null,null,null,null,null,null,null,null,null,null,null,null,null,null,null,null,null,null,null,null,null,null,null,null,null,null,null,null,null,null,null,null,null,null,null,null,null,null,null,null,null,null,null,null,null,null,null,null,null,null,null,null,null,null,null,null,null,null,null,null,null,null,null,null,null,null,null,null,null,null,null,null,null,null,null,null,null,null,null,null,null,null,null,null,null,null,null,null,null,null,null,null,null,null,null,null,null,null,null,null,null,null,null,null,null,null,null,null,null,null,null,null,null,null,null,null,null,null,null,null,null,null,null,null,null,null,null,null,null,null,null,null,null,null,null,null,null,null,null,null,null,null,null,null,null,null,null,null,null,null,null,null,null,null,null,null,null,null,null,null,null,null,null,null,null,null,null,null,null,null,null,null,null,null,null,null,null,null,null,null,null,null,null,null,null,null,null,null,null,null,null,null,null,null,null,null,null,null,null,null,null,null,null,null,null,null,null,null,null,null,null,null,null,null,null,null,null,null,"","",null,"上記以外の調査項目","-","7(4)","-",{"$f":"$AT$323","v":"指摘の具体的内容等"},null,null,"上記以外の調査項目-7(4)-指摘の具体的内容等","２２調査結果上記以外の調査項目-7(4)-指摘の具体的内容等",null,null,null,null,null,"階別用途別床面積-2-塔屋 1階"]
[null,null,null,null,null,null,null,null,null,null,null,null,null,null,null,null,null,null,null,null,null,null,null,null,null,null,null,null,null,null,null,null,null,null,null,null,null,null,null,null,null,null,null,null,null,null,null,null,null,null,null,null,null,null,null,null,null,null,null,null,null,null,null,null,null,null,null,null,null,null,null,null,null,null,null,null,null,null,null,null,null,null,null,null,null,null,null,null,null,null,null,null,null,null,null,null,null,null,null,null,null,null,null,null,null,null,null,null,null,null,null,null,null,null,null,null,null,null,null,null,null,null,null,null,null,null,null,null,null,null,null,null,null,null,null,null,null,null,null,null,null,null,null,null,null,null,null,null,null,null,null,null,null,null,null,null,null,null,null,null,null,null,null,null,null,null,null,null,null,null,null,null,null,null,null,null,null,null,null,null,null,null,null,null,null,null,null,null,null,null,null,null,null,null,null,null,null,null,null,null,null,null,null,null,null,null,null,null,null,null,null,null,null,null,null,null,null,null,null,null,null,null,null,null,null,null,null,null,null,null,null,null,null,null,null,null,null,null,null,null,null,null,null,null,null,null,null,null,null,null,null,null,null,null,null,null,null,null,null,null,null,null,null,null,null,null,null,null,null,null,null,null,null,null,null,null,null,null,null,null,null,null,null,null,null,null,null,null,null,null,null,null,null,null,null,null,null,null,null,null,null,null,null,null,null,null,null,null,null,null,null,"","",null,{"$f":"$M$490","v":"上記以外の調査項目"},"-",{"$f":"$M$499","v":"7(7)"},"-",{"$f":"$AF$305","v":"調査結果"},null,null,"上記以外の調査項目-7(7)-調査結果","２２調査結果上記以外の調査項目-7(7)-調査結果",null,null,null,null,null,"階別用途別床面積-2-18階"]
[null,null,null,null,null,null,null,null,null,null,null,null,null,null,null,null,null,null,null,null,null,null,null,null,null,null,null,null,null,null,null,null,null,null,null,null,null,null,null,null,null,null,null,null,null,null,null,null,null,null,null,null,null,null,null,null,null,null,null,null,null,null,null,null,null,null,null,null,null,null,null,null,null,null,null,null,null,null,null,null,null,null,null,null,null,null,null,null,null,null,null,null,null,null,null,null,null,null,null,null,null,null,null,null,null,null,null,null,null,null,null,null,null,null,null,null,null,null,null,null,null,null,null,null,null,null,null,null,null,null,null,null,null,null,null,null,null,null,null,null,null,null,null,null,null,null,null,null,null,null,null,null,null,null,null,null,null,null,null,null,null,null,null,null,null,null,null,null,null,null,null,null,null,null,null,null,null,null,null,null,null,null,null,null,null,null,null,null,null,null,null,null,null,null,null,null,null,null,null,null,null,null,null,null,null,null,null,null,null,null,null,null,null,null,null,null,null,null,null,null,null,null,null,null,null,null,null,null,null,null,null,null,null,null,null,null,null,null,null,null,null,null,null,null,null,null,null,null,null,null,null,null,null,null,null,null,null,null,null,null,null,null,null,null,null,null,null,null,null,null,null,null,null,null,null,null,null,null,null,null,null,null,null,null,null,null,null,null,null,null,null,null,null,null,null,null,null,null,null,null,null,null,null,null,null,null,null,null,null,null,null,"","",null,"上記以外の調査項目","-","7(7)","-",{"$f":"$BS$305","v":"改善（予定）年月"},"-",{"$f":"$BS$369","v":"年\n(令和)"},"上記以外の調査項目-7(7)-改善（予定）年月-年\n(令和)","２２調査結果上記以外の調査項目-7(7)-改善（予定）年月-年\n(令和)",null,null,null,null,null,"階別用途別床面積-2-22階"]
[null,null,null,null,null,null,null,null,null,null,null,null,null,null,null,null,null,null,null,null,null,null,null,null,null,null,null,null,null,null,null,null,null,null,null,null,null,null,null,null,null,null,null,null,null,null,null,null,null,null,null,null,null,null,null,null,null,null,null,null,null,null,null,null,null,null,null,null,null,null,null,null,null,null,null,null,null,null,null,null,null,null,null,null,null,null,null,null,null,null,null,null,null,null,null,null,null,null,null,null,null,null,null,null,null,null,null,null,null,null,null,null,null,null,null,null,null,null,null,null,null,null,null,null,null,null,null,null,null,null,null,null,null,null,null,null,null,null,null,null,null,null,null,null,null,null,null,null,null,null,null,null,null,null,null,null,null,null,null,null,null,null,null,null,null,null,null,null,null,null,null,null,null,null,null,null,null,null,null,null,null,null,null,null,null,null,null,null,null,null,null,null,null,null,null,null,null,null,null,null,null,null,null,null,null,null,null,null,null,null,null,null,null,null,null,null,null,null,null,null,null,null,null,null,null,null,null,null,null,null,null,null,null,null,null,null,null,null,null,null,null,null,null,null,null,null,null,null,null,null,null,null,null,null,null,null,null,null,null,null,null,null,null,null,null,null,null,null,null,null,null,null,null,null,null,null,null,null,null,null,null,null,null,null,null,null,null,null,null,null,null,null,null,null,null,null,null,null,null,null,null,null,null,null,null,null,null,null,null,null,null,null,null,null,null,null,null,null,null,null,null,"","",null,null,null,null,null,"階別用途別床面積-2-31階"]
[null,null,null,null,null,null,null,null,null,null,null,null,null,null,null,null,null,null,null,null,null,null,null,null,null,null,null,null,null,null,null,null,null,null,null,null,null,null,null,null,null,null,null,null,null,null,null,null,null,null,null,null,null,null,null,null,null,null,null,null,null,null,null,null,null,null,null,null,null,null,null,null,null,null,null,null,null,null,null,null,null,null,null,null,null,null,null,null,null,null,null,null,null,null,null,null,null,null,null,null,null,null,null,null,null,null,null,null,null,null,null,null,null,null,null,null,null,null,null,null,null,null,null,null,null,null,null,null,null,null,null,null,null,null,null,null,null,null,null,null,null,null,null,null,null,null,null,null,null,null,null,null,null,null,null,null,null,null,null,null,null,null,null,null,null,null,null,null,null,null,null,null,null,null,null,null,null,null,null,null,null,null,null,null,null,null,null,null,null,null,null,null,null,null,null,null,null,null,null,null,null,null,null,null,null,null,null,null,null,null,null,null,null,null,null,null,null,null,null,null,null,null,null,null,null,null,null,null,null,null,null,null,null,null,null,null,null,null,null,null,null,null,null,null,null,null,null,null,null,null,null,null,null,null,null,null,null,null,null,null,null,null,null,null,null,null,null,null,null,null,null,null,null,null,null,null,null,null,null,null,null,null,null,null,null,null,null,null,null,null,null,null,null,null,null,null,null,null,null,null,null,null,null,null,null,null,null,null,null,null,null,"","",null,"上記以外の調査項目","-","7(10)","-",{"$f":"$AT$323","v":"指摘の具体的内容等"},null,null,"上記以外の調査項目-7(10)-指摘の具体的内容等","２２調査結果上記以外の調査項目-7(10)-指摘の具体的内容等",null,null,null,null,null,"階別用途別床面積-2-33階"]
[null,null,null,null,null,null,null,null,null,null,null,null,null,null,null,null,null,null,null,null,null,null,null,null,null,null,null,null,null,null,null,null,null,null,null,null,null,null,null,null,null,null,null,null,null,null,null,null,null,null,null,null,null,null,null,null,null,null,null,null,null,null,null,null,null,null,null,null,null,null,null,null,null,null,null,null,null,null,null,null,null,null,null,null,null,null,null,null,null,null,null,null,null,null,null,null,null,null,null,null,null,null,null,null,null,null,null,null,null,null,null,null,null,null,null,null,null,null,null,null,null,null,null,null,null,null,null,null,null,null,null,null,null,null,null,null,null,null,null,null,null,null,null,null,null,null,null,null,null,null,null,null,null,null,null,null,null,null,null,null,null,null,null,null,null,null,null,null,null,null,null,null,null,null,null,null,null,null,null,null,null,null,null,null,null,null,null,null,null,null,null,null,null,null,null,null,null,null,null,null,null,null,null,null,null,null,null,null,null,null,null,null,null,null,null,null,null,null,null,null,null,null,null,null,null,null,null,null,null,null,null,null,null,null,null,null,null,null,null,null,null,null,null,null,null,null,null,null,null,null,null,null,null,null,null,null,null,null,null,null,null,null,null,null,null,null,null,null,null,null,null,null,null,null,null,null,null,null,null,null,null,null,null,null,null,null,null,null,null,null,null,null,null,null,null,null,null,null,null,null,null,null,null,null,null,null,null,null,null,null,"例外","","",null,"上記1から7に記載のない事項","-","2行目","-",{"$f":"$BS$305","v":"改善（予定）年月"},"-",{"$f":"$BS$369","v":"年\n(令和)"},"上記1から7に記載のない事項-2行目-改善（予定）年月-年\n(令和)","２２調査結果上記1から7に記載のない事項-2行目-改善（予定）年月-年\n(令和)",null,null,null,null,null,"階別用途別床面積-3-3階"]
[null,null,null,null,null,null,null,null,null,null,null,null,null,null,null,null,null,null,null,null,null,null,null,null,null,null,null,null,null,null,null,null,null,null,null,null,null,null,null,null,null,null,null,null,null,null,null,null,null,null,null,null,null,null,null,null,null,null,null,null,null,null,null,null,null,null,null,null,null,null,null,null,null,null,null,null,null,null,null,null,null,null,null,null,null,null,null,null,null,null,null,null,null,null,null,null,null,null,null,null,null,null,null,null,null,null,null,null,null,null,null,null,null,null,null,null,null,null,null,null,null,null,null,null,null,null,null,null,null,null,null,null,null,null,null,null,null,null,null,null,null,null,null,null,null,null,null,null,null,null,null,null,null,null,null,null,null,null,null,null,null,null,null,null,null,null,null,null,null,null,null,null,null,null,null,null,null,null,null,null,null,null,null,null,null,null,null,null,null,null,null,null,null,null,null,null,null,null,null,null,null,null,null,null,null,null,null,null,null,null,null,null,null,null,null,null,null,null,null,null,null,null,null,null,null,null,null,null,null,null,null,null,null,null,null,null,null,null,null,null,null,null,null,null,null,null,null,null,null,null,null,null,null,null,null,null,null,null,null,null,null,null,null,null,null,null,null,null,null,null,null,null,null,null,null,null,null,null,null,null,null,null,null,null,null,null,null,null,null,null,null,null,null,null,null,null,null,null,null,null,null,null,null,null,null,null,null,null,null,null,"例外","","",null,"上記1から7に記載のない事項","-","3行目","-","改善（予定）年月","-",{"$f":"$BV$369","v":"月"},"上記1から7に記載のない事項-3行目-改善（予定）年月-月","２２調査結果上記1から7に記載のない事項-3行目-改善（予定）年月-月",null,null,null,null,null,"階別用途別床面積-3-13階"]
[null,null,null,null,null,null,null,null,null,null,null,null,null,null,null,null,null,null,null,null,null,null,null,null,null,null,null,null,null,null,null,null,null,null,null,null,null,null,null,null,null,null,null,null,null,null,null,null,null,null,null,null,null,null,null,null,null,null,null,null,null,null,null,null,null,null,null,null,null,null,null,null,null,null,null,null,null,null,null,null,null,null,null,null,null,null,null,null,null,null,null,null,null,null,null,null,null,null,null,null,null,null,null,null,null,null,null,null,null,null,null,null,null,null,null,null,null,null,null,null,null,null,null,null,null,null,null,null,null,null,null,null,null,null,null,null,null,null,null,null,null,null,null,null,null,null,null,null,null,null,null,null,null,null,null,null,null,null,null,null,null,null,null,null,null,null,null,null,null,null,null,null,null,null,null,null,null,null,null,null,null,null,null,null,null,null,null,null,null,null,null,null,null,null,null,null,null,null,null,null,null,null,null,null,null,null,null,null,null,null,null,null,null,null,null,null,null,null,null,null,null,null,null,null,null,null,null,null,null,null,null,null,null,null,null,null,null,null,null,null,null,null,null,null,null,null,null,null,null,null,null,null,null,null,null,null,null,null,null,null,null,null,null,null,null,null,null,null,null,null,null,null,null,null,null,null,null,null,null,null,null,null,null,null,null,null,null,null,null,null,null,null,null,null,null,null,null,null,null,null,null,null,null,null,null,null,null,null,null,null,"例外","","",null,{"$f":"$M$509","v":"上記1から7に記載のない事項"},"-","5行目","-","調査項目",null,null,"上記1から7に記載のない事項-5行目-調査項目","２２調査結果上記1から7に記載のない事項-5行目-調査項目",null,null,null,null,null,"階別用途別床面積-3-25階"]
[null,null,null,null,null,null,null,null,null,null,null,null,null,null,null,null,null,null,null,null,null,null,null,null,null,null,null,null,null,null,null,null,null,null,null,null,null,null,null,null,null,null,null,null,null,null,null,null,null,null,null,null,null,null,null,null,null,null,null,null,null,null,null,null,null,null,null,null,null,null,null,null,null,null,null,null,null,null,null,null,null,null,null,null,null,null,null,null,null,null,null,null,null,null,null,null,null,null,null,null,null,null,null,null,null,null,null,null,null,null,null,null,null,null,null,null,null,null,null,null,null,null,null,null,null,null,null,null,null,null,null,null,null,null,null,null,null,null,null,null,null,null,null,null,null,null,null,null,null,null,null,null,null,null,null,null,null,null,null,null,null,null,null,null,null,null,null,null,null,null,null,null,null,null,null,null,null,null,null,null,null,null,null,null,null,null,null,null,null,null,null,null,null,null,null,null,null,null,null,null,null,null,null,null,null,null,null,null,null,null,null,null,null,null,null,null,null,null,null,null,null,null,null,null,null,null,null,null,null,null,null,null,null,null,null,null,null,null,null,null,null,null,null,null,null,null,null,null,null,null,null,null,null,null,null,null,null,null,null,null,null,null,null,null,null,null,null,null,null,null,null,null,null,null,null,null,null,null,null,null,null,null,null,null,null,null,null,null,null,null,null,null,null,null,null,null,null,null,null,null,null,null,null,null,null,null,null,null,null,null,"例外","","",null,{"$f":"$M$509","v":"上記1から7に記載のない事項"},"-","6行目","-",{"$f":"$AR$305","v":"調査者\n番号"},null,null,"上記1から7に記載のない事項-6行目-調査者\n番号","２２調査結果上記1から7に記載のない事項-6行目-調査者\n番号",null,null,null,null,null,"階別用途別床面積-3-36階"]
[null,null,null,null,null,null,null,null,null,null,null,null,null,null,null,null,null,null,null,null,null,null,null,null,null,null,null,null,null,null,null,null,null,null,null,null,null,null,null,null,null,null,null,null,null,null,null,null,null,null,null,null,null,null,null,null,null,null,null,null,null,null,null,null,null,null,null,null,null,null,null,null,null,null,null,null,null,null,null,null,null,null,null,null,null,null,null,null,null,null,null,null,null,null,null,null,null,null,null,null,null,null,null,null,null,null,null,null,null,null,null,null,null,null,null,null,null,null,null,null,null,null,null,null,null,null,null,null,null,null,null,null,null,null,null,null,null,null,null,null,null,null,null,null,null,null,null,null,null,null,null,null,null,null,null,null,null,null,null,null,null,null,null,null,null,null,null,null,null,null,null,null,null,null,null,null,null,null,null,null,null,null,null,null,null,null,null,null,null,null,null,null,null,null,null,null,null,null,null,null,null,null,null,null,null,null,null,null,null,null,null,null,null,null,null,null,null,null,null,null,null,null,null,null,null,null,null,null,null,null,null,null,null,null,null,null,null,null,null,null,null,null,null,null,null,null,null,null,null,null,null,null,null,null,null,null,null,null,null,null,null,null,null,null,null,null,null,null,null,null,null,null,null,null,null,null,null,null,null,null,null,null,null,null,null,null,null,null,null,null,null,null,null,null,null,null,null,null,null,null,null,null,null,null,null,null,null,null,null,null,"例外","","",null,"上記1から7に記載のない事項","-","7行目","-",{"$f":"$BD$323","v":"改善策の具体的内容等"},null,null,"上記1から7に記載のない事項-7行目-改善策の具体的内容等","２２調査結果上記1から7に記載のない事項-7行目-改善策の具体的内容等",null,null,null,null,null,"階別用途別床面積-3-37階"]
[null,null,null,null,null,null,null,null,null,null,null,null,null,null,null,null,null,null,null,null,null,null,null,null,null,null,null,null,null,null,null,null,null,null,null,null,null,null,null,null,null,null,null,null,null,null,null,null,null,null,null,null,null,null,null,null,null,null,null,null,null,null,null,null,null,null,null,null,null,null,null,null,null,null,null,null,null,null,null,null,null,null,null,null,null,null,null,null,null,null,null,null,null,null,null,null,null,null,null,null,null,null,null,null,null,null,null,null,null,null,null,null,null,null,null,null,null,null,null,null,null,null,null,null,null,null,null,null,null,null,null,null,null,null,null,null,null,null,null,null,null,null,null,null,null,null,null,null,null,null,null,null,null,null,null,null,null,null,null,null,null,null,null,null,null,null,null,null,null,null,null,null,null,null,null,null,null,null,null,null,null,null,null,null,null,null,null,null,null,null,null,null,null,null,null,null,null,null,null,null,null,null,null,null,null,null,null,null,null,null,null,null,null,null,null,null,null,null,null,null,null,null,null,null,null,null,null,null,null,null,null,null,null,null,null,null,null,null,null,null,null,null,null,null,null,null,null,null,null,null,null,null,null,null,null,null,null,null,null,null,null,null,null,null,null,null,null,null,null,null,null,null,null,null,null,null,null,null,null,null,null,null,null,null,null,null,null,null,null,null,null,null,null,null,null,null,null,null,null,null,null,null,null,null,null,null,null,null,null,null,"例外","","",null,"上記1から7に記載のない事項","-","9行目","-","改善（予定）年月","-",{"$f":"$BV$369","v":"月"},"上記1から7に記載のない事項-9行目-改善（予定）年月-月","２２調査結果上記1から7に記載のない事項-9行目-改善（予定）年月-月",null,null,null,null,null,"階別用途別床面積-3-6階"]
[null,null,null,null,null,null,null,null,null,null,null,null,null,null,null,null,null,null,null,null,null,null,null,null,null,null,null,null,null,null,null,null,null,null,null,null,null,null,null,null,null,null,null,null,null,null,null,null,null,null,null,null,null,null,null,null,null,null,null,null,null,null,null,null,null,null,null,null,null,null,null,null,null,null,null,null,null,null,null,null,null,null,null,null,null,null,null,null,null,null,null,null,null,null,null,null,null,null,null,null,null,null,null,null,null,null,null,null,null,null,null,null,null,null,null,null,null,null,null,null,null,null,null,null,null,null,null,null,null,null,null,null,null,null,null,null,null,null,null,null,null,null,null,null,null,null,null,null,null,null,null,null,null,null,null,null,null,null,null,null,null,null,null,null,null,null,null,null,null,null,null,null,null,null,null,null,null,null,null,null,null,null,null,null,null,null,null,null,null,null,null,null,null,null,null,null,null,null,null,null,null,null,null,null,null,null,null,null,null,null,null,null,null,null,null,null,null,null,null,null,null,null,null,null,null,null,null,null,null,null,null,null,null,null,null,null,null,null,null,null,null,null,null,null,null,null,null,null,null,null,null,null,null,null,null,null,null,null,null,null,null,null,null,null,null,null,null,null,null,null,null,null,null,null,null,null,null,null,null,null,null,null,null,null,null,null,null,null,null,null,null,null,null,null,null,null,null,null,null,null,null,null,null,null,null,null,null,null,null,null,null,null,null,null,null,null,null,null,null,null,null,null,null,null,null,null,null,null,"階別用途別床面積-3-21階"]
[null,null,null,null,null,null,null,null,null,null,null,null,null,null,null,null,null,null,null,null,null,null,null,null,null,null,null,null,null,null,null,null,null,null,null,null,null,null,null,null,null,null,null,null,null,null,null,null,null,null,null,null,null,null,null,null,null,null,null,null,null,null,null,null,null,null,null,null,null,null,null,null,null,null,null,null,null,null,null,null,null,null,null,null,null,null,null,null,null,null,null,null,null,null,null,null,null,null,null,null,null,null,null,null,null,null,null,null,null,null,null,null,null,null,null,null,null,null,null,null,null,null,null,null,null,null,null,null,null,null,null,null,null,null,null,null,null,null,null,null,null,null,null,null,null,null,null,null,null,null,null,null,null,null,null,null,null,null,null,null,null,null,null,null,null,null,null,null,null,null,null,null,null,null,null,null,null,null,null,null,null,null,null,null,null,null,null,null,null,null,null,null,null,null,null,null,null,null,null,null,null,null,null,null,null,null,null,null,null,null,null,null,null,null,null,null,null,null,null,null,null,null,null,null,null,null,null,null,null,null,null,null,null,null,null,null,null,null,null,null,null,null,null,null,null,null,null,null,null,null,null,null,null,null,null,null,null,null,null,null,null,null,null,null,null,null,null,null,null,null,null,null,null,null,null,null,null,null,null,null,null,null,null,null,null,null,null,null,null,null,null,null,null,null,null,null,null,null,null,null,null,null,null,null,null,null,null,null,null,null,null,null,null,null,null,null,null,null,null,null,null,null,null,null,null,null,null,null,"階別用途別床面積-3-29階"]
[null,null,null,null,null,null,null,null,null,null,null,null,null,null,null,null,null,null,null,null,null,null,null,null,null,null,null,null,null,null,null,null,null,null,null,null,null,null,null,null,null,null,null,null,null,null,null,null,null,null,null,null,null,null,null,null,null,null,null,null,null,null,null,null,null,null,null,null,null,null,null,null,null,null,null,null,null,null,null,null,null,null,null,null,null,null,null,null,null,null,null,null,null,null,null,null,null,null,null,null,null,null,null,null,null,null,null,null,null,null,null,null,null,null,null,null,null,null,null,null,null,null,null,null,null,null,null,null,null,null,null,null,null,null,null,null,null,null,null,null,null,null,null,null,null,null,null,null,null,null,null,null,null,null,null,null,null,null,null,null,null,null,null,null,null,null,null,null,null,null,null,null,null,null,null,null,null,null,null,null,null,null,null,null,null,null,null,null,null,null,null,null,null,null,null,null,null,null,null,null,null,null,null,null,null,null,null,null,null,null,null,null,null,null,null,null,null,null,null,null,null,null,null,null,null,null,null,null,null,null,null,null,null,null,null,null,null,null,null,null,null,null,null,null,null,null,null,null,null,null,null,null,null,null,null,null,null,null,null,null,null,null,null,null,null,null,null,null,null,null,null,null,null,null,null,null,null,null,null,null,null,null,null,null,null,null,null,null,null,null,null,null,null,null,null,null,null,null,null,null,null,null,null,null,null,null,null,null,null,null,null,null,null,null,null,null,null,null,null,null,null,null,null,null,null,null,null,null,"階別用途別床面積-3-33階"]
[null,null,null,null,null,null,null,null,null,null,null,null,null,null,null,null,null,null,null,null,null,null,null,null,null,null,null,null,null,null,null,null,null,null,null,null,null,null,null,null,null,null,null,null,null,null,null,null,null,null,null,null,null,null,null,null,null,null,null,null,null,null,null,null,null,null,null,null,null,null,null,null,null,null,null,null,null,null,null,null,null,null,null,null,null,null,null,null,null,null,null,null,null,null,null,null,null,null,null,null,null,null,null,null,null,null,null,null,null,null,null,null,null,null,null,null,null,null,null,null,null,null,null,null,null,null,null,null,null,null,null,null,null,null,null,null,null,null,null,null,null,null,null,null,null,null,null,null,null,null,null,null,null,null,null,null,null,null,null,null,null,null,null,null,null,null,null,null,null,null,null,null,null,null,null,null,null,null,null,null,null,null,null,null,null,null,null,null,null,null,null,null,null,null,null,null,null,null,null,null,null,null,null,null,null,null,null,null,null,null,null,null,null,null,null,null,null,null,null,null,null,null,null,null,null,null,null,null,null,null,null,null,null,null,null,null,null,null,null,null,null,null,null,null,null,null,null,null,null,null,null,null,null,null,null,null,null,null,null,null,null,null,null,null,null,null,null,null,null,null,null,null,null,null,null,null,null,null,null,null,null,null,null,null,null,null,null,null,null,null,null,null,null,null,null,null,null,null,null,null,null,null,null,null,null,null,null,null,null,null,null,null,null,null,null,null,null,null,null,null,null,null,null,null,null,null,null,null,"階別用途別床面積-5-小分類"]
[null,null,null,null,null,null,null,null,null,null,null,null,null,null,null,null,null,null,null,null,null,null,null,null,null,null,null,null,null,null,null,null,null,null,null,null,null,null,null,null,null,null,null,null,null,null,null,null,null,null,null,null,null,null,null,null,null,null,null,null,null,null,null,null,null,null,null,null,null,null,null,null,null,null,null,null,null,null,null,null,null,null,null,null,null,null,null,null,null,null,null,null,null,null,null,null,null,null,null,null,null,null,null,null,null,null,null,null,null,null,null,null,null,null,null,null,null,null,null,null,null,null,null,null,null,null,null,null,null,null,null,null,null,null,null,null,null,null,null,null,null,null,null,null,null,null,null,null,null,null,null,null,null,null,null,null,null,null,null,null,null,null,null,null,null,null,null,null,null,null,null,null,null,null,null,null,null,null,null,null,null,null,null,null,null,null,null,null,null,null,null,null,null,null,null,null,null,null,null,null,null,null,null,null,null,null,null,null,null,null,null,null,null,null,null,null,null,null,null,null,null,null,null,null,null,null,null,null,null,null,null,null,null,null,null,null,null,null,null,null,null,null,null,null,null,null,null,null,null,null,null,null,null,null,null,null,null,null,null,null,null,null,null,null,null,null,null,null,null,null,null,null,null,null,null,null,null,null,null,null,null,null,null,null,null,null,null,null,null,null,null,null,null,null,null,null,null,null,null,null,null,null,null,null,null,null,null,null,null,null,null,null,null,null,null,null,null,null,null,null,null,null,null,null,null,null,null,null,"階別用途別床面積-5-8階"]
[null,null,null,null,null,null,null,null,null,null,null,null,null,null,null,null,null,null,null,null,null,null,null,null,null,null,null,null,null,null,null,null,null,null,null,null,null,null,null,null,null,null,null,null,null,null,null,null,null,null,null,null,null,null,null,null,null,null,null,null,null,null,null,null,null,null,null,null,null,null,null,null,null,null,null,null,null,null,null,null,null,null,null,null,null,null,null,null,null,null,null,null,null,null,null,null,null,null,null,null,null,null,null,null,null,null,null,null,null,null,null,null,null,null,null,null,null,null,null,null,null,null,null,null,null,null,null,null,null,null,null,null,null,null,null,null,null,null,null,null,null,null,null,null,null,null,null,null,null,null,null,null,null,null,null,null,null,null,null,null,null,null,null,null,null,null,null,null,null,null,null,null,null,null,null,null,null,null,null,null,null,null,null,null,null,null,null,null,null,null,null,null,null,null,null,null,null,null,null,null,null,null,null,null,null,null,null,null,null,null,null,null,null,null,null,null,null,null,null,null,null,null,null,null,null,null,null,null,null,null,null,null,null,null,null,null,null,null,null,null,null,null,null,null,null,null,null,null,null,null,null,null,null,null,null,null,null,null,null,null,null,null,null,null,null,null,null,null,null,null,null,null,null,null,null,null,null,null,null,null,null,null,null,null,null,null,null,null,null,null,null,null,null,null,null,null,null,null,null,null,null,null,null,null,null,null,null,null,null,null,null,null,null,null,null,null,null,null,null,null,null,null,null,null,null,null,null,null,"階別用途別床面積-5-23階"]
[null,null,null,null,null,null,null,null,null,null,null,null,null,null,null,null,null,null,null,null,null,null,null,null,null,null,null,null,null,null,null,null,null,null,null,null,null,null,null,null,null,null,null,null,null,null,null,null,null,null,null,null,null,null,null,null,null,null,null,null,null,null,null,null,null,null,null,null,null,null,null,null,null,null,null,null,null,null,null,null,null,null,null,null,null,null,null,null,null,null,null,null,null,null,null,null,null,null,null,null,null,null,null,null,null,null,null,null,null,null,null,null,null,null,null,null,null,null,null,null,null,null,null,null,null,null,null,null,null,null,null,null,null,null,null,null,null,null,null,null,null,null,null,null,null,null,null,null,null,null,null,null,null,null,null,null,null,null,null,null,null,null,null,null,null,null,null,null,null,null,null,null,null,null,null,null,null,null,null,null,null,null,null,null,null,null,null,null,null,null,null,null,null,null,null,null,null,null,null,null,null,null,null,null,null,null,null,null,null,null,null,null,null,null,null,null,null,null,null,null,null,null,null,null,null,null,null,null,null,null,null,null,null,null,null,null,null,null,null,null,null,null,null,null,null,null,null,null,null,null,null,null,null,null,null,null,null,null,null,null,null,null,null,null,null,null,null,null,null,null,null,null,null,null,null,null,null,null,null,null,null,null,null,null,null,null,null,null,null,null,null,null,null,null,null,null,null,null,null,null,null,null,null,null,null,null,null,null,null,null,null,null,null,null,null,null,null,null,null,null,null,null,null,null,null,null,null,null,"階別用途別床面積-5-36階"]
[null,null,null,null,null,null,null,null,null,null,null,null,null,null,null,null,null,null,null,null,null,null,null,null,null,null,null,null,null,null,null,null,null,null,null,null,null,null,null,null,null,null,null,null,null,null,null,null,null,null,null,null,null,null,null,null,null,null,null,null,null,null,null,null,null,null,null,null,null,null,null,null,null,null,null,null,null,null,null,null,null,null,null,null,null,null,null,null,null,null,null,null,null,null,null,null,null,null,null,null,null,null,null,null,null,null,null,null,null,null,null,null,null,null,null,null,null,null,null,null,null,null,null,null,null,null,null,null,null,null,null,null,null,null,null,null,null,null,null,null,null,null,null,null,null,null,null,null,null,null,null,null,null,null,null,null,null,null,null,null,null,null,null,null,null,null,null,null,null,null,null,null,null,null,null,null,null,null,null,null,null,null,null,null,null,null,null,null,null,null,null,null,null,null,null,null,null,null,null,null,null,null,null,null,null,null,null,null,null,null,null,null,null,null,null,null,null,null,null,null,null,null,null,null,null,null,null,null,null,null,null,null,null,null,null,null,null,null,null,null,null,null,null,null,null,null,null,null,null,null,null,null,null,null,null,null,null,null,null,null,null,null,null,null,null,null,null,null,null,null,null,null,null,null,null,null,null,null,null,null,null,null,null,null,null,null,null,null,null,null,null,null,null,null,null,null,null,null,null,null,null,null,null,null,null,null,null,null,null,null,null,null,null,null,null,null,null,null,null,null,null,null,null,null,null,null,null,null,"階別用途別床面積-5-37階"]
[null,null,null,null,null,null,null,null,null,null,null,null,null,null,null,null,null,null,null,null,null,null,null,null,null,null,null,null,null,null,null,null,null,null,null,null,null,null,null,null,null,null,null,null,null,null,null,null,null,null,null,null,null,null,null,null,null,null,null,null,null,null,null,null,null,null,null,null,null,null,null,null,null,null,null,null,null,null,null,null,null,null,null,null,null,null,null,null,null,null,null,null,null,null,null,null,null,null,null,null,null,null,null,null,null,null,null,null,null,null,null,null,null,null,null,null,null,null,null,null,null,null,null,null,null,null,null,null,null,null,null,null,null,null,null,null,null,null,null,null,null,null,null,null,null,null,null,null,null,null,null,null,null,null,null,null,null,null,null,null,null,null,null,null,null,null,null,null,null,null,null,null,null,null,null,null,null,null,null,null,null,null,null,null,null,null,null,null,null,null,null,null,null,null,null,null,null,null,null,null,null,null,null,null,null,null,null,null,null,null,null,null,null,null,null,null,null,null,null,null,null,null,null,null,null,null,null,null,null,null,null,null,null,null,null,null,null,null,null,null,null,null,null,null,null,null,null,null,null,null,null,null,null,null,null,null,null,null,null,null,null,null,null,null,null,null,null,null,null,null,null,null,null,null,null,null,null,null,null,null,null,null,null,null,null,null,null,null,null,null,null,null,null,null,null,null,null,null,null,null,null,null,null,null,null,null,null,null,null,null,null,null,null,null,null,null,null,null,null,null,null,null,null,null,null,null,null,null,"階別用途別床面積-6-塔屋 3階"]
[null,null,null,null,null,null,null,null,null,null,null,null,null,null,null,null,null,null,null,null,null,null,null,null,null,null,null,null,null,null,null,null,null,null,null,null,null,null,null,null,null,null,null,null,null,null,null,null,null,null,null,null,null,null,null,null,null,null,null,null,null,null,null,null,null,null,null,null,null,null,null,null,null,null,null,null,null,null,null,null,null,null,null,null,null,null,null,null,null,null,null,null,null,null,null,null,null,null,null,null,null,null,null,null,null,null,null,null,null,null,null,null,null,null,null,null,null,null,null,null,null,null,null,null,null,null,null,null,null,null,null,null,null,null,null,null,null,null,null,null,null,null,null,null,null,null,null,null,null,null,null,null,null,null,null,null,null,null,null,null,null,null,null,null,null,null,null,null,null,null,null,null,null,null,null,null,null,null,null,null,null,null,null,null,null,null,null,null,null,null,null,null,null,null,null,null,null,null,null,null,null,null,null,null,null,null,null,null,null,null,null,null,null,null,null,null,null,null,null,null,null,null,null,null,null,null,null,null,null,null,null,null,null,null,null,null,null,null,null,null,null,null,null,null,null,null,null,null,null,null,null,null,null,null,null,null,null,null,null,null,null,null,null,null,null,null,null,null,null,null,null,null,null,null,null,null,null,null,null,null,null,null,null,null,null,null,null,null,null,null,null,null,null,null,null,null,null,null,null,null,null,null,null,null,null,null,null,null,null,null,null,null,null,null,null,null,null,null,null,null,null,null,null,null,null,null,null,null,"階別用途別床面積-6-11階"]
[null,null,null,null,null,null,null,null,null,null,null,null,null,null,null,null,null,null,null,null,null,null,null,null,null,null,null,null,null,null,null,null,null,null,null,null,null,null,null,null,null,null,null,null,null,null,null,null,null,null,null,null,null,null,null,null,null,null,null,null,null,null,null,null,null,null,null,null,null,null,null,null,null,null,null,null,null,null,null,null,null,null,null,null,null,null,null,null,null,null,null,null,null,null,null,null,null,null,null,null,null,null,null,null,null,null,null,null,null,null,null,null,null,null,null,null,null,null,null,null,null,null,null,null,null,null,null,null,null,null,null,null,null,null,null,null,null,null,null,null,null,null,null,null,null,null,null,null,null,null,null,null,null,null,null,null,null,null,null,null,null,null,null,null,null,null,null,null,null,null,null,null,null,null,null,null,null,null,null,null,null,null,null,null,null,null,null,null,null,null,null,null,null,null,null,null,null,null,null,null,null,null,null,null,null,null,null,null,null,null,null,null,null,null,null,null,null,null,null,null,null,null,null,null,null,null,null,null,null,null,null,null,null,null,null,null,null,null,null,null,null,null,null,null,null,null,null,null,null,null,null,null,null,null,null,null,null,null,null,null,null,null,null,null,null,null,null,null,null,null,null,null,null,null,null,null,null,null,null,null,null,null,null,null,null,null,null,null,null,null,null,null,null,null,null,null,null,null,null,null,null,null,null,null,null,null,null,null,null,null,null,null,null,null,null,null,null,null,null,null,null,null,null,null,null,null,null,null,"階別用途別床面積-6-21階"]
[null,null,null,null,null,null,null,null,null,null,null,null,null,null,null,null,null,null,null,null,null,null,null,null,null,null,null,null,null,null,null,null,null,null,null,null,null,null,null,null,null,null,null,null,null,null,null,null,null,null,null,null,null,null,null,null,null,null,null,null,null,null,null,null,null,null,null,null,null,null,null,null,null,null,null,null,null,null,null,null,null,null,null,null,null,null,null,null,null,null,null,null,null,null,null,null,null,null,null,null,null,null,null,null,null,null,null,null,null,null,null,null,null,null,null,null,null,null,null,null,null,null,null,null,null,null,null,null,null,null,null,null,null,null,null,null,null,null,null,null,null,null,null,null,null,null,null,null,null,null,null,null,null,null,null,null,null,null,null,null,null,null,null,null,null,null,null,null,null,null,null,null,null,null,null,null,null,null,null,null,null,null,null,null,null,null,null,null,null,null,null,null,null,null,null,null,null,null,null,null,null,null,null,null,null,null,null,null,null,null,null,null,null,null,null,null,null,null,null,null,null,null,null,null,null,null,null,null,null,null,null,null,null,null,null,null,null,null,null,null,null,null,null,null,null,null,null,null,null,null,null,null,null,null,null,null,null,null,null,null,null,null,null,null,null,null,null,null,null,null,null,null,null,null,null,null,null,null,null,null,null,null,null,null,null,null,null,null,null,null,null,null,null,null,null,null,null,null,null,null,null,null,null,null,null,null,null,null,null,null,null,null,null,null,null,null,null,null,null,null,null,null,null,null,null,null,null,null,"階別用途別床面積-6-33階"]
[null,null,null,null,null,null,null,null,null,null,null,null,null,null,null,null,null,null,null,null,null,null,null,null,null,null,null,null,null,null,null,null,null,null,null,null,null,null,null,null,null,null,null,null,null,null,null,null,null,null,null,null,null,null,null,null,null,null,null,null,null,null,null,null,null,null,null,null,null,null,null,null,null,null,null,null,null,null,null,null,null,null,null,null,null,null,null,null,null,null,null,null,null,null,null,null,null,null,null,null,null,null,null,null,null,null,null,null,null,null,null,null,null,null,null,null,null,null,null,null,null,null,null,null,null,null,null,null,null,null,null,null,null,null,null,null,null,null,null,null,null,null,null,null,null,null,null,null,null,null,null,null,null,null,null,null,null,null,null,null,null,null,null,null,null,null,null,null,null,null,null,null,null,null,null,null,null,null,null,null,null,null,null,null,null,null,null,null,null,null,null,null,null,null,null,null,null,null,null,null,null,null,null,null,null,null,null,null,null,null,null,null,null,null,null,null,null,null,null,null,null,null,null,null,null,null,null,null,null,null,null,null,null,null,null,null,null,null,null,null,null,null,null,null,null,null,null,null,null,null,null,null,null,null,null,null,null,null,null,null,null,null,null,null,null,null,null,null,null,null,null,null,null,null,null,null,null,null,null,null,null,null,null,null,null,null,null,null,null,null,null,null,null,null,null,null,null,null,null,null,null,null,null,null,null,null,null,null,null,null,null,null,null,null,null,null,null,null,null,null,null,null,null,null,null,null,null,null,"階別用途別床面積-6-30階"]
[null,null,null,null,null,null,null,null,null,null,null,null,null,null,null,null,null,null,null,null,null,null,null,null,null,null,null,null,null,null,null,null,null,null,null,null,null,null,null,null,null,null,null,null,null,null,null,null,null,null,null,null,null,null,null,null,null,null,null,null,null,null,null,null,null,null,null,null,null,null,null,null,null,null,null,null,null,null,null,null,null,null,null,null,null,null,null,null,null,null,null,null,null,null,null,null,null,null,null,null,null,null,null,null,null,null,null,null,null,null,null,null,null,null,null,null,null,null,null,null,null,null,null,null,null,null,null,null,null,null,null,null,null,null,null,null,null,null,null,null,null,null,null,null,null,null,null,null,null,null,null,null,null,null,null,null,null,null,null,null,null,null,null,null,null,null,null,null,null,null,null,null,null,null,null,null,null,null,null,null,null,null,null,null,null,null,null,null,null,null,null,null,null,null,null,null,null,null,null,null,null,null,null,null,null,null,null,null,null,null,null,null,null,null,null,null,null,null,null,null,null,null,null,null,null,null,null,null,null,null,null,null,null,null,null,null,null,null,null,null,null,null,null,null,null,null,null,null,null,null,null,null,null,null,null,null,null,null,null,null,null,null,null,null,null,null,null,null,null,null,null,null,null,null,null,null,null,null,null,null,null,null,null,null,null,null,null,null,null,null,null,null,null,null,null,null,null,null,null,null,null,null,null,null,null,null,null,null,null,null,null,null,null,null,null,null,null,null,null,null,null,null,null,null,null,null,null,null,"階別用途別床面積-7-地下3階"]
[null,null,null,null,null,null,null,null,null,null,null,null,null,null,null,null,null,null,null,null,null,null,null,null,null,null,null,null,null,null,null,null,null,null,null,null,null,null,null,null,null,null,null,null,null,null,null,null,null,null,null,null,null,null,null,null,null,null,null,null,null,null,null,null,null,null,null,null,null,null,null,null,null,null,null,null,null,null,null,null,null,null,null,null,null,null,null,null,null,null,null,null,null,null,null,null,null,null,null,null,null,null,null,null,null,null,null,null,null,null,null,null,null,null,null,null,null,null,null,null,null,null,null,null,null,null,null,null,null,null,null,null,null,null,null,null,null,null,null,null,null,null,null,null,null,null,null,null,null,null,null,null,null,null,null,null,null,null,null,null,null,null,null,null,null,null,null,null,null,null,null,null,null,null,null,null,null,null,null,null,null,null,null,null,null,null,null,null,null,null,null,null,null,null,null,null,null,null,null,null,null,null,null,null,null,null,null,null,null,null,null,null,null,null,null,null,null,null,null,null,null,null,null,null,null,null,null,null,null,null,null,null,null,null,null,null,null,null,null,null,null,null,null,null,null,null,null,null,null,null,null,null,null,null,null,null,null,null,null,null,null,null,null,null,null,null,null,null,null,null,null,null,null,null,null,null,null,null,null,null,null,null,null,null,null,null,null,null,null,null,null,null,null,null,null,null,null,null,null,null,null,null,null,null,null,null,null,null,null,null,null,null,null,null,null,null,null,null,null,null,null,null,null,null,null,null,null,null,"階別用途別床面積-7-13階"]
[null,null,null,null,null,null,null,null,null,null,null,null,null,null,null,null,null,null,null,null,null,null,null,null,null,null,null,null,null,null,null,null,null,null,null,null,null,null,null,null,null,null,null,null,null,null,null,null,null,null,null,null,null,null,null,null,null,null,null,null,null,null,null,null,null,null,null,null,null,null,null,null,null,null,null,null,null,null,null,null,null,null,null,null,null,null,null,null,null,null,null,null,null,null,null,null,null,null,null,null,null,null,null,null,null,null,null,null,null,null,null,null,null,null,null,null,null,null,null,null,null,null,null,null,null,null,null,null,null,null,null,null,null,null,null,null,null,null,null,null,null,null,null,null,null,null,null,null,null,null,null,null,null,null,null,null,null,null,null,null,null,null,null,null,null,null,null,null,null,null,null,null,null,null,null,null,null,null,null,null,null,null,null,null,null,null,null,null,null,null,null,null,null,null,null,null,null,null,null,null,null,null,null,null,null,null,null,null,null,null,null,null,null,null,null,null,null,null,null,null,null,null,null,null,null,null,null,null,null,null,null,null,null,null,null,null,null,null,null,null,null,null,null,null,null,null,null,null,null,null,null,null,null,null,null,null,null,null,null,null,null,null,null,null,null,null,null,null,null,null,null,null,null,null,null,null,null,null,null,null,null,null,null,null,null,null,null,null,null,null,null,null,null,null,null,null,null,null,null,null,null,null,null,null,null,null,null,null,null,null,null,null,null,null,null,null,null,null,null,null,null,null,null,null,null,null,null,null,"階別用途別床面積-7-20階"]
[null,null,null,null,null,null,null,null,null,null,null,null,null,null,null,null,null,null,null,null,null,null,null,null,null,null,null,null,null,null,null,null,null,null,null,null,null,null,null,null,null,null,null,null,null,null,null,null,null,null,null,null,null,null,null,null,null,null,null,null,null,null,null,null,null,null,null,null,null,null,null,null,null,null,null,null,null,null,null,null,null,null,null,null,null,null,null,null,null,null,null,null,null,null,null,null,null,null,null,null,null,null,null,null,null,null,null,null,null,null,null,null,null,null,null,null,null,null,null,null,null,null,null,null,null,null,null,null,null,null,null,null,null,null,null,null,null,null,null,null,null,null,null,null,null,null,null,null,null,null,null,null,null,null,null,null,null,null,null,null,null,null,null,null,null,null,null,null,null,null,null,null,null,null,null,null,null,null,null,null,null,null,null,null,null,null,null,null,null,null,null,null,null,null,null,null,null,null,null,null,null,null,null,null,null,null,null,null,null,null,null,null,null,null,null,null,null,null,null,null,null,null,null,null,null,null,null,null,null,null,null,null,null,null,null,null,null,null,null,null,null,null,null,null,null,null,null,null,null,null,null,null,null,null,null,null,null,null,null,null,null,null,null,null,null,null,null,null,null,null,null,null,null,null,null,null,null,null,null,null,null,null,null,null,null,null,null,null,null,null,null,null,null,null,null,null,null,null,null,null,null,null,null,null,null,null,null,null,null,null,null,null,null,null,null,null,null,null,null,null,null,null,null,null,null,null,null,null,"階別用途別床面積-7-36階"]
[null,null,null,null,null,null,null,null,null,null,null,null,null,null,null,null,null,null,null,null,null,null,null,null,null,null,null,null,null,null,null,null,null,null,null,null,null,null,null,null,null,null,null,null,null,null,null,null,null,null,null,null,null,null,null,null,null,null,null,null,null,null,null,null,null,null,null,null,null,null,null,null,null,null,null,null,null,null,null,null,null,null,null,null,null,null,null,null,null,null,null,null,null,null,null,null,null,null,null,null,null,null,null,null,null,null,null,null,null,null,null,null,null,null,null,null,null,null,null,null,null,null,null,null,null,null,null,null,null,null,null,null,null,null,null,null,null,null,null,null,null,null,null,null,null,null,null,null,null,null,null,null,null,null,null,null,null,null,null,null,null,null,null,null,null,null,null,null,null,null,null,null,null,null,null,null,null,null,null,null,null,null,null,null,null,null,null,null,null,null,null,null,null,null,null,null,null,null,null,null,null,null,null,null,null,null,null,null,null,null,null,null,null,null,null,null,null,null,null,null,null,null,null,null,null,null,null,null,null,null,null,null,null,null,null,null,null,null,null,null,null,null,null,null,null,null,null,null,null,null,null,null,null,null,null,null,null,null,null,null,null,null,null,null,null,null,null,null,null,null,null,null,null,null,null,null,null,null,null,null,null,null,null,null,null,null,null,null,null,null,null,null,null,null,null,null,null,null,null,null,null,null,null,null,null,null,null,null,null,null,null,null,null,null,null,null,null,null,null,null,null,null,null,null,null,null,null,null,"階別用途別床面積-7-31階"]
[null,null,null,null,null,null,null,null,null,null,null,null,null,null,null,null,null,null,null,null,null,null,null,null,null,null,null,null,null,null,null,null,null,null,null,null,null,null,null,null,null,null,null,null,null,null,null,null,null,null,null,null,null,null,null,null,null,null,null,null,null,null,null,null,null,null,null,null,null,null,null,null,null,null,null,null,null,null,null,null,null,null,null,null,null,null,null,null,null,null,null,null,null,null,null,null,null,null,null,null,null,null,null,null,null,null,null,null,null,null,null,null,null,null,null,null,null,null,null,null,null,null,null,null,null,null,null,null,null,null,null,null,null,null,null,null,null,null,null,null,null,null,null,null,null,null,null,null,null,null,null,null,null,null,null,null,null,null,null,null,null,null,null,null,null,null,null,null,null,null,null,null,null,null,null,null,null,null,null,null,null,null,null,null,null,null,null,null,null,null,null,null,null,null,null,null,null,null,null,null,null,null,null,null,null,null,null,null,null,null,null,null,null,null,null,null,null,null,null,null,null,null,null,null,null,null,null,null,null,null,null,null,null,null,null,null,null,null,null,null,null,null,null,null,null,null,null,null,null,null,null,null,null,null,null,null,null,null,null,null,null,null,null,null,null,null,null,null,null,null,null,null,null,null,null,null,null,null,null,null,null,null,null,null,null,null,null,null,null,null,null,null,null,null,null,null,null,null,null,null,null,null,null,null,null,null,null,null,null,null,null,null,null,null,null,null,null,null,null,null,null,null,null,null,null,null,null,null,"階別用途別床面積-7-32階"]
[null,null,null,null,null,null,null,null,null,null,null,null,null,null,null,null,null,null,null,null,null,null,null,null,null,null,null,null,null,null,null,null,null,null,null,null,null,null,null,null,null,null,null,null,null,null,null,null,null,null,null,null,null,null,null,null,null,null,null,null,null,null,null,null,null,null,null,null,null,null,null,null,null,null,null,null,null,null,null,null,null,null,null,null,null,null,null,null,null,null,null,null,null,null,null,null,null,null,null,null,null,null,null,null,null,null,null,null,null,null,null,null,null,null,null,null,null,null,null,null,null,null,null,null,null,null,null,null,null,null,null,null,null,null,null,null,null,null,null,null,null,null,null,null,null,null,null,null,null,null,null,null,null,null,null,null,null,null,null,null,null,null,null,null,null,null,null,null,null,null,null,null,null,null,null,null,null,null,null,null,null,null,null,null,null,null,null,null,null,null,null,null,null,null,null,null,null,null,null,null,null,null,null,null,null,null,null,null,null,null,null,null,null,null,null,null,null,null,null,null,null,null,null,null,null,null,null,null,null,null,null,null,null,null,null,null,null,null,null,null,null,null,null,null,null,null,null,null,null,null,null,null,null,null,null,null,null,null,null,null,null,null,null,null,null,null,null,null,null,null,null,null,null,null,null,null,null,null,null,null,null,null,null,null,null,null,null,null,null,null,null,null,null,null,null,null,null,null,null,null,null,null,null,null,null,null,null,null,null,null,null,null,null,null,null,null,null,null,null,null,null,null,null,null,null,null,null,null,"階別用途別床面積-7-33階"]
[null,null,null,null,null,null,null,null,null,null,null,null,null,null,null,null,null,null,null,null,null,null,null,null,null,null,null,null,null,null,null,null,null,null,null,null,null,null,null,null,null,null,null,null,null,null,null,null,null,null,null,null,null,null,null,null,null,null,null,null,null,null,null,null,null,null,null,null,null,null,null,null,null,null,null,null,null,null,null,null,null,null,null,null,null,null,null,null,null,null,null,null,null,null,null,null,null,null,null,null,null,null,null,null,null,null,null,null,null,null,null,null,null,null,null,null,null,null,null,null,null,null,null,null,null,null,null,null,null,null,null,null,null,null,null,null,null,null,null,null,null,null,null,null,null,null,null,null,null,null,null,null,null,null,null,null,null,null,null,null,null,null,null,null,null,null,null,null,null,null,null,null,null,null,null,null,null,null,null,null,null,null,null,null,null,null,null,null,null,null,null,null,null,null,null,null,null,null,null,null,null,null,null,null,null,null,null,null,null,null,null,null,null,null,null,null,null,null,null,null,null,null,null,null,null,null,null,null,null,null,null,null,null,null,null,null,null,null,null,null,null,null,null,null,null,null,null,null,null,null,null,null,null,null,null,null,null,null,null,null,null,null,null,null,null,null,null,null,null,null,null,null,null,null,null,null,null,null,null,null,null,null,null,null,null,null,null,null,null,null,null,null,null,null,null,null,null,null,null,null,null,null,null,null,null,null,null,null,null,null,null,null,null,null,null,null,null,null,null,null,null,null,null,null,null,null,null,null,"階別用途別床面積-7-33階"]
[null,null,null,null,null,null,null,null,null,null,null,null,null,null,null,null,null,null,null,null,null,null,null,null,null,null,null,null,null,null,null,null,null,null,null,null,null,null,null,null,null,null,null,null,null,null,null,null,null,null,null,null,null,null,null,null,null,null,null,null,null,null,null,null,null,null,null,null,null,null,null,null,null,null,null,null,null,null,null,null,null,null,null,null,null,null,null,null,null,null,null,null,null,null,null,null,null,null,null,null,null,null,null,null,null,null,null,null,null,null,null,null,null,null,null,null,null,null,null,null,null,null,null,null,null,null,null,null,null,null,null,null,null,null,null,null,null,null,null,null,null,null,null,null,null,null,null,null,null,null,null,null,null,null,null,null,null,null,null,null,null,null,null,null,null,null,null,null,null,null,null,null,null,null,null,null,null,null,null,null,null,null,null,null,null,null,null,null,null,null,null,null,null,null,null,null,null,null,null,null,null,null,null,null,null,null,null,null,null,null,null,null,null,null,null,null,null,null,null,null,null,null,null,null,null,null,null,null,null,null,null,null,null,null,null,null,null,null,null,null,null,null,null,null,null,null,null,null,null,null,null,null,null,null,null,null,null,null,null,null,null,null,null,null,null,null,null,null,null,null,null,null,null,null,null,null,null,null,null,null,null,null,null,null,null,null,null,null,null,null,null,null,null,null,null,null,null,null,null,null,null,null,null,null,null,null,null,null,null,null,null,null,null,null,null,null,null,null,null,null,null,null,null,null,null,null,null,null,"階別用途別床面積-7-35階"]
[null,null,null,null,null,null,null,null,null,null,null,null,null,null,null,null,null,null,null,null,null,null,null,null,null,null,null,null,null,null,null,null,null,null,null,null,null,null,null,null,null,null,null,null,null,null,null,null,null,null,null,null,null,null,null,null,null,null,null,null,null,null,null,null,null,null,null,null,null,null,null,null,null,null,null,null,null,null,null,null,null,null,null,null,null,null,null,null,null,null,null,null,null,null,null,null,null,null,null,null,null,null,null,null,null,null,null,null,null,null,null,null,null,null,null,null,null,null,null,null,null,null,null,null,null,null,null,null,null,null,null,null,null,null,null,null,null,null,null,null,null,null,null,null,null,null,null,null,null,null,null,null,null,null,null,null,null,null,null,null,null,null,null,null,null,null,null,null,null,null,null,null,null,null,null,null,null,null,null,null,null,null,null,null,null,null,null,null,null,null,null,null,null,null,null,null,null,null,null,null,null,null,null,null,null,null,null,null,null,null,null,null,null,null,null,null,null,null,null,null,null,null,null,null,null,null,null,null,null,null,null,null,null,null,null,null,null,null,null,null,null,null,null,null,null,null,null,null,null,null,null,null,null,null,null,null,null,null,null,null,null,null,null,null,null,null,null,null,null,null,null,null,null,null,null,null,null,null,null,null,null,null,null,null,null,null,null,null,null,null,null,null,null,null,null,null,null,null,null,null,null,null,null,null,null,null,null,null,null,null,null,null,null,null,null,null,null,null,null,null,null,null,null,null,null,null,null,null,"階別用途別床面積-7-36階"]
[null,null,null,null,null,null,null,null,null,null,null,null,null,null,null,null,null,null,null,null,null,null,null,null,null,null,null,null,null,null,null,null,null,null,null,null,null,null,null,null,null,null,null,null,null,null,null,null,null,null,null,null,null,null,null,null,null,null,null,null,null,null,null,null,null,null,null,null,null,null,null,null,null,null,null,null,null,null,null,null,null,null,null,null,null,null,null,null,null,null,null,null,null,null,null,null,null,null,null,null,null,null,null,null,null,null,null,null,null,null,null,null,null,null,null,null,null,null,null,null,null,null,null,null,null,null,null,null,null,null,null,null,null,null,null,null,null,null,null,null,null,null,null,null,null,null,null,null,null,null,null,null,null,null,null,null,null,null,null,null,null,null,null,null,null,null,null,null,null,null,null,null,null,null,null,null,null,null,null,null,null,null,null,null,null,null,null,null,null,null,null,null,null,null,null,null,null,null,null,null,null,null,null,null,null,null,null,null,null,null,null,null,null,null,null,null,null,null,null,null,null,null,null,null,null,null,null,null,null,null,null,null,null,null,null,null,null,null,null,null,null,null,null,null,null,null,null,null,null,null,null,null,null,null,null,null,null,null,null,null,null,null,null,null,null,null,null,null,null,null,null,null,null,null,null,null,null,null,null,null,null,null,null,null,null,null,null,null,null,null,null,null,null,null,null,null,null,null,null,null,null,null,null,null,null,null,null,null,null,null,null,null,null,null,null,null,null,null,null,null,null,null,null,null,null,null,null,null,"階別用途別床面積-7-37階"]
[null,null,null,null,null,null,null,null,null,null,null,null,null,null,null,null,null,null,null,null,null,null,null,null,null,null,null,null,null,null,null,null,null,null,null,null,null,null,null,null,null,null,null,null,null,null,null,null,null,null,null,null,null,null,null,null,null,null,null,null,null,null,null,null,null,null,null,null,null,null,null,null,null,null,null,null,null,null,null,null,null,null,null,null,null,null,null,null,null,null,null,null,null,null,null,null,null,null,null,null,null,null,null,null,null,null,null,null,null,null,null,null,null,null,null,null,null,null,null,null,null,null,null,null,null,null,null,null,null,null,null,null,null,null,null,null,null,null,null,null,null,null,null,null,null,null,null,null,null,null,null,null,null,null,null,null,null,null,null,null,null,null,null,null,null,null,null,null,null,null,null,null,null,null,null,null,null,null,null,null,null,null,null,null,null,null,null,null,null,null,null,null,null,null,null,null,null,null,null,null,null,null,null,null,null,null,null,null,null,null,null,null,null,null,null,null,null,null,null,null,null,null,null,null,null,null,null,null,null,null,null,null,null,null,null,null,null,null,null,null,null,null,null,null,null,null,null,null,null,null,null,null,null,null,null,null,null,null,null,null,null,null,null,null,null,null,null,null,null,null,null,null,null,null,null,null,null,null,null,null,null,null,null,null,null,null,null,null,null,null,null,null,null,null,null,null,null,null,null,null,null,null,null,null,null,null,null,null,null,null,null,null,null,null,null,null,null,null,null,null,null,null,null,null,null,null,null,null,"階別用途別床面積-7-38階"]
[null,null,null,null,null,null,null,null,null,null,null,null,null,null,null,null,null,null,null,null,null,null,null,null,null,null,null,null,null,null,null,null,null,null,null,null,null,null,null,null,null,null,null,null,null,null,null,null,null,null,null,null,null,null,null,null,null,null,null,null,null,null,null,null,null,null,null,null,null,null,null,null,null,null,null,null,null,null,null,null,null,null,null,null,null,null,null,null,null,null,null,null,null,null,null,null,null,null,null,null,null,null,null,null,null,null,null,null,null,null,null,null,null,null,null,null,null,null,null,null,null,null,null,null,null,null,null,null,null,null,null,null,null,null,null,null,null,null,null,null,null,null,null,null,null,null,null,null,null,null,null,null,null,null,null,null,null,null,null,null,null,null,null,null,null,null,null,null,null,null,null,null,null,null,null,null,null,null,null,null,null,null,null,null,null,null,null,null,null,null,null,null,null,null,null,null,null,null,null,null,null,null,null,null,null,null,null,null,null,null,null,null,null,null,null,null,null,null,null,null,null,null,null,null,null,null,null,null,null,null,null,null,null,null,null,null,null,null,null,null,null,null,null,null,null,null,null,null,null,null,null,null,null,null,null,null,null,null,null,null,null,null,null,null,null,null,null,null,null,null,null,null,null,null,null,null,null,null,null,null,null,null,null,null,null,null,null,null,null,null,null,null,null,null,null,null,null,null,null,null,null,null,null,null,null,null,null,null,null,null,null,null,null,null,null,null,null,null,null,null,null,null,null,null,null,null,null,null,"階別用途別床面積-7-39階"]
[null,null,null,null,null,null,null,null,null,null,null,null,null,null,null,null,null,null,null,null,null,null,null,null,null,null,null,null,null,null,null,null,null,null,null,null,null,null,null,null,null,null,null,null,null,null,null,null,null,null,null,null,null,null,null,null,null,null,null,null,null,null,null,null,null,null,null,null,null,null,null,null,null,null,null,null,null,null,null,null,null,null,null,null,null,null,null,null,null,null,null,null,null,null,null,null,null,null,null,null,null,null,null,null,null,null,null,null,null,null,null,null,null,null,null,null,null,null,null,null,null,null,null,null,null,null,null,null,null,null,null,null,null,null,null,null,null,null,null,null,null,null,null,null,null,null,null,null,null,null,null,null,null,null,null,null,null,null,null,null,null,null,null,null,null,null,null,null,null,null,null,null,null,null,null,null,null,null,null,null,null,null,null,null,null,null,null,null,null,null,null,null,null,null,null,null,null,null,null,null,null,null,null,null,null,null,null,null,null,null,null,null,null,null,null,null,null,null,null,null,null,null,null,null,null,null,null,null,null,null,null,null,null,null,null,null,null,null,null,null,null,null,null,null,null,null,null,null,null,null,null,null,null,null,null,null,null,null,null,null,null,null,null,null,null,null,null,null,null,null,null,null,null,null,null,null,null,null,null,null,null,null,null,null,null,null,null,null,null,null,null,null,null,null,null,null,null,null,null,null,null,null,null,null,null,null,null,null,null,null,null,null,null,null,null,null,null,null,null,null,null,null,null,null,null,null,null,null,"階別用途別床面積-7-50階"]
[null,null,null,null,null,null,null,null,null,null,null,null,null,null,null,null,null,null,null,null,null,null,null,null,null,null,null,null,null,null,null,null,null,null,null,null,null,null,null,null,null,null,null,null,null,null,null,null,null,null,null,null,null,null,null,null,null,null,null,null,null,null,null,null,null,null,null,null,null,null,null,null,null,null,null,null,null,null,null,null,null,null,null,null,null,null,null,null,null,null,null,null,null,null,null,null,null,null,null,null,null,null,null,null,null,null,null,null,null,null,null,null,null,null,null,null,null,null,null,null,null,null,null,null,null,null,null,null,null,null,null,null,null,null,null,null,null,null,null,null,null,null,null,null,null,null,null,null,null,null,null,null,null,null,null,null,null,null,null,null,null,null,null,null,null,null,null,null,null,null,null,null,null,null,null,null,null,null,null,null,null,null,null,null,null,null,null,null,null,null,null,null,null,null,null,null,null,null,null,null,null,null,null,null,null,null,null,null,null,null,null,null,null,null,null,null,null,null,null,null,null,null,null,null,null,null,null,null,null,null,null,null,null,null,null,null,null,null,null,null,null,null,null,null,null,null,null,null,null,null,null,null,null,null,null,null,null,null,null,null,null,null,null,null,null,null,null,null,null,null,null,null,null,null,null,null,null,null,null,null,null,null,null,null,null,null,null,null,null,null,null,null,null,null,null,null,null,null,null,null,null,null,null,null,null,null,null,null,null,null,null,null,null,null,null,null,null,null,null,null,null,null,null,null,null,null,null,null,"関係写真-1-特記事項(自由記入)_1"]
[null,null,null,null,null,null,null,null,null,null,null,null,null,null,null,null,null,null,null,null,null,null,null,null,null,null,null,null,null,null,null,null,null,null,null,null,null,null,null,null,null,null,null,null,null,null,null,null,null,null,null,null,null,null,null,null,null,null,null,null,null,null,null,null,null,null,null,null,null,null,null,null,null,null,null,null,null,null,null,null,null,null,null,null,null,null,null,null,null,null,null,null,null,null,null,null,null,null,null,null,null,null,null,null,null,null,null,null,null,null,null,null,null,null,null,null,null,null,null,null,null,null,null,null,null,null,null,null,null,null,null,null,null,null,null,null,null,null,null,null,null,null,null,null,null,null,null,null,null,null,null,null,null,null,null,null,null,null,null,null,null,null,null,null,null,null,null,null,null,null,null,null,null,null,null,null,null,null,null,null,null,null,null,null,null,null,null,null,null,null,null,null,null,null,null,null,null,null,null,null,null,null,null,null,null,null,null,null,null,null,null,null,null,null,null,null,null,null,null,null,null,null,null,null,null,null,null,null,null,null,null,null,null,null,null,null,null,null,null,null,null,null,null,null,null,null,null,null,null,null,null,null,null,null,null,null,null,null,null,null,null,null,null,null,null,null,null,null,null,null,null,null,null,null,null,null,null,null,null,null,null,null,null,null,null,null,null,null,null,null,null,null,null,null,null,null,null,null,null,null,null,null,null,null,null,null,null,null,null,null,null,null,null,null,null,null,null,null,null,null,null,null,null,null,null,null,null,null,"関係写真-1-特記事項(自由記入)_2"]
[null,null,null,null,null,null,null,null,null,null,null,null,null,null,null,null,null,null,null,null,null,null,null,null,null,null,null,null,null,null,null,null,null,null,null,null,null,null,null,null,null,null,null,null,null,null,null,null,null,null,null,null,null,null,null,null,null,null,null,null,null,null,null,null,null,null,null,null,null,null,null,null,null,null,null,null,null,null,null,null,null,null,null,null,null,null,null,null,null,null,null,null,null,null,null,null,null,null,null,null,null,null,null,null,null,null,null,null,null,null,null,null,null,null,null,null,null,null,null,null,null,null,null,null,null,null,null,null,null,null,null,null,null,null,null,null,null,null,null,null,null,null,null,null,null,null,null,null,null,null,null,null,null,null,null,null,null,null,null,null,null,null,null,null,null,null,null,null,null,null,null,null,null,null,null,null,null,null,null,null,null,null,null,null,null,null,null,null,null,null,null,null,null,null,null,null,null,null,null,null,null,null,null,null,null,null,null,null,null,null,null,null,null,null,null,null,null,null,null,null,null,null,null,null,null,null,null,null,null,null,null,null,null,null,null,null,null,null,null,null,null,null,null,null,null,null,null,null,null,null,null,null,null,null,null,null,null,null,null,null,null,null,null,null,null,null,null,null,null,null,null,null,null,null,null,null,null,null,null,null,null,null,null,null,null,null,null,null,null,null,null,null,null,null,null,null,null,null,null,null,null,null,null,null,null,null,null,null,null,null,null,null,null,null,null,null,null,null,null,null,null,null,null,null,null,null,null,null,"関係写真-2-特記事項(自由記入)_1"]
[null,null,null,null,null,null,null,null,null,null,null,null,null,null,null,null,null,null,null,null,null,null,null,null,null,null,null,null,null,null,null,null,null,null,null,null,null,null,null,null,null,null,null,null,null,null,null,null,null,null,null,null,null,null,null,null,null,null,null,null,null,null,null,null,null,null,null,null,null,null,null,null,null,null,null,null,null,null,null,null,null,null,null,null,null,null,null,null,null,null,null,null,null,null,null,null,null,null,null,null,null,null,null,null,null,null,null,null,null,null,null,null,null,null,null,null,null,null,null,null,null,null,null,null,null,null,null,null,null,null,null,null,null,null,null,null,null,null,null,null,null,null,null,null,null,null,null,null,null,null,null,null,null,null,null,null,null,null,null,null,null,null,null,null,null,null,null,null,null,null,null,null,null,null,null,null,null,null,null,null,null,null,null,null,null,null,null,null,null,null,null,null,null,null,null,null,null,null,null,null,null,null,null,null,null,null,null,null,null,null,null,null,null,null,null,null,null,null,null,null,null,null,null,null,null,null,null,null,null,null,null,null,null,null,null,null,null,null,null,null,null,null,null,null,null,null,null,null,null,null,null,null,null,null,null,null,null,null,null,null,null,null,null,null,null,null,null,null,null,null,null,null,null,null,null,null,null,null,null,null,null,null,null,null,null,null,null,null,null,null,null,null,null,null,null,null,null,null,null,null,null,null,null,null,null,null,null,null,null,null,null,null,null,null,null,null,null,null,null,null,null,null,null,null,null,null,null,null,"関係写真-2-特記事項(自由記入)_2"]
[null,null,null,null,null,null,null,null,null,null,null,null,null,null,null,null,null,null,null,null,null,null,null,null,null,null,null,null,null,null,null,null,null,null,null,null,null,null,null,null,null,null,null,null,null,null,null,null,null,null,null,null,null,null,null,null,null,null,null,null,null,null,null,null,null,null,null,null,null,null,null,null,null,null,null,null,null,null,null,null,null,null,null,null,null,null,null,null,null,null,null,null,null,null,null,null,null,null,null,null,null,null,null,null,null,null,null,null,null,null,null,null,null,null,null,null,null,null,null,null,null,null,null,null,null,null,null,null,null,null,null,null,null,null,null,null,null,null,null,null,null,null,null,null,null,null,null,null,null,null,null,null,null,null,null,null,null,null,null,null,null,null,null,null,null,null,null,null,null,null,null,null,null,null,null,null,null,null,null,null,null,null,null,null,null,null,null,null,null,null,null,null,null,null,null,null,null,null,null,null,null,null,null,null,null,null,null,null,null,null,null,null,null,null,null,null,null,null,null,null,null,null,null,null,null,null,null,null,null,null,null,null,null,null,null,null,null,null,null,null,null,null,null,null,null,null,null,null,null,null,null,null,null,null,null,null,null,null,null,null,null,null,null,null,null,null,null,null,null,null,null,null,null,null,null,null,null,null,null,null,null,null,null,null,null,null,null,null,null,null,null,null,null,null,null,null,null,null,null,null,null,null,null,null,null,null,null,null,null,null,null,null,null,null,null,null,null,null,null,null,null,null,null,null,null,null,null,null,"関係写真-3-特記事項(自由記入)_1"]
[null,null,null,null,null,null,null,null,null,null,null,null,null,null,null,null,null,null,null,null,null,null,null,null,null,null,null,null,null,null,null,null,null,null,null,null,null,null,null,null,null,null,null,null,null,null,null,null,null,null,null,null,null,null,null,null,null,null,null,null,null,null,null,null,null,null,null,null,null,null,null,null,null,null,null,null,null,null,null,null,null,null,null,null,null,null,null,null,null,null,null,null,null,null,null,null,null,null,null,null,null,null,null,null,null,null,null,null,null,null,null,null,null,null,null,null,null,null,null,null,null,null,null,null,null,null,null,null,null,null,null,null,null,null,null,null,null,null,null,null,null,null,null,null,null,null,null,null,null,null,null,null,null,null,null,null,null,null,null,null,null,null,null,null,null,null,null,null,null,null,null,null,null,null,null,null,null,null,null,null,null,null,null,null,null,null,null,null,null,null,null,null,null,null,null,null,null,null,null,null,null,null,null,null,null,null,null,null,null,null,null,null,null,null,null,null,null,null,null,null,null,null,null,null,null,null,null,null,null,null,null,null,null,null,null,null,null,null,null,null,null,null,null,null,null,null,null,null,null,null,null,null,null,null,null,null,null,null,null,null,null,null,null,null,null,null,null,null,null,null,null,null,null,null,null,null,null,null,null,null,null,null,null,null,null,null,null,null,null,null,null,null,null,null,null,null,null,null,null,null,null,null,null,null,null,null,null,null,null,null,null,null,null,null,null,null,null,null,null,null,null,null,null,null,null,null,null,null,"関係写真-3-特記事項(自由記入)_2"]
[null,null,null,null,null,null,null,null,null,null,null,null,null,null,null,null,null,null,null,null,null,null,null,null,null,null,null,null,null,null,null,null,null,null,null,null,null,null,null,null,null,null,null,null,null,null,null,null,null,null,null,null,null,null,null,null,null,null,null,null,null,null,null,null,null,null,null,null,null,null,null,null,null,null,null,null,null,null,null,null,null,null,null,null,null,null,null,null,null,null,null,null,null,null,null,null,null,null,null,null,null,null,null,null,null,null,null,null,null,null,null,null,null,null,null,null,null,null,null,null,null,null,null,null,null,null,null,null,null,null,null,null,null,null,null,null,null,null,null,null,null,null,null,null,null,null,null,null,null,null,null,null,null,null,null,null,null,null,null,null,null,null,null,null,null,null,null,null,null,null,null,null,null,null,null,null,null,null,null,null,null,null,null,null,null,null,null,null,null,null,null,null,null,null,null,null,null,null,null,null,null,null,null,null,null,null,null,null,null,null,null,null,null,null,null,null,null,null,null,null,null,null,null,null,null,null,null,null,null,null,null,null,null,null,null,null,null,null,null,null,null,null,null,null,null,null,null,null,null,null,null,null,null,null,null,null,null,null,null,null,null,null,null,null,null,null,null,null,null,null,null,null,null,null,null,null,null,null,null,null,null,null,null,null,null,null,null,null,null,null,null,null,null,null,null,null,null,null,null,null,null,null,null,null,null,null,null,null,null,null,null,null,null,null,null,null,null,null,null,null,null,null,null,null,null,null,null,null,"関係写真-4-特記事項(自由記入)_1"]
[null,null,null,null,null,null,null,null,null,null,null,null,null,null,null,null,null,null,null,null,null,null,null,null,null,null,null,null,null,null,null,null,null,null,null,null,null,null,null,null,null,null,null,null,null,null,null,null,null,null,null,null,null,null,null,null,null,null,null,null,null,null,null,null,null,null,null,null,null,null,null,null,null,null,null,null,null,null,null,null,null,null,null,null,null,null,null,null,null,null,null,null,null,null,null,null,null,null,null,null,null,null,null,null,null,null,null,null,null,null,null,null,null,null,null,null,null,null,null,null,null,null,null,null,null,null,null,null,null,null,null,null,null,null,null,null,null,null,null,null,null,null,null,null,null,null,null,null,null,null,null,null,null,null,null,null,null,null,null,null,null,null,null,null,null,null,null,null,null,null,null,null,null,null,null,null,null,null,null,null,null,null,null,null,null,null,null,null,null,null,null,null,null,null,null,null,null,null,null,null,null,null,null,null,null,null,null,null,null,null,null,null,null,null,null,null,null,null,null,null,null,null,null,null,null,null,null,null,null,null,null,null,null,null,null,null,null,null,null,null,null,null,null,null,null,null,null,null,null,null,null,null,null,null,null,null,null,null,null,null,null,null,null,null,null,null,null,null,null,null,null,null,null,null,null,null,null,null,null,null,null,null,null,null,null,null,null,null,null,null,null,null,null,null,null,null,null,null,null,null,null,null,null,null,null,null,null,null,null,null,null,null,null,null,null,null,null,null,null,null,null,null,null,null,null,null,null,null,"関係写真-4-特記事項(自由記入)_2"]
[null,null,null,null,null,null,null,null,null,null,null,null,null,null,null,null,null,null,null,null,null,null,null,null,null,null,null,null,null,null,null,null,null,null,null,null,null,null,null,null,null,null,null,null,null,null,null,null,null,null,null,null,null,null,null,null,null,null,null,null,null,null,null,null,null,null,null,null,null,null,null,null,null,null,null,null,null,null,null,null,null,null,null,null,null,null,null,null,null,null,null,null,null,null,null,null,null,null,null,null,null,null,null,null,null,null,null,null,null,null,null,null,null,null,null,null,null,null,null,null,null,null,null,null,null,null,null,null,null,null,null,null,null,null,null,null,null,null,null,null,null,null,null,null,null,null,null,null,null,null,null,null,null,null,null,null,null,null,null,null,null,null,null,null,null,null,null,null,null,null,null,null,null,null,null,null,null,null,null,null,null,null,null,null,null,null,null,null,null,null,null,null,null,null,null,null,null,null,null,null,null,null,null,null,null,null,null,null,null,null,null,null,null,null,null,null,null,null,null,null,null,null,null,null,null,null,null,null,null,null,null,null,null,null,null,null,null,null,null,null,null,null,null,null,null,null,null,null,null,null,null,null,null,null,null,null,null,null,null,null,null,null,null,null,null,null,null,null,null,null,null,null,null,null,null,null,null,null,null,null,null,null,null,null,null,null,null,null,null,null,null,null,null,null,null,null,null,null,null,null,null,null,null,null,null,null,null,null,null,null,null,null,null,null,null,null,null,null,null,null,null,null,null,null,null,null,null,null,"関係写真-5-特記事項(自由記入)_1"]
[null,null,null,null,null,null,null,null,null,null,null,null,null,null,null,null,null,null,null,null,null,null,null,null,null,null,null,null,null,null,null,null,null,null,null,null,null,null,null,null,null,null,null,null,null,null,null,null,null,null,null,null,null,null,null,null,null,null,null,null,null,null,null,null,null,null,null,null,null,null,null,null,null,null,null,null,null,null,null,null,null,null,null,null,null,null,null,null,null,null,null,null,null,null,null,null,null,null,null,null,null,null,null,null,null,null,null,null,null,null,null,null,null,null,null,null,null,null,null,null,null,null,null,null,null,null,null,null,null,null,null,null,null,null,null,null,null,null,null,null,null,null,null,null,null,null,null,null,null,null,null,null,null,null,null,null,null,null,null,null,null,null,null,null,null,null,null,null,null,null,null,null,null,null,null,null,null,null,null,null,null,null,null,null,null,null,null,null,null,null,null,null,null,null,null,null,null,null,null,null,null,null,null,null,null,null,null,null,null,null,null,null,null,null,null,null,null,null,null,null,null,null,null,null,null,null,null,null,null,null,null,null,null,null,null,null,null,null,null,null,null,null,null,null,null,null,null,null,null,null,null,null,null,null,null,null,null,null,null,null,null,null,null,null,null,null,null,null,null,null,null,null,null,null,null,null,null,null,null,null,null,null,null,null,null,null,null,null,null,null,null,null,null,null,null,null,null,null,null,null,null,null,null,null,null,null,null,null,null,null,null,null,null,null,null,null,null,null,null,null,null,null,null,null,null,null,null,null,"関係写真-5-特記事項(自由記入)_2"]
[null,null,null,null,null,null,null,null,null,null,null,null,null,null,null,null,null,null,null,null,null,null,null,null,null,null,null,null,null,null,null,null,null,null,null,null,null,null,null,null,null,null,null,null,null,null,null,null,null,null,null,null,null,null,null,null,null,null,null,null,null,null,null,null,null,null,null,null,null,null,null,null,null,null,null,null,null,null,null,null,null,null,null,null,null,null,null,null,null,null,null,null,null,null,null,null,null,null,null,null,null,null,null,null,null,null,null,null,null,null,null,null,null,null,null,null,null,null,null,null,null,null,null,null,null,null,null,null,null,null,null,null,null,null,null,null,null,null,null,null,null,null,null,null,null,null,null,null,null,null,null,null,null,null,null,null,null,null,null,null,null,null,null,null,null,null,null,null,null,null,null,null,null,null,null,null,null,null,null,null,null,null,null,null,null,null,null,null,null,null,null,null,null,null,null,null,null,null,null,null,null,null,null,null,null,null,null,null,null,null,null,null,null,null,null,null,null,null,null,null,null,null,null,null,null,null,null,null,null,null,null,null,null,null,null,null,null,null,null,null,null,null,null,null,null,null,null,null,null,null,null,null,null,null,null,null,null,null,null,null,null,null,null,null,null,null,null,null,null,null,null,null,null,null,null,null,null,null,null,null,null,null,null,null,null,null,null,null,null,null,null,null,null,null,null,null,null,null,null,null,null,null,null,null,null,null,null,null,null,null,null,null,null,null,null,null,null,null,null,null,null,null,null,null,null,null,null,null,"関係写真-6-特記事項(自由記入)_1"]
[null,null,null,null,null,null,null,null,null,null,null,null,null,null,null,null,null,null,null,null,null,null,null,null,null,null,null,null,null,null,null,null,null,null,null,null,null,null,null,null,null,null,null,null,null,null,null,null,null,null,null,null,null,null,null,null,null,null,null,null,null,null,null,null,null,null,null,null,null,null,null,null,null,null,null,null,null,null,null,null,null,null,null,null,null,null,null,null,null,null,null,null,null,null,null,null,null,null,null,null,null,null,null,null,null,null,null,null,null,null,null,null,null,null,null,null,null,null,null,null,null,null,null,null,null,null,null,null,null,null,null,null,null,null,null,null,null,null,null,null,null,null,null,null,null,null,null,null,null,null,null,null,null,null,null,null,null,null,null,null,null,null,null,null,null,null,null,null,null,null,null,null,null,null,null,null,null,null,null,null,null,null,null,null,null,null,null,null,null,null,null,null,null,null,null,null,null,null,null,null,null,null,null,null,null,null,null,null,null,null,null,null,null,null,null,null,null,null,null,null,null,null,null,null,null,null,null,null,null,null,null,null,null,null,null,null,null,null,null,null,null,null,null,null,null,null,null,null,null,null,null,null,null,null,null,null,null,null,null,null,null,null,null,null,null,null,null,null,null,null,null,null,null,null,null,null,null,null,null,null,null,null,null,null,null,null,null,null,null,null,null,null,null,null,null,null,null,null,null,null,null,null,null,null,null,null,null,null,null,null,null,null,null,null,null,null,null,null,null,null,null,null,null,null,null,null,null,null,"関係写真-6-特記事項(自由記入)_2"]
[null,null,null,null,null,null,null,null,null,null,null,null,null,null,null,null,null,null,null,null,null,null,null,null,null,null,null,null,null,null,null,null,null,null,null,null,null,null,null,null,null,null,null,null,null,null,null,null,null,null,null,null,null,null,null,null,null,null,null,null,null,null,null,null,null,null,null,null,null,null,null,null,null,null,null,null,null,null,null,null,null,null,null,null,null,null,null,null,null,null,null,null,null,null,null,null,null,null,null,null,null,null,null,null,null,null,null,null,null,null,null,null,null,null,null,null,null,null,null,null,null,null,null,null,null,null,null,null,null,null,null,null,null,null,null,null,null,null,null,null,null,null,null,null,null,null,null,null,null,null,null,null,null,null,null,null,null,null,null,null,null,null,null,null,null,null,null,null,null,null,null,null,null,null,null,null,null,null,null,null,null,null,null,null,null,null,null,null,null,null,null,null,null,null,null,null,null,null,null,null,null,null,null,null,null,null,null,null,null,null,null,null,null,null,null,null,null,null,null,null,null,null,null,null,null,null,null,null,null,null,null,null,null,null,null,null,null,null,null,null,null,null,null,null,null,null,null,null,null,null,null,null,null,null,null,null,null,null,null,null,null,null,null,null,null,null,null,null,null,null,null,null,null,null,null,null,null,null,null,null,null,null,null,null,null,null,null,null,null,null,null,null,null,null,null,null,null,null,null,null,null,null,null,null,null,null,null,null,null,null,null,null,null,null,null,null,null,null,null,null,null,null,null,null,null,null,null,null,"関係写真-7-特記事項(自由記入)_1"]
[null,null,null,null,null,null,null,null,null,null,null,null,null,null,null,null,null,null,null,null,null,null,null,null,null,null,null,null,null,null,null,null,null,null,null,null,null,null,null,null,null,null,null,null,null,null,null,null,null,null,null,null,null,null,null,null,null,null,null,null,null,null,null,null,null,null,null,null,null,null,null,null,null,null,null,null,null,null,null,null,null,null,null,null,null,null,null,null,null,null,null,null,null,null,null,null,null,null,null,null,null,null,null,null,null,null,null,null,null,null,null,null,null,null,null,null,null,null,null,null,null,null,null,null,null,null,null,null,null,null,null,null,null,null,null,null,null,null,null,null,null,null,null,null,null,null,null,null,null,null,null,null,null,null,null,null,null,null,null,null,null,null,null,null,null,null,null,null,null,null,null,null,null,null,null,null,null,null,null,null,null,null,null,null,null,null,null,null,null,null,null,null,null,null,null,null,null,null,null,null,null,null,null,null,null,null,null,null,null,null,null,null,null,null,null,null,null,null,null,null,null,null,null,null,null,null,null,null,null,null,null,null,null,null,null,null,null,null,null,null,null,null,null,null,null,null,null,null,null,null,null,null,null,null,null,null,null,null,null,null,null,null,null,null,null,null,null,null,null,null,null,null,null,null,null,null,null,null,null,null,null,null,null,null,null,null,null,null,null,null,null,null,null,null,null,null,null,null,null,null,null,null,null,null,null,null,null,null,null,null,null,null,null,null,null,null,null,null,null,null,null,null,null,null,null,null,null,null,"関係写真-7-特記事項(自由記入)_2"]
[null,null,null,null,null,null,null,null,null,null,null,null,null,null,null,null,null,null,null,null,null,null,null,null,null,null,null,null,null,null,null,null,null,null,null,null,null,null,null,null,null,null,null,null,null,null,null,null,null,null,null,null,null,null,null,null,null,null,null,null,null,null,null,null,null,null,null,null,null,null,null,null,null,null,null,null,null,null,null,null,null,null,null,null,null,null,null,null,null,null,null,null,null,null,null,null,null,null,null,null,null,null,null,null,null,null,null,null,null,null,null,null,null,null,null,null,null,null,null,null,null,null,null,null,null,null,null,null,null,null,null,null,null,null,null,null,null,null,null,null,null,null,null,null,null,null,null,null,null,null,null,null,null,null,null,null,null,null,null,null,null,null,null,null,null,null,null,null,null,null,null,null,null,null,null,null,null,null,null,null,null,null,null,null,null,null,null,null,null,null,null,null,null,null,null,null,null,null,null,null,null,null,null,null,null,null,null,null,null,null,null,null,null,null,null,null,null,null,null,null,null,null,null,null,null,null,null,null,null,null,null,null,null,null,null,null,null,null,null,null,null,null,null,null,null,null,null,null,null,null,null,null,null,null,null,null,null,null,null,null,null,null,null,null,null,null,null,null,null,null,null,null,null,null,null,null,null,null,null,null,null,null,null,null,null,null,null,null,null,null,null,null,null,null,null,null,null,null,null,null,null,null,null,null,null,null,null,null,null,null,null,null,null,null,null,null,null,null,null,null,null,null,null,null,null,null,null,null,"関係写真-8-特記事項(自由記入)_1"]
[null,null,null,null,null,null,null,null,null,null,null,null,null,null,null,null,null,null,null,null,null,null,null,null,null,null,null,null,null,null,null,null,null,null,null,null,null,null,null,null,null,null,null,null,null,null,null,null,null,null,null,null,null,null,null,null,null,null,null,null,null,null,null,null,null,null,null,null,null,null,null,null,null,null,null,null,null,null,null,null,null,null,null,null,null,null,null,null,null,null,null,null,null,null,null,null,null,null,null,null,null,null,null,null,null,null,null,null,null,null,null,null,null,null,null,null,null,null,null,null,null,null,null,null,null,null,null,null,null,null,null,null,null,null,null,null,null,null,null,null,null,null,null,null,null,null,null,null,null,null,null,null,null,null,null,null,null,null,null,null,null,null,null,null,null,null,null,null,null,null,null,null,null,null,null,null,null,null,null,null,null,null,null,null,null,null,null,null,null,null,null,null,null,null,null,null,null,null,null,null,null,null,null,null,null,null,null,null,null,null,null,null,null,null,null,null,null,null,null,null,null,null,null,null,null,null,null,null,null,null,null,null,null,null,null,null,null,null,null,null,null,null,null,null,null,null,null,null,null,null,null,null,null,null,null,null,null,null,null,null,null,null,null,null,null,null,null,null,null,null,null,null,null,null,null,null,null,null,null,null,null,null,null,null,null,null,null,null,null,null,null,null,null,null,null,null,null,null,null,null,null,null,null,null,null,null,null,null,null,null,null,null,null,null,null,null,null,null,null,null,null,null,null,null,null,null,null,null,"関係写真-8-特記事項(自由記入)_2"]
[null,null,null,null,null,null,null,null,null,null,null,null,null,null,null,null,null,null,null,null,null,null,null,null,null,null,null,null,null,null,null,null,null,null,null,null,null,null,null,null,null,null,null,null,null,null,null,null,null,null,null,null,null,null,null,null,null,null,null,null,null,null,null,null,null,null,null,null,null,null,null,null,null,null,null,null,null,null,null,null,null,null,null,null,null,null,null,null,null,null,null,null,null,null,null,null,null,null,null,null,null,null,null,null,null,null,null,null,null,null,null,null,null,null,null,null,null,null,null,null,null,null,null,null,null,null,null,null,null,null,null,null,null,null,null,null,null,null,null,null,null,null,null,null,null,null,null,null,null,null,null,null,null,null,null,null,null,null,null,null,null,null,null,null,null,null,null,null,null,null,null,null,null,null,null,null,null,null,null,null,null,null,null,null,null,null,null,null,null,null,null,null,null,null,null,null,null,null,null,null,null,null,null,null,null,null,null,null,null,null,null,null,null,null,null,null,null,null,null,null,null,null,null,null,null,null,null,null,null,null,null,null,null,null,null,null,null,null,null,null,null,null,null,null,null,null,null,null,null,null,null,null,null,null,null,null,null,null,null,null,null,null,null,null,null,null,null,null,null,null,null,null,null,null,null,null,null,null,null,null,null,null,null,null,null,null,null,null,null,null,null,null,null,null,null,null,null,null,null,null,null,null,null,null,null,null,null,null,null,null,null,null,null,null,null,null,null,null,null,null,null,null,null,null,null,null,null,null,"関係写真-9-特記事項(自由記入)_1"]
[null,null,null,null,null,null,null,null,null,null,null,null,null,null,null,null,null,null,null,null,null,null,null,null,null,null,null,null,null,null,null,null,null,null,null,null,null,null,null,null,null,null,null,null,null,null,null,null,null,null,null,null,null,null,null,null,null,null,null,null,null,null,null,null,null,null,null,null,null,null,null,null,null,null,null,null,null,null,null,null,null,null,null,null,null,null,null,null,null,null,null,null,null,null,null,null,null,null,null,null,null,null,null,null,null,null,null,null,null,null,null,null,null,null,null,null,null,null,null,null,null,null,null,null,null,null,null,null,null,null,null,null,null,null,null,null,null,null,null,null,null,null,null,null,null,null,null,null,null,null,null,null,null,null,null,null,null,null,null,null,null,null,null,null,null,null,null,null,null,null,null,null,null,null,null,null,null,null,null,null,null,null,null,null,null,null,null,null,null,null,null,null,null,null,null,null,null,null,null,null,null,null,null,null,null,null,null,null,null,null,null,null,null,null,null,null,null,null,null,null,null,null,null,null,null,null,null,null,null,null,null,null,null,null,null,null,null,null,null,null,null,null,null,null,null,null,null,null,null,null,null,null,null,null,null,null,null,null,null,null,null,null,null,null,null,null,null,null,null,null,null,null,null,null,null,null,null,null,null,null,null,null,null,null,null,null,null,null,null,null,null,null,null,null,null,null,null,null,null,null,null,null,null,null,null,null,null,null,null,null,null,null,null,null,null,null,null,null,null,null,null,null,null,null,null,null,null,null,"関係写真-9-特記事項(自由記入)_2"]
[null,null,null,null,null,null,null,null,null,null,null,null,null,null,null,null,null,null,null,null,null,null,null,null,null,null,null,null,null,null,null,null,null,null,null,null,null,null,null,null,null,null,null,null,null,null,null,null,null,null,null,null,null,null,null,null,null,null,null,null,null,null,null,null,null,null,null,null,null,null,null,null,null,null,null,null,null,null,null,null,null,null,null,null,null,null,null,null,null,null,null,null,null,null,null,null,null,null,null,null,null,null,null,null,null,null,null,null,null,null,null,null,null,null,null,null,null,null,null,null,null,null,null,null,null,null,null,null,null,null,null,null,null,null,null,null,null,null,null,null,null,null,null,null,null,null,null,null,null,null,null,null,null,null,null,null,null,null,null,null,null,null,null,null,null,null,null,null,null,null,null,null,null,null,null,null,null,null,null,null,null,null,null,null,null,null,null,null,null,null,null,null,null,null,null,null,null,null,null,null,null,null,null,null,null,null,null,null,null,null,null,null,null,null,null,null,null,null,null,null,null,null,null,null,null,null,null,null,null,null,null,null,null,null,null,null,null,null,null,null,null,null,null,null,null,null,null,null,null,null,null,null,null,null,null,null,null,null,null,null,null,null,null,null,null,null,null,null,null,null,null,null,null,null,null,null,null,null,null,null,null,null,null,null,null,null,null,null,null,null,null,null,null,null,null,null,null,null,null,null,null,null,null,null,null,null,null,null,null,null,null,null,null,null,null,null,null,null,null,null,null,null,null,null,null,null,null,null,"関係写真-10-特記事項(自由記入)_1"]
[null,null,null,null,null,null,null,null,null,null,null,null,null,null,null,null,null,null,null,null,null,null,null,null,null,null,null,null,null,null,null,null,null,null,null,null,null,null,null,null,null,null,null,null,null,null,null,null,null,null,null,null,null,null,null,null,null,null,null,null,null,null,null,null,null,null,null,null,null,null,null,null,null,null,null,null,null,null,null,null,null,null,null,null,null,null,null,null,null,null,null,null,null,null,null,null,null,null,null,null,null,null,null,null,null,null,null,null,null,null,null,null,null,null,null,null,null,null,null,null,null,null,null,null,null,null,null,null,null,null,null,null,null,null,null,null,null,null,null,null,null,null,null,null,null,null,null,null,null,null,null,null,null,null,null,null,null,null,null,null,null,null,null,null,null,null,null,null,null,null,null,null,null,null,null,null,null,null,null,null,null,null,null,null,null,null,null,null,null,null,null,null,null,null,null,null,null,null,null,null,null,null,null,null,null,null,null,null,null,null,null,null,null,null,null,null,null,null,null,null,null,null,null,null,null,null,null,null,null,null,null,null,null,null,null,null,null,null,null,null,null,null,null,null,null,null,null,null,null,null,null,null,null,null,null,null,null,null,null,null,null,null,null,null,null,null,null,null,null,null,null,null,null,null,null,null,null,null,null,null,null,null,null,null,null,null,null,null,null,null,null,null,null,null,null,null,null,null,null,null,null,null,null,null,null,null,null,null,null,null,null,null,null,null,null,null,null,null,null,null,null,null,null,null,null,null,null,null,"関係写真-10-特記事項(自由記入)_2"]
[null,null,null,null,null,null,null,null,null,null,null,null,null,null,null,null,null,null,null,null,null,null,null,null,null,null,null,null,null,null,null,null,null,null,null,null,null,null,null,null,null,null,null,null,null,null,null,null,null,null,null,null,null,null,null,null,null,null,null,null,null,null,null,null,null,null,null,null,null,null,null,null,null,null,null,null,null,null,null,null,null,null,null,null,null,null,null,null,null,null,null,null,null,null,null,null,null,null,null,null,null,null,null,null,null,null,null,null,null,null,null,null,null,null,null,null,null,null,null,null,null,null,null,null,null,null,null,null,null,null,null,null,null,null,null,null,null,null,null,null,null,null,null,null,null,null,null,null,null,null,null,null,null,null,null,null,null,null,null,null,null,null,null,null,null,null,null,null,null,null,null,null,null,null,null,null,null,null,null,null,null,null,null,null,null,null,null,null,null,null,null,null,null,null,null,null,null,null,null,null,null,null,null,null,null,null,null,null,null,null,null,null,null,null,null,null,null,null,null,null,null,null,null,null,null,null,null,null,null,null,null,null,null,null,null,null,null,null,null,null,null,null,null,null,null,null,null,null,null,null,null,null,null,null,null,null,null,null,null,null,null,null,null,null,null,null,null,null,null,null,null,null,null,null,null,null,null,null,null,null,null,null,null,null,null,null,null,null,null,null,null,null,null,null,null,null,null,null,null,null,null,null,null,null,null,null,null,null,null,null,null,null,null,null,null,null,null,null,null,null,null,null,null,null,null,null,null,null,"調査結果図-1-自由入力"]

{"sheet":"2_入力シート【用途面積】","index":1,"n_rows":97,"n_cols":24,"rows_kept":97,"cut":false,"hidden":false,"merged":[[47,0,49,0],[50,0,52,0],[6,16,11,17],[6,18,11,19],[6,14,11,15],[6,12,11,13],[6,10,11,11],[6,8,11,9],[6,6,11,7],[12,2,12,3],[2,2,11,3],[2,4,11,5],[3,10,5,11],[38,0,39,0],[0,6,0,11],[2,6,2,19],[3,12,5,13],[3,14,5,15],[3,16,5,17],[3,18,5,19],[3,6,5,7],[3,8,5,9]]}
[null,null,"階別用途別床面積"]
[]
["――劇場等――――――――――――",null,"階＼用途",null,"各階合計",null,"↓↓　上段「大分類」、下段「小分類」を選択してください。　↓↓"]
["劇場",null,null,null,null,null,null,null,null,null,null,null,null,null,null,null,null,null,null,null,null,null,{"$f":"G4","v":0},{"$f":"IF(COUNTIF($W$4:W4,W4)>=2,\"\",W4)","v":0}]
["映画館",null,null,null,null,null,null,null,null,null,null,null,null,null,null,null,null,null,null,null,null,null,{"$f":"I4","v":0},{"$f":"IF(COUNTIF($W$4:W5,W5)>=2,\"\",W5)","v":""}]
["演芸場",null,null,null,null,null,null,null,null,null,null,null,null,null,null,null,null,null,null,null,null,null,{"$f":"K4","v":0},{"$f":"IF(COUNTIF($W$4:W6,W6)>=2,\"\",W6)","v":""}]
["観覧場（屋外観覧場を除く）",null,null,null,null,null,null,null,null,null,null,null,null,null,null,null,null,null,null,null,null,null,{"$f":"M4","v":0},{"$f":"IF(COUNTIF($W$4:W7,W7)>=2,\"\",W7)","v":""}]
["公会堂",null,null,null,null,null,null,null,null,null,null,null,null,null,null,null,null,null,null,null,null,null,{"$f":"O4","v":0},{"$f":"IF(COUNTIF($W$4:W8,W8)>=2,\"\",W8)","v":""}]
["集会場",null,null,null,null,null,null,null,null,null,null,null,null,null,null,null,null,null,null,null,null,null,{"$f":"Q4","v":0},{"$f":"IF(COUNTIF($W$4:W9,W9)>=2,\"\",W9)","v":""}]
["――病院系施設――――――――――",null,null,null,null,null,null,null,null,null,null,null,null,null,null,null,null,null,null,null,null,null,{"$f":"S4","v":0},{"$f":"IF(COUNTIF($W$4:W10,W10)>=2,\"\",W10)","v":""}]
["病院"]
["診療所（患者の収容施設があるもの）",null,null,null,null,null,null,null,null,null,null,null,null,null,null,null,null,null,null,null,null,null,"完全未入力判定(1：延べ面積の総合計0.00㎡で完全未入力）"]
["――宿泊施設―――――――――――",null,"延べ面積",null,{"$f":"SUM(G13:T13)","v":0},"㎡",{"$f":"SUM(G14:G72)","v":0},null,{"$f":"SUM(I14:I72)","v":0},null,{"$f":"SUM(K14:K72)","v":0},null,{"$f":"SUM(M14:M72)","v":0},null,{"$f":"SUM(O14:O72)","v":0},null,{"$f":"SUM(Q14:Q72)","v":0},null,{"$f":"SUM(S14:S72)","v":0},null,null,null,{"$f":"IF(E13=0,1,0)","v":1}]
["ホテル",null,"地下1","階",{"$f":"SUM(G14:T14)","v":0},"㎡",null,"㎡",null,"㎡",null,"㎡",null,"㎡",null,"㎡",null,"㎡",null,"㎡"]
["旅館",null,"地下2","階",{"$f":"SUM(G15:T15)","v":0},"㎡",null,"㎡",null,"㎡",null,"㎡",null,"㎡",null,"㎡",null,"㎡",null,"㎡"]
["――住居系施設――――――――――",null,"地下3","階",0,"㎡",null,"㎡",null,"㎡",null,"㎡",null,"㎡",null,"㎡",null,"㎡",null,"㎡"]
["下宿",null,"地下4","階",0,"㎡",null,"㎡",null,"㎡",null,"㎡",null,"㎡",null,"㎡",null,"㎡",null,"㎡"]
["共同住宅",null,"塔屋 1","階",0,"㎡",null,"㎡",null,"㎡",null,"㎡",null,"㎡",null,"㎡",null,"㎡",null,"㎡"]
["寄宿舎",null,"塔屋 2","階",0,"㎡",null,"㎡",null,"㎡",null,"㎡",null,"㎡",null,"㎡",null,"㎡",null,"㎡"]
["――住居系施設2―――――――――",null,"塔屋 3","階",0,"㎡",null,"㎡",null,"㎡",null,"㎡",null,"㎡",null,"㎡",null,"㎡",null,"㎡"]
["サービス付き高齢者向け住宅",null,"塔屋 4","階",0,"㎡",null,"㎡",null,"㎡",null,"㎡",null,"㎡",null,"㎡",null,"㎡",null,"㎡"]
["認知症高齢者グループホーム",null,"塔屋 5","階",0,"㎡",null,"㎡",null,"㎡",null,"㎡",null,"㎡",null,"㎡",null,"㎡",null,"㎡"]
["障害者グループホーム",null,1,"階",0,"㎡",null,"㎡",null,"㎡",null,"㎡",null,"㎡",null,"㎡",null,"㎡",null,"㎡"]
["――児童福祉施設等――――――――",null,2,"階",0,"㎡",null,"㎡",null,"㎡",null,"㎡",null,"㎡",null,"㎡",null,"㎡",null,"㎡"]
["児童福祉施設",null,3,"階",0,"㎡",null,"㎡",null,"㎡",null,"㎡",null,"㎡",null,"㎡",null,"㎡",null,"㎡"]
["保育所",null,4,"階",0,"㎡",null,"㎡",null,"㎡",null,"㎡",null,"㎡",null,"㎡",null,"㎡",null,"㎡"]
["幼保連携認定こども園",null,5,"階",0,"㎡",null,"㎡",null,"㎡",null,"㎡",null,"㎡",null,"㎡",null,"㎡",null,"㎡"]
["――児童福祉施設等2―――――――",null,6,"階",0,"㎡",null,"㎡",null,"㎡",null,"㎡",null,"㎡",null,"㎡",null,"㎡",null,"㎡"]
["助産施設",null,7,"階",0,"㎡",null,"㎡",null,"㎡",null,"㎡",null,"㎡",null,"㎡",null,"㎡",null,"㎡"]
["乳児院",null,8,"階",0,"㎡",null,"㎡",null,"㎡",null,"㎡",null,"㎡",null,"㎡",null,"㎡",null,"㎡"]
["障害児入所施設",null,9,"階",0,"㎡",null,"㎡",null,"㎡",null,"㎡",null,"㎡",null,"㎡",null,"㎡",null,"㎡"]
["助産所",null,10,"階",0,"㎡",null,"㎡",null,"㎡",null,"㎡",null,"㎡",null,"㎡",null,"㎡",null,"㎡"]
["盲導犬訓練施設",null,11,"階",0,"㎡",null,"㎡",null,"㎡",null,"㎡",null,"㎡",null,"㎡",null,"㎡",null,"㎡"]
["救護施設",null,12,"階",0,"㎡",null,"㎡",null,"㎡",null,"㎡",null,"㎡",null,"㎡",null,"㎡",null,"㎡"]
["更生施設",null,13,"階",0,"㎡",null,"㎡",null,"㎡",null,"㎡",null,"㎡",null,"㎡",null,"㎡",null,"㎡"]
["老人短期入所施設",null,14,"階",0,"㎡",null,"㎡",null,"㎡",null,"㎡",null,"㎡",null,"㎡",null,"㎡",null,"㎡"]
["小規模多機能居宅介護の事業所",null,15,"階",0,"㎡",null,"㎡",null,"㎡",null,"㎡",null,"㎡",null,"㎡",null,"㎡",null,"㎡"]
["看護小規模多機能型居宅介護の事業所",null,16,"階",0,"㎡",null,"㎡",null,"㎡",null,"㎡",null,"㎡",null,"㎡",null,"㎡",null,"㎡"]
["老人デイサービスセンター（宿泊サービスを提供するものに限る）",null,17,"階",0,"㎡",null,"㎡",null,"㎡",null,"㎡",null,"㎡",null,"㎡",null,"㎡",null,"㎡"]
[null,null,18,"階",0,"㎡",null,"㎡",null,"㎡",null,"㎡",null,"㎡",null,"㎡",null,"㎡",null,"㎡"]
["養護老人ホーム",null,19,"階",0,"㎡",null,"㎡",null,"㎡",null,"㎡",null,"㎡",null,"㎡",null,"㎡",null,"㎡"]
["特別養護老人ホーム",null,20,"階",0,"㎡",null,"㎡",null,"㎡",null,"㎡",null,"㎡",null,"㎡",null,"㎡",null,"㎡"]
["軽費老人ホーム",null,21,"階",{"$f":"SUM(G43:T43)","v":0},"㎡",null,"㎡",null,"㎡",null,"㎡",null,"㎡",null,"㎡",null,"㎡",null,"㎡"]
["有料老人ホーム",null,22,"階",0,"㎡",null,"㎡",null,"㎡",null,"㎡",null,"㎡",null,"㎡",null,"㎡",null,"㎡"]
["母子保健施設",null,23,"階",0,"㎡",null,"㎡",null,"㎡",null,"㎡",null,"㎡",null,"㎡",null,"㎡",null,"㎡"]
["障害者支援施設",null,24,"階",{"$f":"SUM(G46:T46)","v":0},"㎡",null,"㎡",null,"㎡",null,"㎡",null,"㎡",null,"㎡",null,"㎡",null,"㎡"]
["福祉ホーム",null,25,"階",0,"㎡",null,"㎡",null,"㎡",null,"㎡",null,"㎡",null,"㎡",null,"㎡",null,"㎡"]
["障害者福祉サービスを行う事業所（自立訓練を行う事業所で，利用者の就寝の用に供するもの）",null,26,"階",0,"㎡",null,"㎡",null,"㎡",null,"㎡",null,"㎡",null,"㎡",null,"㎡",null,"㎡"]
[null,null,27,"階",0,"㎡",null,"㎡",null,"㎡",null,"㎡",null,"㎡",null,"㎡",null,"㎡",null,"㎡"]
[null,null,28,"階",0,"㎡",null,"㎡",null,"㎡",null,"㎡",null,"㎡",null,"㎡",null,"㎡",null,"㎡"]
["障害者福祉サービスを行う事業所（就労移行支援を行う事業所で，利用者の就寝の用に供するもの）",null,29,"階",0,"㎡",null,"㎡",null,"㎡",null,"㎡",null,"㎡",null,"㎡",null,"㎡",null,"㎡"]
[null,null,30,"階",0,"㎡",null,"㎡",null,"㎡",null,"㎡",null,"㎡",null,"㎡",null,"㎡",null,"㎡"]
[null,null,31,"階",{"$f":"SUM(G53:T53)","v":0},"㎡",null,"㎡",null,"㎡",null,"㎡",null,"㎡",null,"㎡",null,"㎡",null,"㎡"]
["――学校_美術館等――――――――",null,32,"階",0,"㎡",null,"㎡",null,"㎡",null,"㎡",null,"㎡",null,"㎡",null,"㎡",null,"㎡"]
["学校",null,33,"階",0,"㎡",null,"㎡",null,"㎡",null,"㎡",null,"㎡",null,"㎡",null,"㎡",null,"㎡"]
["体育館",null,34,"階",0,"㎡",null,"㎡",null,"㎡",null,"㎡",null,"㎡",null,"㎡",null,"㎡",null,"㎡"]
["博物館",null,35,"階",0,"㎡",null,"㎡",null,"㎡",null,"㎡",null,"㎡",null,"㎡",null,"㎡",null,"㎡"]
["美術館",null,36,"階",0,"㎡",null,"㎡",null,"㎡",null,"㎡",null,"㎡",null,"㎡",null,"㎡",null,"㎡"]
["図書館",null,37,"階",0,"㎡",null,"㎡",null,"㎡",null,"㎡",null,"㎡",null,"㎡",null,"㎡",null,"㎡"]
["ボーリング場",null,38,"階",0,"㎡",null,"㎡",null,"㎡",null,"㎡",null,"㎡",null,"㎡",null,"㎡",null,"㎡"]
["スキー場",null,39,"階",0,"㎡",null,"㎡",null,"㎡",null,"㎡",null,"㎡",null,"㎡",null,"㎡",null,"㎡"]
["スケート場",null,40,"階",0,"㎡",null,"㎡",null,"㎡",null,"㎡",null,"㎡",null,"㎡",null,"㎡",null,"㎡"]
["水泳場",null,41,"階",{"$f":"SUM(G63:T63)","v":0},"㎡",null,"㎡",null,"㎡",null,"㎡",null,"㎡",null,"㎡",null,"㎡",null,"㎡"]
["スポーツの練習場",null,42,"階",0,"㎡",null,"㎡",null,"㎡",null,"㎡",null,"㎡",null,"㎡",null,"㎡",null,"㎡"]
["体育館（学校に付属するもの）",null,43,"階",0,"㎡",null,"㎡",null,"㎡",null,"㎡",null,"㎡",null,"㎡",null,"㎡",null,"㎡"]
["――物販店等――――――――――――",null,44,"階",0,"㎡",null,"㎡",null,"㎡",null,"㎡",null,"㎡",null,"㎡",null,"㎡",null,"㎡"]
["百貨店",null,45,"階",0,"㎡",null,"㎡",null,"㎡",null,"㎡",null,"㎡",null,"㎡",null,"㎡",null,"㎡"]
["マーケット",null,46,"階",0,"㎡",null,"㎡",null,"㎡",null,"㎡",null,"㎡",null,"㎡",null,"㎡",null,"㎡"]
["展示場",null,47,"階",0,"㎡",null,"㎡",null,"㎡",null,"㎡",null,"㎡",null,"㎡",null,"㎡",null,"㎡"]
["物品販売業を営む店舗",null,48,"階",0,"㎡",null,"㎡",null,"㎡",null,"㎡",null,"㎡",null,"㎡",null,"㎡",null,"㎡"]
["――飲食等――――――――――――",null,49,"階",0,"㎡",null,"㎡",null,"㎡",null,"㎡",null,"㎡",null,"㎡",null,"㎡",null,"㎡"]
["飲食店",null,50,"階",0,"㎡",null,"㎡",null,"㎡",null,"㎡",null,"㎡",null,"㎡",null,"㎡",null,"㎡"]
["料理店"]
["待合"]
["公衆浴場"]
["キャバレー"]
["カフェー"]
["ナイトクラブ"]
["バー"]
["ダンスホール"]
["遊技場"]
["――自動車車庫等―――――――――"]
["自動車車庫"]
["自動車修理工場"]
["映画スタジオ"]
["テレビスタジオ"]
["――事務所系施設―――――――――"]
["事務所"]
["美容室"]
["ネイルサロン"]
["診療所（患者の収容施設がないもの）"]
["――その他――――――――――――"]
["倉庫"]
["工場"]
["――定期報告指定用途以外の用途―――"]
["駅舎"]
["住宅"]

{"sheet":"3_入力シート【写真】","index":2,"n_rows":603,"n_cols":45,"rows_kept":603,"cut":false,"hidden":false,"merged":[[295,2,295,46],[296,2,296,46],[297,2,297,46],[298,2,298,46],[157,25,159,46],[160,25,172,46],[194,25,196,46],[156,25,156,39],[115,2,115,45],[116,2,116,45],[117,2,117,45],[118,2,118,45],[119,2,119,45],[120,2,120,45],[163,10,163,15],[175,2,175,45],[176,2,176,45],[177,2,177,45],[174,0,174,3],[234,0,234,3],[223,10,223,15],[189,10,191,34],[200,10,200,15],[197,25,209,46],[488,0,491,2],[488,3,488,9],[488,36,488,45],[489,3,491,9],[489,10,491,34],[391,0,394,2],[391,3,391,9],[391,36,391,45],[392,3,394,9],[392,10,394,34],[486,20,486,25],[475,2,475,46],[476,2,476,46],[477,2,477,46],[478,2,478,46],[479,2,479,46],[480,2,480,46],[481,2,481,46],[460,25,472,46],[457,25,459,46],[463,10,463,15],[362,2,362,46],[359,2,359,46],[354,0,354,3],[343,10,343,15],[355,2,355,46],[433,25,433,39],[451,0,454,2],[451,3,451,9],[452,3,454,9],[414,0,414,3],[429,10,431,34],[340,25,352,46],[374,25,376,46],[377,25,389,46],[397,25,399,46],[400,25,412,46],[434,25,436,46],[437,25,449,46],[452,10,454,34],[300,2,300,46],[301,2,301,46],[302,2,302,46],[306,20,306,25],[313,25,313,39],[482,2,482,46],[415,2,415,46],[416,2,416,46],[417,2,417,46],[418,2,418,46],[419,2,419,46],[420,2,420,46],[421,2,421,46],[422,2,422,46],[456,25,456,39],[474,0,474,3],[440,10,440,15],[426,20,426,25],[428,0,431,2],[428,3,428,9],[428,36,428,45],[429,3,431,9],[309,10,311,34],[361,2,361,46],[580,25,592,46],[336,25,336,39],[314,25,316,46],[317,25,329,46],[337,25,339,46],[403,10,403,15],[600,2,600,46],[597,2,597,46],[598,2,598,46],[599,2,599,46],[396,25,396,39],[380,10,380,15],[373,25,373,39],[368,0,371,2],[368,3,368,9],[368,36,368,45],[369,3,371,9],[369,10,371,34],[366,20,366,25],[356,2,356,46],[357,2,357,46],[358,2,358,46],[451,36,451,45],[360,2,360,46],[220,25,232,46],[152,3,154,9],[152,10,154,34],[601,2,601,46],[602,2,602,46],[535,2,535,46],[536,2,536,46],[537,2,537,46],[538,2,538,46],[539,2,539,46],[540,2,540,46],[541,2,541,46],[542,2,542,46],[553,25,553,39],[595,2,595,46],[596,2,596,46],[548,0,551,2],[548,3,548,9],[548,36,548,45],[576,25,576,39],[560,10,560,15],[554,25,556,46],[557,25,569,46],[577,25,579,46],[74,25,76,46],[77,25,89,46],[97,25,99,46],[100,25,112,46],[211,0,214,2],[211,3,211,9],[211,36,211,45],[212,3,214,9],[212,10,214,34],[134,25,136,46],[137,25,149,46],[92,3,94,9],[92,10,94,34],[96,25,96,39],[114,0,114,3],[103,10,103,15],[121,2,121,45],[122,2,122,45],[126,20,126,25],[128,0,131,2],[128,3,128,9],[128,36,128,45],[129,3,131,9],[129,10,131,34],[32,0,35,2],[32,3,32,9],[32,36,32,45],[33,3,35,9],[33,10,35,34],[57,2,57,45],[58,2,58,45],[59,2,59,45],[55,0,55,3],[56,2,56,45],[37,25,37,39],[44,10,44,15],[38,25,40,46],[41,25,53,46],[7,20,7,25],[9,0,12,2],[9,3,9,9],[9,36,9,45],[10,3,12,9],[10,10,12,34],[21,10,21,15],[14,25,14,39],[15,25,17,46],[18,25,30,46],[60,2,60,45],[61,2,61,45],[73,25,73,39],[188,0,191,2],[188,3,188,9],[188,36,188,45],[189,3,191,9],[62,2,62,45],[63,2,63,45],[66,20,66,25],[68,0,71,2],[68,3,68,9],[68,36,68,45],[69,3,71,9],[69,10,71,34],[80,10,80,15],[91,0,94,2],[91,3,91,9],[91,36,91,45],[140,10,140,15],[133,25,133,39],[151,0,154,2],[151,3,151,9],[151,36,151,45],[254,25,256,46],[257,25,269,46],[277,25,279,46],[280,25,292,46],[320,10,320,15],[331,0,334,2],[331,3,331,9],[332,3,334,9],[308,36,308,45],[308,0,311,2],[308,3,308,9],[331,36,331,45],[332,10,334,34],[276,25,276,39],[283,10,283,15],[260,10,260,15],[294,0,294,3],[271,0,274,2],[271,3,271,9],[271,36,271,45],[272,3,274,9],[272,10,274,34],[309,3,311,9],[299,2,299,46],[523,10,523,15],[511,0,514,2],[511,3,511,9],[512,3,514,9],[493,25,493,39],[594,0,594,3],[549,3,551,9],[549,10,551,34],[500,10,500,15],[534,0,534,3],[546,20,546,25],[583,10,583,15],[571,0,574,2],[571,3,571,9],[571,36,571,45],[572,3,574,9],[572,10,574,34],[516,25,516,39],[511,36,511,45],[512,10,514,34],[494,25,496,46],[497,25,509,46],[517,25,519,46],[520,25,532,46],[253,25,253,39],[178,2,178,45],[179,2,179,45],[180,2,180,45],[181,2,181,45],[182,2,182,45],[186,20,186,25],[242,2,242,45],[246,20,246,25],[248,0,251,2],[248,3,248,9],[248,36,248,45],[249,3,251,9],[249,10,251,34],[193,25,193,39],[241,2,241,45],[235,2,235,45],[236,2,236,45],[237,2,237,45],[238,2,238,45],[239,2,239,45],[240,2,240,45],[216,25,216,39],[217,25,219,46]]}
[]
["（注意事項）"]
[null,"・要是正（既存不適格以外）の項目が、転記されます。"]
[null,"・その他の場合（既存不適格及び指摘なし等）については転記されません。任意で添付する場合は、別添PDFで提出してください。"]
[null,"・番号、調査項目及び調査結果は、１_入力シート（基本情報）から転記されます。"]
[]
["別","添",2,"様","式",null,"（","A",4,"）"]
[null,null,null,null,null,null,null,null,null,null,null,null,null,null,null,null,null,null,null,null,"関係写真"]
[]
["部位",null,null,"番号",null,null,null,null,null,null,null,null,null,null,null,null,null,null,"調","査","項","目",null,null,null,null,null,null,null,null,null,null,null,null,null,null,"調査結果"]
[null,null,null,{"$f":"IFERROR(VLOOKUP(1,'1_入力シート【基本情報】'!$DU$307:$DX$526,3,FALSE),\"\")","v":""},null,null,null,null,null,null,{"$f":"IFERROR(VLOOKUP(1,'1_入力シート【基本情報】'!$DU$307:$DX$526,4,FALSE),\"\")","v":""}]
[null,null,null,null,null,null,null,null,null,null,null,null,null,null,null,null,null,null,null,null,null,null,null,null,null,null,null,null,null,null,null,null,null,null,null,null,"☑","要","是","正",null,"□","そ","の","他"]
[]
[null,null,null,null,null,null,null,null,null,null,null,null,null,null,null,null,null,null,null,null,null,null,null,null,null,null,"特","記","事","項"]
[]
[null,null,null,null,null,null,null,null,null,null,null,null,null,null,null,null,null,null,null,null,null,null,null,null,null,{"$f":"IFERROR(VLOOKUP(1,'1_入力シート【基本情報】'!$DU$307:$DZ$526,5,FALSE),\"\")","v":""}]
[]
[]
[]
[]
[]
[null,null,null,null,null,null,null,null,null,null,"写真添付"]
[]
[]
[]
[]
[]
[]
[]
[]
[]
[]
["部位",null,null,"番号",null,null,null,null,null,null,null,null,null,null,null,null,null,null,"調","査","項","目",null,null,null,null,null,null,null,null,null,null,null,null,null,null,"調査結果"]
[null,null,null,{"$f":"IFERROR(VLOOKUP(2,'1_入力シート【基本情報】'!$DU$307:$DX$526,3,FALSE),\"\")","v":""},null,null,null,null,null,null,{"$f":"IFERROR(VLOOKUP(2,'1_入力シート【基本情報】'!$DU$307:$DX$526,4,FALSE),\"\")","v":""}]
[null,null,null,null,null,null,null,null,null,null,null,null,null,null,null,null,null,null,null,null,null,null,null,null,null,null,null,null,null,null,null,null,null,null,null,null,"☑","要","是","正",null,"☐","そ","の","他"]
[]
[null,null,null,null,null,null,null,null,null,null,null,null,null,null,null,null,null,null,null,null,null,null,null,null,null,null,"特","記","事","項"]
[]
[null,null,null,null,null,null,null,null,null,null,null,null,null,null,null,null,null,null,null,null,null,null,null,null,null,{"$f":"IFERROR(VLOOKUP(2,'1_入力シート【基本情報】'!$DU$307:$DZ$526,5,FALSE),\"\")","v":""}]
[]
[]
[]
[]
[]
[null,null,null,null,null,null,null,null,null,null,"写真添付"]
[]
[]
[]
[]
[]
[]
[]
[]
[]
[]
["（注意）"]
[null,"①","　この書類は、調査の結果、「要是正」かつ「既存不適格」ではない項目について作成してください。また、「既存不適格」及"]
[null,null,"び「指摘なし」の項目についても、特記すべき事項があれば、必要に応じて作成してください。「要是正」の項目がない場合"]
[null,null,"は、この書類は省略してもかまいません。"]
[null,"②","　記入欄が不足する場合は、枠を拡大、行を追加して記入するか、別紙に必要な事項を記入して添えてください。"]
[null,"③","　「部位」欄の「番号」、「調査項目」は、それぞれ別記様式の番号、調査項目に対応したものを記入して下さい。"]
[null,"④","　「調査結果」欄は、調査の結果、要是正の指摘があった場合は「要是正」のチェックボックスに「✓」マークを入れ、それ以"]
[null,null,"外の場合で特記すべき事項がある場合は「その他」のチェックボックスに「✓」マークを入れてください。"]
[null,"⑤","　写真は、当該部位の外観の状況が確認できるように撮影したものを添付してください。"]
[]
["別","添",2,"様","式",null,"（","A",4,"）"]
[null,null,null,null,null,null,null,null,null,null,null,null,null,null,null,null,null,null,null,null,"関係写真"]
[]
["部位",null,null,"番号",null,null,null,null,null,null,null,null,null,null,null,null,null,null,"調","査","項","目",null,null,null,null,null,null,null,null,null,null,null,null,null,null,"調査結果"]
[null,null,null,{"$f":"IFERROR(VLOOKUP(3,'1_入力シート【基本情報】'!$DU$307:$DX$526,3,FALSE),\"\")","v":""},null,null,null,null,null,null,{"$f":"IFERROR(VLOOKUP(3,'1_入力シート【基本情報】'!$DU$307:$DX$526,4,FALSE),\"\")","v":""}]
[null,null,null,null,null,null,null,null,null,null,null,null,null,null,null,null,null,null,null,null,null,null,null,null,null,null,null,null,null,null,null,null,null,null,null,null,"☑","要","是","正",null,"□","そ","の","他"]
[]
[null,null,null,null,null,null,null,null,null,null,null,null,null,null,null,null,null,null,null,null,null,null,null,null,null,null,"特","記","事","項"]
[]
[null,null,null,null,null,null,null,null,null,null,null,null,null,null,null,null,null,null,null,null,null,null,null,null,null,{"$f":"IFERROR(VLOOKUP(3,'1_入力シート【基本情報】'!$DU$307:$DZ$526,5,FALSE),\"\")","v":""}]
[]
[]
[]
[]
[]
[null,null,null,null,null,null,null,null,null,null,"写真添付"]
[]
[]
[]
[]
[]
[]
[]
[]
[]
[]
["部位",null,null,"番号",null,null,null,null,null,null,null,null,null,null,null,null,null,null,"調","査","項","目",null,null,null,null,null,null,null,null,null,null,null,null,null,null,"調査結果"]
[null,null,null,{"$f":"IFERROR(VLOOKUP(4,'1_入力シート【基本情報】'!$DU$307:$DX$526,3,FALSE),\"\")","v":""},null,null,null,null,null,null,{"$f":"IFERROR(VLOOKUP(4,'1_入力シート【基本情報】'!$DU$307:$DX$526,4,FALSE),\"\")","v":""}]
[null,null,null,null,null,null,null,null,null,null,null,null,null,null,null,null,null,null,null,null,null,null,null,null,null,null,null,null,null,null,null,null,null,null,null,null,"☑","要","是","正",null,"□","そ","の","他"]
[]
[null,null,null,null,null,null,null,null,null,null,null,null,null,null,null,null,null,null,null,null,null,null,null,null,null,null,"特","記","事","項"]
[]
[null,null,null,null,null,null,null,null,null,null,null,null,null,null,null,null,null,null,null,null,null,null,null,null,null,{"$f":"IFERROR(VLOOKUP(4,'1_入力シート【基本情報】'!$DU$307:$DZ$526,5,FALSE),\"\")","v":""}]
[]
[]
[]
[]
[]
[null,null,null,null,null,null,null,null,null,null,"写真添付"]
[]
[]
[]
[]
[]
[]
[]
[]
[]
[]
["（注意）"]
[null,"①","　この書類は、調査の結果、「要是正」かつ「既存不適格」ではない項目について作成してください。また、「既存不適格」及"]
[null,null,"び「指摘なし」の項目についても、特記すべき事項があれば、必要に応じて作成してください。「要是正」の項目がない場合"]
[null,null,"は、この書類は省略してもかまいません。"]
[null,"②","　記入欄が不足する場合は、枠を拡大、行を追加して記入するか、別紙に必要な事項を記入して添えてください。"]
[null,"③","　「部位」欄の「番号」、「調査項目」は、それぞれ別記様式の番号、調査項目に対応したものを記入して下さい。"]
[null,"④","　「調査結果」欄は、調査の結果、要是正の指摘があった場合は「要是正」のチェックボックスに「✓」マークを入れ、それ以"]
[null,null,"外の場合で特記すべき事項がある場合は「その他」のチェックボックスに「✓」マークを入れてください。"]
[null,"⑤","　写真は、当該部位の外観の状況が確認できるように撮影したものを添付してください。"]
[]
[]
["別","添",2,"様","式",null,"（","A",4,"）"]
[null,null,null,null,null,null,null,null,null,null,null,null,null,null,null,null,null,null,null,null,"関係写真"]
[]
["部位",null,null,"番号",null,null,null,null,null,null,null,null,null,null,null,null,null,null,"調","査","項","目",null,null,null,null,null,null,null,null,null,null,null,null,null,null,"調査結果"]
[null,null,null,{"$f":"IFERROR(VLOOKUP(5,'1_入力シート【基本情報】'!$DU$307:$DX$526,3,FALSE),\"\")","v":""},null,null,null,null,null,null,{"$f":"IFERROR(VLOOKUP(5,'1_入力シート【基本情報】'!$DU$307:$DX$526,4,FALSE),\"\")","v":""}]
[null,null,null,null,null,null,null,null,null,null,null,null,null,null,null,null,null,null,null,null,null,null,null,null,null,null,null,null,null,null,null,null,null,null,null,null,"☑","要","是","正",null,"□","そ","の","他"]
[]
[null,null,null,null,null,null,null,null,null,null,null,null,null,null,null,null,null,null,null,null,null,null,null,null,null,null,"特","記","事","項"]
[]
[null,null,null,null,null,null,null,null,null,null,null,null,null,null,null,null,null,null,null,null,null,null,null,null,null,{"$f":"IFERROR(VLOOKUP(5,'1_入力シート【基本情報】'!$DU$307:$DZ$526,5,FALSE),\"\")","v":""}]
[]
[]
[]
[]
[]
[null,null,null,null,null,null,null,null,null,null,"写真添付"]
[]
[]
[]
[]
[]
[]
[]
[]
[]
[]
["部位",null,null,"番号",null,null,null,null,null,null,null,null,null,null,null,null,null,null,"調","査","項","目",null,null,null,null,null,null,null,null,null,null,null,null,null,null,"調査結果"]
[null,null,null,{"$f":"IFERROR(VLOOKUP(6,'1_入力シート【基本情報】'!$DU$307:$DX$526,3,FALSE),\"\")","v":""},null,null,null,null,null,null,{"$f":"IFERROR(VLOOKUP(6,'1_入力シート【基本情報】'!$DU$307:$DX$526,4,FALSE),\"\")","v":""}]
[null,null,null,null,null,null,null,null,null,null,null,null,null,null,null,null,null,null,null,null,null,null,null,null,null,null,null,null,null,null,null,null,null,null,null,null,"☑","要","是","正",null,"□","そ","の","他"]
[]
[null,null,null,null,null,null,null,null,null,null,null,null,null,null,null,null,null,null,null,null,null,null,null,null,null,null,"特","記","事","項"]
[]
[null,null,null,null,null,null,null,null,null,null,null,null,null,null,null,null,null,null,null,null,null,null,null,null,null,{"$f":"IFERROR(VLOOKUP(6,'1_入力シート【基本情報】'!$DU$307:$DZ$526,5,FALSE),\"\")","v":""}]
[]
[]
[]
[]
[]
[null,null,null,null,null,null,null,null,null,null,"写真添付"]
[]
[]
[]
[]
[]
[]
[]
[]
[]
[]
["（注意）"]
[null,"①","　この書類は、調査の結果、「要是正」かつ「既存不適格」ではない項目について作成してください。また、「既存不適格」及"]
[null,null,"び「指摘なし」の項目についても、特記すべき事項があれば、必要に応じて作成してください。「要是正」の項目がない場合"]
[null,null,"は、この書類は省略してもかまいません。"]
[null,"②","　記入欄が不足する場合は、枠を拡大、行を追加して記入するか、別紙に必要な事項を記入して添えてください。"]
[null,"③","　「部位」欄の「番号」、「調査項目」は、それぞれ別記様式の番号、調査項目に対応したものを記入して下さい。"]
[null,"④","　「調査結果」欄は、調査の結果、要是正の指摘があった場合は「要是正」のチェックボックスに「✓」マークを入れ、それ以"]
[null,null,"外の場合で特記すべき事項がある場合は「その他」のチェックボックスに「✓」マークを入れてください。"]
[null,"⑤","　写真は、当該部位の外観の状況が確認できるように撮影したものを添付してください。"]
[]
[]
["別","添",2,"様","式",null,"（","A",4,"）"]
[null,null,null,null,null,null,null,null,null,null,null,null,null,null,null,null,null,null,null,null,"関係写真"]
[]
["部位",null,null,"番号",null,null,null,null,null,null,null,null,null,null,null,null,null,null,"調","査","項","目",null,null,null,null,null,null,null,null,null,null,null,null,null,null,"調査結果"]
[null,null,null,{"$f":"IFERROR(VLOOKUP(7,'1_入力シート【基本情報】'!$DU$307:$DX$526,3,FALSE),\"\")","v":""},null,null,null,null,null,null,{"$f":"IFERROR(VLOOKUP(7,'1_入力シート【基本情報】'!$DU$307:$DX$526,4,FALSE),\"\")","v":""}]
[null,null,null,null,null,null,null,null,null,null,null,null,null,null,null,null,null,null,null,null,null,null,null,null,null,null,null,null,null,null,null,null,null,null,null,null,"☑","要","是","正",null,"□","そ","の","他"]
[]
[null,null,null,null,null,null,null,null,null,null,null,null,null,null,null,null,null,null,null,null,null,null,null,null,null,null,"特","記","事","項"]
[]
[null,null,null,null,null,null,null,null,null,null,null,null,null,null,null,null,null,null,null,null,null,null,null,null,null,{"$f":"IFERROR(VLOOKUP(7,'1_入力シート【基本情報】'!$DU$307:$DZ$526,5,FALSE),\"\")","v":""}]
[]
[]
[]
[]
[]
[null,null,null,null,null,null,null,null,null,null,"写真添付"]
[]
[]
[]
[]
[]
[]
[]
[]
[]
[]
["部位",null,null,"番号",null,null,null,null,null,null,null,null,null,null,null,null,null,null,"調","査","項","目",null,null,null,null,null,null,null,null,null,null,null,null,null,null,"調査結果"]
[null,null,null,{"$f":"IFERROR(VLOOKUP(8,'1_入力シート【基本情報】'!$DU$307:$DX$526,3,FALSE),\"\")","v":""},null,null,null,null,null,null,{"$f":"IFERROR(VLOOKUP(8,'1_入力シート【基本情報】'!$DU$307:$DX$526,4,FALSE),\"\")","v":""}]
[null,null,null,null,null,null,null,null,null,null,null,null,null,null,null,null,null,null,null,null,null,null,null,null,null,null,null,null,null,null,null,null,null,null,null,null,"☑","要","是","正",null,"□","そ","の","他"]
[]
[null,null,null,null,null,null,null,null,null,null,null,null,null,null,null,null,null,null,null,null,null,null,null,null,null,null,"特","記","事","項"]
[]
[null,null,null,null,null,null,null,null,null,null,null,null,null,null,null,null,null,null,null,null,null,null,null,null,null,{"$f":"IFERROR(VLOOKUP(8,'1_入力シート【基本情報】'!$DU$307:$DZ$526,5,FALSE),\"\")","v":""}]
[]
[]
[]
[]
[]
[null,null,null,null,null,null,null,null,null,null,"写真添付"]
[]
[]
[]
[]
[]
[]
[]
[]
[]
[]
["（注意）"]
[null,"①","　この書類は、調査の結果、「要是正」かつ「既存不適格」ではない項目について作成してください。また、「既存不適格」及"]
[null,null,"び「指摘なし」の項目についても、特記すべき事項があれば、必要に応じて作成してください。「要是正」の項目がない場合"]
[null,null,"は、この書類は省略してもかまいません。"]
[null,"②","　記入欄が不足する場合は、枠を拡大、行を追加して記入するか、別紙に必要な事項を記入して添えてください。"]
[null,"③","　「部位」欄の「番号」、「調査項目」は、それぞれ別記様式の番号、調査項目に対応したものを記入して下さい。"]
[null,"④","　「調査結果」欄は、調査の結果、要是正の指摘があった場合は「要是正」のチェックボックスに「✓」マークを入れ、それ以"]
[null,null,"外の場合で特記すべき事項がある場合は「その他」のチェックボックスに「✓」マークを入れてください。"]
[null,"⑤","　写真は、当該部位の外観の状況が確認できるように撮影したものを添付してください。"]
[]
[]
["別","添",2,"様","式",null,"（","A",4,"）"]
[null,null,null,null,null,null,null,null,null,null,null,null,null,null,null,null,null,null,null,null,"関係写真"]
[]
["部位",null,null,"番号",null,null,null,null,null,null,null,null,null,null,null,null,null,null,"調","査","項","目",null,null,null,null,null,null,null,null,null,null,null,null,null,null,"調査結果"]
[null,null,null,{"$f":"IFERROR(VLOOKUP(9,'1_入力シート【基本情報】'!$DU$307:$DX$526,3,FALSE),\"\")","v":""},null,null,null,null,null,null,{"$f":"IFERROR(VLOOKUP(9,'1_入力シート【基本情報】'!$DU$307:$DX$526,4,FALSE),\"\")","v":""}]
[null,null,null,null,null,null,null,null,null,null,null,null,null,null,null,null,null,null,null,null,null,null,null,null,null,null,null,null,null,null,null,null,null,null,null,null,"☑","要","是","正",null,"□","そ","の","他"]
[]
[null,null,null,null,null,null,null,null,null,null,null,null,null,null,null,null,null,null,null,null,null,null,null,null,null,null,"特","記","事","項"]
[]
[null,null,null,null,null,null,null,null,null,null,null,null,null,null,null,null,null,null,null,null,null,null,null,null,null,{"$f":"IFERROR(VLOOKUP(9,'1_入力シート【基本情報】'!$DU$307:$DZ$526,5,FALSE),\"\")","v":""}]
[]
[]
[]
[]
[]
[null,null,null,null,null,null,null,null,null,null,"写真添付"]
[]
[]
[]
[]
[]
[]
[]
[]
[]
[]
["部位",null,null,"番号",null,null,null,null,null,null,null,null,null,null,null,null,null,null,"調","査","項","目",null,null,null,null,null,null,null,null,null,null,null,null,null,null,"調査結果"]
[null,null,null,{"$f":"IFERROR(VLOOKUP(10,'1_入力シート【基本情報】'!$DU$307:$DX$526,3,FALSE),\"\")","v":""},null,null,null,null,null,null,{"$f":"IFERROR(VLOOKUP(10,'1_入力シート【基本情報】'!$DU$307:$DX$526,4,FALSE),\"\")","v":""}]
[null,null,null,null,null,null,null,null,null,null,null,null,null,null,null,null,null,null,null,null,null,null,null,null,null,null,null,null,null,null,null,null,null,null,null,null,"☑","要","是","正",null,"□","そ","の","他"]
[]
[null,null,null,null,null,null,null,null,null,null,null,null,null,null,null,null,null,null,null,null,null,null,null,null,null,null,"特","記","事","項"]
[]
[null,null,null,null,null,null,null,null,null,null,null,null,null,null,null,null,null,null,null,null,null,null,null,null,null,{"$f":"IFERROR(VLOOKUP(10,'1_入力シート【基本情報】'!$DU$307:$DZ$526,5,FALSE),\"\")","v":""}]
[]
[]
[]
[]
[]
[null,null,null,null,null,null,null,null,null,null,"写真添付"]
[]
[]
[]
[]
[]
[]
[]
[]
[]
[]
["（注意）"]
[null,"①","　この書類は、調査の結果、「要是正」かつ「既存不適格」ではない項目について作成してください。また、「既存不適格」及"]
[null,null,"び「指摘なし」の項目についても、特記すべき事項があれば、必要に応じて作成してください。「要是正」の項目がない場合"]
[null,null,"は、この書類は省略してもかまいません。"]
[null,"②","　記入欄が不足する場合は、枠を拡大、行を追加して記入するか、別紙に必要な事項を記入して添えてください。"]
[null,"③","　「部位」欄の「番号」、「調査項目」は、それぞれ別記様式の番号、調査項目に対応したものを記入して下さい。"]
[null,"④","　「調査結果」欄は、調査の結果、要是正の指摘があった場合は「要是正」のチェックボックスに「✓」マークを入れ、それ以"]
[null,null,"外の場合で特記すべき事項がある場合は「その他」のチェックボックスに「✓」マークを入れてください。"]
[null,"⑤","　写真は、当該部位の外観の状況が確認できるように撮影したものを添付してください。"]
[]
[]
["別","添",2,"様","式",null,"（","A",4,"）"]
[null,null,null,null,null,null,null,null,null,null,null,null,null,null,null,null,null,null,null,null,"関係写真"]
[]
["部位",null,null,"番号",null,null,null,null,null,null,null,null,null,null,null,null,null,null,"調","査","項","目",null,null,null,null,null,null,null,null,null,null,null,null,null,null,"調査結果"]
[null,null,null,{"$f":"IFERROR(VLOOKUP(11,'1_入力シート【基本情報】'!$DU$307:$DX$526,3,FALSE),\"\")","v":""},null,null,null,null,null,null,{"$f":"IFERROR(VLOOKUP(11,'1_入力シート【基本情報】'!$DU$307:$DX$526,4,FALSE),\"\")","v":""}]
[null,null,null,null,null,null,null,null,null,null,null,null,null,null,null,null,null,null,null,null,null,null,null,null,null,null,null,null,null,null,null,null,null,null,null,null,"☑","要","是","正",null,"□","そ","の","他"]
[]
[null,null,null,null,null,null,null,null,null,null,null,null,null,null,null,null,null,null,null,null,null,null,null,null,null,null,"特","記","事","項"]
[]
[null,null,null,null,null,null,null,null,null,null,null,null,null,null,null,null,null,null,null,null,null,null,null,null,null,{"$f":"IFERROR(VLOOKUP(11,'1_入力シート【基本情報】'!$DU$307:$DZ$526,5,FALSE),\"\")","v":""}]
[]
[]
[]
[]
[]
[null,null,null,null,null,null,null,null,null,null,"写真添付"]
[]
[]
[]
[]
[]
[]
[]
[]
[]
[]
["部位",null,null,"番号",null,null,null,null,null,null,null,null,null,null,null,null,null,null,"調","査","項","目",null,null,null,null,null,null,null,null,null,null,null,null,null,null,"調査結果"]
[null,null,null,{"$f":"IFERROR(VLOOKUP(12,'1_入力シート【基本情報】'!$DU$307:$DX$526,3,FALSE),\"\")","v":""},null,null,null,null,null,null,{"$f":"IFERROR(VLOOKUP(12,'1_入力シート【基本情報】'!$DU$307:$DX$526,4,FALSE),\"\")","v":""}]
[null,null,null,null,null,null,null,null,null,null,null,null,null,null,null,null,null,null,null,null,null,null,null,null,null,null,null,null,null,null,null,null,null,null,null,null,"☑","要","是","正",null,"□","そ","の","他"]
[]
[null,null,null,null,null,null,null,null,null,null,null,null,null,null,null,null,null,null,null,null,null,null,null,null,null,null,"特","記","事","項"]
[]
[null,null,null,null,null,null,null,null,null,null,null,null,null,null,null,null,null,null,null,null,null,null,null,null,null,{"$f":"IFERROR(VLOOKUP(12,'1_入力シート【基本情報】'!$DU$307:$DZ$526,5,FALSE),\"\")","v":""}]
[]
[]
[]
[]
[]
[null,null,null,null,null,null,null,null,null,null,"写真添付"]
[]
[]
[]
[]
[]
[]
[]
[]
[]
[]
["（注意）"]
[null,"①","　この書類は、調査の結果、「要是正」かつ「既存不適格」ではない項目について作成してください。また、「既存不適格」及"]
[null,null,"び「指摘なし」の項目についても、特記すべき事項があれば、必要に応じて作成してください。「要是正」の項目がない場合"]
[null,null,"は、この書類は省略してもかまいません。"]
[null,"②","　記入欄が不足する場合は、枠を拡大、行を追加して記入するか、別紙に必要な事項を記入して添えてください。"]
[null,"③","　「部位」欄の「番号」、「調査項目」は、それぞれ別記様式の番号、調査項目に対応したものを記入して下さい。"]
[null,"④","　「調査結果」欄は、調査の結果、要是正の指摘があった場合は「要是正」のチェックボックスに「✓」マークを入れ、それ以"]
[null,null,"外の場合で特記すべき事項がある場合は「その他」のチェックボックスに「✓」マークを入れてください。"]
[null,"⑤","　写真は、当該部位の外観の状況が確認できるように撮影したものを添付してください。"]
[]
[]
["別","添",2,"様","式",null,"（","A",4,"）"]
[null,null,null,null,null,null,null,null,null,null,null,null,null,null,null,null,null,null,null,null,"関係写真"]
[]
["部位",null,null,"番号",null,null,null,null,null,null,null,null,null,null,null,null,null,null,"調","査","項","目",null,null,null,null,null,null,null,null,null,null,null,null,null,null,"調査結果"]
[null,null,null,{"$f":"IFERROR(VLOOKUP(13,'1_入力シート【基本情報】'!$DU$307:$DX$526,3,FALSE),\"\")","v":""},null,null,null,null,null,null,{"$f":"IFERROR(VLOOKUP(13,'1_入力シート【基本情報】'!$DU$307:$DX$526,4,FALSE),\"\")","v":""}]
[null,null,null,null,null,null,null,null,null,null,null,null,null,null,null,null,null,null,null,null,null,null,null,null,null,null,null,null,null,null,null,null,null,null,null,null,"☑","要","是","正",null,"□","そ","の","他"]
[]
[null,null,null,null,null,null,null,null,null,null,null,null,null,null,null,null,null,null,null,null,null,null,null,null,null,null,"特","記","事","項"]
[]
[null,null,null,null,null,null,null,null,null,null,null,null,null,null,null,null,null,null,null,null,null,null,null,null,null,{"$f":"IFERROR(VLOOKUP(13,'1_入力シート【基本情報】'!$DU$307:$DZ$526,5,FALSE),\"\")","v":""}]
[]
[]
[]
[]
[]
[null,null,null,null,null,null,null,null,null,null,"写真添付"]
[]
[]
[]
[]
[]
[]
[]
[]
[]
[]
["部位",null,null,"番号",null,null,null,null,null,null,null,null,null,null,null,null,null,null,"調","査","項","目",null,null,null,null,null,null,null,null,null,null,null,null,null,null,"調査結果"]
[null,null,null,{"$f":"IFERROR(VLOOKUP(14,'1_入力シート【基本情報】'!$DU$307:$DX$526,3,FALSE),\"\")","v":""},null,null,null,null,null,null,{"$f":"IFERROR(VLOOKUP(14,'1_入力シート【基本情報】'!$DU$307:$DX$526,4,FALSE),\"\")","v":""}]
[null,null,null,null,null,null,null,null,null,null,null,null,null,null,null,null,null,null,null,null,null,null,null,null,null,null,null,null,null,null,null,null,null,null,null,null,"☑","要","是","正",null,"□","そ","の","他"]
[]
[null,null,null,null,null,null,null,null,null,null,null,null,null,null,null,null,null,null,null,null,null,null,null,null,null,null,"特","記","事","項"]
[]
[null,null,null,null,null,null,null,null,null,null,null,null,null,null,null,null,null,null,null,null,null,null,null,null,null,{"$f":"IFERROR(VLOOKUP(14,'1_入力シート【基本情報】'!$DU$307:$DZ$526,5,FALSE),\"\")","v":""}]
[]
[]
[]
[]
[]
[null,null,null,null,null,null,null,null,null,null,"写真添付"]
[]
[]
[]
[]
[]
[]
[]
[]
[]
[]
["（注意）"]
[null,"①","　この書類は、調査の結果、「要是正」かつ「既存不適格」ではない項目について作成してください。また、「既存不適格」及"]
[null,null,"び「指摘なし」の項目についても、特記すべき事項があれば、必要に応じて作成してください。「要是正」の項目がない場合"]
[null,null,"は、この書類は省略してもかまいません。"]
[null,"②","　記入欄が不足する場合は、枠を拡大、行を追加して記入するか、別紙に必要な事項を記入して添えてください。"]
[null,"③","　「部位」欄の「番号」、「調査項目」は、それぞれ別記様式の番号、調査項目に対応したものを記入して下さい。"]
[null,"④","　「調査結果」欄は、調査の結果、要是正の指摘があった場合は「要是正」のチェックボックスに「✓」マークを入れ、それ以"]
[null,null,"外の場合で特記すべき事項がある場合は「その他」のチェックボックスに「✓」マークを入れてください。"]
[null,"⑤","　写真は、当該部位の外観の状況が確認できるように撮影したものを添付してください。"]
[]
[]
["別","添",2,"様","式",null,"（","A",4,"）"]
[null,null,null,null,null,null,null,null,null,null,null,null,null,null,null,null,null,null,null,null,"関係写真"]
[]
["部位",null,null,"番号",null,null,null,null,null,null,null,null,null,null,null,null,null,null,"調","査","項","目",null,null,null,null,null,null,null,null,null,null,null,null,null,null,"調査結果"]
[null,null,null,{"$f":"IFERROR(VLOOKUP(15,'1_入力シート【基本情報】'!$DU$307:$DX$526,3,FALSE),\"\")","v":""},null,null,null,null,null,null,{"$f":"IFERROR(VLOOKUP(15,'1_入力シート【基本情報】'!$DU$307:$DX$526,4,FALSE),\"\")","v":""}]
[null,null,null,null,null,null,null,null,null,null,null,null,null,null,null,null,null,null,null,null,null,null,null,null,null,null,null,null,null,null,null,null,null,null,null,null,"☑","要","是","正",null,"□","そ","の","他"]
[]
[null,null,null,null,null,null,null,null,null,null,null,null,null,null,null,null,null,null,null,null,null,null,null,null,null,null,"特","記","事","項"]
[]
[null,null,null,null,null,null,null,null,null,null,null,null,null,null,null,null,null,null,null,null,null,null,null,null,null,{"$f":"IFERROR(VLOOKUP(15,'1_入力シート【基本情報】'!$DU$307:$DZ$526,5,FALSE),\"\")","v":""}]
[]
[]
[]
[]
[]
[null,null,null,null,null,null,null,null,null,null,"写真添付"]
[]
[]
[]
[]
[]
[]
[]
[]
[]
[]
["部位",null,null,"番号",null,null,null,null,null,null,null,null,null,null,null,null,null,null,"調","査","項","目",null,null,null,null,null,null,null,null,null,null,null,null,null,null,"調査結果"]
[null,null,null,{"$f":"IFERROR(VLOOKUP(16,'1_入力シート【基本情報】'!$DU$307:$DX$526,3,FALSE),\"\")","v":""},null,null,null,null,null,null,{"$f":"IFERROR(VLOOKUP(16,'1_入力シート【基本情報】'!$DU$307:$DX$526,4,FALSE),\"\")","v":""}]
[null,null,null,null,null,null,null,null,null,null,null,null,null,null,null,null,null,null,null,null,null,null,null,null,null,null,null,null,null,null,null,null,null,null,null,null,"☑","要","是","正",null,"□","そ","の","他"]
[]
[null,null,null,null,null,null,null,null,null,null,null,null,null,null,null,null,null,null,null,null,null,null,null,null,null,null,"特","記","事","項"]
[]
[null,null,null,null,null,null,null,null,null,null,null,null,null,null,null,null,null,null,null,null,null,null,null,null,null,{"$f":"IFERROR(VLOOKUP(16,'1_入力シート【基本情報】'!$DU$307:$DZ$526,5,FALSE),\"\")","v":""}]
[]
[]
[]
[]
[]
[null,null,null,null,null,null,null,null,null,null,"写真添付"]
[]
[]
[]
[]
[]
[]
[]
[]
[]
[]
["（注意）"]
[null,"①","　この書類は、調査の結果、「要是正」かつ「既存不適格」ではない項目について作成してください。また、「既存不適格」及"]
[null,null,"び「指摘なし」の項目についても、特記すべき事項があれば、必要に応じて作成してください。「要是正」の項目がない場合"]
[null,null,"は、この書類は省略してもかまいません。"]
[null,"②","　記入欄が不足する場合は、枠を拡大、行を追加して記入するか、別紙に必要な事項を記入して添えてください。"]
[null,"③","　「部位」欄の「番号」、「調査項目」は、それぞれ別記様式の番号、調査項目に対応したものを記入して下さい。"]
[null,"④","　「調査結果」欄は、調査の結果、要是正の指摘があった場合は「要是正」のチェックボックスに「✓」マークを入れ、それ以"]
[null,null,"外の場合で特記すべき事項がある場合は「その他」のチェックボックスに「✓」マークを入れてください。"]
[null,"⑤","　写真は、当該部位の外観の状況が確認できるように撮影したものを添付してください。"]
[]
[]
["別","添",2,"様","式",null,"（","A",4,"）"]
[null,null,null,null,null,null,null,null,null,null,null,null,null,null,null,null,null,null,null,null,"関係写真"]
[]
["部位",null,null,"番号",null,null,null,null,null,null,null,null,null,null,null,null,null,null,"調","査","項","目",null,null,null,null,null,null,null,null,null,null,null,null,null,null,"調査結果"]
[null,null,null,{"$f":"IFERROR(VLOOKUP(17,'1_入力シート【基本情報】'!$DU$307:$DX$526,3,FALSE),\"\")","v":""},null,null,null,null,null,null,{"$f":"IFERROR(VLOOKUP(17,'1_入力シート【基本情報】'!$DU$307:$DX$526,4,FALSE),\"\")","v":""}]
[null,null,null,null,null,null,null,null,null,null,null,null,null,null,null,null,null,null,null,null,null,null,null,null,null,null,null,null,null,null,null,null,null,null,null,null,"☑","要","是","正",null,"□","そ","の","他"]
[]
[null,null,null,null,null,null,null,null,null,null,null,null,null,null,null,null,null,null,null,null,null,null,null,null,null,null,"特","記","事","項"]
[]
[null,null,null,null,null,null,null,null,null,null,null,null,null,null,null,null,null,null,null,null,null,null,null,null,null,{"$f":"IFERROR(VLOOKUP(17,'1_入力シート【基本情報】'!$DU$307:$DZ$526,5,FALSE),\"\")","v":""}]
[]
[]
[]
[]
[]
[null,null,null,null,null,null,null,null,null,null,"写真添付"]
[]
[]
[]
[]
[]
[]
[]
[]
[]
[]
["部位",null,null,"番号",null,null,null,null,null,null,null,null,null,null,null,null,null,null,"調","査","項","目",null,null,null,null,null,null,null,null,null,null,null,null,null,null,"調査結果"]
[null,null,null,{"$f":"IFERROR(VLOOKUP(18,'1_入力シート【基本情報】'!$DU$307:$DX$526,3,FALSE),\"\")","v":""},null,null,null,null,null,null,{"$f":"IFERROR(VLOOKUP(18,'1_入力シート【基本情報】'!$DU$307:$DX$526,4,FALSE),\"\")","v":""}]
[null,null,null,null,null,null,null,null,null,null,null,null,null,null,null,null,null,null,null,null,null,null,null,null,null,null,null,null,null,null,null,null,null,null,null,null,"☑","要","是","正",null,"□","そ","の","他"]
[]
[null,null,null,null,null,null,null,null,null,null,null,null,null,null,null,null,null,null,null,null,null,null,null,null,null,null,"特","記","事","項"]
[]
[null,null,null,null,null,null,null,null,null,null,null,null,null,null,null,null,null,null,null,null,null,null,null,null,null,{"$f":"IFERROR(VLOOKUP(18,'1_入力シート【基本情報】'!$DU$307:$DZ$526,5,FALSE),\"\")","v":""}]
[]
[]
[]
[]
[]
[null,null,null,null,null,null,null,null,null,null,"写真添付"]
[]
[]
[]
[]
[]
[]
[]
[]
[]
[]
["（注意）"]
[null,"①","　この書類は、調査の結果、「要是正」かつ「既存不適格」ではない項目について作成してください。また、「既存不適格」及"]
[null,null,"び「指摘なし」の項目についても、特記すべき事項があれば、必要に応じて作成してください。「要是正」の項目がない場合"]
[null,null,"は、この書類は省略してもかまいません。"]
[null,"②","　記入欄が不足する場合は、枠を拡大、行を追加して記入するか、別紙に必要な事項を記入して添えてください。"]
[null,"③","　「部位」欄の「番号」、「調査項目」は、それぞれ別記様式の番号、調査項目に対応したものを記入して下さい。"]
[null,"④","　「調査結果」欄は、調査の結果、要是正の指摘があった場合は「要是正」のチェックボックスに「✓」マークを入れ、それ以"]
[null,null,"外の場合で特記すべき事項がある場合は「その他」のチェックボックスに「✓」マークを入れてください。"]
[null,"⑤","　写真は、当該部位の外観の状況が確認できるように撮影したものを添付してください。"]
[]
[]
["別","添",2,"様","式",null,"（","A",4,"）"]
[null,null,null,null,null,null,null,null,null,null,null,null,null,null,null,null,null,null,null,null,"関係写真"]
[]
["部位",null,null,"番号",null,null,null,null,null,null,null,null,null,null,null,null,null,null,"調","査","項","目",null,null,null,null,null,null,null,null,null,null,null,null,null,null,"調査結果"]
[null,null,null,{"$f":"IFERROR(VLOOKUP(19,'1_入力シート【基本情報】'!$DU$307:$DX$526,3,FALSE),\"\")","v":""},null,null,null,null,null,null,{"$f":"IFERROR(VLOOKUP(19,'1_入力シート【基本情報】'!$DU$307:$DX$526,4,FALSE),\"\")","v":""}]
[null,null,null,null,null,null,null,null,null,null,null,null,null,null,null,null,null,null,null,null,null,null,null,null,null,null,null,null,null,null,null,null,null,null,null,null,"☑","要","是","正",null,"□","そ","の","他"]
[]
[null,null,null,null,null,null,null,null,null,null,null,null,null,null,null,null,null,null,null,null,null,null,null,null,null,null,"特","記","事","項"]
[]
[null,null,null,null,null,null,null,null,null,null,null,null,null,null,null,null,null,null,null,null,null,null,null,null,null,{"$f":"IFERROR(VLOOKUP(19,'1_入力シート【基本情報】'!$DU$307:$DZ$526,5,FALSE),\"\")","v":""}]
[]
[]
[]
[]
[]
[null,null,null,null,null,null,null,null,null,null,"写真添付"]
[]
[]
[]
[]
[]
[]
[]
[]
[]
[]
["部位",null,null,"番号",null,null,null,null,null,null,null,null,null,null,null,null,null,null,"調","査","項","目",null,null,null,null,null,null,null,null,null,null,null,null,null,null,"調査結果"]
[null,null,null,{"$f":"IFERROR(VLOOKUP(20,'1_入力シート【基本情報】'!$DU$307:$DX$526,3,FALSE),\"\")","v":""},null,null,null,null,null,null,{"$f":"IFERROR(VLOOKUP(20,'1_入力シート【基本情報】'!$DU$307:$DX$526,4,FALSE),\"\")","v":""}]
[null,null,null,null,null,null,null,null,null,null,null,null,null,null,null,null,null,null,null,null,null,null,null,null,null,null,null,null,null,null,null,null,null,null,null,null,"☑","要","是","正",null,"□","そ","の","他"]
[]
[null,null,null,null,null,null,null,null,null,null,null,null,null,null,null,null,null,null,null,null,null,null,null,null,null,null,"特","記","事","項"]
[]
[null,null,null,null,null,null,null,null,null,null,null,null,null,null,null,null,null,null,null,null,null,null,null,null,null,{"$f":"IFERROR(VLOOKUP(20,'1_入力シート【基本情報】'!$DU$307:$DZ$526,5,FALSE),\"\")","v":""}]
[]
[]
[]
[]
[]
[null,null,null,null,null,null,null,null,null,null,"写真添付"]
[]
[]
[]
[]
[]
[]
[]
[]
[]
[]
["（注意）"]
[null,"①","　この書類は、調査の結果、「要是正」かつ「既存不適格」ではない項目について作成してください。また、「既存不適格」及"]
[null,null,"び「指摘なし」の項目についても、特記すべき事項があれば、必要に応じて作成してください。「要是正」の項目がない場合"]
[null,null,"は、この書類は省略してもかまいません。"]
[null,"②","　記入欄が不足する場合は、枠を拡大、行を追加して記入するか、別紙に必要な事項を記入して添えてください。"]
[null,"③","　「部位」欄の「番号」、「調査項目」は、それぞれ別記様式の番号、調査項目に対応したものを記入して下さい。"]
[null,"④","　「調査結果」欄は、調査の結果、要是正の指摘があった場合は「要是正」のチェックボックスに「✓」マークを入れ、それ以"]
[null,null,"外の場合で特記すべき事項がある場合は「その他」のチェックボックスに「✓」マークを入れてください。"]
[null,"⑤","　写真は、当該部位の外観の状況が確認できるように撮影したものを添付してください。"]

{"sheet":"4_入力シート【図面】","index":3,"n_rows":44,"n_cols":19,"rows_kept":44,"cut":false,"hidden":false,"merged":[[24,18,24,20],[25,18,25,20],[42,18,42,20],[43,0,43,10],[43,18,43,20],[41,18,41,20],[1,0,42,16],[23,18,23,20],[12,18,12,20],[13,18,13,20],[14,18,14,20],[15,18,15,20],[16,18,16,20],[17,18,17,20],[18,18,18,20],[19,18,19,20],[20,18,20,20],[21,18,21,20],[22,18,22,20],[11,18,11,20],[0,8,0,10],[1,18,1,20],[2,18,2,20],[3,18,3,20],[4,18,4,20],[5,18,5,20],[6,18,6,20],[7,18,7,20],[8,18,8,20],[9,18,9,20],[10,18,10,20]]}
["別添１様式","（Ａ３）",null,null,null,null,null,null,"調　査　結　果　図"]
[null,null,null,null,null,null,null,null,null,null,null,null,null,null,null,null,null,"番号","調査項目"]
[null,null,null,null,null,null,null,null,null,null,null,null,null,null,null,null,null,1,"敷地及び地盤"]
[null,null,null,null,null,null,null,null,null,null,null,null,null,null,null,null,null,"（1）","地盤"]
[null,null,null,null,null,null,null,null,null,null,null,null,null,null,null,null,null,"（2）","敷地"]
[null,null,null,null,null,null,null,null,null,null,null,null,null,null,null,null,null,"（3）から（5）","敷地内の通路"]
[null,null,null,null,null,null,null,null,null,null,null,null,null,null,null,null,null,"（6）から（7）","塀等"]
[null,null,null,null,null,null,null,null,null,null,null,null,null,null,null,null,null,"（8）から（9）","擁壁"]
[null,null,null,null,null,null,null,null,null,null,null,null,null,null,null,null,null,2,"建築物の外部"]
[null,null,null,null,null,null,null,null,null,null,null,null,null,null,null,null,null,"（1）から（2）","基礎"]
[null,null,null,null,null,null,null,null,null,null,null,null,null,null,null,null,null,"（3）から（4）","土台（木造に限る。）"]
[null,null,null,null,null,null,null,null,null,null,null,null,null,null,null,null,null,"（5）から（18）","外壁"]
[null,null,null,null,null,null,null,null,null,null,null,null,null,null,null,null,null,3,"屋上及び屋根"]
[null,null,null,null,null,null,null,null,null,null,null,null,null,null,null,null,null,"（1）","屋上面の状況"]
[null,null,null,null,null,null,null,null,null,null,null,null,null,null,null,null,null,"（2）から（5）","屋上周りの状況（屋上面を除く。）"]
[null,null,null,null,null,null,null,null,null,null,null,null,null,null,null,null,null,"（6）から（7）","屋根（屋上面を除く。）"]
[null,null,null,null,null,null,null,null,null,null,null,null,null,null,null,null,null,"（8）から（9）","機器及び工作物（冷却等設備、等）"]
[null,null,null,null,null,null,null,null,null,null,null,null,null,null,null,null,null,4,"建物の内部"]
[null,null,null,null,null,null,null,null,null,null,null,null,null,null,null,null,null,"（1）から（5）","防火区画"]
[null,null,null,null,null,null,null,null,null,null,null,null,null,null,null,null,null,"（6）から（16）","壁の室内に面する部分"]
[null,null,null,null,null,null,null,null,null,null,null,null,null,null,null,null,null,"（17）から（22）","床"]
[null,null,null,null,null,null,null,null,null,null,null,null,null,null,null,null,null,"（23）から（25）","天井"]
[null,null,null,null,null,null,null,null,null,null,null,null,null,null,null,null,null,"（26）から（33）","防火設備又は戸"]
[null,null,null,null,null,null,null,null,null,null,null,null,null,null,null,null,null,"（34）から（35）","照明器具、懸垂物等"]
[null,null,null,null,null,null,null,null,null,null,null,null,null,null,null,null,null,"（36）から（37）","警報設備"]
[null,null,null,null,null,null,null,null,null,null,null,null,null,null,null,null,null,"（38）から（43）","居室の採光及び換気"]
[null,null,null,null,null,null,null,null,null,null,null,null,null,null,null,null,null,"（44）から（47）","石綿等を添加した建築材料"]
[null,null,null,null,null,null,null,null,null,null,null,null,null,null,null,null,null,5,"避難施設等"]
[null,null,null,null,null,null,null,null,null,null,null,null,null,null,null,null,null,"（1）","令第１２０条第２項に規定する通路"]
[null,null,null,null,null,null,null,null,null,null,null,null,null,null,null,null,null,"（２)から（3）","廊下"]
[null,null,null,null,null,null,null,null,null,null,null,null,null,null,null,null,null,"（4）から（5）","出入口"]
[null,null,null,null,null,null,null,null,null,null,null,null,null,null,null,null,null,"（6）","屋上広場"]
[null,null,null,null,null,null,null,null,null,null,null,null,null,null,null,null,null,"（7）から（10）","避難上有効なバルコニー"]
[null,null,null,null,null,null,null,null,null,null,null,null,null,null,null,null,null,"（11）から（23）","階段"]
[null,null,null,null,null,null,null,null,null,null,null,null,null,null,null,null,null,"（24）から（29）","排煙設備等"]
[null,null,null,null,null,null,null,null,null,null,null,null,null,null,null,null,null,"（30）から（40）","その他の設備等"]
[null,null,null,null,null,null,null,null,null,null,null,null,null,null,null,null,null,6,"その他"]
[null,null,null,null,null,null,null,null,null,null,null,null,null,null,null,null,null,"（1）から（4）","特殊な構造等"]
[null,null,null,null,null,null,null,null,null,null,null,null,null,null,null,null,null,"（5）","避雷設備"]
[null,null,null,null,null,null,null,null,null,null,null,null,null,null,null,null,null,"（6）から（9）","煙突"]
[null,null,null,null,null,null,null,null,null,null,null,null,null,null,null,null,null,7,"上記以外の調査項目"]
[]
[]
["注）　配置図及び各階平面図を添付し、指摘のあった箇所（特記すべき事項を含む）や撮影した写真の位置等を明記すること。"]

{"sheet":"＜入力不要＞報告書","index":4,"n_rows":738,"n_cols":60,"rows_kept":738,"cut":false,"hidden":false,"merged":[[165,14,165,44],[166,15,166,16],[166,25,166,30],[166,38,166,43],[167,14,167,20],[168,14,168,44],[169,14,169,27],[506,15,515,44],[214,21,214,25],[214,29,214,32],[215,21,215,25],[215,29,215,32],[216,14,216,16],[216,21,216,25],[216,29,216,32],[204,14,204,21],[205,14,205,21],[206,14,206,21],[212,22,212,24],[212,30,212,32],[213,14,213,16],[213,21,213,25],[213,29,213,32],[220,21,220,25],[220,29,220,32],[221,21,221,25],[221,29,221,32],[222,14,222,16],[222,21,222,25],[222,29,222,32],[217,21,217,25],[217,29,217,32],[519,15,527,44],[531,15,545,44],[563,29,563,30],[549,15,562,44],[566,15,572,44],[563,26,563,27],[495,9,495,14],[506,9,506,14],[519,9,519,14],[531,9,531,14],[549,9,549,14],[566,9,566,14],[495,2,495,8],[549,2,549,8],[566,2,566,8],[531,2,531,8],[519,2,519,8],[506,2,506,8],[495,15,502,44],[546,29,546,30],[218,21,218,25],[218,29,218,32],[219,14,219,16],[219,21,219,25],[219,29,219,32],[232,10,232,11],[232,23,232,28],[226,21,226,25],[226,29,226,32],[227,21,227,25],[573,26,573,27],[573,29,573,30],[296,2,299,44],[467,2,474,44],[488,1,488,45],[369,30,369,33],[370,30,370,33],[371,30,371,33],[345,35,345,38],[346,35,346,38],[347,35,347,38],[365,35,365,38],[366,35,366,38],[367,35,367,38],[368,35,368,38],[503,26,503,27],[503,29,503,30],[516,26,516,27],[516,29,516,30],[528,26,528,27],[528,29,528,30],[546,26,546,27],[340,5,340,8],[355,20,355,23],[356,20,356,23],[357,20,357,23],[358,20,358,23],[359,20,359,23],[360,20,360,23],[361,20,361,23],[417,13,417,21],[17,30,17,44],[18,30,18,44],[21,30,21,44],[30,14,30,44],[31,14,31,44],[32,14,32,20],[5,1,5,45],[6,1,6,45],[13,2,13,13],[15,34,15,35],[15,36,15,37],[15,39,15,40],[15,42,15,43],[45,14,45,27],[46,13,46,45],[54,15,54,16],[54,25,54,32],[54,38,54,43],[33,14,33,44],[34,14,34,27],[41,14,41,44],[42,14,42,44],[100,19,100,20],[100,22,100,23],[80,14,80,44],[43,14,43,20],[44,14,44,44],[60,14,60,20],[61,14,61,44],[62,14,62,27],[65,15,65,16],[65,25,65,32],[65,38,65,43],[56,14,56,44],[57,14,57,44],[58,14,58,44],[59,15,59,16],[59,25,59,30],[59,38,59,43],[71,14,71,20],[72,14,72,44],[55,38,55,43],[73,14,73,27],[66,38,66,43],[67,14,67,44],[68,14,68,44],[69,14,69,44],[70,15,70,16],[70,25,70,30],[70,38,70,43],[87,13,87,45],[95,14,95,44],[100,17,100,18],[101,14,101,44],[81,14,81,44],[82,14,82,44],[83,14,83,44],[84,13,84,45],[85,13,85,45],[86,13,86,45],[187,1,187,45],[193,19,193,30],[194,14,194,44],[202,31,202,42],[203,17,203,19],[203,25,203,27],[102,13,102,45],[103,13,103,45],[104,13,104,45],[105,13,105,45],[112,2,112,3],[112,11,118,36],[112,39,118,43],[115,3,115,8],[118,6,118,9],[118,44,119,44],[127,1,127,45],[134,2,134,8],[134,9,153,44],[161,15,161,16],[161,25,161,32],[161,38,161,43],[162,38,162,43],[163,14,163,44],[164,14,164,44],[228,21,228,25],[228,29,228,32],[223,21,223,25],[223,29,223,32],[224,21,224,25],[224,29,224,32],[225,14,225,16],[225,21,225,25],[225,29,225,32],[232,33,232,39],[233,33,233,39],[234,33,234,39],[235,13,235,45],[236,13,236,45],[237,13,237,45],[229,21,229,25],[229,29,229,32],[230,21,230,25],[230,29,230,32],[227,29,227,32],[248,25,248,27],[248,41,248,43],[250,19,250,40],[256,10,256,11],[256,12,256,13],[256,15,256,16],[256,18,256,19],[238,10,238,11],[238,23,238,26],[238,33,238,39],[239,13,239,21],[240,13,240,45],[241,13,241,29],[256,26,256,43],[257,10,257,11],[257,12,257,13],[257,15,257,16],[257,18,257,19],[257,26,257,43],[258,10,258,11],[258,12,258,13],[258,15,258,16],[258,18,258,19],[274,36,274,43],[277,20,277,21],[277,22,277,23],[277,25,277,26],[277,28,277,29],[259,10,259,11],[259,12,259,13],[259,15,259,16],[259,18,259,19],[273,20,273,21],[273,22,273,23],[273,25,273,26],[273,28,273,29],[258,26,258,43],[259,26,259,43],[273,33,273,43],[277,33,277,43],[274,27,274,35],[273,31,273,32],[277,31,277,32],[285,13,285,45],[286,13,286,45],[287,13,287,45],[288,10,288,11],[288,23,288,26],[288,33,288,39],[278,36,278,43],[282,10,282,11],[282,23,282,28],[282,33,282,39],[283,33,283,39],[284,33,284,39],[379,1,379,45],[384,18,384,19],[384,20,384,21],[384,23,384,24],[384,26,384,27],[289,13,289,21],[290,13,290,45],[291,13,291,29],[308,1,308,45],[362,15,362,18],[331,5,331,8],[332,5,332,8],[333,5,333,8],[334,5,334,8],[335,5,335,8],[336,5,336,8],[336,25,336,28],[337,5,337,8],[338,5,338,8],[339,5,339,8],[387,18,387,19],[387,20,387,21],[387,23,387,24],[387,26,387,27],[388,18,388,19],[388,20,388,21],[388,23,388,24],[388,26,388,27],[385,18,385,19],[385,20,385,21],[385,23,385,24],[385,26,385,27],[386,18,386,19],[386,20,386,21],[386,23,386,24],[386,26,386,27],[398,17,398,18],[398,19,398,20],[398,22,398,23],[402,17,402,18],[402,19,402,20],[402,22,402,23],[389,24,389,27],[389,29,389,32],[390,24,390,27],[390,29,390,32],[391,24,391,27],[391,29,391,32],[414,17,414,18],[414,19,414,20],[414,22,414,23],[397,13,397,21],[401,13,401,21],[405,13,405,21],[409,13,409,21],[413,13,413,21],[455,28,455,29],[437,13,437,21],[438,13,438,45],[439,13,439,29],[446,23,446,24],[446,25,446,26],[446,28,446,29],[418,17,418,18],[418,19,418,20],[418,22,418,23],[406,17,406,18],[406,19,406,20],[406,22,406,23],[410,17,410,18],[410,19,410,20],[410,22,410,23],[431,33,431,39],[432,33,432,39],[433,13,433,45],[434,13,434,45],[435,13,435,45],[428,19,428,20],[428,21,428,22],[428,24,428,25],[430,23,430,28],[430,33,430,39],[447,23,447,24],[447,25,447,26],[447,28,447,29],[455,23,455,24],[425,28,425,43],[426,28,426,43],[576,1,576,45],[581,1,581,6],[581,7,581,16],[581,17,581,26],[581,27,581,32],[581,33,581,44],[582,1,582,6],[582,7,582,16],[582,17,582,26],[582,27,582,32],[582,33,582,44],[583,1,583,6],[583,7,583,16],[583,17,583,26],[583,27,583,32],[583,33,583,44],[584,1,584,6],[584,7,584,16],[584,17,584,26],[584,27,584,32],[584,33,584,44],[585,1,585,6],[585,7,585,16],[585,17,585,26],[585,27,585,32],[585,33,585,44],[586,1,586,6],[586,7,586,16],[586,17,586,26],[586,27,586,32],[586,33,586,44],[587,1,587,6],[587,7,587,16],[587,17,587,26],[587,27,587,32],[587,33,587,44],[588,1,588,6],[588,7,588,16],[588,17,588,26],[588,27,588,32],[588,33,588,44],[589,1,589,6],[589,7,589,16],[589,17,589,26],[589,27,589,32],[589,33,589,44],[590,1,590,6],[590,7,590,16],[590,17,590,26],[590,27,590,32],[590,33,590,44],[591,1,591,6],[591,7,591,16],[591,17,591,26],[591,27,591,32],[591,33,591,44],[592,1,592,6],[592,7,592,16],[592,17,592,26],[592,27,592,32],[592,33,592,44],[593,1,593,6],[593,7,593,16],[593,17,593,26],[593,27,593,32],[593,33,593,44],[594,1,594,6],[594,7,594,16],[594,17,594,26],[594,27,594,32],[594,33,594,44],[595,1,595,6],[595,7,595,16],[595,17,595,26],[595,27,595,32],[595,33,595,44],[596,1,596,6],[596,7,596,16],[596,17,596,26],[596,27,596,32],[596,33,596,44],[597,1,597,6],[597,7,597,16],[597,17,597,26],[597,27,597,32],[597,33,597,44],[598,1,598,6],[598,7,598,16],[598,17,598,26],[598,27,598,32],[598,33,598,44],[599,1,599,6],[599,7,599,16],[599,17,599,26],[599,27,599,32],[599,33,599,44],[600,1,600,6],[600,7,600,16],[600,17,600,26],[600,27,600,32],[600,33,600,44],[601,1,601,6],[601,7,601,16],[601,17,601,26],[601,27,601,32],[601,33,601,44],[610,1,610,45],[611,1,611,45],[612,1,612,45],[613,1,613,45],[614,1,614,45],[615,1,615,45],[604,1,604,45],[605,1,605,45],[606,1,606,45],[607,1,607,45],[608,1,608,45],[609,1,609,45],[622,1,622,45],[623,1,623,45],[624,1,624,45],[625,1,625,45],[626,1,626,45],[627,1,627,45],[616,1,616,45],[617,1,617,45],[618,1,618,45],[619,1,619,45],[620,1,620,45],[621,1,621,45],[634,1,634,45],[635,1,635,45],[636,1,636,45],[637,1,637,45],[638,1,638,45],[639,1,639,45],[628,1,628,45],[629,1,629,45],[630,1,630,45],[631,1,631,45],[632,1,632,45],[633,1,633,45],[646,1,646,45],[647,1,647,45],[648,1,648,45],[649,1,649,45],[650,1,650,45],[651,1,651,45],[640,1,640,45],[641,1,641,45],[642,1,642,45],[643,1,643,45],[644,1,644,45],[645,1,645,45],[658,1,658,45],[659,1,659,45],[660,1,660,45],[661,1,661,45],[662,1,662,45],[663,1,663,45],[652,1,652,45],[653,1,653,45],[654,1,654,45],[655,1,655,45],[656,1,656,45],[657,1,657,45],[670,1,670,45],[671,1,671,45],[672,1,672,45],[673,1,673,45],[674,1,674,45],[675,1,675,45],[664,1,664,45],[665,1,665,45],[666,1,666,45],[667,1,667,45],[668,1,668,45],[669,1,669,45],[682,1,682,45],[683,1,683,45],[684,1,684,45],[685,1,685,45],[686,1,686,45],[687,1,687,45],[676,1,676,45],[677,1,677,45],[678,1,678,45],[679,1,679,45],[680,1,680,45],[681,1,681,45],[694,1,694,45],[695,1,695,45],[696,1,696,45],[697,1,697,45],[698,1,698,45],[699,1,699,45],[688,1,688,45],[689,1,689,45],[690,1,690,45],[691,1,691,45],[692,1,692,45],[693,1,693,45],[706,1,706,45],[707,1,707,45],[708,1,708,45],[709,1,709,45],[710,1,710,45],[711,1,711,45],[700,1,700,45],[701,1,701,45],[702,1,702,45],[703,1,703,45],[704,1,704,45],[705,1,705,45],[718,1,718,45],[719,1,719,45],[720,1,720,45],[721,1,721,45],[722,1,722,45],[723,1,723,45],[712,1,712,45],[713,1,713,45],[714,1,714,45],[715,1,715,45],[716,1,716,45],[717,1,717,45],[737,1,737,45],[730,1,730,45],[731,1,731,45],[732,1,732,45],[733,1,733,45],[734,1,734,45],[735,1,735,45],[724,1,724,45],[725,1,725,45],[726,1,726,45],[727,1,727,45],[728,1,728,45],[729,1,729,45],[312,5,317,9],[312,1,317,4],[318,5,318,8],[319,5,319,8],[320,5,320,8],[321,5,321,8],[322,5,322,8],[323,5,323,8],[324,5,324,8],[325,5,325,8],[326,5,326,8],[327,5,327,8],[328,5,328,8],[329,5,329,8],[330,5,330,8],[436,10,436,11],[436,23,436,26],[436,33,436,39],[430,10,430,11],[362,5,362,8],[363,5,363,8],[364,5,364,8],[365,5,365,8],[366,5,366,8],[367,5,367,8],[368,5,368,8],[369,5,369,8],[370,5,370,8],[371,5,371,8],[372,5,372,8],[373,5,373,8],[374,5,374,8],[375,5,375,8],[376,5,376,8],[377,5,377,8],[368,15,368,18],[369,15,369,18],[370,15,370,18],[371,15,371,18],[372,15,372,18],[373,15,373,18],[374,15,374,18],[375,15,375,18],[376,15,376,18],[377,15,377,18],[369,10,369,13],[370,10,370,13],[371,10,371,13],[372,10,372,13],[373,10,373,13],[367,15,367,18],[377,20,377,23],[374,10,374,13],[375,10,375,13],[376,10,376,13],[377,10,377,13],[455,25,455,26],[365,15,365,18],[341,5,341,8],[342,5,342,8],[343,5,343,8],[344,5,344,8],[345,5,345,8],[346,5,346,8],[347,5,347,8],[348,5,348,8],[349,5,349,8],[350,5,350,8],[351,5,351,8],[352,5,352,8],[353,5,353,8],[354,5,354,8],[355,5,355,8],[356,5,356,8],[357,5,357,8],[361,10,361,13],[362,10,362,13],[363,10,363,13],[364,10,364,13],[365,10,365,13],[366,10,366,13],[367,10,367,13],[368,10,368,13],[312,10,313,14],[314,10,317,14],[318,10,318,13],[319,10,319,13],[320,10,320,13],[321,10,321,13],[322,10,322,13],[323,10,323,13],[324,10,324,13],[325,10,325,13],[326,10,326,13],[327,10,327,13],[328,10,328,13],[329,10,329,13],[330,10,330,13],[331,10,331,13],[332,10,332,13],[333,10,333,13],[334,10,334,13],[335,10,335,13],[336,10,336,13],[337,10,337,13],[338,10,338,13],[339,10,339,13],[340,10,340,13],[358,5,358,8],[359,5,359,8],[360,5,360,8],[361,5,361,8],[341,10,341,13],[342,10,342,13],[343,10,343,13],[344,10,344,13],[345,10,345,13],[346,10,346,13],[347,10,347,13],[348,10,348,13],[349,10,349,13],[350,10,350,13],[351,10,351,13],[352,10,352,13],[353,10,353,13],[354,10,354,13],[355,10,355,13],[356,10,356,13],[357,10,357,13],[358,10,358,13],[359,10,359,13],[360,10,360,13],[318,15,318,18],[312,15,313,19],[314,15,317,19],[319,15,319,18],[320,15,320,18],[321,15,321,18],[322,15,322,18],[323,15,323,18],[324,15,324,18],[325,15,325,18],[326,15,326,18],[327,15,327,18],[328,15,328,18],[329,15,329,18],[330,15,330,18],[331,15,331,18],[332,15,332,18],[333,15,333,18],[334,15,334,18],[335,15,335,18],[336,15,336,18],[337,15,337,18],[338,15,338,18],[339,15,339,18],[340,15,340,18],[341,15,341,18],[342,15,342,18],[343,15,343,18],[344,15,344,18],[345,15,345,18],[346,15,346,18],[347,15,347,18],[348,15,348,18],[349,15,349,18],[336,20,336,23],[337,20,337,23],[350,15,350,18],[351,15,351,18],[352,15,352,18],[353,15,353,18],[354,15,354,18],[355,15,355,18],[356,15,356,18],[357,15,357,18],[358,15,358,18],[359,15,359,18],[360,15,360,18],[361,15,361,18],[363,15,363,18],[364,15,364,18],[366,15,366,18],[352,20,352,23],[353,20,353,23],[354,20,354,23],[363,20,363,23],[364,20,364,23],[365,20,365,23],[366,20,366,23],[362,20,362,23],[376,20,376,23],[312,25,313,29],[314,25,317,29],[371,20,371,23],[372,20,372,23],[373,20,373,23],[374,20,374,23],[375,20,375,23],[371,25,371,28],[372,25,372,28],[373,25,373,28],[374,25,374,28],[375,25,375,28],[323,25,323,28],[324,25,324,28],[325,25,325,28],[326,25,326,28],[327,25,327,28],[312,20,313,24],[314,20,317,24],[323,20,323,23],[324,20,324,23],[325,20,325,23],[326,20,326,23],[327,20,327,23],[328,20,328,23],[329,20,329,23],[330,20,330,23],[331,20,331,23],[332,20,332,23],[333,20,333,23],[334,20,334,23],[312,40,313,44],[314,40,317,44],[318,20,318,23],[318,25,318,28],[318,30,318,33],[318,35,318,38],[318,40,318,43],[319,20,319,23],[320,20,320,23],[321,20,321,23],[322,20,322,23],[319,30,319,33],[320,30,320,33],[321,30,321,33],[322,30,322,33],[319,35,319,38],[320,35,320,38],[321,35,321,38],[322,35,322,38],[319,25,319,28],[320,25,320,28],[321,25,321,28],[322,25,322,28],[367,20,367,23],[368,20,368,23],[369,20,369,23],[370,20,370,23],[352,25,352,28],[353,25,353,28],[312,30,313,34],[314,30,317,34],[312,35,313,39],[314,35,317,39],[338,20,338,23],[339,20,339,23],[340,20,340,23],[341,20,341,23],[342,20,342,23],[343,20,343,23],[344,20,344,23],[345,20,345,23],[346,20,346,23],[347,20,347,23],[348,20,348,23],[349,20,349,23],[350,20,350,23],[351,20,351,23],[335,20,335,23],[328,25,328,28],[329,25,329,28],[330,25,330,28],[331,25,331,28],[332,25,332,28],[333,25,333,28],[334,25,334,28],[335,25,335,28],[354,25,354,28],[355,25,355,28],[356,25,356,28],[357,25,357,28],[358,25,358,28],[359,25,359,28],[360,25,360,28],[361,25,361,28],[362,25,362,28],[337,25,337,28],[338,25,338,28],[339,25,339,28],[340,25,340,28],[341,25,341,28],[342,25,342,28],[343,25,343,28],[344,25,344,28],[345,25,345,28],[346,25,346,28],[347,25,347,28],[348,25,348,28],[349,25,349,28],[350,25,350,28],[351,25,351,28],[374,30,374,33],[375,30,375,33],[376,30,376,33],[377,30,377,33],[367,30,367,33],[368,30,368,33],[338,30,338,33],[339,30,339,33],[340,30,340,33],[341,30,341,33],[342,30,342,33],[343,30,343,33],[346,30,346,33],[347,30,347,33],[348,30,348,33],[355,30,355,33],[356,30,356,33],[357,30,357,33],[358,30,358,33],[359,30,359,33],[360,30,360,33],[361,30,361,33],[362,30,362,33],[363,30,363,33],[364,30,364,33],[365,30,365,33],[366,30,366,33],[323,35,323,38],[324,35,324,38],[325,35,325,38],[326,35,326,38],[327,35,327,38],[328,35,328,38],[329,35,329,38],[330,35,330,38],[331,35,331,38],[332,35,332,38],[333,35,333,38],[334,35,334,38],[335,35,335,38],[336,35,336,38],[337,35,337,38],[344,30,344,33],[345,30,345,33],[323,30,323,33],[324,30,324,33],[325,30,325,33],[326,30,326,33],[327,30,327,33],[328,30,328,33],[329,30,329,33],[330,30,330,33],[331,30,331,33],[332,30,332,33],[333,30,333,33],[334,30,334,33],[335,30,335,33],[336,30,336,33],[337,30,337,33],[341,35,341,38],[342,35,342,38],[343,35,343,38],[344,35,344,38],[352,40,352,43],[353,40,353,43],[354,40,354,43],[355,40,355,43],[356,40,356,43],[357,40,357,43],[358,35,358,38],[359,35,359,38],[360,35,360,38],[361,35,361,38],[343,40,343,43],[344,40,344,43],[345,40,345,43],[346,40,346,43],[347,40,347,43],[348,40,348,43],[349,40,349,43],[350,40,350,43],[351,40,351,43],[358,40,358,43],[357,35,357,38],[355,35,355,38],[356,35,356,38],[376,35,376,38],[377,35,377,38],[319,40,319,43],[320,40,320,43],[321,40,321,43],[322,40,322,43],[323,40,323,43],[324,40,324,43],[325,40,325,43],[326,40,326,43],[327,40,327,43],[328,40,328,43],[329,40,329,43],[330,40,330,43],[331,40,331,43],[332,40,332,43],[333,40,333,43],[334,40,334,43],[335,40,335,43],[336,40,336,43],[337,40,337,43],[338,40,338,43],[339,40,339,43],[340,40,340,43],[341,40,341,43],[348,35,348,38],[349,35,349,38],[350,35,350,38],[351,35,351,38],[352,35,352,38],[353,35,353,38]],"merged_total":1117,"flags":["merged_cut"]}
[]
[null,null,null,null,null,null,null,null,null,null,null,null,null,null,null,null,null,null,null,null,null,null,null,null,null,null,null,null,null,null,null,null,null,null,null,null,null,null,null,null,null,null,null,null,null,null,null,null,null,null,"東京都知事"]
[null,null,null,null,null,null,null,null,null,null,null,null,null,null,null,null,null,null,null,null,null,null,null,null,null,null,null,null,null,null,null,null,null,null,null,null,null,null,null,null,null,null,null,null,null,null,null,null,null,null,"多摩建築指導事務所長　"]
[null,"第三十六号の二様式（第五条関係）（Ａ４）"]
[]
[null,"定期調査報告書"]
[null,"（第一面）"]
[]
[]
[]
[null,"　建築基準法第12条第１項の規定による定期調査の結果を報告します。この報告書に記載の事項は、"]
[null,"事実に相違ありません。"]
[]
[null,null,"●●●●",null,null,null,null,null,null,null,null,null,null,null,"様"]
[]
[null,null,null,null,null,null,null,null,null,null,null,null,null,null,null,null,null,null,null,null,null,null,null,null,null,null,null,null,null,null,null,null,null,null,{"$f":"'1_入力シート【基本情報】'!BC4","v":"令和"},null,{"$f":"IF('1_入力シート【基本情報】'!BF4=\"\",\"\",'1_入力シート【基本情報】'!BF4)","v":""},null,"年",{"$f":"IF('1_入力シート【基本情報】'!BK4=\"\",\"\",'1_入力シート【基本情報】'!BK4)","v":""},null,"月",{"$f":"IF('1_入力シート【基本情報】'!BP4=\"\",\"\",'1_入力シート【基本情報】'!BP4)","v":""},null,"日"]
[]
[null,null,null,null,null,null,null,null,null,null,null,null,null,null,null,null,null,null,null,null,null,null,null,null,null,null,null,null,null,null,{"$f":"IF('1_入力シート【基本情報】'!DS46=FALSE,IF('1_入力シート【基本情報】'!AB48=\"\",\"\",'1_入力シート【基本情報】'!AB48),IF('1_入力シート【基本情報】'!AB34=\"\",\"\",'1_入力シート【基本情報】'!AB34))","v":""}]
[null,null,null,null,null,null,null,null,null,null,null,null,null,null,null,null,null,null,null,null,null,null,null,null,"報告者氏名",null,null,null,null,null,{"$f":"IF('1_入力シート【基本情報】'!DS46=FALSE,IF('1_入力シート【基本情報】'!AB52=\"\",\"\",'1_入力シート【基本情報】'!AB50&\"　\"&'1_入力シート【基本情報】'!AB52),IF('1_入力シート【基本情報】'!AB38=\"\",\"\",'1_入力シート【基本情報】'!AB36&\"　\"&'1_入力シート【基本情報】'!AB38))","v":""}]
[]
[]
[null,null,null,null,null,null,null,null,null,null,null,null,null,null,null,null,null,null,null,null,null,null,null,null,"調査者氏名",null,null,null,null,null,{"$f":"IF('1_入力シート【基本情報】'!AB66<>\"\",'1_入力シート【基本情報】'!AB66,\"\")","v":""}]
[]
[]
[]
[]
[]
[]
[]
[null,"【1．所有者】"]
[null,null,null,"【イ．氏名のフリガナ】",null,null,null,null,null,null,null,null,null,null,{"$f":"IF('1_入力シート【基本情報】'!DZ33=\"\",\"\",ASC('1_入力シート【基本情報】'!DZ33))","v":"  "}]
[null,null,null,"【ロ．氏名】",null,null,null,null,null,null,null,null,null,null,{"$f":"IF('1_入力シート【基本情報】'!DZ34=\"\",\"\",'1_入力シート【基本情報】'!DZ34)","v":"  "},null,null,null,null,null,null,null,null,null,null,null,null,null,null,null,null,null,null,null,null,null,null,null,null,null,null,null,null,null,null,null,null,null,null,null,null,null,null,null,null,null,null,null,{"$f":"'1_入力シート【基本情報】'!DO38","v":"未入力判定（1で未入力）"}]
[null,null,null,"【ハ．郵便番号】",null,null,null,null,null,null,null,null,null,null,{"$f":"IF(BG33=1,\"\",'1_入力シート【基本情報】'!$DN$39)","v":""},null,null,null,null,null,null,null,null,null,null,null,null,null,null,null,null,null,null,null,null,null,null,null,null,null,null,null,null,null,null,null,null,null,null,null,null,null,null,null,null,null,null,null,{"$f":"'1_入力シート【基本情報】'!DO39","v":1}]
[null,null,null,"【ニ．住所】",null,null,null,null,null,null,null,null,null,null,{"$f":"IF('1_入力シート【基本情報】'!AB40=\"\",\"\",'1_入力シート【基本情報】'!AB40)","v":""},null,null,null,null,null,null,null,null,null,null,null,null,null,null,null,null,null,null,null,null,null,null,null,null,null,null,null,null,null,null,null,null,null,null,null,null,null,null,null,null,null,null,null,{"$f":"'1_入力シート【基本情報】'!DO40","v":"未入力判定（1で未入力）"}]
[null,null,null,"【ホ．電話番号】",null,null,null,null,null,null,null,null,null,null,{"$f":"IF(BG35=1,\"\",'1_入力シート【基本情報】'!$DN$41)","v":""},null,null,null,null,null,null,null,null,null,null,null,null,null,null,null,null,null,null,null,null,null,null,null,null,null,null,null,null,null,null,null,null,null,null,null,null,null,null,null,null,null,null,null,{"$f":"'1_入力シート【基本情報】'!DO41","v":1}]
[]
[]
[]
[]
[]
[null,"【2．管理者】"]
[null,null,null,"【イ．氏名のフリガナ】",null,null,null,null,null,null,null,null,null,null,{"$f":"IF('1_入力シート【基本情報】'!DS46=FALSE,ASC('1_入力シート【基本情報】'!DZ47),ASC('1_入力シート【基本情報】'!DZ33))","v":"  "}]
[null,null,null,"【ロ．氏名】",null,null,null,null,null,null,null,null,null,null,{"$f":"IF('1_入力シート【基本情報】'!DS46=FALSE,'1_入力シート【基本情報】'!DZ48,'1_入力シート【基本情報】'!DZ34)","v":"  "},null,null,null,null,null,null,null,null,null,null,null,null,null,null,null,null,null,null,null,null,null,null,null,null,null,null,null,null,null,null,null,null,null,null,null,null,null,null,null,null,null,null,null,{"$f":"'1_入力シート【基本情報】'!DO52","v":"未入力判定（1で完全未入力）／所有者と同一でない場合限定"}]
[null,null,null,"【ハ．郵便番号】",null,null,null,null,null,null,null,null,null,null,{"$f":"IF(BG44=1,\"\",IF('1_入力シート【基本情報】'!DS46=TRUE,'1_入力シート【基本情報】'!DN39,'1_入力シート【基本情報】'!DN53))","v":""},null,null,null,null,null,null,null,null,null,null,null,null,null,null,null,null,null,null,null,null,null,null,null,null,null,null,null,null,null,null,null,null,null,null,null,null,null,null,null,null,null,null,null,{"$f":"'1_入力シート【基本情報】'!DO53","v":1},"※☑所有者と同一は初期時は☑が入らない。入った時点で作成開始済とみなし-”は表示対象となる"]
[null,null,null,"【ニ．住所】",null,null,null,null,null,null,null,null,null,null,{"$f":"IF('1_入力シート【基本情報】'!DS46=FALSE,IF('1_入力シート【基本情報】'!AB54=\"\",\"\",'1_入力シート【基本情報】'!AB54),IF('1_入力シート【基本情報】'!AB40=\"\",\"\",'1_入力シート【基本情報】'!AB40))","v":""},null,null,null,null,null,null,null,null,null,null,null,null,null,null,null,null,null,null,null,null,null,null,null,null,null,null,null,null,null,null,null,null,null,null,null,null,null,null,null,null,null,null,null,{"$f":"'1_入力シート【基本情報】'!DO54","v":"未入力判定（1で完全未入力）／所有者と同一でない場合限定"}]
[null,null,null,"【ホ．電話番号】",null,null,null,null,null,null,null,null,null,null,{"$f":"IF(BG46=1,\"\",IF('1_入力シート【基本情報】'!DS46=TRUE,'1_入力シート【基本情報】'!DN41,'1_入力シート【基本情報】'!DN55))","v":""},null,null,null,null,null,null,null,null,null,null,null,null,null,null,null,null,null,null,null,null,null,null,null,null,null,null,null,null,null,null,null,null,null,null,null,null,null,null,null,null,null,null,null,{"$f":"'1_入力シート【基本情報】'!DO55","v":1},"※☑所有者と同一は初期時は☑が入らない。入った時点で作成開始済とみなし--”は表示対象となる"]
[]
[]
[]
[]
[]
[null,"【3．調査者】"]
[null,null,"（代表となる調査者）"]
[null,null,null,"【イ．資格】"]
[null,null,null,null,null,null,null,null,null,null,null,null,null,null,"（",{"$f":"'1_入力シート【基本情報】'!$DS$61","v":""},null,"）建築士",null,null,null,null,null,null,"（",{"$f":"'1_入力シート【基本情報】'!$DS$62","v":""},null,null,null,null,null,null,null,"）登録",null,null,null,"第",{"$f":"IF('1_入力シート【基本情報】'!AB63=\"\",\"\",DBCS('1_入力シート【基本情報】'!AB63))","v":""},null,null,null,null,null,"号"]
[null,null,null,null,null,null,null,null,null,null,null,null,null,null,"特定建築物調査員",null,null,null,null,null,null,null,null,null,null,null,null,null,null,null,null,null,null,null,null,null,null,"第",{"$f":"IF('1_入力シート【基本情報】'!AB64=\"\",\"\",DBCS('1_入力シート【基本情報】'!AB64))","v":""},null,null,null,null,null,"号"]
[null,null,null,"【ロ．氏名のフリガナ】",null,null,null,null,null,null,null,null,null,null,{"$f":"IF('1_入力シート【基本情報】'!AB65=\"\",\"\",ASC('1_入力シート【基本情報】'!AB65))","v":""}]
[null,null,null,"【ハ．氏名】 ",null,null,null,null,null,null,null,null,null,null,{"$f":"IF('1_入力シート【基本情報】'!AB66=\"\",\"\",'1_入力シート【基本情報】'!AB66)","v":""}]
[null,null,null,"【ニ．勤務先】",null,null,null,null,null,null,null,null,null,null,{"$f":"IF('1_入力シート【基本情報】'!AB67=\"\",\"\",'1_入力シート【基本情報】'!AB67)","v":""}]
[null,null,null,null,null,null,null,null,null,null,null,null,null,null,"（",{"$f":"IF('1_入力シート【基本情報】'!AB68=\"\",\"\",IF('1_入力シート【基本情報】'!AB68=\"一級\",\"一級\",\"二級\"))","v":""},null,"）建築士事務所",null,null,null,null,null,null,"（",{"$f":"IF('1_入力シート【基本情報】'!AB69=\"\",\"\",'1_入力シート【基本情報】'!AB69)","v":""},null,null,null,null,null,"）知事登録",null,null,null,null,null,"第",{"$f":"IF('1_入力シート【基本情報】'!AB70=\"\",\"\",DBCS('1_入力シート【基本情報】'!AB70))","v":""},null,null,null,null,null,"号",null,null,null,null,null,null,null,null,null,null,null,null,null,{"$f":"'1_入力シート【基本情報】'!DO70","v":"未入力判定（1で未入力）"}]
[null,null,null,"【ホ．郵便番号】",null,null,null,null,null,null,null,null,null,null,{"$f":"IF(BG61=1,\"\",'1_入力シート【基本情報】'!$DN$71)","v":""},null,null,null,null,null,null,null,null,null,null,null,null,null,null,null,null,null,null,null,null,null,null,null,null,null,null,null,null,null,null,null,null,null,null,null,null,null,null,null,null,null,null,null,{"$f":"'1_入力シート【基本情報】'!DO71","v":1}]
[null,null,null,"【へ．所在地】",null,null,null,null,null,null,null,null,null,null,{"$f":"IF('1_入力シート【基本情報】'!AB72=\"\",\"\",'1_入力シート【基本情報】'!AB72)","v":""},null,null,null,null,null,null,null,null,null,null,null,null,null,null,null,null,null,null,null,null,null,null,null,null,null,null,null,null,null,null,null,null,null,null,null,null,null,null,null,null,null,null,null,{"$f":"'1_入力シート【基本情報】'!DO72","v":"未入力判定（1で未入力）"}]
[null,null,null,"【ト．電話番号】",null,null,null,null,null,null,null,null,null,null,{"$f":"IF(BG63=1,\"\",'1_入力シート【基本情報】'!$DN$73)","v":""},null,null,null,null,null,null,null,null,null,null,null,null,null,null,null,null,null,null,null,null,null,null,null,null,null,null,null,null,null,null,null,null,null,null,null,null,null,null,null,null,null,null,null,{"$f":"'1_入力シート【基本情報】'!DO73","v":1}]
[null,null,"（その他の調査者）"]
[null,null,null,"【イ．資格】"]
[null,null,null,null,null,null,null,null,null,null,null,null,null,null,"（",{"$f":"'1_入力シート【基本情報】'!$DS$79","v":""},null,"）建築士",null,null,null,null,null,null,"（",{"$f":"'1_入力シート【基本情報】'!$AB$80","v":0},null,null,null,null,null,null,null,"）登録",null,null,null,"第",{"$f":"IF('1_入力シート【基本情報】'!AB81=\"\",\"\",DBCS('1_入力シート【基本情報】'!AB81))","v":""},null,null,null,null,null,"号"]
[null,null,null,null,null,null,null,null,null,null,null,null,null,null,"特定建築物調査員",null,null,null,null,null,null,null,null,null,null,null,null,null,null,null,null,null,null,null,null,null,null,"第",{"$f":"IF('1_入力シート【基本情報】'!AB82=\"\",\"\",DBCS('1_入力シート【基本情報】'!AB82))","v":""},null,null,null,null,null,"号"]
[null,null,null,"【ロ．氏名のフリガナ】",null,null,null,null,null,null,null,null,null,null,{"$f":"IF('1_入力シート【基本情報】'!AB83=\"\",\"\",ASC('1_入力シート【基本情報】'!AB83))","v":""}]
[null,null,null,"【ハ．氏名】 ",null,null,null,null,null,null,null,null,null,null,{"$f":"'1_入力シート【基本情報】'!$AB$84","v":0}]
[null,null,null,"【ニ．勤務先】",null,null,null,null,null,null,null,null,null,null,{"$f":"IF('1_入力シート【基本情報】'!DS78=FALSE,IF('1_入力シート【基本情報】'!AB85=\"\",\"\",'1_入力シート【基本情報】'!AB85),IF('1_入力シート【基本情報】'!DS67=\"\",\"\",'1_入力シート【基本情報】'!DS67))","v":""}]
[null,null,null,null,null,null,null,null,null,null,null,null,null,null,"（",{"$f":"IF('1_入力シート【基本情報】'!DS78=FALSE,IF('1_入力シート【基本情報】'!AB86=\"\",\"\",'1_入力シート【基本情報】'!AB86),IF('1_入力シート【基本情報】'!DS68=\"\",\"\",'1_入力シート【基本情報】'!DS68))","v":""},null,"）建築士事務所",null,null,null,null,null,null,"（",{"$f":"IF('1_入力シート【基本情報】'!DS78=FALSE,IF('1_入力シート【基本情報】'!AB87=\"\",\"\",'1_入力シート【基本情報】'!AB87),IF('1_入力シート【基本情報】'!DS69=\"\",\"\",'1_入力シート【基本情報】'!DS69))","v":""},null,null,null,null,null,"）知事登録",null,null,null,null,null,"第",{"$f":"IF('1_入力シート【基本情報】'!DS78=FALSE,IF('1_入力シート【基本情報】'!AB88=\"\",\"\",DBCS('1_入力シート【基本情報】'!AB88)),IF('1_入力シート【基本情報】'!DS70=\"\",\"\",DBCS('1_入力シート【基本情報】'!DS70)))","v":""},null,null,null,null,null,"号",null,null,null,null,null,null,null,null,null,null,null,null,null,{"$f":"'1_入力シート【基本情報】'!DN88","v":"未入力判定（1で未入力／代表となる調査者と勤務先が同じでない場合限定）↓"}]
[null,null,null,"【ホ．郵便番号】",null,null,null,null,null,null,null,null,null,null,{"$f":"IF(BG72=1,\"\",IF('1_入力シート【基本情報】'!DS78=TRUE,'1_入力シート【基本情報】'!DN71,'1_入力シート【基本情報】'!DN89))","v":""},null,null,null,null,null,null,null,null,null,null,null,null,null,null,null,null,null,null,null,null,null,null,null,null,null,null,null,null,null,null,null,null,null,null,null,null,null,null,null,null,null,null,null,{"$f":"'1_入力シート【基本情報】'!DR89","v":1},"※☑代表となる調査者と同一は初期時は☑が入らない。入った時点で作成開始済とみなし-”は表示対象となる"]
[null,null,null,"【へ．所在地】",null,null,null,null,null,null,null,null,null,null,{"$f":"IF('1_入力シート【基本情報】'!DS78=FALSE,IF('1_入力シート【基本情報】'!AB90=\"\",\"\",'1_入力シート【基本情報】'!AB90),IF('1_入力シート【基本情報】'!DS72=\"\",\"\",'1_入力シート【基本情報】'!DS72))","v":""},null,null,null,null,null,null,null,null,null,null,null,null,null,null,null,null,null,null,null,null,null,null,null,null,null,null,null,null,null,null,null,null,null,null,null,null,null,null,null,null,null,null,null,{"$f":"'1_入力シート【基本情報】'!DR90","v":0}]
[null,null,null,"【ト．電話番号】",null,null,null,null,null,null,null,null,null,null,{"$f":"IF(BG74=1,\"\",IF('1_入力シート【基本情報】'!DS78=TRUE,'1_入力シート【基本情報】'!DN73,'1_入力シート【基本情報】'!DN91))","v":""},null,null,null,null,null,null,null,null,null,null,null,null,null,null,null,null,null,null,null,null,null,null,null,null,null,null,null,null,null,null,null,null,null,null,null,null,null,null,null,null,null,null,null,{"$f":"'1_入力シート【基本情報】'!DR91","v":1},"※☑代表となる調査者と同一は初期時は☑が入らない。入った時点で作成開始済とみなし--”は表示対象となる"]
[]
[]
[]
[]
[]
[null,"【4．報告対象建築物】"]
[null,null,null,"【イ．所在地】",null,null,null,null,null,null,null,null,null,null,{"$f":"'1_入力シート【基本情報】'!$DN$10","v":""}]
[null,null,null,"【ロ．名称のフリガナ】",null,null,null,null,null,null,null,null,null,null,{"$f":"IF('1_入力シート【基本情報】'!AB8=\"\",\"\",'1_入力シート【基本情報】'!AB8)","v":""}]
[null,null,null,"【ハ．名称】",null,null,null,null,null,null,null,null,null,null,{"$f":"IF('1_入力シート【基本情報】'!AB9=\"\",\"\",'1_入力シート【基本情報】'!AB9)","v":""}]
[null,null,null,"【ニ．用途】",null,null,null,null,null,null,null,null,null,null,{"$f":"IF('2_入力シート【用途面積】'!G7=\"\",\"\",SUBSTITUTE(TRIM('2_入力シート【用途面積】'!G7&\"　\"&'2_入力シート【用途面積】'!I7&\"　\"&'2_入力シート【用途面積】'!K7&\"　\"&'2_入力シート【用途面積】'!M7&\"　\"&'2_入力シート【用途面積】'!O7&\"　\"&'2_入力シート【用途面積】'!Q7&\"　\"&'2_入力シート【用途面積】'!S7),\"　\",\",\"))","v":""}]
[]
[]
[]
[]
[]
[]
[]
[]
[]
[null,"【5．調査による指摘の概要】",null,null,null,null,null,null,null,null,null,null,null,null,null,null,null,null,null,null,null,null,null,null,null,null,null,null,null,null,null,null,null,null,null,null,null,null,null,null,null,null,null,null,null,null,null,null,null,null,null,null,null,null,null,null,null,null,"指摘の内容が☑要是正の指摘ありで「第一面別紙参照」"]
[null,null,null,"【イ．指摘の内容】",null,null,null,null,null,null,null,null,null,null,{"$f":"IF('1_入力シート【基本情報】'!EW315=\"レ\",\"レ\",IF('1_入力シート【基本情報】'!EX315=\"レ\",\"レ\",\"\"))","v":""},"要是正の指摘あり",null,null,null,null,null,null,null,"(",{"$f":"'1_入力シート【基本情報】'!EX315","v":""},"既存不適格）",null,null,null,null,null,null,null,{"$f":"IF(OR('1_入力シート【基本情報】'!EV315=\"レ\",'1_入力シート【基本情報】'!EU315=\"レ\"),\"レ\",\"\")","v":""},"指摘なし",null,null,null,null,null,null,null,null,null,null,null,null,null,null,null,null,null,null,null,null,null,null,null,{"$f":"'1_入力シート【基本情報】'!DQ299","v":"完全未入力判定（”調査結果”欄が1件も入力されないうちは完全未入力扱い）"}]
[null,null,null,"【ロ．指摘の概要】",null,null,null,null,null,null,null,null,null,null,{"$f":"IF(O95=\"レ\",HYPERLINK(\"#A130:A186\",\"第一面別紙参照\"),\"\")","v":""},null,null,null,null,null,null,null,null,null,null,null,null,null,null,null,null,null,null,null,null,null,null,null,null,null,null,null,null,null,null,null,null,null,null,null,null,null,null,null,null,null,null,null,{"$f":"'1_入力シート【基本情報】'!DQ300","v":1}]
[]
[]
[]
[]
[null,null,null,"【ハ．改善予定の有無】",null,null,null,null,null,null,null,null,null,null,{"$f":"IF(OR('1_入力シート【基本情報】'!EY304=\"レ\",'1_入力シート【基本情報】'!EZ304=\"レ\",'1_入力シート【基本情報】'!FD304=\"レ\",'1_入力シート【基本情報】'!FE304=\"レ\"),\"レ\",\"\")","v":""},"有（",null,{"$f":"IF(O101=\"レ\",IF(AND(T101=\"31\",W101<5),\"平成\",\"令和\"),\"\")","v":""},null,{"$f":"IF('1_入力シート【基本情報】'!FA304<>\"\",'1_入力シート【基本情報】'!FA304,IF('1_入力シート【基本情報】'!FF304<>\"\",'1_入力シート【基本情報】'!FF304,\"\"))","v":""},null,"年",{"$f":"IF('1_入力シート【基本情報】'!FB304<>\"\",'1_入力シート【基本情報】'!FB304,IF('1_入力シート【基本情報】'!FG304<>\"\",'1_入力シート【基本情報】'!FG304,\"\"))","v":""},null,{"$f":"IF(OR('1_入力シート【基本情報】'!EZ304=\"レ\",'1_入力シート【基本情報】'!FE304=\"レ\"),\"月に改善)\",\"月に改善予定)\")","v":"月に改善予定)"},null,null,null,null,null,null,null,null,{"$f":"IF(BG96=1,\"\",IF(OR('1_入力シート【基本情報】'!FC304=\"レ\",'1_入力シート【基本情報】'!FH304=\"レ\"),\"レ\",\"\"))","v":""},"無",null,null,null,null,null,null,null,null,null,null,null,null,null,null,null,null,null,null,null,null,null,null,null,"改善予定が☑有で元号表示"]
[null,null,null,"【ニ．その他特記事項】",null,null,null,null,null,null,null,null,null,null,{"$f":"'1_入力シート【基本情報】'!$AB$290","v":0}]
[]
[]
[]
[]
[]
[]
[]
[null,"　※受付欄",null,null,null,null,null,null,null,null,null,"※特記欄",null,null,null,null,null,null,null,null,null,null,null,null,null,null,null,null,null,null,null,null,null,null,null,null,null,null," ※整理番号欄"]
[]
[]
[null,null,null,null,null,"年",null,"月",null,"日"]
[]
[]
[null,null,"第",null,null,null,null,null,null,"号"]
[]
[]
[null,null,"係員氏名"]
[]
[]
[]
[]
[]
[]
[]
[]
[null,"（第一面　別紙）"]
[]
[null,"5.調査による指摘の概要"]
[]
[]
[null,null,"2-1.調査の状況",null,null,null,null,null,null,"ｲ．指摘の内容",null,null,null,null,null,null,null,null,null,null,{"$f":"IF('1_入力シート【基本情報】'!DP139=\"レ\",\"レ\",IF('1_入力シート【基本情報】'!DO139=\"レ\",\"レ\",\"\"))","v":""},"要是正の指摘あり",null,null,null,null,null,null,"（",{"$f":"'1_入力シート【基本情報】'!DP139","v":0},"既存不適格）"]
[null,null,"(敷地及び地盤)",null,null,null,null,null,null,null,null,null,null,null,null,null,null,null,null,null,{"$f":"IF(OR('1_入力シート【基本情報】'!DN139=\"レ\",'1_入力シート【基本情報】'!DM139=\"レ\"),\"レ\",\"\")","v":""},"指摘なし"]
[null,null,"ﾛ．指摘の概要",null,null,null,null,null,null,{"$f":"SUBSTITUTE(TRIM('1_入力シート【基本情報】'!DY304&\"　\"&'1_入力シート【基本情報】'!DY322&\"　\"&'1_入力シート【基本情報】'!DY349&\"　\"&'1_入力シート【基本情報】'!DY367&\"　\"&'1_入力シート【基本情報】'!DY423&\"　\"&'1_入力シート【基本情報】'!DY472&\"　\"&'1_入力シート【基本情報】'!DY490&\"　\"&'1_入力シート【基本情報】'!DY509),\"　\",\"　/　\")","v":""}]
[]
[]
[]
[]
[]
[]
[]
[]
[]
[]
[]
[]
[]
[]
[]
[]
[]
[]
[]
[]
[]
[null,"3.調査者"]
[]
[]
[null,null,"（その他の調査者2）"]
[null,null,null,"【イ．資格】"]
[null,null,null,null,null,null,null,null,null,null,null,null,null,null,"（",{"$f":"'1_入力シート【基本情報】'!$DS$97","v":""},null,"）建築士",null,null,null,null,null,null,"（",{"$f":"'1_入力シート【基本情報】'!$DS$98","v":""},null,null,null,null,null,null,null,"）登録",null,null,null,"第",{"$f":"IF('1_入力シート【基本情報】'!AB99=\"\",\"\",DBCS('1_入力シート【基本情報】'!AB99))","v":""},null,null,null,null,null,"号"]
[null,null,null,null,null,null,null,null,null,null,null,null,null,null,"特定建築物調査員",null,null,null,null,null,null,null,null,null,null,null,null,null,null,null,null,null,null,null,null,null,null,"第",{"$f":"IF('1_入力シート【基本情報】'!AB100=\"\",\"\",DBCS('1_入力シート【基本情報】'!AB100))","v":""},null,null,null,null,null,"号"]
[null,null,null,"【ロ．氏名のフリガナ】",null,null,null,null,null,null,null,null,null,null,{"$f":"IF('1_入力シート【基本情報】'!AB101=\"\",\"\",ASC('1_入力シート【基本情報】'!AB101))","v":""}]
[null,null,null,"【ハ．氏名】 ",null,null,null,null,null,null,null,null,null,null,{"$f":"IF('1_入力シート【基本情報】'!AB102=\"\",\"\",ASC('1_入力シート【基本情報】'!AB102))","v":""}]
[null,null,null,"【ニ．勤務先】",null,null,null,null,null,null,null,null,null,null,{"$f":"IF('1_入力シート【基本情報】'!DS96=FALSE,IF('1_入力シート【基本情報】'!AB103=\"\",\"\",'1_入力シート【基本情報】'!AB103),IF('1_入力シート【基本情報】'!DS67=\"\",\"\",'1_入力シート【基本情報】'!DS67))","v":""}]
[null,null,null,null,null,null,null,null,null,null,null,null,null,null,"（",{"$f":"IF('1_入力シート【基本情報】'!DS96=FALSE,IF('1_入力シート【基本情報】'!DS104=\"\",\"\",'1_入力シート【基本情報】'!DS104),IF('1_入力シート【基本情報】'!DS68=\"\",\"\",'1_入力シート【基本情報】'!DS68))","v":""},null,"）建築士事務所",null,null,null,null,null,null,"（",{"$f":"IF('1_入力シート【基本情報】'!DS96=FALSE,IF('1_入力シート【基本情報】'!AB105=\"\",\"\",DBCS('1_入力シート【基本情報】'!AB105)),IF('1_入力シート【基本情報】'!DS69=\"\",\"\",DBCS('1_入力シート【基本情報】'!DS69)))","v":""},null,null,null,null,null,"）知事登録",null,null,null,null,null,"第",{"$f":"IF('1_入力シート【基本情報】'!DS96=TRUE,DBCS('1_入力シート【基本情報】'!DS70),DBCS('1_入力シート【基本情報】'!DS106))","v":""},null,null,null,null,null,"号",null,null,null,null,null,null,null,null,null,null,null,null,null,{"$f":"'1_入力シート【基本情報】'!DO106","v":"未入力判定（1で未入力）"}]
[null,null,null,"【ホ．郵便番号】",null,null,null,null,null,null,null,null,null,null,{"$f":"IF(BG168=1,\"\",IF('1_入力シート【基本情報】'!DS96=TRUE,'1_入力シート【基本情報】'!DS71,'1_入力シート【基本情報】'!DS107))","v":""},null,null,null,null,null,null,null,null,null,null,null,null,null,null,null,null,null,null,null,null,null,null,null,null,null,null,null,null,null,null,null,null,null,null,null,null,null,null,null,null,null,null,null,{"$f":"'1_入力シート【基本情報】'!DO107","v":1},"※☑代表となる調査者と同一は初期時は☑が入らない。入った時点で作成開始済とみなし-”は表示対象となる"]
[null,null,null,"【へ．所在地】",null,null,null,null,null,null,null,null,null,null,{"$f":"IF('1_入力シート【基本情報】'!DS96=TRUE,'1_入力シート【基本情報】'!DS72,'1_入力シート【基本情報】'!DS108)","v":""},null,null,null,null,null,null,null,null,null,null,null,null,null,null,null,null,null,null,null,null,null,null,null,null,null,null,null,null,null,null,null,null,null,null,null,null,null,null,null,null,null,null,null,{"$f":"'1_入力シート【基本情報】'!DO108","v":"未入力判定（1で未入力）"}]
[null,null,null,"【ト．電話番号】",null,null,null,null,null,null,null,null,null,null,{"$f":"IF(BG170=1,\"\",IF('1_入力シート【基本情報】'!DS96=TRUE,'1_入力シート【基本情報】'!DS73,'1_入力シート【基本情報】'!DS109))","v":""},null,null,null,null,null,null,null,null,null,null,null,null,null,null,null,null,null,null,null,null,null,null,null,null,null,null,null,null,null,null,null,null,null,null,null,null,null,null,null,null,null,null,null,{"$f":"'1_入力シート【基本情報】'!DO109","v":1},"※☑代表となる調査者と同一は初期時は☑が入らない。入った時点で作成開始済とみなし--”は表示対象となる"]
[]
[]
[]
[]
[]
[]
[]
[]
[]
[]
[]
[]
[]
[]
[]
[]
[]
[null,"（第二面）"]
[null,"建築物及びその敷地に関する事項"]
[]
[]
[null,"【1．敷地の位置】"]
[null,null,null,"【イ．防火地域等】",null,null,null,null,null,null,null,null,null,null,{"$f":"'1_入力シート【基本情報】'!DO116","v":""},"防火地域",null,null,null,null,null,{"$f":"'1_入力シート【基本情報】'!DP116","v":""},"準防火地域"]
[null,null,null,null,null,null,null,null,null,null,null,null,null,null,{"$f":"IF(OR('1_入力シート【基本情報】'!DQ116=\"レ\",'1_入力シート【基本情報】'!DR116=\"レ\"),\"レ\",\"\")","v":""},"その他（",null,null,null,{"$f":"IF('1_入力シート【基本情報】'!DQ116=\"レ\",'1_入力シート【基本情報】'!DQ115,\"\")&IF(AND('1_入力シート【基本情報】'!DQ116=\"レ\",'1_入力シート【基本情報】'!DR116=\"レ\"),\"、\",\"\")&IF('1_入力シート【基本情報】'!AB118=\"\",\"\",'1_入力シート【基本情報】'!AB118)","v":""},null,null,null,null,null,null,null,null,null,null,null,"）",null,null,{"$f":"'1_入力シート【基本情報】'!DS116","v":""},"指定なし"]
[null,null,null,"【ロ．用途地域】",null,null,null,null,null,null,null,null,null,null,{"$f":"IF('1_入力シート【基本情報】'!AB119=\"\",\"\",SUBSTITUTE(TRIM('1_入力シート【基本情報】'!AB119&\"　\"&'1_入力シート【基本情報】'!AB120&\"　\"&'1_入力シート【基本情報】'!AB121),\"　\",\"、\"))","v":""}]
[]
[]
[]
[]
[]
[null,"【2．建築物及びその敷地の概要】"]
[null,null,null,"【イ．構造】",null,null,null,null,null,null,null,null,null,null,{"$f":"'1_入力シート【基本情報】'!DO128","v":""},"鉄筋コンクリート造",null,null,null,null,null,null,null,null,null,null,{"$f":"'1_入力シート【基本情報】'!DP128","v":""},"鉄骨鉄筋コンクリート造"]
[null,null,null,null,null,null,null,null,null,null,null,null,null,null,{"$f":"'1_入力シート【基本情報】'!DQ128","v":""},"鉄骨造",null,null,null,null,null,null,null,null,null,null,{"$f":"'1_入力シート【基本情報】'!DR128","v":""},"その他（",null,null,null,{"$f":"IF('1_入力シート【基本情報】'!AB130=\"\",\"\",'1_入力シート【基本情報】'!AB130)","v":""},null,null,null,null,null,null,null,null,null,null,null,"）"]
[null,null,null,"【ロ．階数】",null,null,null,null,null,null,null,null,null,null,null,"地上",null,{"$f":"IF('1_入力シート【基本情報】'!AB131=\"\",\"\",'1_入力シート【基本情報】'!AB131)","v":""},null,null,"階",null,null,"地下",null,{"$f":"IF('1_入力シート【基本情報】'!AB132=\"\",\"\",'1_入力シート【基本情報】'!AB132)","v":""},null,null,"階"]
[null,null,null,"【ハ．敷地面積】",null,null,null,null,null,null,null,null,null,null,{"$f":"IF('1_入力シート【基本情報】'!AB133=\"\",\"\",'1_入力シート【基本情報】'!AB133)","v":""},null,null,null,null,null,null,null,"㎡"]
[null,null,null,"【ニ．建築面積】",null,null,null,null,null,null,null,null,null,null,{"$f":"IF('1_入力シート【基本情報】'!AB134=\"\",\"\",'1_入力シート【基本情報】'!AB134)","v":""},null,null,null,null,null,null,null,"㎡"]
[null,null,null,"【ホ．延べ面積】",null,null,null,null,null,null,null,null,null,null,{"$f":"IF('2_入力シート【用途面積】'!E13=0,\"\",'2_入力シート【用途面積】'!E13)","v":""},null,null,null,null,null,null,null,"㎡"]
[]
[]
[]
[]
[]
[null,"【3．階別用途別床面積】",null,null,null,null,null,null,null,null,null,null,null,null,null,null,null,null,null,null,"（",null,"用途",null,null,null,"）",null,"（",null,"床面積",null,null,null,"）",{"$f":"IF(BG214=1,\"\",HYPERLINK(\"#A309:A379\",\"第二面　別紙参照\"))","v":""},null,null,null,null,null,null,null,null,null,null,null,null,null,null,null,null,null,null,null,null,{"$f":"'2_入力シート【用途面積】'!W12","v":"完全未入力判定(1：延べ面積の総合計0.00㎡で完全未入力）"},null,{"$f":"'2_入力シート【用途面積】'!W12","v":"完全未入力判定(1：延べ面積の総合計0.00㎡で完全未入力）"}]
[null,null,null,"【イ．階別用途別】",null,null,null,null,null,null,null,null,null,"（",null,null,null,"階）",null,null,"（",null,null,null,null,null,"）",null,"（",null,null,null,null,"㎡","）",null,null,null,null,null,null,null,null,null,null,null,null,null,null,null,null,null,null,null,null,null,{"$f":"'2_入力シート【用途面積】'!W13","v":1},null,{"$f":"'2_入力シート【用途面積】'!W13","v":1}]
[null,null,null,null,null,null,null,null,null,null,null,null,null,null,null,null,null,null,null,null,"（",null,null,null,null,null,"）",null,"（",null,null,null,null,"㎡","）"]
[null,null,null,null,null,null,null,null,null,null,null,null,null,null,null,null,null,null,null,null,"（",null,null,null,null,null,"）",null,"（",null,null,null,null,"㎡","）"]
[null,null,null,null,null,null,null,null,null,null,null,null,null,"（",null,null,null,"階）",null,null,"（",null,null,null,null,null,"）",null,"（",null,null,null,null,"㎡","）"]
[null,null,null,null,null,null,null,null,null,null,null,null,null,null,null,null,null,null,null,null,"（",null,null,null,null,null,"）",null,"（",null,null,null,null,"㎡","）"]
[null,null,null,null,null,null,null,null,null,null,null,null,null,null,null,null,null,null,null,null,"（",null,null,null,null,null,"）",null,"（",null,null,null,null,"㎡","）"]
[null,null,null,null,null,null,null,null,null,null,null,null,null,"（",null,null,null,"階）",null,null,"（",null,null,null,null,null,"）",null,"（",null,null,null,null,"㎡","）"]
[null,null,null,null,null,null,null,null,null,null,null,null,null,null,null,null,null,null,null,null,"（",null,null,null,null,null,"）",null,"（",null,null,null,null,"㎡","）"]
[null,null,null,null,null,null,null,null,null,null,null,null,null,null,null,null,null,null,null,null,"（",null,null,null,null,null,"）",null,"（",null,null,null,null,"㎡","）"]
[null,null,null,null,null,null,null,null,null,null,null,null,null,"（",null,null,null,"階）",null,null,"（",null,null,null,null,null,"）",null,"（",null,null,null,null,"㎡","）"]
[null,null,null,null,null,null,null,null,null,null,null,null,null,null,null,null,null,null,null,null,"（",null,null,null,null,null,"）",null,"（",null,null,null,null,"㎡","）"]
[null,null,null,null,null,null,null,null,null,null,null,null,null,null,null,null,null,null,null,null,"（",null,null,null,null,null,"）",null,"（",null,null,null,null,"㎡","）"]
[null,null,null,null,null,null,null,null,null,null,null,null,null,"（",null,null,null,"階）",null,null,"（",null,null,null,null,null,"）",null,"（",null,null,null,null,"㎡","）"]
[null,null,null,null,null,null,null,null,null,null,null,null,null,null,null,null,null,null,null,null,"（",null,null,null,null,null,"）",null,"（",null,null,null,null,"㎡","）"]
[null,null,null,null,null,null,null,null,null,null,null,null,null,null,null,null,null,null,null,null,"（",null,null,null,null,null,"）",null,"（",null,null,null,null,"㎡","）"]
[null,null,null,"【ロ．用途別】",null,null,null,null,null,null,null,null,null,null,null,null,null,null,null,null,"（",null,null,null,null,null,"）",null,"（",null,null,null,null,"㎡","）"]
[null,null,null,null,null,null,null,null,null,null,null,null,null,null,null,null,null,null,null,null,"（",null,null,null,null,null,"）",null,"（",null,null,null,null,"㎡","）"]
[null,null,null,null,null,null,null,null,null,null,null,null,null,null,null,null,null,null,null,null,"（",null,null,null,null,null,"）",null,"（",null,null,null,null,"㎡","）"]
[null," （その他の検査者２）"]
[null,null,"【イ．資格】",null,null,null,null,null,null,"（",null,null," ）建築士",null,null,null,null,null,null,null,null,null,"（",null,null,null,null,null,null,null,null,null,")登録第",null,null,null,null,null,null,null,"号"]
[null,null,null,null,null,null,null,null,null,"建築設備検査員",null,null,null,null,null,null,null,null,null,null,null,null,null,null,null,null,null,null,null,null,null,null,"第",null,null,null,null,null,null,null,"号"]
[null,null,null,null,null,null,null,null,null,"登録建築設備検査資格者講習を修了した者",null,null,null,null,null,null,null,null,null,null,null,null,null,null,null,null,null,null,null,null,null,null,"第",null,null,null,null,null,null,null,"号"]
[null,null,"【ロ．氏名のフリガナ】"]
[null,null,"【ハ．氏名】"]
[null,null,"【ニ．勤務先】"]
[null,null,null,null,null,null,null,null,null,"（",null,null," ）建築士事務所",null,null,null,null,null,null,null,null,null,"（",null,null,null,null,null,null,null,null,null,")知事登録第",null,null,null,null,null,null,null,"号"]
[null,null,"【ホ．郵便番号】"]
[null,null,"【ヘ．所在地】"]
[null,null,"【ト．電話番号】"]
[]
[]
[]
[]
[]
[null,"【4．性能検証法等の適用】",null,null,null,null,null,null,null,null,null,null,null,null,{"$f":"'1_入力シート【基本情報】'!DO141","v":""},"耐火性能検証法",null,null,null,null,null,null,null,null,null,null,null,null,null,null,null,{"$f":"'1_入力シート【基本情報】'!DP141","v":""},"防火区画検証法"]
[null,null,null,null,null,null,null,null,null,null,null,null,null,null,{"$f":"'1_入力シート【基本情報】'!DQ141","v":""},"区画避難安全検証法（",null,null,null,null,null,null,null,null,null,{"$f":"IF('1_入力シート【基本情報】'!AF142=\"\",\"\",'1_入力シート【基本情報】'!AF142)","v":""},null,null,"階）",null,null,{"$f":"'1_入力シート【基本情報】'!DR141","v":""},"階避難安全検証法（",null,null,null,null,null,null,null,null,{"$f":"IF('1_入力シート【基本情報】'!AF143=\"\",\"\",'1_入力シート【基本情報】'!AF143)","v":""},null,null,"階）"]
[null,null,null,null,null,null,null,null,null,null,null,null,null,null,{"$f":"'1_入力シート【基本情報】'!DS141","v":""},"全館避難安全検証法"]
[null,null,null,null,null,null,null,null,null,null,null,null,null,null,{"$f":"'1_入力シート【基本情報】'!DT141","v":""},"その他（",null,null,null,{"$f":"IF('1_入力シート【基本情報】'!AF145=\"\",\"\",'1_入力シート【基本情報】'!AF145)","v":""},null,null,null,null,null,null,null,null,null,null,null,null,null,null,null,null,null,null,null,null,null,"）"]
[]
[]
[]
[]
[null,"【5．増築、改築、用途変更等の経過】"]
[null,null,null,null,null,null,null,null,null,null,{"$f":"IF('1_入力シート【基本情報】'!AB151=\"\",\"\",'1_入力シート【基本情報】'!AB151)","v":""},null,{"$f":"IF('1_入力シート【基本情報】'!AE151=\"\",\"\",'1_入力シート【基本情報】'!AE151)","v":""},null,"年",{"$f":"IF('1_入力シート【基本情報】'!AJ151=\"\",\"\",'1_入力シート【基本情報】'!AJ151)","v":""},null,"月",{"$f":"IF('1_入力シート【基本情報】'!AO151=\"\",\"\",'1_入力シート【基本情報】'!AO151)","v":""},null,"日",null,null,"概要（",null,null,{"$f":"IF('1_入力シート【基本情報】'!AB153=\"\",'1_入力シート【基本情報】'!AB152,CONCATENATE('1_入力シート【基本情報】'!AB152,\"．\",'1_入力シート【基本情報】'!AB153))","v":0},null,null,null,null,null,null,null,null,null,null,null,null,null,null,null,null,null,"）"]
[null,null,null,null,null,null,null,null,null,null,{"$f":"IF('1_入力シート【基本情報】'!AB154=\"\",\"\",'1_入力シート【基本情報】'!AB154)","v":""},null,{"$f":"IF('1_入力シート【基本情報】'!AE154=\"\",\"\",'1_入力シート【基本情報】'!AE154)","v":""},null,"年",{"$f":"IF('1_入力シート【基本情報】'!AJ154=\"\",\"\",'1_入力シート【基本情報】'!AJ154)","v":""},null,"月",{"$f":"IF('1_入力シート【基本情報】'!AO154=\"\",\"\",'1_入力シート【基本情報】'!AO154)","v":""},null,"日",null,null,"概要（",null,null,{"$f":"IF('1_入力シート【基本情報】'!AB156=\"\",'1_入力シート【基本情報】'!AB155,CONCATENATE('1_入力シート【基本情報】'!AB155,\"．\",'1_入力シート【基本情報】'!AB156))","v":0},null,null,null,null,null,null,null,null,null,null,null,null,null,null,null,null,null,"）"]
[null,null,null,null,null,null,null,null,null,null,{"$f":"IF('1_入力シート【基本情報】'!AB157=\"\",\"\",'1_入力シート【基本情報】'!AB157)","v":""},null,{"$f":"IF('1_入力シート【基本情報】'!AE157=\"\",\"\",'1_入力シート【基本情報】'!AE157)","v":""},null,"年",{"$f":"IF('1_入力シート【基本情報】'!AJ157=\"\",\"\",'1_入力シート【基本情報】'!AJ157)","v":""},null,"月",{"$f":"IF('1_入力シート【基本情報】'!AO157=\"\",\"\",'1_入力シート【基本情報】'!AO157)","v":""},null,"日",null,null,"概要（",null,null,{"$f":"IF('1_入力シート【基本情報】'!AB159=\"\",'1_入力シート【基本情報】'!AB158,CONCATENATE('1_入力シート【基本情報】'!AB158,\"．\",'1_入力シート【基本情報】'!AB159))","v":0},null,null,null,null,null,null,null,null,null,null,null,null,null,null,null,null,null,"）"]
[null,null,null,null,null,null,null,null,null,null,{"$f":"IF('1_入力シート【基本情報】'!AB160=\"\",\"\",'1_入力シート【基本情報】'!AB160)","v":""},null,{"$f":"IF('1_入力シート【基本情報】'!AE160=\"\",\"\",'1_入力シート【基本情報】'!AE160)","v":""},null,"年",{"$f":"IF('1_入力シート【基本情報】'!AJ160=\"\",\"\",'1_入力シート【基本情報】'!AJ160)","v":""},null,"月",{"$f":"IF('1_入力シート【基本情報】'!AO160=\"\",\"\",'1_入力シート【基本情報】'!AO160)","v":""},null,"日",null,null,"概要（",null,null,{"$f":"IF('1_入力シート【基本情報】'!AB162=\"\",'1_入力シート【基本情報】'!AB161,CONCATENATE('1_入力シート【基本情報】'!AB161,\"．\",'1_入力シート【基本情報】'!AB162))","v":0},null,null,null,null,null,null,null,null,null,null,null,null,null,null,null,null,null,"）"]
[]
[]
[]
[]
[]
[]
[]
[]
[]
[]
[null,"【6．関連図書の整備状況】"]
[null,null,null,"【イ．確認に要した図書】",null,null,null,null,null,null,null,null,null,null,null,{"$f":"IF(OR('1_入力シート【基本情報】'!DO169=\"レ\",'1_入力シート【基本情報】'!DP169=\"レ\"),\"レ\",\"\")","v":""},"有（",null,{"$f":"IF('1_入力シート【基本情報】'!DP169=\"レ\",\"レ\",\"\")","v":""},"各階平面図あり）",null,null,null,null,null,null,null,{"$f":"IF('1_入力シート【基本情報】'!DQ169=\"レ\",\"レ\",\"\")","v":""},"無"]
[null,null,null,"【ロ．確認済証】",null,null,null,null,null,null,null,null,null,null,null,{"$f":"IF('1_入力シート【基本情報】'!DO171=\"レ\",\"レ\",\"\")","v":""},"有",null,{"$f":"IF('1_入力シート【基本情報】'!DP171=\"レ\",\"レ\",\"\")","v":""},"無"]
[null,null,null,null,null,null,null,null,null,null,null,null,null,null,null,"交付番号",null,null,null,null,{"$f":"IF('1_入力シート【基本情報】'!AB172=\"\",\"\",'1_入力シート【基本情報】'!AB172)","v":""},null,{"$f":"IF('1_入力シート【基本情報】'!AE172=\"\",\"\",'1_入力シート【基本情報】'!AE172)","v":""},null,"年",{"$f":"IF('1_入力シート【基本情報】'!AJ172=\"\",\"\",'1_入力シート【基本情報】'!AJ172)","v":""},null,"月",{"$f":"IF('1_入力シート【基本情報】'!AO172=\"\",\"\",'1_入力シート【基本情報】'!AO172)","v":""},null,"日","第",null,{"$f":"IF('1_入力シート【基本情報】'!AB173=\"\",\"\",'1_入力シート【基本情報】'!AB173)","v":""},null,null,null,null,null,null,null,null,null,null,"号"]
[null,null,null,null,null,null,null,null,null,null,null,null,null,null,null,"  交付者",null,null,null,null,{"$f":"IF('1_入力シート【基本情報】'!DO175=\"レ\",\"レ\",\"\")","v":""},"建築主事",null,null,null,null,{"$f":"IF('1_入力シート【基本情報】'!DP175=\"レ\",\"レ\",\"\")","v":""},"指定確認検査機関（",null,null,null,null,null,null,null,null,{"$f":"IF('1_入力シート【基本情報】'!AB175=\"\",\"\",'1_入力シート【基本情報】'!AB175)","v":""},null,null,null,null,null,null,null,"）"]
[null,null,null,"【ハ．完了検査に要した図書】",null,null,null,null,null,null,null,null,null,null,null,null,null,{"$f":"IF('1_入力シート【基本情報】'!DO177=\"レ\",\"レ\",\"\")","v":""},"有",null,{"$f":"IF('1_入力シート【基本情報】'!DP177=\"レ\",\"レ\",\"\")","v":""},"無"]
[null,null,null,"【ニ．検査済証】",null,null,null,null,null,null,null,null,null,null,null,{"$f":"IF('1_入力シート【基本情報】'!DR177=\"レ\",\"レ\",\"\")","v":""},"有",null,{"$f":"IF('1_入力シート【基本情報】'!DS177=\"レ\",\"レ\",\"\")","v":""},"無"]
[null,null,null,null,null,null,null,null,null,null,null,null,null,null,null,"交付番号",null,null,null,null,{"$f":"IF('1_入力シート【基本情報】'!AB178=\"\",\"\",'1_入力シート【基本情報】'!AB178)","v":""},null,{"$f":"IF('1_入力シート【基本情報】'!AE178=\"\",\"\",'1_入力シート【基本情報】'!AE178)","v":""},null,"年",{"$f":"IF('1_入力シート【基本情報】'!AJ178=\"\",\"\",'1_入力シート【基本情報】'!AJ178)","v":""},null,"月",{"$f":"IF('1_入力シート【基本情報】'!AO178=\"\",\"\",'1_入力シート【基本情報】'!AO178)","v":""},null,"日","第",null,{"$f":"IF('1_入力シート【基本情報】'!AB179=\"\",\"\",'1_入力シート【基本情報】'!AB179)","v":""},null,null,null,null,null,null,null,null,null,null,"号"]
[null,null,null,null,null,null,null,null,null,null,null,null,null,null,null,"　交付者",null,null,null,null,{"$f":"IF('1_入力シート【基本情報】'!DO181=\"レ\",\"レ\",\"\")","v":""},"建築主事",null,null,null,null,{"$f":"IF('1_入力シート【基本情報】'!DP181=\"レ\",\"レ\",\"\")","v":""},"指定確認検査機関（",null,null,null,null,null,null,null,null,{"$f":"IF('1_入力シート【基本情報】'!AB181=\"\",\"\",'1_入力シート【基本情報】'!AB181)","v":""},null,null,null,null,null,null,null,"）"]
[null,null,null,"【ホ．維持保全に関する準則又は計画】",null,null,null,null,null,null,null,null,null,null,null,null,null,null,null,null,null,{"$f":"IF('1_入力シート【基本情報】'!DO197=\"レ\",\"レ\",\"\")","v":""},"有",null,{"$f":"IF('1_入力シート【基本情報】'!DP197=\"レ\",\"レ\",\"\")","v":""},"無"]
[null,null,null,"【ヘ．前回の調査に関する書類の写し】",null,null,null,null,null,null,null,null,null,null,null,null,null,null,null,null,null,{"$f":"IF('1_入力シート【基本情報】'!DR197=\"レ\",\"レ\",\"\")","v":""},"有",null,{"$f":"IF('1_入力シート【基本情報】'!DS197=\"レ\",\"レ\",\"\")","v":""},"無",null,{"$f":"IF('1_入力シート【基本情報】'!DT197=\"レ\",\"レ\",\"\")","v":""},"対象外"]
[null," （その他の検査者２）"]
[null,null,"【イ．資格】",null,null,null,null,null,null,"（",null,null," ）建築士",null,null,null,null,null,null,null,null,null,"（",null,null,null,null,null,null,null,null,null,")登録第",null,null,null,null,null,null,null,"号"]
[null,null,null,null,null,null,null,null,null,"建築設備検査員",null,null,null,null,null,null,null,null,null,null,null,null,null,null,null,null,null,null,null,null,null,null,"第",null,null,null,null,null,null,null,"号"]
[null,null,null,null,null,null,null,null,null,"登録建築設備検査資格者講習を修了した者",null,null,null,null,null,null,null,null,null,null,null,null,null,null,null,null,null,null,null,null,null,null,"第",null,null,null,null,null,null,null,"号"]
[null,null,"【ロ．氏名のフリガナ】"]
[null,null,"【ハ．氏名】"]
[null,null,"【ニ．勤務先】"]
[null,null,null,null,null,null,null,null,null,"（",null,null," ）建築士事務所",null,null,null,null,null,null,null,null,null,"（",null,null,null,null,null,null,null,null,null,")知事登録第",null,null,null,null,null,null,null,"号"]
[null,null,"【ホ．郵便番号】"]
[null,null,"【ヘ．所在地】"]
[null,null,"【ト．電話番号】"]
[]
[]
[]
[null,"【7．備考】"]
[null,null,{"$f":"IF('1_入力シート【基本情報】'!AB200=\"\",\"\",'1_入力シート【基本情報】'!AB200)","v":""}]
[]
[]
[]
[]
[]
[]
[]
[]
[]
[]
[]
[null,"（第二面　別紙）"]
[null,"3．階別用途別床面積"]
[]
[]
[null,"階＼用途",null,null,null,"各階合計",null,null,null,null,{"$f":"IF('2_入力シート【用途面積】'!G4=\"\",\"\",'2_入力シート【用途面積】'!G4)","v":""},null,null,null,null,{"$f":"IF('2_入力シート【用途面積】'!I4=\"\",\"\",'2_入力シート【用途面積】'!I4)","v":""},null,null,null,null,{"$f":"IF('2_入力シート【用途面積】'!K4=\"\",\"\",'2_入力シート【用途面積】'!K4)","v":""},null,null,null,null,{"$f":"IF('2_入力シート【用途面積】'!M4=\"\",\"\",'2_入力シート【用途面積】'!M4)","v":""},null,null,null,null,{"$f":"IF('2_入力シート【用途面積】'!O4=\"\",\"\",'2_入力シート【用途面積】'!O4)","v":""},null,null,null,null,{"$f":"IF('2_入力シート【用途面積】'!Q4=\"\",\"\",'2_入力シート【用途面積】'!Q4)","v":""},null,null,null,null,{"$f":"IF('2_入力シート【用途面積】'!S4=\"\",\"\",'2_入力シート【用途面積】'!S4)","v":""}]
[]
[null,null,null,null,null,null,null,null,null,null,{"$f":"IF('2_入力シート【用途面積】'!G7=\"\",\"\",'2_入力シート【用途面積】'!G7)","v":""},null,null,null,null,{"$f":"IF('2_入力シート【用途面積】'!I7=\"\",\"\",'2_入力シート【用途面積】'!I7)","v":""},null,null,null,null,{"$f":"IF('2_入力シート【用途面積】'!K7=\"\",\"\",'2_入力シート【用途面積】'!K7)","v":""},null,null,null,null,{"$f":"IF('2_入力シート【用途面積】'!M7=\"\",\"\",'2_入力シート【用途面積】'!M7)","v":""},null,null,null,null,{"$f":"IF('2_入力シート【用途面積】'!O7=\"\",\"\",'2_入力シート【用途面積】'!O7)","v":""},null,null,null,null,{"$f":"IF('2_入力シート【用途面積】'!Q7=\"\",\"\",'2_入力シート【用途面積】'!Q7)","v":""},null,null,null,null,{"$f":"IF('2_入力シート【用途面積】'!S7=\"\",\"\",'2_入力シート【用途面積】'!S7)","v":""}]
[]
[]
[null,null,null,null,null,null,null,null,null,null,null,null,null,null,null,null,null,null,null,null,null,null,null,null,null,null,null,null,null,null,null,null,null,null,null,null,null,null,null,null,null,null,null,null,null,null,null,null,null,null,null,null,null,null,null,null,null,null,{"$f":"'2_入力シート【用途面積】'!W12","v":"完全未入力判定(1：延べ面積の総合計0.00㎡で完全未入力）"}]
[null,"延べ面積",null,null,null,{"$f":"IF(BG319=1,\"\",'2_入力シート【用途面積】'!E13)","v":""},null,null,null,"㎡",{"$f":"IF(BG319=1,\"\",'2_入力シート【用途面積】'!G13)","v":""},null,null,null,"㎡",{"$f":"IF(BG319=1,\"\",'2_入力シート【用途面積】'!I13)","v":""},null,null,null,"㎡",{"$f":"IF(BG319=1,\"\",'2_入力シート【用途面積】'!K13)","v":""},null,null,null,"㎡",{"$f":"IF(BG319=1,\"\",'2_入力シート【用途面積】'!M13)","v":""},null,null,null,"㎡",{"$f":"IF(BG319=1,\"\",'2_入力シート【用途面積】'!O13)","v":""},null,null,null,"㎡",{"$f":"IF(BG319=1,\"\",'2_入力シート【用途面積】'!Q13)","v":""},null,null,null,"㎡",{"$f":"IF(BG319=1,\"\",'2_入力シート【用途面積】'!S13)","v":""},null,null,null,"㎡",null,null,null,null,null,null,null,null,null,null,null,null,null,{"$f":"'2_入力シート【用途面積】'!W13","v":1}]
[null,"地下1",null,null,"階",{"$f":"IF(BG319=1,\"\",'2_入力シート【用途面積】'!E14)","v":""},null,null,null,"㎡",{"$f":"IF('2_入力シート【用途面積】'!G14=\"\",\"\",'2_入力シート【用途面積】'!G14)","v":""},null,null,null,"㎡",{"$f":"IF('2_入力シート【用途面積】'!I14=\"\",\"\",'2_入力シート【用途面積】'!I14)","v":""},null,null,null,"㎡",{"$f":"IF('2_入力シート【用途面積】'!K14=\"\",\"\",'2_入力シート【用途面積】'!K14)","v":""},null,null,null,"㎡",{"$f":"IF('2_入力シート【用途面積】'!M14=\"\",\"\",'2_入力シート【用途面積】'!M14)","v":""},null,null,null,"㎡",{"$f":"IF('2_入力シート【用途面積】'!O14=\"\",\"\",'2_入力シート【用途面積】'!O14)","v":""},null,null,null,"㎡",{"$f":"IF('2_入力シート【用途面積】'!Q14=\"\",\"\",'2_入力シート【用途面積】'!Q14)","v":""},null,null,null,"㎡",{"$f":"IF('2_入力シート【用途面積】'!S14=\"\",\"\",'2_入力シート【用途面積】'!S14)","v":""},null,null,null,"㎡"]
[null,"地下2",null,null,"階",{"$f":"IF(BG319=1,\"\",'2_入力シート【用途面積】'!E15)","v":""},null,null,null,"㎡",{"$f":"IF('2_入力シート【用途面積】'!G15=\"\",\"\",'2_入力シート【用途面積】'!G15)","v":""},null,null,null,"㎡",{"$f":"IF('2_入力シート【用途面積】'!I15=\"\",\"\",'2_入力シート【用途面積】'!I15)","v":""},null,null,null,"㎡",{"$f":"IF('2_入力シート【用途面積】'!K15=\"\",\"\",'2_入力シート【用途面積】'!K15)","v":""},null,null,null,"㎡",{"$f":"IF('2_入力シート【用途面積】'!M15=\"\",\"\",'2_入力シート【用途面積】'!M15)","v":""},null,null,null,"㎡",{"$f":"IF('2_入力シート【用途面積】'!O15=\"\",\"\",'2_入力シート【用途面積】'!O15)","v":""},null,null,null,"㎡",{"$f":"IF('2_入力シート【用途面積】'!Q15=\"\",\"\",'2_入力シート【用途面積】'!Q15)","v":""},null,null,null,"㎡",{"$f":"IF('2_入力シート【用途面積】'!S15=\"\",\"\",'2_入力シート【用途面積】'!S15)","v":""},null,null,null,"㎡"]
[null,"地下3",null,null,"階",{"$f":"IF(BG319=1,\"\",'2_入力シート【用途面積】'!E16)","v":""},null,null,null,"㎡",{"$f":"IF('2_入力シート【用途面積】'!G16=\"\",\"\",'2_入力シート【用途面積】'!G16)","v":""},null,null,null,"㎡",{"$f":"IF('2_入力シート【用途面積】'!I16=\"\",\"\",'2_入力シート【用途面積】'!I16)","v":""},null,null,null,"㎡",{"$f":"IF('2_入力シート【用途面積】'!K16=\"\",\"\",'2_入力シート【用途面積】'!K16)","v":""},null,null,null,"㎡",{"$f":"IF('2_入力シート【用途面積】'!M16=\"\",\"\",'2_入力シート【用途面積】'!M16)","v":""},null,null,null,"㎡",{"$f":"IF('2_入力シート【用途面積】'!O16=\"\",\"\",'2_入力シート【用途面積】'!O16)","v":""},null,null,null,"㎡",{"$f":"IF('2_入力シート【用途面積】'!Q16=\"\",\"\",'2_入力シート【用途面積】'!Q16)","v":""},null,null,null,"㎡",{"$f":"IF('2_入力シート【用途面積】'!S16=\"\",\"\",'2_入力シート【用途面積】'!S16)","v":""},null,null,null,"㎡"]
[null,"地下4",null,null,"階",{"$f":"IF(BG319=1,\"\",'2_入力シート【用途面積】'!E17)","v":""},null,null,null,"㎡",{"$f":"IF('2_入力シート【用途面積】'!G17=\"\",\"\",'2_入力シート【用途面積】'!G17)","v":""},null,null,null,"㎡",{"$f":"IF('2_入力シート【用途面積】'!I17=\"\",\"\",'2_入力シート【用途面積】'!I17)","v":""},null,null,null,"㎡",{"$f":"IF('2_入力シート【用途面積】'!K17=\"\",\"\",'2_入力シート【用途面積】'!K17)","v":""},null,null,null,"㎡",{"$f":"IF('2_入力シート【用途面積】'!M17=\"\",\"\",'2_入力シート【用途面積】'!M17)","v":""},null,null,null,"㎡",{"$f":"IF('2_入力シート【用途面積】'!O17=\"\",\"\",'2_入力シート【用途面積】'!O17)","v":""},null,null,null,"㎡",{"$f":"IF('2_入力シート【用途面積】'!Q17=\"\",\"\",'2_入力シート【用途面積】'!Q17)","v":""},null,null,null,"㎡",{"$f":"IF('2_入力シート【用途面積】'!S17=\"\",\"\",'2_入力シート【用途面積】'!S17)","v":""},null,null,null,"㎡"]
[null,"塔屋 1",null,null,"階",{"$f":"IF(BG319=1,\"\",'2_入力シート【用途面積】'!E18)","v":""},null,null,null,"㎡",{"$f":"IF('2_入力シート【用途面積】'!G18=\"\",\"\",'2_入力シート【用途面積】'!G18)","v":""},null,null,null,"㎡",{"$f":"IF('2_入力シート【用途面積】'!I18=\"\",\"\",'2_入力シート【用途面積】'!I18)","v":""},null,null,null,"㎡",{"$f":"IF('2_入力シート【用途面積】'!K18=\"\",\"\",'2_入力シート【用途面積】'!K18)","v":""},null,null,null,"㎡",{"$f":"IF('2_入力シート【用途面積】'!M18=\"\",\"\",'2_入力シート【用途面積】'!M18)","v":""},null,null,null,"㎡",{"$f":"IF('2_入力シート【用途面積】'!O18=\"\",\"\",'2_入力シート【用途面積】'!O18)","v":""},null,null,null,"㎡",{"$f":"IF('2_入力シート【用途面積】'!Q18=\"\",\"\",'2_入力シート【用途面積】'!Q18)","v":""},null,null,null,"㎡",{"$f":"IF('2_入力シート【用途面積】'!S18=\"\",\"\",'2_入力シート【用途面積】'!S18)","v":""},null,null,null,"㎡"]
[null,"塔屋 2",null,null,"階",{"$f":"IF(BG319=1,\"\",'2_入力シート【用途面積】'!E19)","v":""},null,null,null,"㎡",{"$f":"IF('2_入力シート【用途面積】'!G19=\"\",\"\",'2_入力シート【用途面積】'!G19)","v":""},null,null,null,"㎡",{"$f":"IF('2_入力シート【用途面積】'!I19=\"\",\"\",'2_入力シート【用途面積】'!I19)","v":""},null,null,null,"㎡",{"$f":"IF('2_入力シート【用途面積】'!K19=\"\",\"\",'2_入力シート【用途面積】'!K19)","v":""},null,null,null,"㎡",{"$f":"IF('2_入力シート【用途面積】'!M19=\"\",\"\",'2_入力シート【用途面積】'!M19)","v":""},null,null,null,"㎡",{"$f":"IF('2_入力シート【用途面積】'!O19=\"\",\"\",'2_入力シート【用途面積】'!O19)","v":""},null,null,null,"㎡",{"$f":"IF('2_入力シート【用途面積】'!Q19=\"\",\"\",'2_入力シート【用途面積】'!Q19)","v":""},null,null,null,"㎡",{"$f":"IF('2_入力シート【用途面積】'!S19=\"\",\"\",'2_入力シート【用途面積】'!S19)","v":""},null,null,null,"㎡"]
[null,"塔屋 3",null,null,"階",{"$f":"IF(BG319=1,\"\",'2_入力シート【用途面積】'!E20)","v":""},null,null,null,"㎡",{"$f":"IF('2_入力シート【用途面積】'!G20=\"\",\"\",'2_入力シート【用途面積】'!G20)","v":""},null,null,null,"㎡",{"$f":"IF('2_入力シート【用途面積】'!I20=\"\",\"\",'2_入力シート【用途面積】'!I20)","v":""},null,null,null,"㎡",{"$f":"IF('2_入力シート【用途面積】'!K20=\"\",\"\",'2_入力シート【用途面積】'!K20)","v":""},null,null,null,"㎡",{"$f":"IF('2_入力シート【用途面積】'!M20=\"\",\"\",'2_入力シート【用途面積】'!M20)","v":""},null,null,null,"㎡",{"$f":"IF('2_入力シート【用途面積】'!O20=\"\",\"\",'2_入力シート【用途面積】'!O20)","v":""},null,null,null,"㎡",{"$f":"IF('2_入力シート【用途面積】'!Q20=\"\",\"\",'2_入力シート【用途面積】'!Q20)","v":""},null,null,null,"㎡",{"$f":"IF('2_入力シート【用途面積】'!S20=\"\",\"\",'2_入力シート【用途面積】'!S20)","v":""},null,null,null,"㎡"]
[null,"塔屋 4",null,null,"階",{"$f":"IF(BG319=1,\"\",'2_入力シート【用途面積】'!E21)","v":""},null,null,null,"㎡",{"$f":"IF('2_入力シート【用途面積】'!G21=\"\",\"\",'2_入力シート【用途面積】'!G21)","v":""},null,null,null,"㎡",{"$f":"IF('2_入力シート【用途面積】'!I21=\"\",\"\",'2_入力シート【用途面積】'!I21)","v":""},null,null,null,"㎡",{"$f":"IF('2_入力シート【用途面積】'!K21=\"\",\"\",'2_入力シート【用途面積】'!K21)","v":""},null,null,null,"㎡",{"$f":"IF('2_入力シート【用途面積】'!M21=\"\",\"\",'2_入力シート【用途面積】'!M21)","v":""},null,null,null,"㎡",{"$f":"IF('2_入力シート【用途面積】'!O21=\"\",\"\",'2_入力シート【用途面積】'!O21)","v":""},null,null,null,"㎡",{"$f":"IF('2_入力シート【用途面積】'!Q21=\"\",\"\",'2_入力シート【用途面積】'!Q21)","v":""},null,null,null,"㎡",{"$f":"IF('2_入力シート【用途面積】'!S21=\"\",\"\",'2_入力シート【用途面積】'!S21)","v":""},null,null,null,"㎡"]
[null,"塔屋 5",null,null,"階",{"$f":"IF(BG319=1,\"\",'2_入力シート【用途面積】'!E22)","v":""},null,null,null,"㎡",{"$f":"IF('2_入力シート【用途面積】'!G22=\"\",\"\",'2_入力シート【用途面積】'!G22)","v":""},null,null,null,"㎡",{"$f":"IF('2_入力シート【用途面積】'!I22=\"\",\"\",'2_入力シート【用途面積】'!I22)","v":""},null,null,null,"㎡",{"$f":"IF('2_入力シート【用途面積】'!K22=\"\",\"\",'2_入力シート【用途面積】'!K22)","v":""},null,null,null,"㎡",{"$f":"IF('2_入力シート【用途面積】'!M22=\"\",\"\",'2_入力シート【用途面積】'!M22)","v":""},null,null,null,"㎡",{"$f":"IF('2_入力シート【用途面積】'!O22=\"\",\"\",'2_入力シート【用途面積】'!O22)","v":""},null,null,null,"㎡",{"$f":"IF('2_入力シート【用途面積】'!Q22=\"\",\"\",'2_入力シート【用途面積】'!Q22)","v":""},null,null,null,"㎡",{"$f":"IF('2_入力シート【用途面積】'!S22=\"\",\"\",'2_入力シート【用途面積】'!S22)","v":""},null,null,null,"㎡"]
[null,null,1,null,"階",{"$f":"IF(BG319=1,\"\",'2_入力シート【用途面積】'!E23)","v":""},null,null,null,"㎡",{"$f":"IF('2_入力シート【用途面積】'!G23=\"\",\"\",'2_入力シート【用途面積】'!G23)","v":""},null,null,null,"㎡",{"$f":"IF('2_入力シート【用途面積】'!I23=\"\",\"\",'2_入力シート【用途面積】'!I23)","v":""},null,null,null,"㎡",{"$f":"IF('2_入力シート【用途面積】'!K23=\"\",\"\",'2_入力シート【用途面積】'!K23)","v":""},null,null,null,"㎡",{"$f":"IF('2_入力シート【用途面積】'!M23=\"\",\"\",'2_入力シート【用途面積】'!M23)","v":""},null,null,null,"㎡",{"$f":"IF('2_入力シート【用途面積】'!O23=\"\",\"\",'2_入力シート【用途面積】'!O23)","v":""},null,null,null,"㎡",{"$f":"IF('2_入力シート【用途面積】'!Q23=\"\",\"\",'2_入力シート【用途面積】'!Q23)","v":""},null,null,null,"㎡",{"$f":"IF('2_入力シート【用途面積】'!S23=\"\",\"\",'2_入力シート【用途面積】'!S23)","v":""},null,null,null,"㎡"]
[null,null,2,null,"階",{"$f":"IF(BG319=1,\"\",'2_入力シート【用途面積】'!E24)","v":""},null,null,null,"㎡",{"$f":"IF('2_入力シート【用途面積】'!G24=\"\",\"\",'2_入力シート【用途面積】'!G24)","v":""},null,null,null,"㎡",{"$f":"IF('2_入力シート【用途面積】'!I24=\"\",\"\",'2_入力シート【用途面積】'!I24)","v":""},null,null,null,"㎡",{"$f":"IF('2_入力シート【用途面積】'!K24=\"\",\"\",'2_入力シート【用途面積】'!K24)","v":""},null,null,null,"㎡",{"$f":"IF('2_入力シート【用途面積】'!M24=\"\",\"\",'2_入力シート【用途面積】'!M24)","v":""},null,null,null,"㎡",{"$f":"IF('2_入力シート【用途面積】'!O24=\"\",\"\",'2_入力シート【用途面積】'!O24)","v":""},null,null,null,"㎡",{"$f":"IF('2_入力シート【用途面積】'!Q24=\"\",\"\",'2_入力シート【用途面積】'!Q24)","v":""},null,null,null,"㎡",{"$f":"IF('2_入力シート【用途面積】'!S24=\"\",\"\",'2_入力シート【用途面積】'!S24)","v":""},null,null,null,"㎡"]
[null,null,3,null,"階",{"$f":"IF(BG319=1,\"\",'2_入力シート【用途面積】'!E25)","v":""},null,null,null,"㎡",{"$f":"IF('2_入力シート【用途面積】'!G25=\"\",\"\",'2_入力シート【用途面積】'!G25)","v":""},null,null,null,"㎡",{"$f":"IF('2_入力シート【用途面積】'!I25=\"\",\"\",'2_入力シート【用途面積】'!I25)","v":""},null,null,null,"㎡",{"$f":"IF('2_入力シート【用途面積】'!K25=\"\",\"\",'2_入力シート【用途面積】'!K25)","v":""},null,null,null,"㎡",{"$f":"IF('2_入力シート【用途面積】'!M25=\"\",\"\",'2_入力シート【用途面積】'!M25)","v":""},null,null,null,"㎡",{"$f":"IF('2_入力シート【用途面積】'!O25=\"\",\"\",'2_入力シート【用途面積】'!O25)","v":""},null,null,null,"㎡",{"$f":"IF('2_入力シート【用途面積】'!Q25=\"\",\"\",'2_入力シート【用途面積】'!Q25)","v":""},null,null,null,"㎡",{"$f":"IF('2_入力シート【用途面積】'!S25=\"\",\"\",'2_入力シート【用途面積】'!S25)","v":""},null,null,null,"㎡"]
[null,null,4,null,"階",{"$f":"IF(BG319=1,\"\",'2_入力シート【用途面積】'!E26)","v":""},null,null,null,"㎡",{"$f":"IF('2_入力シート【用途面積】'!G26=\"\",\"\",'2_入力シート【用途面積】'!G26)","v":""},null,null,null,"㎡",{"$f":"IF('2_入力シート【用途面積】'!I26=\"\",\"\",'2_入力シート【用途面積】'!I26)","v":""},null,null,null,"㎡",{"$f":"IF('2_入力シート【用途面積】'!K26=\"\",\"\",'2_入力シート【用途面積】'!K26)","v":""},null,null,null,"㎡",{"$f":"IF('2_入力シート【用途面積】'!M26=\"\",\"\",'2_入力シート【用途面積】'!M26)","v":""},null,null,null,"㎡",{"$f":"IF('2_入力シート【用途面積】'!O26=\"\",\"\",'2_入力シート【用途面積】'!O26)","v":""},null,null,null,"㎡",{"$f":"IF('2_入力シート【用途面積】'!Q26=\"\",\"\",'2_入力シート【用途面積】'!Q26)","v":""},null,null,null,"㎡",{"$f":"IF('2_入力シート【用途面積】'!S26=\"\",\"\",'2_入力シート【用途面積】'!S26)","v":""},null,null,null,"㎡"]
[null,null,5,null,"階",{"$f":"IF(BG319=1,\"\",'2_入力シート【用途面積】'!E27)","v":""},null,null,null,"㎡",{"$f":"IF('2_入力シート【用途面積】'!G27=\"\",\"\",'2_入力シート【用途面積】'!G27)","v":""},null,null,null,"㎡",{"$f":"IF('2_入力シート【用途面積】'!I27=\"\",\"\",'2_入力シート【用途面積】'!I27)","v":""},null,null,null,"㎡",{"$f":"IF('2_入力シート【用途面積】'!K27=\"\",\"\",'2_入力シート【用途面積】'!K27)","v":""},null,null,null,"㎡",{"$f":"IF('2_入力シート【用途面積】'!M27=\"\",\"\",'2_入力シート【用途面積】'!M27)","v":""},null,null,null,"㎡",{"$f":"IF('2_入力シート【用途面積】'!O27=\"\",\"\",'2_入力シート【用途面積】'!O27)","v":""},null,null,null,"㎡",{"$f":"IF('2_入力シート【用途面積】'!Q27=\"\",\"\",'2_入力シート【用途面積】'!Q27)","v":""},null,null,null,"㎡",{"$f":"IF('2_入力シート【用途面積】'!S27=\"\",\"\",'2_入力シート【用途面積】'!S27)","v":""},null,null,null,"㎡"]
[null,null,6,null,"階",{"$f":"IF(BG319=1,\"\",'2_入力シート【用途面積】'!E28)","v":""},null,null,null,"㎡",{"$f":"IF('2_入力シート【用途面積】'!G28=\"\",\"\",'2_入力シート【用途面積】'!G28)","v":""},null,null,null,"㎡",{"$f":"IF('2_入力シート【用途面積】'!I28=\"\",\"\",'2_入力シート【用途面積】'!I28)","v":""},null,null,null,"㎡",{"$f":"IF('2_入力シート【用途面積】'!K28=\"\",\"\",'2_入力シート【用途面積】'!K28)","v":""},null,null,null,"㎡",{"$f":"IF('2_入力シート【用途面積】'!M28=\"\",\"\",'2_入力シート【用途面積】'!M28)","v":""},null,null,null,"㎡",{"$f":"IF('2_入力シート【用途面積】'!O28=\"\",\"\",'2_入力シート【用途面積】'!O28)","v":""},null,null,null,"㎡",{"$f":"IF('2_入力シート【用途面積】'!Q28=\"\",\"\",'2_入力シート【用途面積】'!Q28)","v":""},null,null,null,"㎡",{"$f":"IF('2_入力シート【用途面積】'!S28=\"\",\"\",'2_入力シート【用途面積】'!S28)","v":""},null,null,null,"㎡"]
[null,null,7,null,"階",{"$f":"IF(BG319=1,\"\",'2_入力シート【用途面積】'!E29)","v":""},null,null,null,"㎡",{"$f":"IF('2_入力シート【用途面積】'!G29=\"\",\"\",'2_入力シート【用途面積】'!G29)","v":""},null,null,null,"㎡",{"$f":"IF('2_入力シート【用途面積】'!I29=\"\",\"\",'2_入力シート【用途面積】'!I29)","v":""},null,null,null,"㎡",{"$f":"IF('2_入力シート【用途面積】'!K29=\"\",\"\",'2_入力シート【用途面積】'!K29)","v":""},null,null,null,"㎡",{"$f":"IF('2_入力シート【用途面積】'!M29=\"\",\"\",'2_入力シート【用途面積】'!M29)","v":""},null,null,null,"㎡",{"$f":"IF('2_入力シート【用途面積】'!O29=\"\",\"\",'2_入力シート【用途面積】'!O29)","v":""},null,null,null,"㎡",{"$f":"IF('2_入力シート【用途面積】'!Q29=\"\",\"\",'2_入力シート【用途面積】'!Q29)","v":""},null,null,null,"㎡",{"$f":"IF('2_入力シート【用途面積】'!S29=\"\",\"\",'2_入力シート【用途面積】'!S29)","v":""},null,null,null,"㎡"]
[null,null,8,null,"階",{"$f":"IF(BG319=1,\"\",'2_入力シート【用途面積】'!E30)","v":""},null,null,null,"㎡",{"$f":"IF('2_入力シート【用途面積】'!G30=\"\",\"\",'2_入力シート【用途面積】'!G30)","v":""},null,null,null,"㎡",{"$f":"IF('2_入力シート【用途面積】'!I30=\"\",\"\",'2_入力シート【用途面積】'!I30)","v":""},null,null,null,"㎡",{"$f":"IF('2_入力シート【用途面積】'!K30=\"\",\"\",'2_入力シート【用途面積】'!K30)","v":""},null,null,null,"㎡",{"$f":"IF('2_入力シート【用途面積】'!M30=\"\",\"\",'2_入力シート【用途面積】'!M30)","v":""},null,null,null,"㎡",{"$f":"IF('2_入力シート【用途面積】'!O30=\"\",\"\",'2_入力シート【用途面積】'!O30)","v":""},null,null,null,"㎡",{"$f":"IF('2_入力シート【用途面積】'!Q30=\"\",\"\",'2_入力シート【用途面積】'!Q30)","v":""},null,null,null,"㎡",{"$f":"IF('2_入力シート【用途面積】'!S30=\"\",\"\",'2_入力シート【用途面積】'!S30)","v":""},null,null,null,"㎡"]
[null,null,9,null,"階",{"$f":"IF(BG319=1,\"\",'2_入力シート【用途面積】'!E31)","v":""},null,null,null,"㎡",{"$f":"IF('2_入力シート【用途面積】'!G31=\"\",\"\",'2_入力シート【用途面積】'!G31)","v":""},null,null,null,"㎡",{"$f":"IF('2_入力シート【用途面積】'!I31=\"\",\"\",'2_入力シート【用途面積】'!I31)","v":""},null,null,null,"㎡",{"$f":"IF('2_入力シート【用途面積】'!K31=\"\",\"\",'2_入力シート【用途面積】'!K31)","v":""},null,null,null,"㎡",{"$f":"IF('2_入力シート【用途面積】'!M31=\"\",\"\",'2_入力シート【用途面積】'!M31)","v":""},null,null,null,"㎡",{"$f":"IF('2_入力シート【用途面積】'!O31=\"\",\"\",'2_入力シート【用途面積】'!O31)","v":""},null,null,null,"㎡",{"$f":"IF('2_入力シート【用途面積】'!Q31=\"\",\"\",'2_入力シート【用途面積】'!Q31)","v":""},null,null,null,"㎡",{"$f":"IF('2_入力シート【用途面積】'!S31=\"\",\"\",'2_入力シート【用途面積】'!S31)","v":""},null,null,null,"㎡"]
[null,null,10,null,"階",{"$f":"IF(BG319=1,\"\",'2_入力シート【用途面積】'!E32)","v":""},null,null,null,"㎡",{"$f":"IF('2_入力シート【用途面積】'!G32=\"\",\"\",'2_入力シート【用途面積】'!G32)","v":""},null,null,null,"㎡",{"$f":"IF('2_入力シート【用途面積】'!I32=\"\",\"\",'2_入力シート【用途面積】'!I32)","v":""},null,null,null,"㎡",{"$f":"IF('2_入力シート【用途面積】'!K32=\"\",\"\",'2_入力シート【用途面積】'!K32)","v":""},null,null,null,"㎡",{"$f":"IF('2_入力シート【用途面積】'!M32=\"\",\"\",'2_入力シート【用途面積】'!M32)","v":""},null,null,null,"㎡",{"$f":"IF('2_入力シート【用途面積】'!O32=\"\",\"\",'2_入力シート【用途面積】'!O32)","v":""},null,null,null,"㎡",{"$f":"IF('2_入力シート【用途面積】'!Q32=\"\",\"\",'2_入力シート【用途面積】'!Q32)","v":""},null,null,null,"㎡",{"$f":"IF('2_入力シート【用途面積】'!S32=\"\",\"\",'2_入力シート【用途面積】'!S32)","v":""},null,null,null,"㎡"]
[null,null,11,null,"階",{"$f":"IF(BG319=1,\"\",'2_入力シート【用途面積】'!E33)","v":""},null,null,null,"㎡",{"$f":"IF('2_入力シート【用途面積】'!G33=\"\",\"\",'2_入力シート【用途面積】'!G33)","v":""},null,null,null,"㎡",{"$f":"IF('2_入力シート【用途面積】'!I33=\"\",\"\",'2_入力シート【用途面積】'!I33)","v":""},null,null,null,"㎡",{"$f":"IF('2_入力シート【用途面積】'!K33=\"\",\"\",'2_入力シート【用途面積】'!K33)","v":""},null,null,null,"㎡",{"$f":"IF('2_入力シート【用途面積】'!M33=\"\",\"\",'2_入力シート【用途面積】'!M33)","v":""},null,null,null,"㎡",{"$f":"IF('2_入力シート【用途面積】'!O33=\"\",\"\",'2_入力シート【用途面積】'!O33)","v":""},null,null,null,"㎡",{"$f":"IF('2_入力シート【用途面積】'!Q33=\"\",\"\",'2_入力シート【用途面積】'!Q33)","v":""},null,null,null,"㎡",{"$f":"IF('2_入力シート【用途面積】'!S33=\"\",\"\",'2_入力シート【用途面積】'!S33)","v":""},null,null,null,"㎡"]
[null,null,12,null,"階",{"$f":"IF(BG319=1,\"\",'2_入力シート【用途面積】'!E34)","v":""},null,null,null,"㎡",{"$f":"IF('2_入力シート【用途面積】'!G34=\"\",\"\",'2_入力シート【用途面積】'!G34)","v":""},null,null,null,"㎡",{"$f":"IF('2_入力シート【用途面積】'!I34=\"\",\"\",'2_入力シート【用途面積】'!I34)","v":""},null,null,null,"㎡",{"$f":"IF('2_入力シート【用途面積】'!K34=\"\",\"\",'2_入力シート【用途面積】'!K34)","v":""},null,null,null,"㎡",{"$f":"IF('2_入力シート【用途面積】'!M34=\"\",\"\",'2_入力シート【用途面積】'!M34)","v":""},null,null,null,"㎡",{"$f":"IF('2_入力シート【用途面積】'!O34=\"\",\"\",'2_入力シート【用途面積】'!O34)","v":""},null,null,null,"㎡",{"$f":"IF('2_入力シート【用途面積】'!Q34=\"\",\"\",'2_入力シート【用途面積】'!Q34)","v":""},null,null,null,"㎡",{"$f":"IF('2_入力シート【用途面積】'!S34=\"\",\"\",'2_入力シート【用途面積】'!S34)","v":""},null,null,null,"㎡"]
[null,null,13,null,"階",{"$f":"IF(BG319=1,\"\",'2_入力シート【用途面積】'!E35)","v":""},null,null,null,"㎡",{"$f":"IF('2_入力シート【用途面積】'!G35=\"\",\"\",'2_入力シート【用途面積】'!G35)","v":""},null,null,null,"㎡",{"$f":"IF('2_入力シート【用途面積】'!I35=\"\",\"\",'2_入力シート【用途面積】'!I35)","v":""},null,null,null,"㎡",{"$f":"IF('2_入力シート【用途面積】'!K35=\"\",\"\",'2_入力シート【用途面積】'!K35)","v":""},null,null,null,"㎡",{"$f":"IF('2_入力シート【用途面積】'!M35=\"\",\"\",'2_入力シート【用途面積】'!M35)","v":""},null,null,null,"㎡",{"$f":"IF('2_入力シート【用途面積】'!O35=\"\",\"\",'2_入力シート【用途面積】'!O35)","v":""},null,null,null,"㎡",{"$f":"IF('2_入力シート【用途面積】'!Q35=\"\",\"\",'2_入力シート【用途面積】'!Q35)","v":""},null,null,null,"㎡",{"$f":"IF('2_入力シート【用途面積】'!S35=\"\",\"\",'2_入力シート【用途面積】'!S35)","v":""},null,null,null,"㎡"]
[null,null,14,null,"階",{"$f":"IF(BG319=1,\"\",'2_入力シート【用途面積】'!E36)","v":""},null,null,null,"㎡",{"$f":"IF('2_入力シート【用途面積】'!G36=\"\",\"\",'2_入力シート【用途面積】'!G36)","v":""},null,null,null,"㎡",{"$f":"IF('2_入力シート【用途面積】'!I36=\"\",\"\",'2_入力シート【用途面積】'!I36)","v":""},null,null,null,"㎡",{"$f":"IF('2_入力シート【用途面積】'!K36=\"\",\"\",'2_入力シート【用途面積】'!K36)","v":""},null,null,null,"㎡",{"$f":"IF('2_入力シート【用途面積】'!M36=\"\",\"\",'2_入力シート【用途面積】'!M36)","v":""},null,null,null,"㎡",{"$f":"IF('2_入力シート【用途面積】'!O36=\"\",\"\",'2_入力シート【用途面積】'!O36)","v":""},null,null,null,"㎡",{"$f":"IF('2_入力シート【用途面積】'!Q36=\"\",\"\",'2_入力シート【用途面積】'!Q36)","v":""},null,null,null,"㎡",{"$f":"IF('2_入力シート【用途面積】'!S36=\"\",\"\",'2_入力シート【用途面積】'!S36)","v":""},null,null,null,"㎡"]
[null,null,15,null,"階",{"$f":"IF(BG319=1,\"\",'2_入力シート【用途面積】'!E37)","v":""},null,null,null,"㎡",{"$f":"IF('2_入力シート【用途面積】'!G37=\"\",\"\",'2_入力シート【用途面積】'!G37)","v":""},null,null,null,"㎡",{"$f":"IF('2_入力シート【用途面積】'!I37=\"\",\"\",'2_入力シート【用途面積】'!I37)","v":""},null,null,null,"㎡",{"$f":"IF('2_入力シート【用途面積】'!K37=\"\",\"\",'2_入力シート【用途面積】'!K37)","v":""},null,null,null,"㎡",{"$f":"IF('2_入力シート【用途面積】'!M37=\"\",\"\",'2_入力シート【用途面積】'!M37)","v":""},null,null,null,"㎡",{"$f":"IF('2_入力シート【用途面積】'!O37=\"\",\"\",'2_入力シート【用途面積】'!O37)","v":""},null,null,null,"㎡",{"$f":"IF('2_入力シート【用途面積】'!Q37=\"\",\"\",'2_入力シート【用途面積】'!Q37)","v":""},null,null,null,"㎡",{"$f":"IF('2_入力シート【用途面積】'!S37=\"\",\"\",'2_入力シート【用途面積】'!S37)","v":""},null,null,null,"㎡"]
[null,null,16,null,"階",{"$f":"IF(BG319=1,\"\",'2_入力シート【用途面積】'!E38)","v":""},null,null,null,"㎡",{"$f":"IF('2_入力シート【用途面積】'!G38=\"\",\"\",'2_入力シート【用途面積】'!G38)","v":""},null,null,null,"㎡",{"$f":"IF('2_入力シート【用途面積】'!I38=\"\",\"\",'2_入力シート【用途面積】'!I38)","v":""},null,null,null,"㎡",{"$f":"IF('2_入力シート【用途面積】'!K38=\"\",\"\",'2_入力シート【用途面積】'!K38)","v":""},null,null,null,"㎡",{"$f":"IF('2_入力シート【用途面積】'!M38=\"\",\"\",'2_入力シート【用途面積】'!M38)","v":""},null,null,null,"㎡",{"$f":"IF('2_入力シート【用途面積】'!O38=\"\",\"\",'2_入力シート【用途面積】'!O38)","v":""},null,null,null,"㎡",{"$f":"IF('2_入力シート【用途面積】'!Q38=\"\",\"\",'2_入力シート【用途面積】'!Q38)","v":""},null,null,null,"㎡",{"$f":"IF('2_入力シート【用途面積】'!S38=\"\",\"\",'2_入力シート【用途面積】'!S38)","v":""},null,null,null,"㎡"]
[null,null,17,null,"階",{"$f":"IF(BG319=1,\"\",'2_入力シート【用途面積】'!E39)","v":""},null,null,null,"㎡",{"$f":"IF('2_入力シート【用途面積】'!G39=\"\",\"\",'2_入力シート【用途面積】'!G39)","v":""},null,null,null,"㎡",{"$f":"IF('2_入力シート【用途面積】'!I39=\"\",\"\",'2_入力シート【用途面積】'!I39)","v":""},null,null,null,"㎡",{"$f":"IF('2_入力シート【用途面積】'!K39=\"\",\"\",'2_入力シート【用途面積】'!K39)","v":""},null,null,null,"㎡",{"$f":"IF('2_入力シート【用途面積】'!M39=\"\",\"\",'2_入力シート【用途面積】'!M39)","v":""},null,null,null,"㎡",{"$f":"IF('2_入力シート【用途面積】'!O39=\"\",\"\",'2_入力シート【用途面積】'!O39)","v":""},null,null,null,"㎡",{"$f":"IF('2_入力シート【用途面積】'!Q39=\"\",\"\",'2_入力シート【用途面積】'!Q39)","v":""},null,null,null,"㎡",{"$f":"IF('2_入力シート【用途面積】'!S39=\"\",\"\",'2_入力シート【用途面積】'!S39)","v":""},null,null,null,"㎡"]
[null,null,18,null,"階",{"$f":"IF(BG319=1,\"\",'2_入力シート【用途面積】'!E40)","v":""},null,null,null,"㎡",{"$f":"IF('2_入力シート【用途面積】'!G40=\"\",\"\",'2_入力シート【用途面積】'!G40)","v":""},null,null,null,"㎡",{"$f":"IF('2_入力シート【用途面積】'!I40=\"\",\"\",'2_入力シート【用途面積】'!I40)","v":""},null,null,null,"㎡",{"$f":"IF('2_入力シート【用途面積】'!K40=\"\",\"\",'2_入力シート【用途面積】'!K40)","v":""},null,null,null,"㎡",{"$f":"IF('2_入力シート【用途面積】'!M40=\"\",\"\",'2_入力シート【用途面積】'!M40)","v":""},null,null,null,"㎡",{"$f":"IF('2_入力シート【用途面積】'!O40=\"\",\"\",'2_入力シート【用途面積】'!O40)","v":""},null,null,null,"㎡",{"$f":"IF('2_入力シート【用途面積】'!Q40=\"\",\"\",'2_入力シート【用途面積】'!Q40)","v":""},null,null,null,"㎡",{"$f":"IF('2_入力シート【用途面積】'!S40=\"\",\"\",'2_入力シート【用途面積】'!S40)","v":""},null,null,null,"㎡"]
[null,null,19,null,"階",{"$f":"IF(BG319=1,\"\",'2_入力シート【用途面積】'!E41)","v":""},null,null,null,"㎡",{"$f":"IF('2_入力シート【用途面積】'!G41=\"\",\"\",'2_入力シート【用途面積】'!G41)","v":""},null,null,null,"㎡",{"$f":"IF('2_入力シート【用途面積】'!I41=\"\",\"\",'2_入力シート【用途面積】'!I41)","v":""},null,null,null,"㎡",{"$f":"IF('2_入力シート【用途面積】'!K41=\"\",\"\",'2_入力シート【用途面積】'!K41)","v":""},null,null,null,"㎡",{"$f":"IF('2_入力シート【用途面積】'!M41=\"\",\"\",'2_入力シート【用途面積】'!M41)","v":""},null,null,null,"㎡",{"$f":"IF('2_入力シート【用途面積】'!O41=\"\",\"\",'2_入力シート【用途面積】'!O41)","v":""},null,null,null,"㎡",{"$f":"IF('2_入力シート【用途面積】'!Q41=\"\",\"\",'2_入力シート【用途面積】'!Q41)","v":""},null,null,null,"㎡",{"$f":"IF('2_入力シート【用途面積】'!S41=\"\",\"\",'2_入力シート【用途面積】'!S41)","v":""},null,null,null,"㎡"]
[null,null,20,null,"階",{"$f":"IF(BG319=1,\"\",'2_入力シート【用途面積】'!E42)","v":""},null,null,null,"㎡",{"$f":"IF('2_入力シート【用途面積】'!G42=\"\",\"\",'2_入力シート【用途面積】'!G42)","v":""},null,null,null,"㎡",{"$f":"IF('2_入力シート【用途面積】'!I42=\"\",\"\",'2_入力シート【用途面積】'!I42)","v":""},null,null,null,"㎡",{"$f":"IF('2_入力シート【用途面積】'!K42=\"\",\"\",'2_入力シート【用途面積】'!K42)","v":""},null,null,null,"㎡",{"$f":"IF('2_入力シート【用途面積】'!M42=\"\",\"\",'2_入力シート【用途面積】'!M42)","v":""},null,null,null,"㎡",{"$f":"IF('2_入力シート【用途面積】'!O42=\"\",\"\",'2_入力シート【用途面積】'!O42)","v":""},null,null,null,"㎡",{"$f":"IF('2_入力シート【用途面積】'!Q42=\"\",\"\",'2_入力シート【用途面積】'!Q42)","v":""},null,null,null,"㎡",{"$f":"IF('2_入力シート【用途面積】'!S42=\"\",\"\",'2_入力シート【用途面積】'!S42)","v":""},null,null,null,"㎡"]
[null,null,21,null,"階",{"$f":"IF(BG319=1,\"\",'2_入力シート【用途面積】'!E43)","v":""},null,null,null,"㎡",{"$f":"IF('2_入力シート【用途面積】'!G43=\"\",\"\",'2_入力シート【用途面積】'!G43)","v":""},null,null,null,"㎡",{"$f":"IF('2_入力シート【用途面積】'!I43=\"\",\"\",'2_入力シート【用途面積】'!I43)","v":""},null,null,null,"㎡",{"$f":"IF('2_入力シート【用途面積】'!K43=\"\",\"\",'2_入力シート【用途面積】'!K43)","v":""},null,null,null,"㎡",{"$f":"IF('2_入力シート【用途面積】'!M43=\"\",\"\",'2_入力シート【用途面積】'!M43)","v":""},null,null,null,"㎡",{"$f":"IF('2_入力シート【用途面積】'!O43=\"\",\"\",'2_入力シート【用途面積】'!O43)","v":""},null,null,null,"㎡",{"$f":"IF('2_入力シート【用途面積】'!Q43=\"\",\"\",'2_入力シート【用途面積】'!Q43)","v":""},null,null,null,"㎡",{"$f":"IF('2_入力シート【用途面積】'!S43=\"\",\"\",'2_入力シート【用途面積】'!S43)","v":""},null,null,null,"㎡"]
[null,null,22,null,"階",{"$f":"IF(BG319=1,\"\",'2_入力シート【用途面積】'!E44)","v":""},null,null,null,"㎡",{"$f":"IF('2_入力シート【用途面積】'!G44=\"\",\"\",'2_入力シート【用途面積】'!G44)","v":""},null,null,null,"㎡",{"$f":"IF('2_入力シート【用途面積】'!I44=\"\",\"\",'2_入力シート【用途面積】'!I44)","v":""},null,null,null,"㎡",{"$f":"IF('2_入力シート【用途面積】'!K44=\"\",\"\",'2_入力シート【用途面積】'!K44)","v":""},null,null,null,"㎡",{"$f":"IF('2_入力シート【用途面積】'!M44=\"\",\"\",'2_入力シート【用途面積】'!M44)","v":""},null,null,null,"㎡",{"$f":"IF('2_入力シート【用途面積】'!O44=\"\",\"\",'2_入力シート【用途面積】'!O44)","v":""},null,null,null,"㎡",{"$f":"IF('2_入力シート【用途面積】'!Q44=\"\",\"\",'2_入力シート【用途面積】'!Q44)","v":""},null,null,null,"㎡",{"$f":"IF('2_入力シート【用途面積】'!S44=\"\",\"\",'2_入力シート【用途面積】'!S44)","v":""},null,null,null,"㎡"]
[null,null,23,null,"階",{"$f":"IF(BG319=1,\"\",'2_入力シート【用途面積】'!E45)","v":""},null,null,null,"㎡",{"$f":"IF('2_入力シート【用途面積】'!G45=\"\",\"\",'2_入力シート【用途面積】'!G45)","v":""},null,null,null,"㎡",{"$f":"IF('2_入力シート【用途面積】'!I45=\"\",\"\",'2_入力シート【用途面積】'!I45)","v":""},null,null,null,"㎡",{"$f":"IF('2_入力シート【用途面積】'!K45=\"\",\"\",'2_入力シート【用途面積】'!K45)","v":""},null,null,null,"㎡",{"$f":"IF('2_入力シート【用途面積】'!M45=\"\",\"\",'2_入力シート【用途面積】'!M45)","v":""},null,null,null,"㎡",{"$f":"IF('2_入力シート【用途面積】'!O45=\"\",\"\",'2_入力シート【用途面積】'!O45)","v":""},null,null,null,"㎡",{"$f":"IF('2_入力シート【用途面積】'!Q45=\"\",\"\",'2_入力シート【用途面積】'!Q45)","v":""},null,null,null,"㎡",{"$f":"IF('2_入力シート【用途面積】'!S45=\"\",\"\",'2_入力シート【用途面積】'!S45)","v":""},null,null,null,"㎡"]
[null,null,24,null,"階",{"$f":"IF(BG319=1,\"\",'2_入力シート【用途面積】'!E46)","v":""},null,null,null,"㎡",{"$f":"IF('2_入力シート【用途面積】'!G46=\"\",\"\",'2_入力シート【用途面積】'!G46)","v":""},null,null,null,"㎡",{"$f":"IF('2_入力シート【用途面積】'!I46=\"\",\"\",'2_入力シート【用途面積】'!I46)","v":""},null,null,null,"㎡",{"$f":"IF('2_入力シート【用途面積】'!K46=\"\",\"\",'2_入力シート【用途面積】'!K46)","v":""},null,null,null,"㎡",{"$f":"IF('2_入力シート【用途面積】'!M46=\"\",\"\",'2_入力シート【用途面積】'!M46)","v":""},null,null,null,"㎡",{"$f":"IF('2_入力シート【用途面積】'!O46=\"\",\"\",'2_入力シート【用途面積】'!O46)","v":""},null,null,null,"㎡",{"$f":"IF('2_入力シート【用途面積】'!Q46=\"\",\"\",'2_入力シート【用途面積】'!Q46)","v":""},null,null,null,"㎡",{"$f":"IF('2_入力シート【用途面積】'!S46=\"\",\"\",'2_入力シート【用途面積】'!S46)","v":""},null,null,null,"㎡"]
[null,null,25,null,"階",{"$f":"IF(BG319=1,\"\",'2_入力シート【用途面積】'!E47)","v":""},null,null,null,"㎡",{"$f":"IF('2_入力シート【用途面積】'!G47=\"\",\"\",'2_入力シート【用途面積】'!G47)","v":""},null,null,null,"㎡",{"$f":"IF('2_入力シート【用途面積】'!I47=\"\",\"\",'2_入力シート【用途面積】'!I47)","v":""},null,null,null,"㎡",{"$f":"IF('2_入力シート【用途面積】'!K47=\"\",\"\",'2_入力シート【用途面積】'!K47)","v":""},null,null,null,"㎡",{"$f":"IF('2_入力シート【用途面積】'!M47=\"\",\"\",'2_入力シート【用途面積】'!M47)","v":""},null,null,null,"㎡",{"$f":"IF('2_入力シート【用途面積】'!O47=\"\",\"\",'2_入力シート【用途面積】'!O47)","v":""},null,null,null,"㎡",{"$f":"IF('2_入力シート【用途面積】'!Q47=\"\",\"\",'2_入力シート【用途面積】'!Q47)","v":""},null,null,null,"㎡",{"$f":"IF('2_入力シート【用途面積】'!S47=\"\",\"\",'2_入力シート【用途面積】'!S47)","v":""},null,null,null,"㎡"]
[null,null,26,null,"階",{"$f":"IF(BG319=1,\"\",'2_入力シート【用途面積】'!E48)","v":""},null,null,null,"㎡",{"$f":"IF('2_入力シート【用途面積】'!G48=\"\",\"\",'2_入力シート【用途面積】'!G48)","v":""},null,null,null,"㎡",{"$f":"IF('2_入力シート【用途面積】'!I48=\"\",\"\",'2_入力シート【用途面積】'!I48)","v":""},null,null,null,"㎡",{"$f":"IF('2_入力シート【用途面積】'!K48=\"\",\"\",'2_入力シート【用途面積】'!K48)","v":""},null,null,null,"㎡",{"$f":"IF('2_入力シート【用途面積】'!M48=\"\",\"\",'2_入力シート【用途面積】'!M48)","v":""},null,null,null,"㎡",{"$f":"IF('2_入力シート【用途面積】'!O48=\"\",\"\",'2_入力シート【用途面積】'!O48)","v":""},null,null,null,"㎡",{"$f":"IF('2_入力シート【用途面積】'!Q48=\"\",\"\",'2_入力シート【用途面積】'!Q48)","v":""},null,null,null,"㎡",{"$f":"IF('2_入力シート【用途面積】'!S48=\"\",\"\",'2_入力シート【用途面積】'!S48)","v":""},null,null,null,"㎡"]
[null,null,27,null,"階",{"$f":"IF(BG319=1,\"\",'2_入力シート【用途面積】'!E49)","v":""},null,null,null,"㎡",{"$f":"IF('2_入力シート【用途面積】'!G49=\"\",\"\",'2_入力シート【用途面積】'!G49)","v":""},null,null,null,"㎡",{"$f":"IF('2_入力シート【用途面積】'!I49=\"\",\"\",'2_入力シート【用途面積】'!I49)","v":""},null,null,null,"㎡",{"$f":"IF('2_入力シート【用途面積】'!K49=\"\",\"\",'2_入力シート【用途面積】'!K49)","v":""},null,null,null,"㎡",{"$f":"IF('2_入力シート【用途面積】'!M49=\"\",\"\",'2_入力シート【用途面積】'!M49)","v":""},null,null,null,"㎡",{"$f":"IF('2_入力シート【用途面積】'!O49=\"\",\"\",'2_入力シート【用途面積】'!O49)","v":""},null,null,null,"㎡",{"$f":"IF('2_入力シート【用途面積】'!Q49=\"\",\"\",'2_入力シート【用途面積】'!Q49)","v":""},null,null,null,"㎡",{"$f":"IF('2_入力シート【用途面積】'!S49=\"\",\"\",'2_入力シート【用途面積】'!S49)","v":""},null,null,null,"㎡"]
[null,null,28,null,"階",{"$f":"IF(BG319=1,\"\",'2_入力シート【用途面積】'!E50)","v":""},null,null,null,"㎡",{"$f":"IF('2_入力シート【用途面積】'!G50=\"\",\"\",'2_入力シート【用途面積】'!G50)","v":""},null,null,null,"㎡",{"$f":"IF('2_入力シート【用途面積】'!I50=\"\",\"\",'2_入力シート【用途面積】'!I50)","v":""},null,null,null,"㎡",{"$f":"IF('2_入力シート【用途面積】'!K50=\"\",\"\",'2_入力シート【用途面積】'!K50)","v":""},null,null,null,"㎡",{"$f":"IF('2_入力シート【用途面積】'!M50=\"\",\"\",'2_入力シート【用途面積】'!M50)","v":""},null,null,null,"㎡",{"$f":"IF('2_入力シート【用途面積】'!O50=\"\",\"\",'2_入力シート【用途面積】'!O50)","v":""},null,null,null,"㎡",{"$f":"IF('2_入力シート【用途面積】'!Q50=\"\",\"\",'2_入力シート【用途面積】'!Q50)","v":""},null,null,null,"㎡",{"$f":"IF('2_入力シート【用途面積】'!S50=\"\",\"\",'2_入力シート【用途面積】'!S50)","v":""},null,null,null,"㎡"]
[null,null,29,null,"階",{"$f":"IF(BG319=1,\"\",'2_入力シート【用途面積】'!E51)","v":""},null,null,null,"㎡",{"$f":"IF('2_入力シート【用途面積】'!G51=\"\",\"\",'2_入力シート【用途面積】'!G51)","v":""},null,null,null,"㎡",{"$f":"IF('2_入力シート【用途面積】'!I51=\"\",\"\",'2_入力シート【用途面積】'!I51)","v":""},null,null,null,"㎡",{"$f":"IF('2_入力シート【用途面積】'!K51=\"\",\"\",'2_入力シート【用途面積】'!K51)","v":""},null,null,null,"㎡",{"$f":"IF('2_入力シート【用途面積】'!M51=\"\",\"\",'2_入力シート【用途面積】'!M51)","v":""},null,null,null,"㎡",{"$f":"IF('2_入力シート【用途面積】'!O51=\"\",\"\",'2_入力シート【用途面積】'!O51)","v":""},null,null,null,"㎡",{"$f":"IF('2_入力シート【用途面積】'!Q51=\"\",\"\",'2_入力シート【用途面積】'!Q51)","v":""},null,null,null,"㎡",{"$f":"IF('2_入力シート【用途面積】'!S51=\"\",\"\",'2_入力シート【用途面積】'!S51)","v":""},null,null,null,"㎡"]
[null,null,30,null,"階",{"$f":"IF(BG319=1,\"\",'2_入力シート【用途面積】'!E52)","v":""},null,null,null,"㎡",{"$f":"IF('2_入力シート【用途面積】'!G52=\"\",\"\",'2_入力シート【用途面積】'!G52)","v":""},null,null,null,"㎡",{"$f":"IF('2_入力シート【用途面積】'!I52=\"\",\"\",'2_入力シート【用途面積】'!I52)","v":""},null,null,null,"㎡",{"$f":"IF('2_入力シート【用途面積】'!K52=\"\",\"\",'2_入力シート【用途面積】'!K52)","v":""},null,null,null,"㎡",{"$f":"IF('2_入力シート【用途面積】'!M52=\"\",\"\",'2_入力シート【用途面積】'!M52)","v":""},null,null,null,"㎡",{"$f":"IF('2_入力シート【用途面積】'!O52=\"\",\"\",'2_入力シート【用途面積】'!O52)","v":""},null,null,null,"㎡",{"$f":"IF('2_入力シート【用途面積】'!Q52=\"\",\"\",'2_入力シート【用途面積】'!Q52)","v":""},null,null,null,"㎡",{"$f":"IF('2_入力シート【用途面積】'!S52=\"\",\"\",'2_入力シート【用途面積】'!S52)","v":""},null,null,null,"㎡"]
[null,null,31,null,"階",{"$f":"IF(BG319=1,\"\",'2_入力シート【用途面積】'!E53)","v":""},null,null,null,"㎡",{"$f":"IF('2_入力シート【用途面積】'!G53=\"\",\"\",'2_入力シート【用途面積】'!G53)","v":""},null,null,null,"㎡",{"$f":"IF('2_入力シート【用途面積】'!I53=\"\",\"\",'2_入力シート【用途面積】'!I53)","v":""},null,null,null,"㎡",{"$f":"IF('2_入力シート【用途面積】'!K53=\"\",\"\",'2_入力シート【用途面積】'!K53)","v":""},null,null,null,"㎡",{"$f":"IF('2_入力シート【用途面積】'!M53=\"\",\"\",'2_入力シート【用途面積】'!M53)","v":""},null,null,null,"㎡",{"$f":"IF('2_入力シート【用途面積】'!O53=\"\",\"\",'2_入力シート【用途面積】'!O53)","v":""},null,null,null,"㎡",{"$f":"IF('2_入力シート【用途面積】'!Q53=\"\",\"\",'2_入力シート【用途面積】'!Q53)","v":""},null,null,null,"㎡",{"$f":"IF('2_入力シート【用途面積】'!S53=\"\",\"\",'2_入力シート【用途面積】'!S53)","v":""},null,null,null,"㎡"]
[null,null,32,null,"階",{"$f":"IF(BG319=1,\"\",'2_入力シート【用途面積】'!E54)","v":""},null,null,null,"㎡",{"$f":"IF('2_入力シート【用途面積】'!G54=\"\",\"\",'2_入力シート【用途面積】'!G54)","v":""},null,null,null,"㎡",{"$f":"IF('2_入力シート【用途面積】'!I54=\"\",\"\",'2_入力シート【用途面積】'!I54)","v":""},null,null,null,"㎡",{"$f":"IF('2_入力シート【用途面積】'!K54=\"\",\"\",'2_入力シート【用途面積】'!K54)","v":""},null,null,null,"㎡",{"$f":"IF('2_入力シート【用途面積】'!M54=\"\",\"\",'2_入力シート【用途面積】'!M54)","v":""},null,null,null,"㎡",{"$f":"IF('2_入力シート【用途面積】'!O54=\"\",\"\",'2_入力シート【用途面積】'!O54)","v":""},null,null,null,"㎡",{"$f":"IF('2_入力シート【用途面積】'!Q54=\"\",\"\",'2_入力シート【用途面積】'!Q54)","v":""},null,null,null,"㎡",{"$f":"IF('2_入力シート【用途面積】'!S54=\"\",\"\",'2_入力シート【用途面積】'!S54)","v":""},null,null,null,"㎡"]
[null,null,33,null,"階",{"$f":"IF(BG319=1,\"\",'2_入力シート【用途面積】'!E55)","v":""},null,null,null,"㎡",{"$f":"IF('2_入力シート【用途面積】'!G55=\"\",\"\",'2_入力シート【用途面積】'!G55)","v":""},null,null,null,"㎡",{"$f":"IF('2_入力シート【用途面積】'!I55=\"\",\"\",'2_入力シート【用途面積】'!I55)","v":""},null,null,null,"㎡",{"$f":"IF('2_入力シート【用途面積】'!K55=\"\",\"\",'2_入力シート【用途面積】'!K55)","v":""},null,null,null,"㎡",{"$f":"IF('2_入力シート【用途面積】'!M55=\"\",\"\",'2_入力シート【用途面積】'!M55)","v":""},null,null,null,"㎡",{"$f":"IF('2_入力シート【用途面積】'!O55=\"\",\"\",'2_入力シート【用途面積】'!O55)","v":""},null,null,null,"㎡",{"$f":"IF('2_入力シート【用途面積】'!Q55=\"\",\"\",'2_入力シート【用途面積】'!Q55)","v":""},null,null,null,"㎡",{"$f":"IF('2_入力シート【用途面積】'!S55=\"\",\"\",'2_入力シート【用途面積】'!S55)","v":""},null,null,null,"㎡"]
[null,null,34,null,"階",{"$f":"IF(BG319=1,\"\",'2_入力シート【用途面積】'!E56)","v":""},null,null,null,"㎡",{"$f":"IF('2_入力シート【用途面積】'!G56=\"\",\"\",'2_入力シート【用途面積】'!G56)","v":""},null,null,null,"㎡",{"$f":"IF('2_入力シート【用途面積】'!I56=\"\",\"\",'2_入力シート【用途面積】'!I56)","v":""},null,null,null,"㎡",{"$f":"IF('2_入力シート【用途面積】'!K56=\"\",\"\",'2_入力シート【用途面積】'!K56)","v":""},null,null,null,"㎡",{"$f":"IF('2_入力シート【用途面積】'!M56=\"\",\"\",'2_入力シート【用途面積】'!M56)","v":""},null,null,null,"㎡",{"$f":"IF('2_入力シート【用途面積】'!O56=\"\",\"\",'2_入力シート【用途面積】'!O56)","v":""},null,null,null,"㎡",{"$f":"IF('2_入力シート【用途面積】'!Q56=\"\",\"\",'2_入力シート【用途面積】'!Q56)","v":""},null,null,null,"㎡",{"$f":"IF('2_入力シート【用途面積】'!S56=\"\",\"\",'2_入力シート【用途面積】'!S56)","v":""},null,null,null,"㎡"]
[null,null,35,null,"階",{"$f":"IF(BG319=1,\"\",'2_入力シート【用途面積】'!E57)","v":""},null,null,null,"㎡",{"$f":"IF('2_入力シート【用途面積】'!G57=\"\",\"\",'2_入力シート【用途面積】'!G57)","v":""},null,null,null,"㎡",{"$f":"IF('2_入力シート【用途面積】'!I57=\"\",\"\",'2_入力シート【用途面積】'!I57)","v":""},null,null,null,"㎡",{"$f":"IF('2_入力シート【用途面積】'!K57=\"\",\"\",'2_入力シート【用途面積】'!K57)","v":""},null,null,null,"㎡",{"$f":"IF('2_入力シート【用途面積】'!M57=\"\",\"\",'2_入力シート【用途面積】'!M57)","v":""},null,null,null,"㎡",{"$f":"IF('2_入力シート【用途面積】'!O57=\"\",\"\",'2_入力シート【用途面積】'!O57)","v":""},null,null,null,"㎡",{"$f":"IF('2_入力シート【用途面積】'!Q57=\"\",\"\",'2_入力シート【用途面積】'!Q57)","v":""},null,null,null,"㎡",{"$f":"IF('2_入力シート【用途面積】'!S57=\"\",\"\",'2_入力シート【用途面積】'!S57)","v":""},null,null,null,"㎡"]
[null,null,36,null,"階",{"$f":"IF(BG319=1,\"\",'2_入力シート【用途面積】'!E58)","v":""},null,null,null,"㎡",{"$f":"IF('2_入力シート【用途面積】'!G58=\"\",\"\",'2_入力シート【用途面積】'!G58)","v":""},null,null,null,"㎡",{"$f":"IF('2_入力シート【用途面積】'!I58=\"\",\"\",'2_入力シート【用途面積】'!I58)","v":""},null,null,null,"㎡",{"$f":"IF('2_入力シート【用途面積】'!K58=\"\",\"\",'2_入力シート【用途面積】'!K58)","v":""},null,null,null,"㎡",{"$f":"IF('2_入力シート【用途面積】'!M58=\"\",\"\",'2_入力シート【用途面積】'!M58)","v":""},null,null,null,"㎡",{"$f":"IF('2_入力シート【用途面積】'!O58=\"\",\"\",'2_入力シート【用途面積】'!O58)","v":""},null,null,null,"㎡",{"$f":"IF('2_入力シート【用途面積】'!Q58=\"\",\"\",'2_入力シート【用途面積】'!Q58)","v":""},null,null,null,"㎡",{"$f":"IF('2_入力シート【用途面積】'!S58=\"\",\"\",'2_入力シート【用途面積】'!S58)","v":""},null,null,null,"㎡"]
[null,null,37,null,"階",{"$f":"IF(BG319=1,\"\",'2_入力シート【用途面積】'!E59)","v":""},null,null,null,"㎡",{"$f":"IF('2_入力シート【用途面積】'!G59=\"\",\"\",'2_入力シート【用途面積】'!G59)","v":""},null,null,null,"㎡",{"$f":"IF('2_入力シート【用途面積】'!I59=\"\",\"\",'2_入力シート【用途面積】'!I59)","v":""},null,null,null,"㎡",{"$f":"IF('2_入力シート【用途面積】'!K59=\"\",\"\",'2_入力シート【用途面積】'!K59)","v":""},null,null,null,"㎡",{"$f":"IF('2_入力シート【用途面積】'!M59=\"\",\"\",'2_入力シート【用途面積】'!M59)","v":""},null,null,null,"㎡",{"$f":"IF('2_入力シート【用途面積】'!O59=\"\",\"\",'2_入力シート【用途面積】'!O59)","v":""},null,null,null,"㎡",{"$f":"IF('2_入力シート【用途面積】'!Q59=\"\",\"\",'2_入力シート【用途面積】'!Q59)","v":""},null,null,null,"㎡",{"$f":"IF('2_入力シート【用途面積】'!S59=\"\",\"\",'2_入力シート【用途面積】'!S59)","v":""},null,null,null,"㎡"]
[null,null,38,null,"階",{"$f":"IF(BG319=1,\"\",'2_入力シート【用途面積】'!E60)","v":""},null,null,null,"㎡",{"$f":"IF('2_入力シート【用途面積】'!G60=\"\",\"\",'2_入力シート【用途面積】'!G60)","v":""},null,null,null,"㎡",{"$f":"IF('2_入力シート【用途面積】'!I60=\"\",\"\",'2_入力シート【用途面積】'!I60)","v":""},null,null,null,"㎡",{"$f":"IF('2_入力シート【用途面積】'!K60=\"\",\"\",'2_入力シート【用途面積】'!K60)","v":""},null,null,null,"㎡",{"$f":"IF('2_入力シート【用途面積】'!M60=\"\",\"\",'2_入力シート【用途面積】'!M60)","v":""},null,null,null,"㎡",{"$f":"IF('2_入力シート【用途面積】'!O60=\"\",\"\",'2_入力シート【用途面積】'!O60)","v":""},null,null,null,"㎡",{"$f":"IF('2_入力シート【用途面積】'!Q60=\"\",\"\",'2_入力シート【用途面積】'!Q60)","v":""},null,null,null,"㎡",{"$f":"IF('2_入力シート【用途面積】'!S60=\"\",\"\",'2_入力シート【用途面積】'!S60)","v":""},null,null,null,"㎡"]
[null,null,39,null,"階",{"$f":"IF(BG319=1,\"\",'2_入力シート【用途面積】'!E61)","v":""},null,null,null,"㎡",{"$f":"IF('2_入力シート【用途面積】'!G61=\"\",\"\",'2_入力シート【用途面積】'!G61)","v":""},null,null,null,"㎡",{"$f":"IF('2_入力シート【用途面積】'!I61=\"\",\"\",'2_入力シート【用途面積】'!I61)","v":""},null,null,null,"㎡",{"$f":"IF('2_入力シート【用途面積】'!K61=\"\",\"\",'2_入力シート【用途面積】'!K61)","v":""},null,null,null,"㎡",{"$f":"IF('2_入力シート【用途面積】'!M61=\"\",\"\",'2_入力シート【用途面積】'!M61)","v":""},null,null,null,"㎡",{"$f":"IF('2_入力シート【用途面積】'!O61=\"\",\"\",'2_入力シート【用途面積】'!O61)","v":""},null,null,null,"㎡",{"$f":"IF('2_入力シート【用途面積】'!Q61=\"\",\"\",'2_入力シート【用途面積】'!Q61)","v":""},null,null,null,"㎡",{"$f":"IF('2_入力シート【用途面積】'!S61=\"\",\"\",'2_入力シート【用途面積】'!S61)","v":""},null,null,null,"㎡"]
[null,null,40,null,"階",{"$f":"IF(BG319=1,\"\",'2_入力シート【用途面積】'!E62)","v":""},null,null,null,"㎡",{"$f":"IF('2_入力シート【用途面積】'!G62=\"\",\"\",'2_入力シート【用途面積】'!G62)","v":""},null,null,null,"㎡",{"$f":"IF('2_入力シート【用途面積】'!I62=\"\",\"\",'2_入力シート【用途面積】'!I62)","v":""},null,null,null,"㎡",{"$f":"IF('2_入力シート【用途面積】'!K62=\"\",\"\",'2_入力シート【用途面積】'!K62)","v":""},null,null,null,"㎡",{"$f":"IF('2_入力シート【用途面積】'!M62=\"\",\"\",'2_入力シート【用途面積】'!M62)","v":""},null,null,null,"㎡",{"$f":"IF('2_入力シート【用途面積】'!O62=\"\",\"\",'2_入力シート【用途面積】'!O62)","v":""},null,null,null,"㎡",{"$f":"IF('2_入力シート【用途面積】'!Q62=\"\",\"\",'2_入力シート【用途面積】'!Q62)","v":""},null,null,null,"㎡",{"$f":"IF('2_入力シート【用途面積】'!S62=\"\",\"\",'2_入力シート【用途面積】'!S62)","v":""},null,null,null,"㎡"]
[null,null,41,null,"階",{"$f":"IF(BG319=1,\"\",'2_入力シート【用途面積】'!E63)","v":""},null,null,null,"㎡",{"$f":"IF('2_入力シート【用途面積】'!G63=\"\",\"\",'2_入力シート【用途面積】'!G63)","v":""},null,null,null,"㎡",{"$f":"IF('2_入力シート【用途面積】'!I63=\"\",\"\",'2_入力シート【用途面積】'!I63)","v":""},null,null,null,"㎡",{"$f":"IF('2_入力シート【用途面積】'!K63=\"\",\"\",'2_入力シート【用途面積】'!K63)","v":""},null,null,null,"㎡",{"$f":"IF('2_入力シート【用途面積】'!M63=\"\",\"\",'2_入力シート【用途面積】'!M63)","v":""},null,null,null,"㎡",{"$f":"IF('2_入力シート【用途面積】'!O63=\"\",\"\",'2_入力シート【用途面積】'!O63)","v":""},null,null,null,"㎡",{"$f":"IF('2_入力シート【用途面積】'!Q63=\"\",\"\",'2_入力シート【用途面積】'!Q63)","v":""},null,null,null,"㎡",{"$f":"IF('2_入力シート【用途面積】'!S63=\"\",\"\",'2_入力シート【用途面積】'!S63)","v":""},null,null,null,"㎡"]
[null,null,42,null,"階",{"$f":"IF(BG319=1,\"\",'2_入力シート【用途面積】'!E64)","v":""},null,null,null,"㎡",{"$f":"IF('2_入力シート【用途面積】'!G64=\"\",\"\",'2_入力シート【用途面積】'!G64)","v":""},null,null,null,"㎡",{"$f":"IF('2_入力シート【用途面積】'!I64=\"\",\"\",'2_入力シート【用途面積】'!I64)","v":""},null,null,null,"㎡",{"$f":"IF('2_入力シート【用途面積】'!K64=\"\",\"\",'2_入力シート【用途面積】'!K64)","v":""},null,null,null,"㎡",{"$f":"IF('2_入力シート【用途面積】'!M64=\"\",\"\",'2_入力シート【用途面積】'!M64)","v":""},null,null,null,"㎡",{"$f":"IF('2_入力シート【用途面積】'!O64=\"\",\"\",'2_入力シート【用途面積】'!O64)","v":""},null,null,null,"㎡",{"$f":"IF('2_入力シート【用途面積】'!Q64=\"\",\"\",'2_入力シート【用途面積】'!Q64)","v":""},null,null,null,"㎡",{"$f":"IF('2_入力シート【用途面積】'!S64=\"\",\"\",'2_入力シート【用途面積】'!S64)","v":""},null,null,null,"㎡"]
[null,null,43,null,"階",{"$f":"IF(BG319=1,\"\",'2_入力シート【用途面積】'!E65)","v":""},null,null,null,"㎡",{"$f":"IF('2_入力シート【用途面積】'!G65=\"\",\"\",'2_入力シート【用途面積】'!G65)","v":""},null,null,null,"㎡",{"$f":"IF('2_入力シート【用途面積】'!I65=\"\",\"\",'2_入力シート【用途面積】'!I65)","v":""},null,null,null,"㎡",{"$f":"IF('2_入力シート【用途面積】'!K65=\"\",\"\",'2_入力シート【用途面積】'!K65)","v":""},null,null,null,"㎡",{"$f":"IF('2_入力シート【用途面積】'!M65=\"\",\"\",'2_入力シート【用途面積】'!M65)","v":""},null,null,null,"㎡",{"$f":"IF('2_入力シート【用途面積】'!O65=\"\",\"\",'2_入力シート【用途面積】'!O65)","v":""},null,null,null,"㎡",{"$f":"IF('2_入力シート【用途面積】'!Q65=\"\",\"\",'2_入力シート【用途面積】'!Q65)","v":""},null,null,null,"㎡",{"$f":"IF('2_入力シート【用途面積】'!S65=\"\",\"\",'2_入力シート【用途面積】'!S65)","v":""},null,null,null,"㎡"]
[null,null,44,null,"階",{"$f":"IF(BG319=1,\"\",'2_入力シート【用途面積】'!E66)","v":""},null,null,null,"㎡",{"$f":"IF('2_入力シート【用途面積】'!G66=\"\",\"\",'2_入力シート【用途面積】'!G66)","v":""},null,null,null,"㎡",{"$f":"IF('2_入力シート【用途面積】'!I66=\"\",\"\",'2_入力シート【用途面積】'!I66)","v":""},null,null,null,"㎡",{"$f":"IF('2_入力シート【用途面積】'!K66=\"\",\"\",'2_入力シート【用途面積】'!K66)","v":""},null,null,null,"㎡",{"$f":"IF('2_入力シート【用途面積】'!M66=\"\",\"\",'2_入力シート【用途面積】'!M66)","v":""},null,null,null,"㎡",{"$f":"IF('2_入力シート【用途面積】'!O66=\"\",\"\",'2_入力シート【用途面積】'!O66)","v":""},null,null,null,"㎡",{"$f":"IF('2_入力シート【用途面積】'!Q66=\"\",\"\",'2_入力シート【用途面積】'!Q66)","v":""},null,null,null,"㎡",{"$f":"IF('2_入力シート【用途面積】'!S66=\"\",\"\",'2_入力シート【用途面積】'!S66)","v":""},null,null,null,"㎡"]
[null,null,45,null,"階",{"$f":"IF(BG319=1,\"\",'2_入力シート【用途面積】'!E67)","v":""},null,null,null,"㎡",{"$f":"IF('2_入力シート【用途面積】'!G67=\"\",\"\",'2_入力シート【用途面積】'!G67)","v":""},null,null,null,"㎡",{"$f":"IF('2_入力シート【用途面積】'!I67=\"\",\"\",'2_入力シート【用途面積】'!I67)","v":""},null,null,null,"㎡",{"$f":"IF('2_入力シート【用途面積】'!K67=\"\",\"\",'2_入力シート【用途面積】'!K67)","v":""},null,null,null,"㎡",{"$f":"IF('2_入力シート【用途面積】'!M67=\"\",\"\",'2_入力シート【用途面積】'!M67)","v":""},null,null,null,"㎡",{"$f":"IF('2_入力シート【用途面積】'!O67=\"\",\"\",'2_入力シート【用途面積】'!O67)","v":""},null,null,null,"㎡",{"$f":"IF('2_入力シート【用途面積】'!Q67=\"\",\"\",'2_入力シート【用途面積】'!Q67)","v":""},null,null,null,"㎡",{"$f":"IF('2_入力シート【用途面積】'!S67=\"\",\"\",'2_入力シート【用途面積】'!S67)","v":""},null,null,null,"㎡"]
[null,null,46,null,"階",{"$f":"IF(BG319=1,\"\",'2_入力シート【用途面積】'!E68)","v":""},null,null,null,"㎡",{"$f":"IF('2_入力シート【用途面積】'!G68=\"\",\"\",'2_入力シート【用途面積】'!G68)","v":""},null,null,null,"㎡",{"$f":"IF('2_入力シート【用途面積】'!I68=\"\",\"\",'2_入力シート【用途面積】'!I68)","v":""},null,null,null,"㎡",{"$f":"IF('2_入力シート【用途面積】'!K68=\"\",\"\",'2_入力シート【用途面積】'!K68)","v":""},null,null,null,"㎡",{"$f":"IF('2_入力シート【用途面積】'!M68=\"\",\"\",'2_入力シート【用途面積】'!M68)","v":""},null,null,null,"㎡",{"$f":"IF('2_入力シート【用途面積】'!O68=\"\",\"\",'2_入力シート【用途面積】'!O68)","v":""},null,null,null,"㎡",{"$f":"IF('2_入力シート【用途面積】'!Q68=\"\",\"\",'2_入力シート【用途面積】'!Q68)","v":""},null,null,null,"㎡",{"$f":"IF('2_入力シート【用途面積】'!S68=\"\",\"\",'2_入力シート【用途面積】'!S68)","v":""},null,null,null,"㎡"]
[null,null,47,null,"階",{"$f":"IF(BG319=1,\"\",'2_入力シート【用途面積】'!E69)","v":""},null,null,null,"㎡",{"$f":"IF('2_入力シート【用途面積】'!G69=\"\",\"\",'2_入力シート【用途面積】'!G69)","v":""},null,null,null,"㎡",{"$f":"IF('2_入力シート【用途面積】'!I69=\"\",\"\",'2_入力シート【用途面積】'!I69)","v":""},null,null,null,"㎡",{"$f":"IF('2_入力シート【用途面積】'!K69=\"\",\"\",'2_入力シート【用途面積】'!K69)","v":""},null,null,null,"㎡",{"$f":"IF('2_入力シート【用途面積】'!M69=\"\",\"\",'2_入力シート【用途面積】'!M69)","v":""},null,null,null,"㎡",{"$f":"IF('2_入力シート【用途面積】'!O69=\"\",\"\",'2_入力シート【用途面積】'!O69)","v":""},null,null,null,"㎡",{"$f":"IF('2_入力シート【用途面積】'!Q69=\"\",\"\",'2_入力シート【用途面積】'!Q69)","v":""},null,null,null,"㎡",{"$f":"IF('2_入力シート【用途面積】'!S69=\"\",\"\",'2_入力シート【用途面積】'!S69)","v":""},null,null,null,"㎡"]
[null,null,48,null,"階",{"$f":"IF(BG319=1,\"\",'2_入力シート【用途面積】'!E70)","v":""},null,null,null,"㎡",{"$f":"IF('2_入力シート【用途面積】'!G70=\"\",\"\",'2_入力シート【用途面積】'!G70)","v":""},null,null,null,"㎡",{"$f":"IF('2_入力シート【用途面積】'!I70=\"\",\"\",'2_入力シート【用途面積】'!I70)","v":""},null,null,null,"㎡",{"$f":"IF('2_入力シート【用途面積】'!K70=\"\",\"\",'2_入力シート【用途面積】'!K70)","v":""},null,null,null,"㎡",{"$f":"IF('2_入力シート【用途面積】'!M70=\"\",\"\",'2_入力シート【用途面積】'!M70)","v":""},null,null,null,"㎡",{"$f":"IF('2_入力シート【用途面積】'!O70=\"\",\"\",'2_入力シート【用途面積】'!O70)","v":""},null,null,null,"㎡",{"$f":"IF('2_入力シート【用途面積】'!Q70=\"\",\"\",'2_入力シート【用途面積】'!Q70)","v":""},null,null,null,"㎡",{"$f":"IF('2_入力シート【用途面積】'!S70=\"\",\"\",'2_入力シート【用途面積】'!S70)","v":""},null,null,null,"㎡"]
[null,null,49,null,"階",{"$f":"IF(BG319=1,\"\",'2_入力シート【用途面積】'!E71)","v":""},null,null,null,"㎡",{"$f":"IF('2_入力シート【用途面積】'!G71=\"\",\"\",'2_入力シート【用途面積】'!G71)","v":""},null,null,null,"㎡",{"$f":"IF('2_入力シート【用途面積】'!I71=\"\",\"\",'2_入力シート【用途面積】'!I71)","v":""},null,null,null,"㎡",{"$f":"IF('2_入力シート【用途面積】'!K71=\"\",\"\",'2_入力シート【用途面積】'!K71)","v":""},null,null,null,"㎡",{"$f":"IF('2_入力シート【用途面積】'!M71=\"\",\"\",'2_入力シート【用途面積】'!M71)","v":""},null,null,null,"㎡",{"$f":"IF('2_入力シート【用途面積】'!O71=\"\",\"\",'2_入力シート【用途面積】'!O71)","v":""},null,null,null,"㎡",{"$f":"IF('2_入力シート【用途面積】'!Q71=\"\",\"\",'2_入力シート【用途面積】'!Q71)","v":""},null,null,null,"㎡",{"$f":"IF('2_入力シート【用途面積】'!S71=\"\",\"\",'2_入力シート【用途面積】'!S71)","v":""},null,null,null,"㎡"]
[null,null,50,50,"階",{"$f":"IF(BG319=1,\"\",'2_入力シート【用途面積】'!E72)","v":""},null,null,null,"㎡",{"$f":"IF('2_入力シート【用途面積】'!G72=\"\",\"\",'2_入力シート【用途面積】'!G72)","v":""},null,null,null,"㎡",{"$f":"IF('2_入力シート【用途面積】'!I72=\"\",\"\",'2_入力シート【用途面積】'!I72)","v":""},null,null,null,"㎡",{"$f":"IF('2_入力シート【用途面積】'!K72=\"\",\"\",'2_入力シート【用途面積】'!K72)","v":""},null,null,null,"㎡",{"$f":"IF('2_入力シート【用途面積】'!M72=\"\",\"\",'2_入力シート【用途面積】'!M72)","v":""},null,null,null,"㎡",{"$f":"IF('2_入力シート【用途面積】'!O72=\"\",\"\",'2_入力シート【用途面積】'!O72)","v":""},null,null,null,"㎡",{"$f":"IF('2_入力シート【用途面積】'!Q72=\"\",\"\",'2_入力シート【用途面積】'!Q72)","v":""},null,null,null,"㎡",{"$f":"IF('2_入力シート【用途面積】'!S72=\"\",\"\",'2_入力シート【用途面積】'!S72)","v":""},null,null,null,"㎡"]
[]
[null,"（第三面）"]
[null,"調査等の概要"]
[]
[]
[null,"【1．調査及び検査の状況】",null,null,null,null,null,null,null,null,null,null,null,null,null,null,null,null,null,null,null,null,null,null,null,null,null,null,null,null,null,null,null,null,null,null,null,null,null,null,null,null,null,null,null,null,null,null,null,null,null,null,null,null,null,null,null,null,"完全未入力判定（0で完全未入力／既存の判定欄より）"]
[null,null,null,"【イ．今回の調査】",null,null,null,null,null,null,null,null,null,null,null,null,null,null,{"$f":"IF(BG385=0,\"\",'1_入力シート【基本情報】'!AB209)","v":""},null,{"$f":"IF('1_入力シート【基本情報】'!AE209=\"\",\"\",'1_入力シート【基本情報】'!AE209)","v":""},null,"年",{"$f":"IF('1_入力シート【基本情報】'!AJ209=\"\",\"\",'1_入力シート【基本情報】'!AJ209)","v":""},null,"月",{"$f":"IF('1_入力シート【基本情報】'!AO209=\"\",\"\",'1_入力シート【基本情報】'!AO209)","v":""},null,"日実施",null,null,null,null,null,null,null,null,null,null,null,null,null,null,null,null,null,null,null,null,null,null,null,null,null,null,null,null,null,{"$f":"'1_入力シート【基本情報】'!DN209","v":0},{"$f":"'1_入力シート【基本情報】'!DO209","v":"←（今回の調査　実施日の完全未入力判定兼用）"}]
[null,null,null,"【ロ．前回の調査】",null,null,null,null,null,null,null,null,null,null,{"$f":"IF('1_入力シート【基本情報】'!DO211=\"レ\",\"レ\",\"\")","v":""},"実施（",null,null,{"$f":"IF('1_入力シート【基本情報】'!AB211=\"\",\"\",'1_入力シート【基本情報】'!AB211)","v":""},null,{"$f":"IF('1_入力シート【基本情報】'!AE211=\"\",\"\",'1_入力シート【基本情報】'!AE211)","v":""},null,"年",{"$f":"IF('1_入力シート【基本情報】'!AJ211=\"\",\"\",'1_入力シート【基本情報】'!AJ211)","v":""},null,"月",{"$f":"IF('1_入力シート【基本情報】'!AO211=\"\",\"\",'1_入力シート【基本情報】'!AO211)","v":""},null,"日報告）",null,null,null,null,{"$f":"IF('1_入力シート【基本情報】'!DP211=\"レ\",\"レ\",\"\")","v":""},"未実施"]
[null,null,null,"【ハ．建築設備の検査】",null,null,null,null,null,null,null,null,null,null,{"$f":"IF('1_入力シート【基本情報】'!DO213=\"レ\",\"レ\",\"\")","v":""},"実施（",null,null,{"$f":"IF('1_入力シート【基本情報】'!AB213=\"\",\"\",'1_入力シート【基本情報】'!AB213)","v":""},null,{"$f":"IF('1_入力シート【基本情報】'!AE213=\"\",\"\",'1_入力シート【基本情報】'!AE213)","v":""},null,"年",{"$f":"IF('1_入力シート【基本情報】'!AJ213=\"\",\"\",'1_入力シート【基本情報】'!AJ213)","v":""},null,"月",{"$f":"IF('1_入力シート【基本情報】'!AO213=\"\",\"\",'1_入力シート【基本情報】'!AO213)","v":""},null,"日報告）",null,null,null,null,{"$f":"IF('1_入力シート【基本情報】'!DP213=\"レ\",\"レ\",\"\")","v":""},"未実施"]
[null,null,null,"【ニ．昇降機等の検査】",null,null,null,null,null,null,null,null,null,null,{"$f":"IF('1_入力シート【基本情報】'!DO215=\"レ\",\"レ\",\"\")","v":""},"実施（",null,null,{"$f":"IF('1_入力シート【基本情報】'!AB215=\"\",\"\",'1_入力シート【基本情報】'!AB215)","v":""},null,{"$f":"IF('1_入力シート【基本情報】'!AE215=\"\",\"\",'1_入力シート【基本情報】'!AE215)","v":""},null,"年",{"$f":"IF('1_入力シート【基本情報】'!AJ215=\"\",\"\",'1_入力シート【基本情報】'!AJ215)","v":""},null,"月",{"$f":"IF('1_入力シート【基本情報】'!AO215=\"\",\"\",'1_入力シート【基本情報】'!AO215)","v":""},null,"日報告）",null,null,null,null,{"$f":"IF('1_入力シート【基本情報】'!DP215=\"レ\",\"レ\",\"\")","v":""},"未実施"]
[null,null,null,"【ホ．防火設備の検査】",null,null,null,null,null,null,null,null,null,null,{"$f":"IF('1_入力シート【基本情報】'!DO217=\"レ\",\"レ\",\"\")","v":""},"実施（",null,null,{"$f":"IF('1_入力シート【基本情報】'!AB217=\"\",\"\",'1_入力シート【基本情報】'!AB217)","v":""},null,{"$f":"IF('1_入力シート【基本情報】'!AE217=\"\",\"\",'1_入力シート【基本情報】'!AE217)","v":""},null,"年",{"$f":"IF('1_入力シート【基本情報】'!AJ217=\"\",\"\",'1_入力シート【基本情報】'!AJ217)","v":""},null,"月",{"$f":"IF('1_入力シート【基本情報】'!AO217=\"\",\"\",'1_入力シート【基本情報】'!AO217)","v":""},null,"日報告）",null,null,null,null,{"$f":"IF('1_入力シート【基本情報】'!DP217=\"レ\",\"レ\",\"\")","v":""},"未実施"]
[]
[]
[]
[]
[]
[null,"【2．調査の状況】"]
[null,null,"（敷地及び地盤）"]
[null,null,null,"【イ．指摘の内容】",null,null,null,null,null,null,null,null,null,null,{"$f":"IF('1_入力シート【基本情報】'!DP304=\"レ\",\"レ\",IF('1_入力シート【基本情報】'!DO304=\"レ\",\"レ\",\"\"))","v":""},"要是正の指摘あり （",null,null,null,null,null,null,null,null,{"$f":"'1_入力シート【基本情報】'!DP304","v":""},"既存不適格）",null,null,null,null,null,null,null,{"$f":"IF(OR('1_入力シート【基本情報】'!DN304=\"レ\",'1_入力シート【基本情報】'!DM304=\"レ\"),\"レ\",\"\")","v":""},"指摘なし"]
[null,null,null,"【ロ．指摘の概要】",null,null,null,null,null,null,null,null,null,{"$f":"IF(O397=\"レ\",HYPERLINK(\"#A489:A575\",\"第三面　別紙参照\"),\"\")","v":""}]
[null,null,null,"【ハ．改善予定の有無】",null,null,null,null,null,null,null,null,null,null,{"$f":"IF(OR('1_入力シート【基本情報】'!EB304=\"レ\",'1_入力シート【基本情報】'!EG304=\"レ\"),\"レ\",\"\")","v":""},"有（",null,{"$f":"IF(O399=\"レ\",IF(AND(T399=\"31\",W399<5),\"平成\",\"令和\"),\"\")","v":""},null,{"$f":"IF('1_入力シート【基本情報】'!ED304<>\"\",'1_入力シート【基本情報】'!ED304,IF('1_入力シート【基本情報】'!EI304<>\"\",'1_入力シート【基本情報】'!EI304,\"\"))","v":""},null,"年",{"$f":"IF('1_入力シート【基本情報】'!EE304<>\"\",'1_入力シート【基本情報】'!EE304,IF('1_入力シート【基本情報】'!EJ304<>\"\",'1_入力シート【基本情報】'!EJ304,\"\"))","v":""},null,"月に改善予定）",null,null,null,null,null,null,null,null,{"$f":"IF(AND(O399<>\"レ\",(OR('1_入力シート【基本情報】'!EF304=\"レ\",'1_入力シート【基本情報】'!EK304=\"レ\"))),\"レ\",\"\")","v":""},"無"]
[null,null,"（建築物の外部）"]
[null,null,null,"【イ．指摘の内容】",null,null,null,null,null,null,null,null,null,null,{"$f":"IF('1_入力シート【基本情報】'!DP322=\"レ\",\"レ\",IF('1_入力シート【基本情報】'!DO322=\"レ\",\"レ\",\"\"))","v":""},"要是正の指摘あり （",null,null,null,null,null,null,null,null,{"$f":"'1_入力シート【基本情報】'!DP322","v":""},"既存不適格）",null,null,null,null,null,null,null,{"$f":"IF(OR('1_入力シート【基本情報】'!DN322=\"レ\",'1_入力シート【基本情報】'!DM322=\"レ\"),\"レ\",\"\")","v":""},"指摘なし"]
[null,null,null,"【ロ．指摘の概要】",null,null,null,null,null,null,null,null,null,{"$f":"IF(O401=\"レ\",HYPERLINK(\"#A489:A575\",\"第三面　別紙参照\"),\"\")","v":""}]
[null,null,null,"【ハ．改善予定の有無】",null,null,null,null,null,null,null,null,null,null,{"$f":"IF(OR('1_入力シート【基本情報】'!EB322=\"レ\",'1_入力シート【基本情報】'!EG322=\"レ\"),\"レ\",\"\")","v":""},"有（",null,{"$f":"IF(O403=\"レ\",IF(AND(T403=\"31\",W403<5),\"平成\",\"令和\"),\"\")","v":""},null,{"$f":"IF('1_入力シート【基本情報】'!ED322<>\"\",'1_入力シート【基本情報】'!ED322,IF('1_入力シート【基本情報】'!EI322<>\"\",'1_入力シート【基本情報】'!EI322,\"\"))","v":""},null,"年",{"$f":"IF('1_入力シート【基本情報】'!EE322<>\"\",'1_入力シート【基本情報】'!EE322,IF('1_入力シート【基本情報】'!EJ322<>\"\",'1_入力シート【基本情報】'!EJ322,\"\"))","v":""},null,"月に改善予定）",null,null,null,null,null,null,null,null,{"$f":"IF(AND(O403<>\"レ\",(OR('1_入力シート【基本情報】'!EF322=\"レ\",'1_入力シート【基本情報】'!EK322=\"レ\"))),\"レ\",\"\")","v":""},"無"]
[null,null,"（屋上及び屋根）"]
[null,null,null,"【イ．指摘の内容】",null,null,null,null,null,null,null,null,null,null,{"$f":"IF('1_入力シート【基本情報】'!DP349=\"レ\",\"レ\",IF('1_入力シート【基本情報】'!DO349=\"レ\",\"レ\",\"\"))","v":""},"要是正の指摘あり （",null,null,null,null,null,null,null,null,{"$f":"'1_入力シート【基本情報】'!DP349","v":""},"既存不適格）",null,null,null,null,null,null,null,{"$f":"IF(OR('1_入力シート【基本情報】'!DN349=\"レ\",'1_入力シート【基本情報】'!DM349=\"レ\"),\"レ\",\"\")","v":""},"指摘なし"]
[null,null,null,"【ロ．指摘の概要】",null,null,null,null,null,null,null,null,null,{"$f":"IF(O405=\"レ\",HYPERLINK(\"#A489:A575\",\"第三面　別紙参照\"),\"\")","v":""}]
[null,null,null,"【ハ．改善予定の有無】",null,null,null,null,null,null,null,null,null,null,{"$f":"IF(OR('1_入力シート【基本情報】'!EB349=\"レ\",'1_入力シート【基本情報】'!EG349=\"レ\"),\"レ\",\"\")","v":""},"有（",null,{"$f":"IF(O407=\"レ\",IF(AND(T407=\"31\",W407<5),\"平成\",\"令和\"),\"\")","v":""},null,{"$f":"IF('1_入力シート【基本情報】'!ED349<>\"\",'1_入力シート【基本情報】'!ED349,IF('1_入力シート【基本情報】'!EI349<>\"\",'1_入力シート【基本情報】'!EI349,\"\"))","v":""},null,"年",{"$f":"IF('1_入力シート【基本情報】'!EE349<>\"\",'1_入力シート【基本情報】'!EE349,IF('1_入力シート【基本情報】'!EJ349<>\"\",'1_入力シート【基本情報】'!EJ349,\"\"))","v":""},null,"月に改善予定）",null,null,null,null,null,null,null,null,{"$f":"IF(AND(O407<>\"レ\",(OR('1_入力シート【基本情報】'!EF349=\"レ\",'1_入力シート【基本情報】'!EK349=\"レ\"))),\"レ\",\"\")","v":""},"無"]
[null,null,"（建築物の内部）"]
[null,null,null,"【イ．指摘の内容】",null,null,null,null,null,null,null,null,null,null,{"$f":"IF('1_入力シート【基本情報】'!DP367=\"レ\",\"レ\",IF('1_入力シート【基本情報】'!DO367=\"レ\",\"レ\",\"\"))","v":""},"要是正の指摘あり （",null,null,null,null,null,null,null,null,{"$f":"'1_入力シート【基本情報】'!DP367","v":""},"既存不適格）",null,null,null,null,null,null,null,{"$f":"IF(OR('1_入力シート【基本情報】'!DN367=\"レ\",'1_入力シート【基本情報】'!DM367=\"レ\"),\"レ\",\"\")","v":""},"指摘なし"]
[null,null,null,"【ロ．指摘の概要】",null,null,null,null,null,null,null,null,null,{"$f":"IF(O409=\"レ\",HYPERLINK(\"#A489:A575\",\"第三面　別紙参照\"),\"\")","v":""}]
[null,null,null,"【ハ．改善予定の有無】",null,null,null,null,null,null,null,null,null,null,{"$f":"IF(OR('1_入力シート【基本情報】'!EB367=\"レ\",'1_入力シート【基本情報】'!EG367=\"レ\"),\"レ\",\"\")","v":""},"有（",null,{"$f":"IF(O411=\"レ\",IF(AND(T411=\"31\",W411<5),\"平成\",\"令和\"),\"\")","v":""},null,{"$f":"IF('1_入力シート【基本情報】'!ED367<>\"\",'1_入力シート【基本情報】'!ED367,IF('1_入力シート【基本情報】'!EI367<>\"\",'1_入力シート【基本情報】'!EI367,\"\"))","v":""},null,"年",{"$f":"IF('1_入力シート【基本情報】'!EE367<>\"\",'1_入力シート【基本情報】'!EE367,IF('1_入力シート【基本情報】'!EJ367<>\"\",'1_入力シート【基本情報】'!EJ367,\"\"))","v":""},null,"月に改善予定）",null,null,null,null,null,null,null,null,{"$f":"IF(AND(O411<>\"レ\",(OR('1_入力シート【基本情報】'!EF367=\"レ\",'1_入力シート【基本情報】'!EK367=\"レ\"))),\"レ\",\"\")","v":""},"無"]
[null,null,"（避難施設等）"]
[null,null,null,"【イ．指摘の内容】",null,null,null,null,null,null,null,null,null,null,{"$f":"IF('1_入力シート【基本情報】'!DP423=\"レ\",\"レ\",IF('1_入力シート【基本情報】'!DO423=\"レ\",\"レ\",\"\"))","v":""},"要是正の指摘あり （",null,null,null,null,null,null,null,null,{"$f":"'1_入力シート【基本情報】'!DP423","v":""},"既存不適格）",null,null,null,null,null,null,null,{"$f":"IF(OR('1_入力シート【基本情報】'!DN423=\"レ\",'1_入力シート【基本情報】'!DM423=\"レ\"),\"レ\",\"\")","v":""},"指摘なし"]
[null,null,null,"【ロ．指摘の概要】",null,null,null,null,null,null,null,null,null,{"$f":"IF(O413=\"レ\",HYPERLINK(\"#A489:A575\",\"第三面　別紙参照\"),\"\")","v":""}]
[null,null,null,"【ハ．改善予定の有無】",null,null,null,null,null,null,null,null,null,null,{"$f":"IF(OR('1_入力シート【基本情報】'!EB423=\"レ\",'1_入力シート【基本情報】'!EG423=\"レ\"),\"レ\",\"\")","v":""},"有（",null,{"$f":"IF(O415=\"レ\",IF(AND(T415=\"31\",W415<5),\"平成\",\"令和\"),\"\")","v":""},null,{"$f":"IF('1_入力シート【基本情報】'!ED423<>\"\",'1_入力シート【基本情報】'!ED423,IF('1_入力シート【基本情報】'!EI423<>\"\",'1_入力シート【基本情報】'!EI423,\"\"))","v":""},null,"年",{"$f":"IF('1_入力シート【基本情報】'!EE423<>\"\",'1_入力シート【基本情報】'!EE423,IF('1_入力シート【基本情報】'!EJ423<>\"\",'1_入力シート【基本情報】'!EJ423,\"\"))","v":""},null,"月に改善予定）",null,null,null,null,null,null,null,null,{"$f":"IF(AND(O415<>\"レ\",(OR('1_入力シート【基本情報】'!EF423=\"レ\",'1_入力シート【基本情報】'!EK423=\"レ\"))),\"レ\",\"\")","v":""},"無"]
[null,null,"（その他）"]
[null,null,null,"【イ．指摘の内容】",null,null,null,null,null,null,null,null,null,null,{"$f":"IF('1_入力シート【基本情報】'!DP472=\"レ\",\"レ\",IF('1_入力シート【基本情報】'!DO472=\"レ\",\"レ\",\"\"))","v":""},"要是正の指摘あり （",null,null,null,null,null,null,null,null,{"$f":"'1_入力シート【基本情報】'!DP472","v":""},"既存不適格）",null,null,null,null,null,null,null,{"$f":"IF(OR('1_入力シート【基本情報】'!DN472=\"レ\",'1_入力シート【基本情報】'!DM472=\"レ\"),\"レ\",\"\")","v":""},"指摘なし"]
[null,null,null,"【ロ．指摘の概要】",null,null,null,null,null,null,null,null,null,{"$f":"IF(O417=\"レ\",HYPERLINK(\"#A489:A575\",\"第三面　別紙参照\"),\"\")","v":""}]
[null,null,null,"【ハ．改善予定の有無】",null,null,null,null,null,null,null,null,null,null,{"$f":"IF(OR('1_入力シート【基本情報】'!EB472=\"レ\",'1_入力シート【基本情報】'!EG472=\"レ\"),\"レ\",\"\")","v":""},"有（",null,{"$f":"IF(O419=\"レ\",IF(AND(T419=\"31\",W419<5),\"平成\",\"令和\"),\"\")","v":""},null,{"$f":"IF('1_入力シート【基本情報】'!ED472<>\"\",'1_入力シート【基本情報】'!ED472,IF('1_入力シート【基本情報】'!EI472<>\"\",'1_入力シート【基本情報】'!EI472,\"\"))","v":""},null,"年",{"$f":"IF('1_入力シート【基本情報】'!EE472<>\"\",'1_入力シート【基本情報】'!EE472,IF('1_入力シート【基本情報】'!EJ472<>\"\",'1_入力シート【基本情報】'!EJ472,\"\"))","v":""},null,"月に改善予定）",null,null,null,null,null,null,null,null,{"$f":"IF(AND(O419<>\"レ\",(OR('1_入力シート【基本情報】'!EF472=\"レ\",'1_入力シート【基本情報】'!EK472=\"レ\"))),\"レ\",\"\")","v":""},"無"]
[]
[]
[]
[]
[]
[null,"【3．石綿を添加した建築材料の調査状況】",null,null,null,null,null,null,null,null,null,null,null,null,null,null,null,null,null,null,null,null,null,null,null,null,null,"（該当する室）"]
[null,null,null,"【イ．該当建築材料の有無】",null,null,null,null,null,null,null,null,null,null,null,null,{"$f":"IF('1_入力シート【基本情報】'!DS224>0,\"レ\",\"\")","v":""},"有（飛散防止措置無）",null,null,null,null,null,null,null,null,null,"（",{"$f":"IF('1_入力シート【基本情報】'!DS224=1,'1_入力シート【基本情報】'!AB224,'1_入力シート【基本情報】'!DR225)","v":""},null,null,null,null,null,null,null,null,null,null,null,null,null,null,null,"）"]
[null,null,null,null,null,null,null,null,null,null,null,null,null,null,null,null,{"$f":"IF('1_入力シート【基本情報】'!DP224=\"レ\",\"レ\",\"\")","v":""},"有（飛散防止措置有）",null,null,null,null,null,null,null,null,null,"（",{"$f":"IF('1_入力シート【基本情報】'!DP224=\"レ\",'1_入力シート【基本情報】'!AB224,\"\")","v":""},null,null,null,null,null,null,null,null,null,null,null,null,null,null,null,"）"]
[null,null,null,null,null,null,null,null,null,null,null,null,null,null,null,null,{"$f":"IF('1_入力シート【基本情報】'!DQ224=\"レ\",\"レ\",\"\")","v":""},"無"]
[null,null,null,"【ロ．措置予定の有無】",null,null,null,null,null,null,null,null,null,null,null,null,{"$f":"IF('1_入力シート【基本情報】'!DO226=\"レ\",\"レ\",\"\")","v":""},"有（",null,{"$f":"IF(Q429=\"レ\",IF(AND(V429=\"31\",Y429<5),\"平成\",\"令和\"),\"\")","v":""},null,{"$f":"IF('1_入力シート【基本情報】'!AE226=\"\",\"\",'1_入力シート【基本情報】'!AE226)","v":""},null,"年",{"$f":"IF('1_入力シート【基本情報】'!AJ226=\"\",\"\",'1_入力シート【基本情報】'!AJ226)","v":""},null,"月に改善予定）",null,null,null,null,null,null,null,null,{"$f":"IF('1_入力シート【基本情報】'!DP226=\"レ\",\"レ\",\"\")","v":""},"無"]
[null," （その他の検査者２）"]
[null,null,"【イ．資格】",null,null,null,null,null,null,"（",null,null," ）建築士",null,null,null,null,null,null,null,null,null,"（",null,null,null,null,null,null,null,null,null,")登録第",null,null,null,null,null,null,null,"号"]
[null,null,null,null,null,null,null,null,null,"建築設備検査員",null,null,null,null,null,null,null,null,null,null,null,null,null,null,null,null,null,null,null,null,null,null,"第",null,null,null,null,null,null,null,"号"]
[null,null,null,null,null,null,null,null,null,"登録建築設備検査資格者講習を修了した者",null,null,null,null,null,null,null,null,null,null,null,null,null,null,null,null,null,null,null,null,null,null,"第",null,null,null,null,null,null,null,"号"]
[null,null,"【ロ．氏名のフリガナ】"]
[null,null,"【ハ．氏名】"]
[null,null,"【ニ．勤務先】"]
[null,null,null,null,null,null,null,null,null,"（",null,null," ）建築士事務所",null,null,null,null,null,null,null,null,null,"（",null,null,null,null,null,null,null,null,null,")知事登録第",null,null,null,null,null,null,null,"号"]
[null,null,"【ホ．郵便番号】"]
[null,null,"【ヘ．所在地】"]
[null,null,"【ト．電話番号】"]
[]
[]
[]
[]
[]
[null,"【4．耐震診断及び耐震改修の調査状況】",null,null,null,null,null,null,null,null,null,null,null,null,null,null,null,null,null,null,null,null,null,null,null,null,null,null,null,null,null,null,null,null,null,null,null,null,null,null,null,null,null,null,null,null,null,null,null,null,null,null,null,null,null,null,null,null,"診断予定年月完全未入力（0で完全未入力：既存の判定欄使用につき1ではない）"]
[null,null,null,"【イ．耐震診断の実施の有無】",null,null,null,null,null,null,null,null,null,null,null,null,null,{"$f":"IF('1_入力シート【基本情報】'!DO233=\"レ\",\"レ\",\"\")","v":""},"有",null,{"$f":"IF('1_入力シート【基本情報】'!DP233=\"レ\",\"レ\",\"\")","v":""},"無（",null,{"$f":"IF(BG447=0,\"\",IF('1_入力シート【基本情報】'!AB233=\"\",\"\",'1_入力シート【基本情報】'!AB233))","v":""},null,{"$f":"IF('1_入力シート【基本情報】'!AE233=\"\",\"\",'1_入力シート【基本情報】'!AE233)","v":""},null,"年",{"$f":"IF('1_入力シート【基本情報】'!AJ233=\"\",\"\",'1_入力シート【基本情報】'!AJ233)","v":""},null,"月に実施予定）",null,null,null,null,null,null,null,{"$f":"IF('1_入力シート【基本情報】'!DQ233=\"レ\",\"レ\",\"\")","v":""},"対象外",null,null,null,null,null,null,null,null,null,null,null,null,null,null,null,null,null,null,{"$f":"'1_入力シート【基本情報】'!$DN$232","v":0},"←（今回の調査　実施日の完全未入力判定兼用）"]
[null,null,null,"【ロ．耐震改修の実施の有無】",null,null,null,null,null,null,null,null,null,null,null,null,null,{"$f":"IF('1_入力シート【基本情報】'!DO235=\"レ\",\"レ\",\"\")","v":""},"有",null,{"$f":"IF('1_入力シート【基本情報】'!DP235=\"レ\",\"レ\",\"\")","v":""},"無（",null,{"$f":"IF(BG448=0,\"\",IF('1_入力シート【基本情報】'!AB235=\"\",\"\",'1_入力シート【基本情報】'!AB235))","v":""},null,{"$f":"IF('1_入力シート【基本情報】'!AE235=\"\",\"\",'1_入力シート【基本情報】'!AE235)","v":""},null,"年",{"$f":"IF('1_入力シート【基本情報】'!AJ235=\"\",\"\",'1_入力シート【基本情報】'!AJ235)","v":""},null,"月に実施予定）",null,null,null,null,null,null,null,{"$f":"IF('1_入力シート【基本情報】'!DQ235=\"レ\",\"レ\",\"\")","v":""},"対象外",null,null,null,null,null,null,null,null,null,null,null,null,null,null,null,null,null,null,{"$f":"'1_入力シート【基本情報】'!$DN$234","v":0},"←（今回の調査　実施日の完全未入力判定兼用）"]
[]
[]
[]
[]
[null,"【5．建築物等に係る不具合等の状況】"]
[null,null,null,"【イ．不具合等】",null,null,null,null,null,null,null,null,null,null,{"$f":"IF('1_入力シート【基本情報】'!DO242=\"レ\",\"レ\",\"\")","v":""},"有",null,{"$f":"IF('1_入力シート【基本情報】'!DP242=\"レ\",\"レ\",\"\")","v":""},"無"]
[null,null,null,"【ロ．不具合等の記録】",null,null,null,null,null,null,null,null,null,null,{"$f":"IF('1_入力シート【基本情報】'!DR242=\"レ\",\"レ\",\"\")","v":""},"有",null,{"$f":"IF('1_入力シート【基本情報】'!DS242=\"レ\",\"レ\",\"\")","v":""},"無"]
[null,null,null,"【ハ．改善の状況】",null,null,null,null,null,null,null,null,{"$f":"IF('1_入力シート【基本情報】'!DO246=\"レ\",\"レ\",\"\")","v":""},"実施済",null,null,null,{"$f":"IF('1_入力シート【基本情報】'!DP246=\"レ\",\"レ\",\"\")","v":""},"改善予定",null,null,null,"（",{"$f":"IF(R456=\"レ\",IF(AND(Z456=\"31\",AC456<5),\"平成\",\"令和\"),\"\")","v":""},null,{"$f":"IF('1_入力シート【基本情報】'!DO248=\"\",\"\",'1_入力シート【基本情報】'!DO248)","v":""},null,"年",{"$f":"IF('1_入力シート【基本情報】'!DP248=\"\",\"\",'1_入力シート【基本情報】'!DP248)","v":""},null,"月に改善予定）",null,null,null,null,null,null,null,{"$f":"IF('1_入力シート【基本情報】'!DQ246=\"レ\",\"レ\",\"\")","v":""},"予定なし"]
[]
[]
[]
[]
[]
[]
[]
[]
[]
[]
[null,"【6．備考】"]
[null,null,{"$f":"IF('1_入力シート【基本情報】'!AB255=\"\",\"\",'1_入力シート【基本情報】'!AB255)","v":""}]
[]
[]
[]
[]
[]
[]
[]
[]
[]
[]
[]
[]
[]
[]
[]
[]
[]
[]
[]
[]
[null,"（第三面　別紙1）"]
[]
[null,"２.　調査の状況"]
[]
[]
[null,null,"2-1.調査の状況",null,null,null,null,null,null,"ｲ．指摘の内容",null,null,null,null,null,null,null,null,null,null,{"$f":"IF('1_入力シート【基本情報】'!DP304=\"レ\",\"レ\",IF('1_入力シート【基本情報】'!DO304=\"レ\",\"レ\",\"\"))","v":""},"要是正の指摘あり",null,null,null,null,null,null,"（",{"$f":"'1_入力シート【基本情報】'!DP304","v":""},"既存不適格）"]
[null,null,"(敷地及び地盤)",null,null,null,null,null,null,null,null,null,null,null,null,null,null,null,null,null,{"$f":"IF(OR('1_入力シート【基本情報】'!DN304=\"レ\",'1_入力シート【基本情報】'!DM304=\"レ\"),\"レ\",\"\")","v":""},"指摘なし"]
[null,null,"(敷地及び地盤)",null,null,null,null,null,null,"ﾛ．指摘の概要",null,null,null,null,null,{"$f":"'1_入力シート【基本情報】'!$DY$304","v":""}]
[]
[]
[]
[]
[]
[]
[]
[null,null,null,null,null,null,null,null,null,"ﾊ．改善予定の有無",null,null,null,null,null,null,null,null,null,null,{"$f":"IF(OR('1_入力シート【基本情報】'!EB304=\"レ\",'1_入力シート【基本情報】'!EC304=\"レ\",'1_入力シート【基本情報】'!EG304=\"レ\",'1_入力シート【基本情報】'!EH304=\"レ\"),\"レ\",\"\")","v":""},"有",null,null,null,"(令和",{"$f":"IF('1_入力シート【基本情報】'!ED304<>\"\",'1_入力シート【基本情報】'!ED304,IF('1_入力シート【基本情報】'!EI304<>\"\",'1_入力シート【基本情報】'!EI304,\"\"))","v":""},null,"年",{"$f":"IF('1_入力シート【基本情報】'!EE304<>\"\",'1_入力シート【基本情報】'!EE304,IF('1_入力シート【基本情報】'!EJ304<>\"\",'1_入力シート【基本情報】'!EJ304,\"\"))","v":""},null,{"$f":"IF(OR('1_入力シート【基本情報】'!EC304=\"レ\",'1_入力シート【基本情報】'!EH304=\"レ\"),\"月に改善)\",\"月に改善予定)\")","v":"月に改善予定)"},null,null,null,null,null,{"$f":"IF(OR('1_入力シート【基本情報】'!EF304=\"レ\",'1_入力シート【基本情報】'!EK304=\"レ\"),\"レ\",\"\")","v":""},"無"]
[null,null,"2-2.調査の状況",null,null,null,null,null,null,"ｲ．指摘の内容",null,null,null,null,null,null,null,null,null,null,{"$f":"IF('1_入力シート【基本情報】'!DP322=\"レ\",\"レ\",IF('1_入力シート【基本情報】'!DO322=\"レ\",\"レ\",\"\"))","v":""},"要是正の指摘あり",null,null,null,null,null,null,"（",{"$f":"'1_入力シート【基本情報】'!DP322","v":""},"既存不適格）"]
[null,null,"(建築物の外部)",null,null,null,null,null,null,null,null,null,null,null,null,null,null,null,null,null,{"$f":"IF(OR('1_入力シート【基本情報】'!DN322=\"レ\",'1_入力シート【基本情報】'!DM322=\"レ\"),\"レ\",\"\")","v":""},"指摘なし"]
[null,null,"(建築物の外部)",null,null,null,null,null,null,"ﾛ．指摘の概要",null,null,null,null,null,{"$f":"'1_入力シート【基本情報】'!$DY$322","v":""}]
[]
[]
[]
[]
[]
[]
[]
[]
[]
[null,null,null,null,null,null,null,null,null,"ﾊ．改善予定の有無",null,null,null,null,null,null,null,null,null,null,{"$f":"IF(OR('1_入力シート【基本情報】'!EB322=\"レ\",'1_入力シート【基本情報】'!EC322=\"レ\",'1_入力シート【基本情報】'!EG322=\"レ\",'1_入力シート【基本情報】'!EH322=\"レ\"),\"レ\",\"\")","v":""},"有",null,null,null,"(令和",{"$f":"IF('1_入力シート【基本情報】'!ED322<>\"\",'1_入力シート【基本情報】'!ED322,IF('1_入力シート【基本情報】'!EI322<>\"\",'1_入力シート【基本情報】'!EI322,\"\"))","v":""},null,"年",{"$f":"IF('1_入力シート【基本情報】'!EE322<>\"\",'1_入力シート【基本情報】'!EE322,IF('1_入力シート【基本情報】'!EJ322<>\"\",'1_入力シート【基本情報】'!EJ322,\"\"))","v":""},null,{"$f":"IF(OR('1_入力シート【基本情報】'!EC322=\"レ\",'1_入力シート【基本情報】'!EH322=\"レ\"),\"月に改善)\",\"月に改善予定)\")","v":"月に改善予定)"},null,null,null,null,null,{"$f":"IF(OR('1_入力シート【基本情報】'!EF322=\"レ\",'1_入力シート【基本情報】'!EK322=\"レ\"),\"レ\",\"\")","v":""},"無"]
[null,null,"2-3.調査の状況",null,null,null,null,null,null,"ｲ．指摘の内容",null,null,null,null,null,null,null,null,null,null,{"$f":"IF('1_入力シート【基本情報】'!DP349=\"レ\",\"レ\",IF('1_入力シート【基本情報】'!DO349=\"レ\",\"レ\",\"\"))","v":""},"要是正の指摘あり",null,null,null,null,null,null,"（",{"$f":"'1_入力シート【基本情報】'!DP349","v":""},"既存不適格）"]
[null,null,"(屋上及び屋根)",null,null,null,null,null,null,null,null,null,null,null,null,null,null,null,null,null,{"$f":"IF(OR('1_入力シート【基本情報】'!DN349=\"レ\",'1_入力シート【基本情報】'!DM349=\"レ\"),\"レ\",\"\")","v":""},"指摘なし"]
[null,null,"(屋上及び屋根)",null,null,null,null,null,null,"ﾛ．指摘の概要",null,null,null,null,null,{"$f":"'1_入力シート【基本情報】'!$DY$349","v":""}]
[]
[]
[]
[]
[]
[]
[]
[]
[null,null,null,null,null,null,null,null,null,"ﾊ．改善予定の有無",null,null,null,null,null,null,null,null,null,null,{"$f":"IF(OR('1_入力シート【基本情報】'!EB349=\"レ\",'1_入力シート【基本情報】'!EC349=\"レ\",'1_入力シート【基本情報】'!EG349=\"レ\",'1_入力シート【基本情報】'!EH349=\"レ\"),\"レ\",\"\")","v":""},"有",null,null,null,"(令和",{"$f":"IF('1_入力シート【基本情報】'!ED349<>\"\",'1_入力シート【基本情報】'!ED349,IF('1_入力シート【基本情報】'!EI349<>\"\",'1_入力シート【基本情報】'!EI349,\"\"))","v":""},null,"年",{"$f":"IF('1_入力シート【基本情報】'!EE349<>\"\",'1_入力シート【基本情報】'!EE349,IF('1_入力シート【基本情報】'!EJ349<>\"\",'1_入力シート【基本情報】'!EJ349,\"\"))","v":""},null,{"$f":"IF(OR('1_入力シート【基本情報】'!EC349=\"レ\",'1_入力シート【基本情報】'!EH349=\"レ\"),\"月に改善)\",\"月に改善予定)\")","v":"月に改善予定)"},null,null,null,null,null,{"$f":"IF(OR('1_入力シート【基本情報】'!EF349=\"レ\",'1_入力シート【基本情報】'!EK349=\"レ\"),\"レ\",\"\")","v":""},"無"]
[null,null,"2-4.調査の状況",null,null,null,null,null,null,"ｲ．指摘の内容",null,null,null,null,null,null,null,null,null,null,{"$f":"IF('1_入力シート【基本情報】'!DP367=\"レ\",\"レ\",IF('1_入力シート【基本情報】'!DO367=\"レ\",\"レ\",\"\"))","v":""},"要是正の指摘あり",null,null,null,null,null,null,"（",{"$f":"'1_入力シート【基本情報】'!DP367","v":""},"既存不適格）"]
[null,null,"(建築物の内部)",null,null,null,null,null,null,null,null,null,null,null,null,null,null,null,null,null,{"$f":"IF(OR('1_入力シート【基本情報】'!DN367=\"レ\",'1_入力シート【基本情報】'!DM367=\"レ\"),\"レ\",\"\")","v":""},"指摘なし"]
[null,null,"(建築物の内部)",null,null,null,null,null,null,"ﾛ．指摘の概要",null,null,null,null,null,{"$f":"'1_入力シート【基本情報】'!$DY$367","v":""}]
[]
[]
[]
[]
[]
[]
[]
[]
[]
[]
[]
[]
[]
[]
[null,null,null,null,null,null,null,null,null,"ﾊ．改善予定の有無",null,null,null,null,null,null,null,null,null,null,{"$f":"IF(OR('1_入力シート【基本情報】'!EB367=\"レ\",'1_入力シート【基本情報】'!EC367=\"レ\",'1_入力シート【基本情報】'!EG367=\"レ\",'1_入力シート【基本情報】'!EH367=\"レ\"),\"レ\",\"\")","v":""},"有",null,null,null,"(令和",{"$f":"IF('1_入力シート【基本情報】'!ED367<>\"\",'1_入力シート【基本情報】'!ED367,IF('1_入力シート【基本情報】'!EI367<>\"\",'1_入力シート【基本情報】'!EI367,\"\"))","v":""},null,"年",{"$f":"IF('1_入力シート【基本情報】'!EE367<>\"\",'1_入力シート【基本情報】'!EE367,IF('1_入力シート【基本情報】'!EJ367<>\"\",'1_入力シート【基本情報】'!EJ367,\"\"))","v":""},null,{"$f":"IF(OR('1_入力シート【基本情報】'!EC367=\"レ\",'1_入力シート【基本情報】'!EH367=\"レ\"),\"月に改善)\",\"月に改善予定)\")","v":"月に改善予定)"},null,null,null,null,null,{"$f":"IF(OR('1_入力シート【基本情報】'!EF367=\"レ\",'1_入力シート【基本情報】'!EK367=\"レ\"),\"レ\",\"\")","v":""},"無"]
[null,null,"2-5.調査の状況",null,null,null,null,null,null,"ｲ．指摘の内容",null,null,null,null,null,null,null,null,null,null,{"$f":"IF('1_入力シート【基本情報】'!DP423=\"レ\",\"レ\",IF('1_入力シート【基本情報】'!DO423=\"レ\",\"レ\",\"\"))","v":""},"要是正の指摘あり",null,null,null,null,null,null,"（",{"$f":"'1_入力シート【基本情報】'!DP423","v":""},"既存不適格）"]
[null,null,"(避難施設等)",null,null,null,null,null,null,null,null,null,null,null,null,null,null,null,null,null,{"$f":"IF(OR('1_入力シート【基本情報】'!DN423=\"レ\",'1_入力シート【基本情報】'!DM423=\"レ\"),\"レ\",\"\")","v":""},"指摘なし"]
[null,null,"(避難施設等)",null,null,null,null,null,null,"ﾛ．指摘の概要",null,null,null,null,null,{"$f":"'1_入力シート【基本情報】'!$DY$423","v":""}]
[]
[]
[]
[]
[]
[]
[]
[]
[]
[]
[]
[]
[]
[null,null,null,null,null,null,null,null,null,"ﾊ．改善予定の有無",null,null,null,null,null,null,null,null,null,null,{"$f":"IF(OR('1_入力シート【基本情報】'!EB423=\"レ\",'1_入力シート【基本情報】'!EC423=\"レ\",'1_入力シート【基本情報】'!EG423=\"レ\",'1_入力シート【基本情報】'!EH423=\"レ\"),\"レ\",\"\")","v":""},"有",null,null,null,"(令和",{"$f":"IF('1_入力シート【基本情報】'!ED423<>\"\",'1_入力シート【基本情報】'!ED423,IF('1_入力シート【基本情報】'!EI423<>\"\",'1_入力シート【基本情報】'!EI423,\"\"))","v":""},null,"年",{"$f":"IF('1_入力シート【基本情報】'!EE423<>\"\",'1_入力シート【基本情報】'!EE423,IF('1_入力シート【基本情報】'!EJ423<>\"\",'1_入力シート【基本情報】'!EJ423,\"\"))","v":""},null,{"$f":"IF(OR('1_入力シート【基本情報】'!EC423=\"レ\",'1_入力シート【基本情報】'!EH423=\"レ\"),\"月に改善)\",\"月に改善予定)\")","v":"月に改善予定)"},null,null,null,null,null,{"$f":"IF(OR('1_入力シート【基本情報】'!EF423=\"レ\",'1_入力シート【基本情報】'!EK423=\"レ\"),\"レ\",\"\")","v":""},"無"]
[null,null,"2-6.調査の状況",null,null,null,null,null,null,"ｲ．指摘の内容",null,null,null,null,null,null,null,null,null,null,{"$f":"IF('1_入力シート【基本情報】'!DP472=\"レ\",\"レ\",IF('1_入力シート【基本情報】'!DO472=\"レ\",\"レ\",\"\"))","v":""},"要是正の指摘あり",null,null,null,null,null,null,"（",{"$f":"'1_入力シート【基本情報】'!DP472","v":""},"既存不適格）"]
[null,null,"（その他）",null,null,null,null,null,null,null,null,null,null,null,null,null,null,null,null,null,{"$f":"IF(OR('1_入力シート【基本情報】'!DN472=\"レ\",'1_入力シート【基本情報】'!DM472=\"レ\"),\"レ\",\"\")","v":""},"指摘なし"]
[null,null,"（その他）",null,null,null,null,null,null,"ﾛ．指摘の概要",null,null,null,null,null,{"$f":"'1_入力シート【基本情報】'!$DY$472","v":""}]
[]
[]
[]
[]
[]
[]
[null,null,null,null,null,null,null,null,null,"ﾊ．改善予定の有無",null,null,null,null,null,null,null,null,null,null,{"$f":"IF(OR('1_入力シート【基本情報】'!EB472=\"レ\",'1_入力シート【基本情報】'!EC472=\"レ\",'1_入力シート【基本情報】'!EG472=\"レ\",'1_入力シート【基本情報】'!EH472=\"レ\"),\"レ\",\"\")","v":""},"有",null,null,null,"(令和",{"$f":"IF('1_入力シート【基本情報】'!ED472<>\"\",'1_入力シート【基本情報】'!ED472,IF('1_入力シート【基本情報】'!EI472<>\"\",'1_入力シート【基本情報】'!EI472,\"\"))","v":""},null,"年",{"$f":"IF('1_入力シート【基本情報】'!EE472<>\"\",'1_入力シート【基本情報】'!EE472,IF('1_入力シート【基本情報】'!EJ472<>\"\",'1_入力シート【基本情報】'!EJ472,\"\"))","v":""},null,{"$f":"IF(OR('1_入力シート【基本情報】'!EC472=\"レ\",'1_入力シート【基本情報】'!EH472=\"レ\"),\"月に改善)\",\"月に改善予定)\")","v":"月に改善予定)"},null,null,null,null,null,{"$f":"IF(OR('1_入力シート【基本情報】'!EF472=\"レ\",'1_入力シート【基本情報】'!EK472=\"レ\"),\"レ\",\"\")","v":""},"無"]
[]
[]
[null,"（第四面）"]
[]
[null,"建築物等に係る不具合等の状況"]
[]
[]
[null,"不具合等を把",null,null,null,null,null,"不具合等の概要",null,null,null,null,null,null,null,null,null,"考えられる原因",null,null,null,null,null,null,null,null,null,"改善（予定）",null,null,null,null,null,"改善措置の概要等"]
[null,"握した年月",null,null,null,null,null,null,null,null,null,null,null,null,null,null,null,null,null,null,null,null,null,null,null,null,null,"年月"]
[null,{"$f":"IF('1_入力シート【基本情報】'!DM245>0,'1_入力シート【基本情報】'!M245&'1_入力シート【基本情報】'!P245&\"年\"&'1_入力シート【基本情報】'!S245&\"月\",\"\")","v":""},null,null,null,null,null,{"$f":"IF('1_入力シート【基本情報】'!V245=\"\",\"\",'1_入力シート【基本情報】'!V245)","v":""},null,null,null,null,null,null,null,null,null,{"$f":"IF('1_入力シート【基本情報】'!AH245=\"\",\"\",'1_入力シート【基本情報】'!AH245)","v":""},null,null,null,null,null,null,null,null,null,{"$f":"IF(AND('1_入力シート【基本情報】'!DN245>0,'1_入力シート【基本情報】'!DY245<>1),\"令和\"&'1_入力シート【基本情報】'!AZ245&\"年\"&'1_入力シート【基本情報】'!BC245&\"月\",IF('1_入力シート【基本情報】'!DY245=1,\"予定なし\",\"\"))","v":""},null,null,null,null,null,{"$f":"IF('1_入力シート【基本情報】'!BF245=\"\",\"\",'1_入力シート【基本情報】'!BF245)","v":""}]
[null,{"$f":"IF('1_入力シート【基本情報】'!DM246>0,'1_入力シート【基本情報】'!M246&'1_入力シート【基本情報】'!P246&\"年\"&'1_入力シート【基本情報】'!S246&\"月\",\"\")","v":""},null,null,null,null,null,{"$f":"IF('1_入力シート【基本情報】'!V246=\"\",\"\",'1_入力シート【基本情報】'!V246)","v":""},null,null,null,null,null,null,null,null,null,{"$f":"IF('1_入力シート【基本情報】'!AH246=\"\",\"\",'1_入力シート【基本情報】'!AH246)","v":""},null,null,null,null,null,null,null,null,null,{"$f":"IF(AND('1_入力シート【基本情報】'!DN246>0,'1_入力シート【基本情報】'!DY246<>1),\"令和\"&'1_入力シート【基本情報】'!AZ246&\"年\"&'1_入力シート【基本情報】'!BC246&\"月\",IF('1_入力シート【基本情報】'!DY246=1,\"予定なし\",\"\"))","v":""},null,null,null,null,null,{"$f":"IF('1_入力シート【基本情報】'!BF246=\"\",\"\",'1_入力シート【基本情報】'!BF246)","v":""}]
[null,{"$f":"IF('1_入力シート【基本情報】'!DM247>0,'1_入力シート【基本情報】'!M247&'1_入力シート【基本情報】'!P247&\"年\"&'1_入力シート【基本情報】'!S247&\"月\",\"\")","v":""},null,null,null,null,null,{"$f":"IF('1_入力シート【基本情報】'!V247=\"\",\"\",'1_入力シート【基本情報】'!V247)","v":""},null,null,null,null,null,null,null,null,null,{"$f":"IF('1_入力シート【基本情報】'!AH247=\"\",\"\",'1_入力シート【基本情報】'!AH247)","v":""},null,null,null,null,null,null,null,null,null,{"$f":"IF(AND('1_入力シート【基本情報】'!DN247>0,'1_入力シート【基本情報】'!DY247<>1),\"令和\"&'1_入力シート【基本情報】'!AZ247&\"年\"&'1_入力シート【基本情報】'!BC247&\"月\",IF('1_入力シート【基本情報】'!DY247=1,\"予定なし\",\"\"))","v":""},null,null,null,null,null,{"$f":"IF('1_入力シート【基本情報】'!BF247=\"\",\"\",'1_入力シート【基本情報】'!BF247)","v":""}]
[null,{"$f":"IF('1_入力シート【基本情報】'!DM248>0,'1_入力シート【基本情報】'!M248&'1_入力シート【基本情報】'!P248&\"年\"&'1_入力シート【基本情報】'!S248&\"月\",\"\")","v":""},null,null,null,null,null,{"$f":"IF('1_入力シート【基本情報】'!V248=\"\",\"\",'1_入力シート【基本情報】'!V248)","v":""},null,null,null,null,null,null,null,null,null,{"$f":"IF('1_入力シート【基本情報】'!AH248=\"\",\"\",'1_入力シート【基本情報】'!AH248)","v":""},null,null,null,null,null,null,null,null,null,{"$f":"IF(AND('1_入力シート【基本情報】'!DN248>0,'1_入力シート【基本情報】'!DY248<>1),\"令和\"&'1_入力シート【基本情報】'!AZ248&\"年\"&'1_入力シート【基本情報】'!BC248&\"月\",IF('1_入力シート【基本情報】'!DY248=1,\"予定なし\",\"\"))","v":""},null,null,null,null,null,{"$f":"IF('1_入力シート【基本情報】'!BF248=\"\",\"\",'1_入力シート【基本情報】'!BF248)","v":""}]
[null,{"$f":"IF('1_入力シート【基本情報】'!DM249>0,'1_入力シート【基本情報】'!M249&'1_入力シート【基本情報】'!P249&\"年\"&'1_入力シート【基本情報】'!S249&\"月\",\"\")","v":""},null,null,null,null,null,{"$f":"IF('1_入力シート【基本情報】'!V249=\"\",\"\",'1_入力シート【基本情報】'!V249)","v":""},null,null,null,null,null,null,null,null,null,{"$f":"IF('1_入力シート【基本情報】'!AH249=\"\",\"\",'1_入力シート【基本情報】'!AH249)","v":""},null,null,null,null,null,null,null,null,null,{"$f":"IF(AND('1_入力シート【基本情報】'!DN249>0,'1_入力シート【基本情報】'!DY249<>1),\"令和\"&'1_入力シート【基本情報】'!AZ249&\"年\"&'1_入力シート【基本情報】'!BC249&\"月\",IF('1_入力シート【基本情報】'!DY249=1,\"予定なし\",\"\"))","v":""},null,null,null,null,null,{"$f":"IF('1_入力シート【基本情報】'!BF249=\"\",\"\",'1_入力シート【基本情報】'!BF249)","v":""}]
[]
[]
[]
[]
[]
[]
[]
[]
[]
[]
[]
[]
[]
[]
[]
[]
[null,"(注意)"]
[null,"1. 各面共通関係"]
[null,"　①　※印のある欄は記入しないでください。"]
[null,"　②　数字は算用数字を、単位はメートル法を用いてください。",null,null,null,null,null,null,null,null,null,null,null,null,null,null,null,null,null,null,null,null,null,null,null,null,null,null,null,null,null,null,null,null,null,null,null,null,null,null,null,null,null,null,null,null,null,"　②　数字は算用数字を、単位はメートル法を用いてください。","　②　数字は算用数字を、単位はメートル法を用いてください。","　②　数字は算用数字を、単位はメートル法を用いてください。"]
[null,"　③　記入欄が不足する場合は、枠を拡大、行を追加して記入するか、別紙に必要な事項を記入し添えて"]
[null,"　　ください。"]
[null,"2. 第一面関係"]
[null,"　①　調査者が２人以上のときは、代表となる調査者を調査者氏名欄に記入してください。"]
[null,"　②　１欄及び２欄は、所有者又は管理者が法人のときは、「ロ」はそれぞれ法人の名称及び代表者氏名"]
[null,"　　を、「ニ」はそれぞれ法人の所在地を記入してください。"]
[null,"　③　３欄は、代表となる調査者及び当該建築物の調査を行ったすべての調査者について記入してくださ"]
[null,"　　い。当該建築物の調査を行った調査者が１人の場合は、その他の調査者欄は削除して構いません。"]
[null,"　④　３欄の「イ」は、調査者の有する資格について記入してください。調査者が特定建築物調査員であ"]
[null,"　　る場合は、特定建築物調査員資格者証の交付番号を「特定建築物調査員」の番号欄に記入してくださ"]
[null,"　　い。"]
[null,"　⑤　３欄の「ニ」は、調査者が法人に勤務している場合は、調査者の勤務先について記入し、勤務先が"]
[null,"　　建築士事務所のときは、事務所登録番号を併せて記入してください。"]
[null,"　⑥　３欄の「ホ」から「ト」までは、調査者が法人に勤務している場合は、調査者の勤務先について記"]
[null,"　　入し、調査者が法人に勤務していない場合は、調査者の住所について記入してください。"]
[null,"　⑦　第三面の２欄のいずれかの「イ」において「要是正の指摘あり」のチェックボックスに「レ」マー"]
[null,"　　クを入れたときは、５欄の「イ」の「要是正の指摘あり」のチェックボックスに「レ」マークを入れ、"]
[null,"　　それ以外のときは、「指摘なし」のチェックボックスに「レ」マークを入れてください。また、第三"]
[null,"　　面の２欄の「イ」の「要是正の指摘あり」のチェックボックスに「レ」マークを入れたものの全てに"]
[null,"　　おいて、「既存不適格」のチェックボックスに「レ」マークを入れたときは、併せて５欄の「イ」の"]
[null,"　　「既存不適格」のチェックボックスに「レ」マークを入れてください。"]
[null,"　⑧　５欄の「ロ」は、指摘された事項のうち特に報告すべき事項があれば記入してください。"]
[null,"　⑨　５欄の「ハ」は、第三面の２欄のいずれかの「ハ」において改善予定があるとしているときは「"]
[null,"　　有」のチェックボックスに「レ」マークを入れ、第三面の２欄の「ハ」に記入された改善予定年月の"]
[null,"　　うち最も早いものを併せて記入してください。"]
[null,"　⑩　５欄の「ニ」は、指摘された事項以外に特に報告すべき事項があれば記入してください。"]
[null,"3. 第二面関係"]
[null,"　①　この書類は、建築物ごとに作成してください。"]
[null,"　②　敷地が複数の地域にまたがるときは、１欄の「イ」は、該当するすべてのチェックボックスに「"]
[null,"　　レ」マークを入れてください。建築基準法第22条第１項の規定により地域指定がされている場合、災"]
[null,"　　害危険区域に指定されている場合その他建築基準法又はそれに基づく命令により地域等の指定がされ"]
[null,"　　ている場合は、「その他」のチェックボックスに「レ」マークを入れ、併せてその内容を記入して下"]
[null,"　　さい。"]
[null,"　③　１欄の「ロ」は、該当する用途地域名を全て記入してください。"]
[null,"　④　２欄の「イ」は、該当する全てのチェックボックスに「レ」マークを入れてください。なお、その"]
[null,"　　他の構造からなる場合には、「その他」のチェックボックスに「レ」マークを入れ、併せて具体的な"]
[null,"　　構造を記入してください。"]
[null,"　⑤　３欄の「イ」は、建築基準法別表第一（い）欄に掲げる用途に供する部分について、最上階から順"]
[null,"　　に記入し、当該用途に供する部分の床面積を記入してください。ただし、特定行政庁が報告の必要が"]
[null,"　　ある用途を定めている場合には、その用途について記入して下さい。該当する用途が複数あるときは"]
[null,"　　、それらを全て記入してください。"]
[null,"　⑥　３欄の「ロ」は、「イ」の用途ごとに床面積の合計を記入してください。"]
[null,"　⑦　４欄は、建築基準法施行令第108条の３第２項に規定する耐火性能検証法により耐火に関する性能"]
[null,"　　が検証されたときは「耐火性能検証法」のチェックボックスに、同令第108条の３第５項に規定する"]
[null,"　　防火区画検証法により遮炎に関する性能が検証されたときは「防火区画検証法」のチェックボックス"]
[null,"　　に、同令第128条の６第３項に規定する区画避難安全検証法により区画避難安全性能が検証されたとき"]
[null,"　　は「区画避難安全検証法」のチェックボックスに、同令第129条第３項に規定する階避難安全検証法に"]
[null,"　　より階避難安全性能が検証されたときは「階避難安全検証法」のチェックボックスに、同令第129条の"]
[null,"　　２第４項に規定する全館避難安全検証法により全館避難安全性能が検証されたときは「全館避難安全"]
[null,"　　検証法」のチェックボックスに、それぞれ「レ」マークを入れ、「区画避難安全検証法」の場合は区"]
[null,"　　画避難安全性能を検証した階を、「階避難安全検証法」の場合は階避難安全性能を検証した階を、併"]
[null,"　　せて記入してください。建築基準法第38条（同法第66条、第67条の２及び第88条第１項において準用"]
[null,"　　する場合を含む。）の規定による特殊構造方法等認定、同法第68条の25第１項の規定による構造方法"]
[null,"　　等の認定又は建築基準法の一部を改正する法律（平成10年法律第100号）による改正前の建築基準法"]
[null,"　　第38条の規定による認定を受けている建築物のうち、当該適用について特に報告が必要なものについ"]
[null,"　　ては「その他」のチェックボックスに「レ」マークを入れ、その概要を記入してください。"]
[null,"　⑧　５欄は、前回調査時以降の建築（新築を除く。）、模様替え、修繕又は用途の変更（以下「増築、"]
[null,"　　改築、用途変更等」という。）について、古いものから順に記入し、確認（建築基準法第６条第１項"]
[null,"　　に規定する確認。以下同じ。）を受けている場合は建築確認済証交付年月日を、受けていない場合は"]
[null,"　　増築、改築、用途変更等が完了した年月日を、併せて記入し、それぞれ増築、改築、用途変更等の概"]
[null,"　　要を記入してください。"]
[null,"　⑨　６欄の「イ」は、最近の確認について、当該確認に要した図書の全部又は一部があるときは「有」"]
[null,"　　のチェックボックスに「レ」マークを入れ、そのうち各階平面図のみがあるときは併せて「各階平面"]
[null,"　　図あり」のチェックボックスに「レ」マークを入れてください。"]
[null,"　⑩　６欄の「ロ」は、最近の確認に係る確認済証について、該当するチェックボックスに「レ」マーク"]
[null,"　　を入れてください。「有」の場合は、確認済証の交付年月日を記入し、交付者に関するチェックボッ"]
[null,"　　クスに「レ」マークを入れ、「指定確認検査機関」の場合は、併せてその名称を記入してください。"]
[null,"　⑪　６欄の「ハ」は、直近の完了検査について、当該完了検査に要した図書の全部又は一部があるとき"]
[null,"　　は「有」のチェックボックスに「レ」マークを入れてください。"]
[null,"　⑫　６欄の「ニ」は、（注意）⑩に準じて記入してください。"]
[null,"　⑬　６欄の「ホ」は、建築基準法第８条第２項に規定する維持保全に関する準則又は計画について記入"]
[null,"　　してください。"]
[null,"　⑭　６欄の「ヘ」は、前回の定期調査の結果を記録した書類の保存の有無について記入してください。"]
[null,"　⑮　建築基準法第86条の８又は同法第87条の２の規定の適用を受けている場合において、７欄にその旨"]
[null,"　　を記載してください。"]
[null,"　⑯　ここに書き表せない事項で特に報告すべき事項は、７欄又は別紙に記載して添えてください。"]
[null,"4.第三面関係"]
[null,"　①　この書類は、建築物ごとに、当該建築物の敷地、構造及び建築設備の状況（別途建築設備の検査を"]
[null,"　　行っている場合は建築設備の設置の状況に係るものに限る。）に関する調査の結果について作成して"]
[null,"　　ください。"]
[null,"　②　１欄の「イ」は、調査が終了した年月日を記入してください。"]
[null,"　③　１欄の「ロ」から「ホ」までは、報告の対象となっていない場合には「未実施」のチェックボック"]
[null,"　　スに「レ」マークを入れてください。"]
[null,"　④　１欄の「ハ」から「ホ」までは、直前の報告について、それぞれ記入してください。"]
[null,"　⑤　２欄の「イ」は、調査結果において、是正が必要と認められるときは「要是正の指摘あり」のチェ"]
[null,"　　ックボックスに「レ」マークを入れ、建築基準法第３条第２項（同法第86条の９第１項において準用"]
[null,"　　する場合を含む。）の規定の適用を受けているものであることが確認されたときは併せて「既存不適"]
[null,"　　格」のチェックボックスに「レ」マークを入れてください。"]
[null,"　⑥　２欄の「イ」の「要是正の指摘あり」のチェックボックスに「レ」マークを入れたとき（「既存不"]
[null,"　　適格」のチェックボックスに「レ」マークを入れたときを除く。）は、「ロ」に指摘の概要を記入し"]
[null,"　　て下さい。"]
[null,"　⑦　２欄の「イ」の「要是正の指摘あり」のチェックボックスに「レ」マークを入れた当該指摘をうけ"]
[null,"　　た項目について改善予定があるときは「ハ」の「有」のチェックボックスに「レ」マークを入れ、併"]
[null,"　　せて改善予定年月を記入してください。改善予定がないときは「ハ」の「無」のチェックボックスに"]
[null,"　　「レ」マークを入れてください。"]
[null,"　⑧　３欄は、建築基準法第28条の２の規定の適用を受ける石綿を添加した建築材料について記入してく"]
[null,"　　ださい。「イ」の「有（飛散防止措置無）」又は「有（飛散防止措置有）」のチェックボックスに「"]
[null,"　　レ」マークを入れたときは、当該建築材料が確認された室を記入してください。当該建築材料につい"]
[null,"　　て飛散防止措置を行う予定があるときは、「ロ」の「有」のチェックボックスに「レ」マークを入れ、"]
[null,"　　併せて措置予定年月を記入してください。措置を行う予定がないときは、「ロ」の「無」のチェック"]
[null,"　　ボックスに「レ」マークを入れてください。"]
[null,"　⑨　４欄は、建築物の耐震改修の促進に関する法律（平成７年法律第123号）第２条第１項又は第２項に"]
[null,"　　規定する耐震診断又は耐震改修の実施の有無について記入してください。耐震診断又は耐震改修の実"]
[null,"　　施の予定があるときは、実施予定年月を記入し、具体的な耐震改修の内容を定めている場合は別紙に"]
[null,"　　記入し添えてください。"]
[null,"　⑩　前回調査時以降に把握した屋根ふき材、内装材、外装材等及び広告塔、装飾塔その他建築物の屋外"]
[null,"　　に取り付けられたものの脱落、バルコニー、屋上等の手すりその他建築物の部分の脱落等（以下「不"]
[null,"　　具合等」という。）について第四面の「不具合等の概要」欄に記入したときは、５欄の「イ」の「有"]
[null,"　　」のチェックボックスに「レ」マークを入れ、当該不具合等について記録が有るときは「ロ」の「有"]
[null,"　　」のチェックボックスに「レ」マークを入れ、記録が無いときは「ロ」の「無」のチェックボックス"]
[null,"　　に「レ」マークを入れてください。また、第四面に記入された不具合等のうち当該不具合等を受け既"]
[null,"　　に改善を実施しているものがあり、かつ、改善を行う予定があるものがない場合には「ハ」の「実施"]
[null,"　　済」のチェックボックスに「レ」マークを入れ、第四面に記入された不具合等のうち改善を行う予定"]
[null,"　　があるものがある場合には「改善予定」のチェックボックスに「レ」マークを入れ、第四面の「改善"]
[null,"　　（予定）年月」欄に記入された改善予定年月のうち最も早いものを併せて記入し、これら以外の場合"]
[null,"　　には「予定なし」のチェックボックスに「レ」マークを入れてください。"]
[null,"　⑪　各欄に掲げられている項目以外で特に報告すべき事項は、６欄又は別紙に記入して添えてください。"]
[null,"5.第四面関係"]
[null,"　①　第四面は、前回調査時以降に把握した建築物等に係る不具合等のうち第三面の２欄において指摘さ"]
[null,"　　れるもの以外のものについて、把握できる範囲において記入してください。前回調査時以降の不具合"]
[null,"　　等を把握していない場合は、第四面を省略することができます。"]
[null,"　②　「不具合等を把握した年月」欄は、当該不具合等を把握した年月を記入してください。"]
[null,"　③　「不具合等の概要」欄は、当該不具合等の概要を記入してください。"]
[null,"　④　「考えられる原因」欄は、当該不具合等が生じた原因として考えられるものを記入してください。"]
[null,"　⑤　「改善（予定）年月」欄は、既に改善を実施している場合には実施年月を、改善を行う予定がある"]
[null,"　　場合には改善予定年月を記入し、改善を行う予定がない場合には「－」マークを記入してください。"]
[null,"　⑥　「改善措置の概要等」欄は、既に改善を実施している場合又は改善を行う予定がある場合に、具体"]
[null,"　　的措置の概要を記入してください。改善を行う予定がない場合には、その理由を記入してください。"]
[]
[null,"　　"]

{"sheet":"＜入力不要＞概要書","index":5,"n_rows":379,"n_cols":59,"rows_kept":379,"cut":false,"hidden":false,"merged":[[113,24,113,35],[127,1,127,45],[134,2,134,8],[176,2,176,8],[134,9,153,44],[176,9,185,44],[161,15,161,16],[161,25,161,32],[161,38,161,43],[162,38,162,43],[163,14,163,44],[164,14,164,44],[165,14,165,44],[166,15,166,16],[166,25,166,30],[166,38,166,43],[167,14,167,20],[168,14,168,44],[169,14,169,27],[116,14,116,25],[41,14,41,44],[42,14,42,44],[43,14,43,20],[44,14,44,44],[46,13,46,45],[54,15,54,16],[54,25,54,32],[54,38,54,43],[5,1,5,44],[8,1,8,44],[30,14,30,44],[31,14,31,44],[32,14,32,20],[33,14,33,44],[60,14,60,20],[61,14,61,44],[62,14,62,27],[65,15,65,16],[65,25,65,32],[65,38,65,43],[55,38,55,43],[56,14,56,44],[57,14,57,44],[58,14,58,44],[59,15,59,16],[59,25,59,30],[59,38,59,43],[71,14,71,20],[72,14,72,44],[73,14,73,27],[80,14,80,44],[81,14,81,44],[82,14,82,44],[66,38,66,43],[67,14,67,44],[68,14,68,44],[69,14,69,44],[70,15,70,16],[70,25,70,30],[70,38,70,43],[100,17,100,18],[100,19,100,20],[100,22,100,23],[101,14,101,44],[106,18,106,19],[106,20,106,21],[106,23,106,24],[106,26,106,27],[83,14,83,44],[84,13,84,45],[85,13,85,45],[86,13,86,45],[87,13,87,45],[93,24,93,35],[95,14,95,25],[109,18,109,19],[109,20,109,21],[109,23,109,24],[109,26,109,27],[110,18,110,19],[110,20,110,21],[110,23,110,24],[110,26,110,27],[107,18,107,19],[107,20,107,21],[107,23,107,24],[107,26,107,27],[108,18,108,19],[108,20,108,21],[108,23,108,24],[108,26,108,27],[203,17,203,19],[203,25,203,27],[204,14,204,21],[117,25,117,26],[117,27,117,28],[117,30,117,31],[118,23,118,43],[187,1,187,45],[214,21,214,25],[214,29,214,32],[212,36,212,43],[193,19,193,30],[194,14,194,44],[202,31,202,42],[215,21,215,25],[215,29,215,32],[216,14,216,16],[216,21,216,25],[216,29,216,32],[205,14,205,21],[206,14,206,21],[212,22,212,24],[212,30,212,32],[213,14,213,16],[213,21,213,25],[213,29,213,32],[220,21,220,25],[220,29,220,32],[221,21,221,25],[221,29,221,32],[222,14,222,16],[222,21,222,25],[222,29,222,32],[217,21,217,25],[217,29,217,32],[218,21,218,25],[218,29,218,32],[219,14,219,16],[219,21,219,25],[219,29,219,32],[232,10,232,11],[232,23,232,28],[226,21,226,25],[226,29,226,32],[227,21,227,25],[227,29,227,32],[228,21,228,25],[228,29,228,32],[223,21,223,25],[223,29,223,32],[224,21,224,25],[224,29,224,32],[225,14,225,16],[225,21,225,25],[225,29,225,32],[232,33,232,39],[233,33,233,39],[234,33,234,39],[235,13,235,45],[236,13,236,45],[237,13,237,45],[229,21,229,25],[229,29,229,32],[230,21,230,25],[230,29,230,32],[248,25,248,27],[248,41,248,43],[250,19,250,40],[256,10,256,11],[256,12,256,13],[256,15,256,16],[256,18,256,19],[238,10,238,11],[238,23,238,26],[238,33,238,39],[239,13,239,21],[240,13,240,45],[241,13,241,29],[256,26,256,44],[248,32,248,40],[248,15,248,24],[248,28,248,29],[248,44,248,45],[257,10,257,11],[257,12,257,13],[257,15,257,16],[257,18,257,19],[258,10,258,11],[258,12,258,13],[258,15,258,16],[258,18,258,19],[257,26,257,44],[258,26,258,44],[259,10,259,11],[259,12,259,13],[259,15,259,16],[259,18,259,19],[273,20,273,21],[273,22,273,23],[273,25,273,26],[273,28,273,29],[273,33,273,43],[259,26,259,44],[273,31,273,32],[274,36,274,44],[278,36,278,44],[289,13,289,21],[290,13,290,45],[291,13,291,29],[285,13,285,45],[286,13,286,45],[287,13,287,45],[288,10,288,11],[288,23,288,26],[288,33,288,39],[282,10,282,11],[282,23,282,28],[282,33,282,39],[283,33,283,39],[284,33,284,39],[277,20,277,21],[277,22,277,23],[277,25,277,26],[277,28,277,29],[277,33,277,43],[274,27,274,35],[278,27,278,35],[277,31,277,32],[296,2,299,44],[319,5,319,8],[319,10,319,13],[319,15,319,18],[319,20,319,23],[319,25,319,28],[319,30,319,33],[319,35,319,38],[319,40,319,43],[319,1,319,4],[320,1,320,3],[320,5,320,8],[320,10,320,13],[320,15,320,18],[320,20,320,23],[320,25,320,28],[320,30,320,33],[320,35,320,38],[320,40,320,43],[321,1,321,3],[321,5,321,8],[321,10,321,13],[321,15,321,18],[321,20,321,23],[321,25,321,28],[321,30,321,33],[321,35,321,38],[321,40,321,43],[322,1,322,3],[322,5,322,8],[322,10,322,13],[322,15,322,18],[322,20,322,23],[322,25,322,28],[322,30,322,33],[322,35,322,38],[322,40,322,43],[323,1,323,3],[323,5,323,8],[323,10,323,13],[323,15,323,18],[323,20,323,23],[323,25,323,28],[323,30,323,33],[323,35,323,38],[323,40,323,43],[324,5,324,8],[324,10,324,13],[324,15,324,18],[324,20,324,23],[324,25,324,28],[324,30,324,33],[324,35,324,38],[324,40,324,43],[325,5,325,8],[325,10,325,13],[325,15,325,18],[325,20,325,23],[325,25,325,28],[325,30,325,33],[325,35,325,38],[325,40,325,43],[326,5,326,8],[326,10,326,13],[326,15,326,18],[326,20,326,23],[326,25,326,28],[326,30,326,33],[326,35,326,38],[326,40,326,43],[327,5,327,8],[327,10,327,13],[327,15,327,18],[327,20,327,23],[327,25,327,28],[327,30,327,33],[327,35,327,38],[327,40,327,43],[328,5,328,8],[328,10,328,13],[328,15,328,18],[328,20,328,23],[328,25,328,28],[328,30,328,33],[328,35,328,38],[328,40,328,43],[329,5,329,8],[329,10,329,13],[329,15,329,18],[329,20,329,23],[329,25,329,28],[329,30,329,33],[329,35,329,38],[329,40,329,43],[330,5,330,8],[330,10,330,13],[330,15,330,18],[330,20,330,23],[330,25,330,28],[330,30,330,33],[330,35,330,38],[330,40,330,43],[331,5,331,8],[331,10,331,13],[331,15,331,18],[331,20,331,23],[331,25,331,28],[331,30,331,33],[331,35,331,38],[331,40,331,43],[332,5,332,8],[332,10,332,13],[332,15,332,18],[332,20,332,23],[332,25,332,28],[332,30,332,33],[332,35,332,38],[332,40,332,43],[333,5,333,8],[333,10,333,13],[333,15,333,18],[333,20,333,23],[333,25,333,28],[333,30,333,33],[333,35,333,38],[333,40,333,43],[334,5,334,8],[334,10,334,13],[334,15,334,18],[334,20,334,23],[334,25,334,28],[334,30,334,33],[334,35,334,38],[334,40,334,43],[335,5,335,8],[335,10,335,13],[335,15,335,18],[335,20,335,23],[335,25,335,28],[335,30,335,33],[335,35,335,38],[335,40,335,43],[336,5,336,8],[336,10,336,13],[336,15,336,18],[336,20,336,23],[336,25,336,28],[336,30,336,33],[336,35,336,38],[336,40,336,43],[337,5,337,8],[337,10,337,13],[337,15,337,18],[337,20,337,23],[337,25,337,28],[337,30,337,33],[337,35,337,38],[337,40,337,43],[338,5,338,8],[338,10,338,13],[338,15,338,18],[338,20,338,23],[338,25,338,28],[338,30,338,33],[338,35,338,38],[338,40,338,43],[339,5,339,8],[339,10,339,13],[339,15,339,18],[339,20,339,23],[339,25,339,28],[339,30,339,33],[339,35,339,38],[339,40,339,43],[340,5,340,8],[340,10,340,13],[340,15,340,18],[340,20,340,23],[340,25,340,28],[340,30,340,33],[340,35,340,38],[340,40,340,43],[341,5,341,8],[341,10,341,13],[341,15,341,18],[341,20,341,23],[341,25,341,28],[341,30,341,33],[341,35,341,38],[341,40,341,43],[342,5,342,8],[342,10,342,13],[342,15,342,18],[342,20,342,23],[342,25,342,28],[342,30,342,33],[342,35,342,38],[342,40,342,43],[343,5,343,8],[343,10,343,13],[343,15,343,18],[343,20,343,23],[343,25,343,28],[343,30,343,33],[343,35,343,38],[343,40,343,43],[344,5,344,8],[344,10,344,13],[344,15,344,18],[344,20,344,23],[344,25,344,28],[344,30,344,33],[344,35,344,38],[344,40,344,43],[345,5,345,8],[345,10,345,13],[345,15,345,18],[345,20,345,23],[345,25,345,28],[345,30,345,33],[345,35,345,38],[345,40,345,43],[346,5,346,8],[346,10,346,13],[346,15,346,18],[346,20,346,23],[346,25,346,28],[346,30,346,33],[346,35,346,38],[346,40,346,43],[347,5,347,8],[347,10,347,13],[347,15,347,18],[347,20,347,23],[347,25,347,28],[347,30,347,33],[347,35,347,38],[347,40,347,43],[348,5,348,8],[348,10,348,13],[348,15,348,18],[348,20,348,23],[348,25,348,28],[348,30,348,33],[348,35,348,38],[348,40,348,43],[349,5,349,8],[349,10,349,13],[349,15,349,18],[349,20,349,23],[349,25,349,28],[349,30,349,33],[349,35,349,38],[349,40,349,43],[350,5,350,8],[350,10,350,13],[350,15,350,18],[350,20,350,23],[350,25,350,28],[350,30,350,33],[350,35,350,38],[350,40,350,43],[351,5,351,8],[351,10,351,13],[351,15,351,18],[351,20,351,23],[351,25,351,28],[351,30,351,33],[351,35,351,38],[351,40,351,43],[352,5,352,8],[352,10,352,13],[352,15,352,18],[352,20,352,23],[352,25,352,28],[352,30,352,33],[352,35,352,38],[352,40,352,43],[353,5,353,8],[353,10,353,13],[353,15,353,18],[353,20,353,23],[353,25,353,28],[353,30,353,33],[353,35,353,38],[353,40,353,43],[354,5,354,8],[354,10,354,13],[354,15,354,18],[354,20,354,23],[354,25,354,28],[354,30,354,33],[354,35,354,38],[354,40,354,43],[355,5,355,8],[355,10,355,13],[355,15,355,18],[355,20,355,23],[355,25,355,28],[355,30,355,33],[355,35,355,38],[355,40,355,43],[356,10,356,13],[356,15,356,18],[356,20,356,23],[356,25,356,28],[356,30,356,33],[356,35,356,38],[356,40,356,43],[357,5,357,8],[357,10,357,13],[357,15,357,18],[357,20,357,23],[357,25,357,28],[357,30,357,33],[357,35,357,38],[357,40,357,43],[358,15,358,18],[358,20,358,23],[358,25,358,28],[358,30,358,33],[358,35,358,38],[358,40,358,43],[359,5,359,8],[359,10,359,13],[359,15,359,18],[359,20,359,23],[359,25,359,28],[359,30,359,33],[359,35,359,38],[359,40,359,43],[360,15,360,18],[360,20,360,23],[360,25,360,28],[360,30,360,33],[360,35,360,38],[360,40,360,43],[361,5,361,8],[361,10,361,13],[361,15,361,18],[361,20,361,23],[361,25,361,28],[361,30,361,33],[361,35,361,38],[361,40,361,43],[362,15,362,18],[362,20,362,23],[362,25,362,28],[362,30,362,33],[362,35,362,38],[362,40,362,43],[363,5,363,8],[363,10,363,13],[363,15,363,18],[363,20,363,23],[363,25,363,28],[363,30,363,33],[363,35,363,38],[363,40,363,43],[364,15,364,18],[364,20,364,23],[364,25,364,28],[364,30,364,33],[364,35,364,38],[364,40,364,43],[365,5,365,8],[365,10,365,13],[365,15,365,18],[365,20,365,23],[365,25,365,28],[365,30,365,33],[365,35,365,38],[365,40,365,43],[366,15,366,18],[366,20,366,23],[366,25,366,28],[366,30,366,33],[366,35,366,38],[366,40,366,43],[367,5,367,8],[367,10,367,13],[367,15,367,18],[367,20,367,23],[367,25,367,28],[367,30,367,33],[367,35,367,38],[367,40,367,43],[368,15,368,18],[368,20,368,23],[368,25,368,28],[368,30,368,33],[368,35,368,38],[368,40,368,43],[369,5,369,8],[369,10,369,13],[369,15,369,18],[369,20,369,23],[369,25,369,28],[369,30,369,33],[369,35,369,38],[369,40,369,43],[370,15,370,18],[370,20,370,23],[370,25,370,28],[370,30,370,33],[370,35,370,38],[370,40,370,43],[371,5,371,8],[371,10,371,13],[371,15,371,18],[371,20,371,23],[371,25,371,28],[371,30,371,33],[371,35,371,38],[371,40,371,43],[372,15,372,18],[372,20,372,23],[372,25,372,28],[372,30,372,33],[372,35,372,38],[372,40,372,43],[373,5,373,8],[373,10,373,13],[373,15,373,18],[373,20,373,23],[373,25,373,28],[373,30,373,33],[373,35,373,38],[373,40,373,43],[329,2,329,3],[330,2,330,3],[331,2,331,3],[332,2,332,3],[326,1,326,3],[327,1,327,3],[328,1,328,3],[372,5,372,8],[372,10,372,13],[370,5,370,8],[370,10,370,13],[368,5,368,8],[368,10,368,13],[366,5,366,8],[366,10,366,13],[364,5,364,8],[364,10,364,13],[362,5,362,8],[362,10,362,13],[360,5,360,8],[360,10,360,13],[358,5,358,8],[358,10,358,13],[356,5,356,8],[333,2,333,3],[334,2,334,3],[335,2,335,3],[336,2,336,3],[337,2,337,3],[338,2,338,3],[339,2,339,3],[340,2,340,3],[341,2,341,3],[342,2,342,3],[343,2,343,3],[344,2,344,3],[345,2,345,3],[346,2,346,3],[347,2,347,3],[348,2,348,3],[349,2,349,3],[350,2,350,3],[351,2,351,3],[352,2,352,3],[353,2,353,3],[354,2,354,3],[355,2,355,3],[356,2,356,3],[357,2,357,3],[358,2,358,3],[359,2,359,3],[360,2,360,3],[361,2,361,3],[362,2,362,3],[363,2,363,3],[364,2,364,3],[365,2,365,3],[366,2,366,3],[367,2,367,3],[368,2,368,3],[369,2,369,3],[370,2,370,3],[371,2,371,3],[372,2,372,3],[373,2,373,3],[309,1,309,45],[313,1,318,4],[313,5,318,9],[313,10,314,14],[313,15,314,19],[313,20,314,24],[313,25,314,29],[313,30,314,34],[313,35,314,39],[313,40,314,44],[315,10,318,14],[315,15,318,19],[315,20,318,24],[315,25,318,29],[315,30,318,34],[315,35,318,39],[315,40,318,44],[324,1,324,3],[325,1,325,3],[374,2,374,3],[374,5,374,8],[374,10,374,13],[374,15,374,18],[374,20,374,23],[374,25,374,28],[374,30,374,33],[374,35,374,38],[374,40,374,43],[375,2,375,3],[375,5,375,8],[375,10,375,13],[375,15,375,18],[375,20,375,23],[375,25,375,28],[375,30,375,33],[375,35,375,38],[375,40,375,43],[376,2,376,3],[376,5,376,8],[376,10,376,13],[376,15,376,18],[376,20,376,23],[376,25,376,28],[376,30,376,33],[376,35,376,38],[376,40,376,43],[377,2,377,3],[377,5,377,8],[377,10,377,13],[377,15,377,18],[377,20,377,23],[377,25,377,28],[377,30,377,33],[377,35,377,38],[377,40,377,43],[378,2,378,3],[378,5,378,8],[378,10,378,13],[378,15,378,18],[378,20,378,23],[378,25,378,28],[378,30,378,33],[378,35,378,38],[378,40,378,43]]}
[]
[]
[]
[null,"第三十六号の三様式（第五条、第六条の三、第十一条の三関係）（Ａ４）"]
[]
[null,"定期調査報告概要書"]
[]
[]
[null,"（第一面）"]
[]
[]
[]
[]
[]
[]
[]
[]
[]
[]
[]
[]
[null,null,"調査等の概要"]
[]
[]
[]
[]
[]
[]
[]
[null,"【1．所有者】"]
[null,null,null,"【イ．氏名のフリガナ】",null,null,null,null,null,null,null,null,null,null,{"$f":"IF('＜入力不要＞報告書'!O31=\"\",\"\",'＜入力不要＞報告書'!O31)","v":"  "}]
[null,null,null,"【ロ．氏名】",null,null,null,null,null,null,null,null,null,null,{"$f":"IF('＜入力不要＞報告書'!O32=\"\",\"\",'＜入力不要＞報告書'!O32)","v":"  "}]
[null,null,null,"【ハ．郵便番号】",null,null,null,null,null,null,null,null,null,null,{"$f":"IF('＜入力不要＞報告書'!O33=\"\",\"\",'＜入力不要＞報告書'!O33)","v":""}]
[null,null,null,"【ニ．住所】",null,null,null,null,null,null,null,null,null,null,{"$f":"IF('＜入力不要＞報告書'!O34=\"\",\"\",'＜入力不要＞報告書'!O34)","v":""}]
[]
[]
[]
[]
[]
[]
[null,"【2．管理者】"]
[null,null,null,"【イ．氏名のフリガナ】",null,null,null,null,null,null,null,null,null,null,{"$f":"IF('＜入力不要＞報告書'!O42=\"\",\"\",'＜入力不要＞報告書'!O42)","v":"  "}]
[null,null,null,"【ロ．氏名】",null,null,null,null,null,null,null,null,null,null,{"$f":"IF('＜入力不要＞報告書'!O43=\"\",\"\",'＜入力不要＞報告書'!O43)","v":"  "}]
[null,null,null,"【ハ．郵便番号】",null,null,null,null,null,null,null,null,null,null,{"$f":"IF('＜入力不要＞報告書'!O44=\"\",\"\",'＜入力不要＞報告書'!O44)","v":""}]
[null,null,null,"【ニ．住所】",null,null,null,null,null,null,null,null,null,null,{"$f":"IF('＜入力不要＞報告書'!O45=\"\",\"\",'＜入力不要＞報告書'!O45)","v":""}]
[]
[]
[]
[]
[]
[]
[null,"【3．調査者】"]
[null,null,"（代表となる調査者）"]
[null,null,null,"【イ．資格】"]
[null,null,null,null,null,null,null,null,null,null,null,null,null,null,"（",{"$f":"IF('＜入力不要＞報告書'!P55=\"\",\"\",'＜入力不要＞報告書'!P55)","v":""},null,"）建築士",null,null,null,null,null,null,"（",{"$f":"IF('＜入力不要＞報告書'!Z55=\"\",\"\",'＜入力不要＞報告書'!Z55)","v":""},null,null,null,null,null,null,null,"）登録",null,null,null,"第",{"$f":"IF('＜入力不要＞報告書'!AM55=\"\",\"\",'＜入力不要＞報告書'!AM55)","v":""},null,null,null,null,null,"号"]
[null,null,null,null,null,null,null,null,null,null,null,null,null,null,"特定建築物調査員",null,null,null,null,null,null,null,null,null,null,null,null,null,null,null,null,null,null,null,null,null,null,"第",{"$f":"IF('＜入力不要＞報告書'!AM56=\"\",\"\",'＜入力不要＞報告書'!AM56)","v":""},null,null,null,null,null,"号"]
[null,null,null,"【ロ．氏名のフリガナ】",null,null,null,null,null,null,null,null,null,null,{"$f":"IF('＜入力不要＞報告書'!O57=\"\",\"\",'＜入力不要＞報告書'!O57)","v":""}]
[null,null,null,"【ハ．氏名】 ",null,null,null,null,null,null,null,null,null,null,{"$f":"IF('＜入力不要＞報告書'!O58=\"\",\"\",'＜入力不要＞報告書'!O58)","v":""}]
[null,null,null,"【ニ．勤務先】",null,null,null,null,null,null,null,null,null,null,{"$f":"IF('＜入力不要＞報告書'!O59=\"\",\"\",'＜入力不要＞報告書'!O59)","v":""}]
[null,null,null,null,null,null,null,null,null,null,null,null,null,null,"（",{"$f":"IF('＜入力不要＞報告書'!P60=\"\",\"\",'＜入力不要＞報告書'!P60)","v":""},null,"）建築士事務所",null,null,null,null,null,null,"（",{"$f":"IF('＜入力不要＞報告書'!Z60=\"\",\"\",'＜入力不要＞報告書'!Z60)","v":""},null,null,null,null,null,"）知事登録",null,null,null,null,null,"第",{"$f":"IF('＜入力不要＞報告書'!AM60=\"\",\"\",'＜入力不要＞報告書'!AM60)","v":""},null,null,null,null,null,"号"]
[null,null,null,"【ホ．郵便番号】",null,null,null,null,null,null,null,null,null,null,{"$f":"IF('＜入力不要＞報告書'!O61=\"\",\"\",'＜入力不要＞報告書'!O61)","v":""}]
[null,null,null,"【へ．所在地】",null,null,null,null,null,null,null,null,null,null,{"$f":"IF('＜入力不要＞報告書'!O62=\"\",\"\",'＜入力不要＞報告書'!O62)","v":""}]
[null,null,null,"【ト．電話番号】",null,null,null,null,null,null,null,null,null,null,{"$f":"IF('＜入力不要＞報告書'!O63=\"\",\"\",'＜入力不要＞報告書'!O63)","v":""}]
[null,null,"（その他の調査者）"]
[null,null,null,"【イ．資格】"]
[null,null,null,null,null,null,null,null,null,null,null,null,null,null,"（",{"$f":"IF('＜入力不要＞報告書'!P66=\"\",\"\",'＜入力不要＞報告書'!P66)","v":""},null,"）建築士",null,null,null,null,null,null,"（",{"$f":"IF('＜入力不要＞報告書'!Z66=\"\",\"\",'＜入力不要＞報告書'!Z66)","v":0},null,null,null,null,null,null,null,"）登録",null,null,null,"第",{"$f":"IF('＜入力不要＞報告書'!AM66=\"\",\"\",'＜入力不要＞報告書'!AM66)","v":""},null,null,null,null,null,"号"]
[null,null,null,null,null,null,null,null,null,null,null,null,null,null,"特定建築物調査員",null,null,null,null,null,null,null,null,null,null,null,null,null,null,null,null,null,null,null,null,null,null,"第",{"$f":"IF('＜入力不要＞報告書'!AM67=\"\",\"\",'＜入力不要＞報告書'!AM67)","v":""},null,null,null,null,null,"号"]
[null,null,null,"【ロ．氏名のフリガナ】",null,null,null,null,null,null,null,null,null,null,{"$f":"IF('＜入力不要＞報告書'!O68=\"\",\"\",'＜入力不要＞報告書'!O68)","v":""}]
[null,null,null,"【ハ．氏名】 ",null,null,null,null,null,null,null,null,null,null,{"$f":"IF('＜入力不要＞報告書'!O69=\"\",\"\",'＜入力不要＞報告書'!O69)","v":0}]
[null,null,null,"【ニ．勤務先】",null,null,null,null,null,null,null,null,null,null,{"$f":"IF('＜入力不要＞報告書'!O70=\"\",\"\",'＜入力不要＞報告書'!O70)","v":""}]
[null,null,null,null,null,null,null,null,null,null,null,null,null,null,"（",{"$f":"IF('＜入力不要＞報告書'!P71=\"\",\"\",'＜入力不要＞報告書'!P71)","v":""},null,"）建築士事務所",null,null,null,null,null,null,"（",{"$f":"IF('＜入力不要＞報告書'!Z71=\"\",\"\",'＜入力不要＞報告書'!Z71)","v":""},null,null,null,null,null,"）知事登録",null,null,null,null,null,"第",{"$f":"IF('＜入力不要＞報告書'!AM71=\"\",\"\",'＜入力不要＞報告書'!AM71)","v":""},null,null,null,null,null,"号"]
[null,null,null,"【ホ．郵便番号】",null,null,null,null,null,null,null,null,null,null,{"$f":"IF('＜入力不要＞報告書'!O72=\"\",\"\",'＜入力不要＞報告書'!O72)","v":""}]
[null,null,null,"【へ．所在地】",null,null,null,null,null,null,null,null,null,null,{"$f":"IF('＜入力不要＞報告書'!O73=\"\",\"\",'＜入力不要＞報告書'!O73)","v":""}]
[null,null,null,"【ト．電話番号】",null,null,null,null,null,null,null,null,null,null,{"$f":"IF('＜入力不要＞報告書'!O74=\"\",\"\",'＜入力不要＞報告書'!O74)","v":""}]
[]
[]
[]
[]
[]
[null,"【4．報告対象建築物】"]
[null,null,null,"【イ．所在地】",null,null,null,null,null,null,null,null,null,null,{"$f":"IF('＜入力不要＞報告書'!O81=\"\",\"\",'＜入力不要＞報告書'!O81)&IF('＜入力不要＞報告書'!V81=\"\",\"\",'＜入力不要＞報告書'!V81)&IF('＜入力不要＞報告書'!AC81=\"\",\"\",'＜入力不要＞報告書'!AC81)&IF('＜入力不要＞報告書'!AJ81=\"\",\"\",'＜入力不要＞報告書'!AJ81)","v":""}]
[null,null,null,"【ロ．名称のフリガナ】",null,null,null,null,null,null,null,null,null,null,{"$f":"IF('＜入力不要＞報告書'!O82=\"\",\"\",'＜入力不要＞報告書'!O82)&IF('＜入力不要＞報告書'!V82=\"\",\"\",'＜入力不要＞報告書'!V82)&IF('＜入力不要＞報告書'!AC82=\"\",\"\",'＜入力不要＞報告書'!AC82)&IF('＜入力不要＞報告書'!AJ82=\"\",\"\",'＜入力不要＞報告書'!AJ82)","v":""}]
[null,null,null,"【ハ．名称】",null,null,null,null,null,null,null,null,null,null,{"$f":"IF('＜入力不要＞報告書'!O83=\"\",\"\",'＜入力不要＞報告書'!O83)","v":""}]
[null,null,null,"【ニ．用途】",null,null,null,null,null,null,null,null,null,null,{"$f":"IF('＜入力不要＞報告書'!O84=\"\",\"\",'＜入力不要＞報告書'!O84)","v":""}]
[]
[]
[]
[]
[]
[]
[]
[]
[]
[null,"【5．調査による指摘の概要】"]
[null,null,null,"【イ．指摘の内容】",null,null,null,null,null,null,null,null,null,null,{"$f":"IF('＜入力不要＞報告書'!O95=\"\",\"\",'＜入力不要＞報告書'!O95)","v":""},"要是正の指摘あり",null,null,null,null,null,null,null,"(",{"$f":"IF('＜入力不要＞報告書'!Y95=\"\",\"\",'＜入力不要＞報告書'!Y95)","v":""},"既存不適格）",null,null,null,null,null,null,null,{"$f":"IF('＜入力不要＞報告書'!AH95=\"\",\"\",'＜入力不要＞報告書'!AH95)","v":""},"指摘なし"]
[null,null,null,"【ロ．指摘の概要】",null,null,null,null,null,null,null,null,null,null,{"$f":"IF(O95=\"レ\",HYPERLINK(\"#A128:A187\",\"第一面別紙参照\"),\"\")","v":""}]
[]
[]
[]
[]
[null,null,null,"【ハ．改善予定の有無】",null,null,null,null,null,null,null,null,null,null,{"$f":"IF('＜入力不要＞報告書'!O101=\"\",\"\",'＜入力不要＞報告書'!O101)","v":""},"有（",null,{"$f":"IF('＜入力不要＞報告書'!R101=\"\",\"\",'＜入力不要＞報告書'!R101)","v":""},null,{"$f":"IF('＜入力不要＞報告書'!T101=\"\",\"\",'＜入力不要＞報告書'!T101)","v":""},null,"年",{"$f":"IF('＜入力不要＞報告書'!W101=\"\",\"\",'＜入力不要＞報告書'!W101)","v":""},null,"月に改善予定）",null,null,null,null,null,null,null,null,{"$f":"IF('＜入力不要＞報告書'!AH101=\"\",\"\",'＜入力不要＞報告書'!AH101)","v":""},"無"]
[null,null,null,"【ニ．その他特記事項】",null,null,null,null,null,null,null,null,null,null,{"$f":"IF('＜入力不要＞報告書'!O102=\"\",\"\",'＜入力不要＞報告書'!O102)","v":0}]
[]
[]
[]
[null,"【6．調査及び検査の状況】"]
[null,null,null,"【イ．今回の調査】",null,null,null,null,null,null,null,null,null,null,null,null,null,null,{"$f":"IF('＜入力不要＞報告書'!S385=\"\",\"\",'＜入力不要＞報告書'!S385)","v":""},null,{"$f":"IF('＜入力不要＞報告書'!U385=\"\",\"\",'＜入力不要＞報告書'!U385)","v":""},null,"年",{"$f":"IF('＜入力不要＞報告書'!X385=\"\",\"\",'＜入力不要＞報告書'!X385)","v":""},null,"月",{"$f":"IF('＜入力不要＞報告書'!AA385=\"\",\"\",'＜入力不要＞報告書'!AA385)","v":""},null,"日実施"]
[null,null,null,"【ロ．前回の調査】",null,null,null,null,null,null,null,null,null,null,{"$f":"IF('＜入力不要＞報告書'!O386=\"\",\"\",'＜入力不要＞報告書'!O386)","v":""},"実施（",null,null,{"$f":"IF('＜入力不要＞報告書'!S386=\"\",\"\",'＜入力不要＞報告書'!S386)","v":""},null,{"$f":"IF('＜入力不要＞報告書'!U386=\"\",\"\",'＜入力不要＞報告書'!U386)","v":""},null,"年",{"$f":"IF('＜入力不要＞報告書'!X386=\"\",\"\",'＜入力不要＞報告書'!X386)","v":""},null,"月",{"$f":"IF('＜入力不要＞報告書'!AA386=\"\",\"\",'＜入力不要＞報告書'!AA386)","v":""},null,"日報告）",null,null,null,null,{"$f":"IF('＜入力不要＞報告書'!AH386=\"\",\"\",'＜入力不要＞報告書'!AH386)","v":""},"未実施"]
[null,null,null,"【ハ．建築設備の検査】",null,null,null,null,null,null,null,null,null,null,{"$f":"IF('＜入力不要＞報告書'!O387=\"\",\"\",'＜入力不要＞報告書'!O387)","v":""},"実施（",null,null,{"$f":"IF('＜入力不要＞報告書'!S387=\"\",\"\",'＜入力不要＞報告書'!S387)","v":""},null,{"$f":"IF('＜入力不要＞報告書'!U387=\"\",\"\",'＜入力不要＞報告書'!U387)","v":""},null,"年",{"$f":"IF('＜入力不要＞報告書'!X387=\"\",\"\",'＜入力不要＞報告書'!X387)","v":""},null,"月",{"$f":"IF('＜入力不要＞報告書'!AA387=\"\",\"\",'＜入力不要＞報告書'!AA387)","v":""},null,"日報告）",null,null,null,null,{"$f":"IF('＜入力不要＞報告書'!AH387=\"\",\"\",'＜入力不要＞報告書'!AH387)","v":""},"未実施"]
[null,null,null,"【ニ．昇降機等の検査】",null,null,null,null,null,null,null,null,null,null,{"$f":"IF('＜入力不要＞報告書'!O388=\"\",\"\",'＜入力不要＞報告書'!O388)","v":""},"実施（",null,null,{"$f":"IF('＜入力不要＞報告書'!S388=\"\",\"\",'＜入力不要＞報告書'!S388)","v":""},null,{"$f":"IF('＜入力不要＞報告書'!U388=\"\",\"\",'＜入力不要＞報告書'!U388)","v":""},null,"年",{"$f":"IF('＜入力不要＞報告書'!X388=\"\",\"\",'＜入力不要＞報告書'!X388)","v":""},null,"月",{"$f":"IF('＜入力不要＞報告書'!AA388=\"\",\"\",'＜入力不要＞報告書'!AA388)","v":""},null,"日報告）",null,null,null,null,{"$f":"IF('＜入力不要＞報告書'!AH388=\"\",\"\",'＜入力不要＞報告書'!AH388)","v":""},"未実施"]
[null,null,null,"【ホ．防火設備の検査】",null,null,null,null,null,null,null,null,null,null,{"$f":"IF('＜入力不要＞報告書'!O389=\"\",\"\",'＜入力不要＞報告書'!O389)","v":""},"実施（",null,null,{"$f":"IF('＜入力不要＞報告書'!S389=\"\",\"\",'＜入力不要＞報告書'!S389)","v":""},null,{"$f":"IF('＜入力不要＞報告書'!U389=\"\",\"\",'＜入力不要＞報告書'!U389)","v":""},null,"年",{"$f":"IF('＜入力不要＞報告書'!X389=\"\",\"\",'＜入力不要＞報告書'!X389)","v":""},null,"月",{"$f":"IF('＜入力不要＞報告書'!AA389=\"\",\"\",'＜入力不要＞報告書'!AA389)","v":""},null,"日報告）",null,null,null,null,{"$f":"IF('＜入力不要＞報告書'!AH389=\"\",\"\",'＜入力不要＞報告書'!AH389)","v":""},"未実施"]
[]
[]
[null,"【7．建築物等に係る不具合等の状況】"]
[null,null,null,"【イ．不具合等】",null,null,null,null,null,null,null,null,null,null,{"$f":"IF('＜入力不要＞報告書'!O454=\"\",\"\",'＜入力不要＞報告書'!O454)","v":""},"有",null,{"$f":"IF('＜入力不要＞報告書'!R454=\"\",\"\",'＜入力不要＞報告書'!R454)","v":""},"無"]
[null,null,null,"【ロ．不具合等の記録】",null,null,null,null,null,null,null,null,null,null,{"$f":"IF('＜入力不要＞報告書'!O455=\"\",\"\",'＜入力不要＞報告書'!O455)","v":""},"有",null,{"$f":"IF('＜入力不要＞報告書'!R455=\"\",\"\",'＜入力不要＞報告書'!R455)","v":""},"無"]
[null,null,null,"【ハ．不具合等の概要】",null,null,null,null,null,null,null,null,null,null,{"$f":"IF(O116=\"レ\",HYPERLINK(\"#A174:A220\",\"第一面別紙参照\"),\"\")","v":""}]
[null,null,null,"【ニ．改善の状況】",null,null,null,null,null,null,null,null,null,null,{"$f":"IF('＜入力不要＞報告書'!M456=\"\",\"\",'＜入力不要＞報告書'!M456)","v":""},"実施済",null,null,null,{"$f":"IF('＜入力不要＞報告書'!R456=\"\",\"\",'＜入力不要＞報告書'!R456)","v":""},"改善予定（",null,null,null,null,{"$f":"IF('＜入力不要＞報告書'!X456=\"\",\"\",'＜入力不要＞報告書'!X456)","v":""},null,{"$f":"IF('＜入力不要＞報告書'!Z456=\"\",\"\",'＜入力不要＞報告書'!Z456)","v":""},null,"年",{"$f":"IF('＜入力不要＞報告書'!AC456=\"\",\"\",'＜入力不要＞報告書'!AC456)","v":""},null,"月に改善予定）"]
[null,null,null,null,null,null,null,null,null,null,null,null,null,null,{"$f":"IF('＜入力不要＞報告書'!AM456=\"\",\"\",'＜入力不要＞報告書'!AM456)","v":""},"予定なし",null,null,null,null,null,null,"（理由：",{"$f":"IF(O119=\"レ\",'1_入力シート【基本情報】'!$DZ$243,\"\")","v":""},null,null,null,null,null,null,null,null,null,null,null,null,null,null,null,null,null,null,null,null,"）"]
[]
[]
[]
[]
[]
[]
[]
[]
[null,"（第一面　別紙）"]
[]
[null,"5.調査による指摘の概要"]
[]
[]
[null,null,"2-1.調査の状況",null,null,null,null,null,null,"ｲ．指摘の内容",null,null,null,null,null,null,null,null,null,null,{"$f":"IF('1_入力シート【基本情報】'!DP139=\"レ\",\"レ\",IF('1_入力シート【基本情報】'!DO139=\"レ\",\"レ\",\"\"))","v":""},"要是正の指摘あり",null,null,null,null,null,null,"（",{"$f":"'1_入力シート【基本情報】'!DP139","v":0},"既存不適格）"]
[null,null,"(敷地及び地盤)",null,null,null,null,null,null,null,null,null,null,null,null,null,null,null,null,null,{"$f":"IF(OR('1_入力シート【基本情報】'!DN139=\"レ\",'1_入力シート【基本情報】'!DM139=\"レ\"),\"レ\",\"\")","v":""},"指摘なし"]
[null,null,"ﾛ．指摘の概要",null,null,null,null,null,null,{"$f":"'＜入力不要＞報告書'!$J$135","v":""}]
[]
[]
[]
[]
[]
[]
[]
[]
[]
[]
[]
[]
[]
[]
[]
[]
[]
[]
[]
[]
[]
[null,"3.調査者"]
[]
[]
[null,null,"（その他の調査者2）"]
[null,null,null,"【イ．資格】"]
[null,null,null,null,null,null,null,null,null,null,null,null,null,null,"（",{"$f":"IF('1_入力シート【基本情報】'!DM98=1,'1_入力シート【基本情報】'!DN98,\"\")","v":""},null,"）建築士",null,null,null,null,null,null,"（",{"$f":"'＜入力不要＞報告書'!$Z$162","v":""},null,null,null,null,null,null,null,"）登録",null,null,null,"第",{"$f":"'＜入力不要＞報告書'!$AM$162","v":""},null,null,null,null,null,"号"]
[null,null,null,null,null,null,null,null,null,null,null,null,null,null,"特定建築物調査員",null,null,null,null,null,null,null,null,null,null,null,null,null,null,null,null,null,null,null,null,null,null,"第",{"$f":"'＜入力不要＞報告書'!$AM$163","v":""},null,null,null,null,null,"号"]
[null,null,null,"【ロ．氏名のフリガナ】",null,null,null,null,null,null,null,null,null,null,{"$f":"'1_入力シート【基本情報】'!$DS$101","v":""}]
[null,null,null,"【ハ．氏名】 ",null,null,null,null,null,null,null,null,null,null,{"$f":"'1_入力シート【基本情報】'!$DS$102","v":""}]
[null,null,null,"【ニ．勤務先】",null,null,null,null,null,null,null,null,null,null,{"$f":"IF('1_入力シート【基本情報】'!DS96=TRUE,'1_入力シート【基本情報】'!DS67,'1_入力シート【基本情報】'!DS103)","v":""}]
[null,null,null,null,null,null,null,null,null,null,null,null,null,null,"（",{"$f":"IF('1_入力シート【基本情報】'!DS96=FALSE,IF('1_入力シート【基本情報】'!DS104=\"\",\"\",'1_入力シート【基本情報】'!DS104),IF('1_入力シート【基本情報】'!DS68=\"\",\"\",'1_入力シート【基本情報】'!DS68))","v":""},null,"）建築士事務所",null,null,null,null,null,null,"（",{"$f":"IF('1_入力シート【基本情報】'!DS96=TRUE,'1_入力シート【基本情報】'!DS69,'1_入力シート【基本情報】'!DS105)","v":""},null,null,null,null,null,"）知事登録",null,null,null,null,null,"第",{"$f":"IF('1_入力シート【基本情報】'!DS96=TRUE,'1_入力シート【基本情報】'!DS70,'1_入力シート【基本情報】'!DS106)","v":""},null,null,null,null,null,"号"]
[null,null,null,"【ホ．郵便番号】",null,null,null,null,null,null,null,null,null,null,{"$f":"'＜入力不要＞報告書'!$O$168","v":""}]
[null,null,null,"【へ．所在地】",null,null,null,null,null,null,null,null,null,null,{"$f":"'＜入力不要＞報告書'!$O$169","v":""}]
[null,null,null,"【ト．電話番号】",null,null,null,null,null,null,null,null,null,null,{"$f":"'＜入力不要＞報告書'!$O$170","v":""}]
[]
[]
[]
[null,"7.建築物等に係る不具合等の状況"]
[]
[]
[null,null,"ﾊ．不具合等の概要",null,null,null,null,null,null,{"$f":"'1_入力シート【基本情報】'!$DY$243","v":""}]
[]
[]
[]
[]
[]
[]
[]
[]
[]
[]
[null,"（第二面）"]
[null,"建築物及びその敷地に関する事項"]
[]
[]
[null,"【1．敷地の位置】"]
[null,null,null,"【イ．防火地域】",null,null,null,null,null,null,null,null,null,null,{"$f":"IF('＜入力不要＞報告書'!O193=\"\",\"\",'＜入力不要＞報告書'!O193)","v":""},"防火地域",null,null,null,null,null,{"$f":"IF('＜入力不要＞報告書'!V193=\"\",\"\",'＜入力不要＞報告書'!V193)","v":""},"準防火地域"]
[null,null,null,null,null,null,null,null,null,null,null,null,null,null,{"$f":"IF('＜入力不要＞報告書'!O194=\"\",\"\",'＜入力不要＞報告書'!O194)","v":""},"その他（",null,null,null,{"$f":"IF('＜入力不要＞報告書'!T194=\"\",\"\",'＜入力不要＞報告書'!T194)","v":""},null,null,null,null,null,null,null,null,null,null,null,"）",null,null,{"$f":"IF('＜入力不要＞報告書'!AI194=\"\",\"\",'＜入力不要＞報告書'!AI194)","v":""},"指定なし"]
[null,null,null,"【ロ．用途地域】",null,null,null,null,null,null,null,null,null,null,{"$f":"IF('＜入力不要＞報告書'!O195=\"\",\"\",'＜入力不要＞報告書'!O195)","v":""}]
[]
[]
[]
[]
[]
[null,"【2．建築物及びその敷地の概要】"]
[null,null,null,"【イ．構造】",null,null,null,null,null,null,null,null,null,null,{"$f":"IF('＜入力不要＞報告書'!O202=\"\",\"\",'＜入力不要＞報告書'!O202)","v":""},"鉄筋コンクリート造",null,null,null,null,null,null,null,null,null,null,{"$f":"IF('＜入力不要＞報告書'!AA202=\"\",\"\",'＜入力不要＞報告書'!AA202)","v":""},"鉄骨鉄筋コンクリート造"]
[null,null,null,null,null,null,null,null,null,null,null,null,null,null,{"$f":"IF('＜入力不要＞報告書'!O203=\"\",\"\",'＜入力不要＞報告書'!O203)","v":""},"鉄骨造",null,null,null,null,null,null,null,null,null,null,{"$f":"IF('＜入力不要＞報告書'!AA203=\"\",\"\",'＜入力不要＞報告書'!AA203)","v":""},"その他（",null,null,null,{"$f":"IF('＜入力不要＞報告書'!AF203=\"\",\"\",'＜入力不要＞報告書'!AF203)","v":""},null,null,null,null,null,null,null,null,null,null,null,"）"]
[null,null,null,"【ロ．階数】",null,null,null,null,null,null,null,null,null,null,null,"地上",null,{"$f":"IF('＜入力不要＞報告書'!R204=\"\",\"\",'＜入力不要＞報告書'!R204)","v":""},null,null,"階",null,null,"地下",null,{"$f":"IF('＜入力不要＞報告書'!Z204=\"\",\"\",'＜入力不要＞報告書'!Z204)","v":""},null,null,"階"]
[null,null,null,"【ハ．敷地面積】",null,null,null,null,null,null,null,null,null,null,{"$f":"IF('＜入力不要＞報告書'!O205=\"\",\"\",'＜入力不要＞報告書'!O205)","v":""},null,null,null,null,null,null,null,"㎡"]
[null,null,null,"【ニ．建築面積】",null,null,null,null,null,null,null,null,null,null,{"$f":"IF('＜入力不要＞報告書'!O206=\"\",\"\",'＜入力不要＞報告書'!O206)","v":""},null,null,null,null,null,null,null,"㎡"]
[null,null,null,"【ホ．延べ面積】",null,null,null,null,null,null,null,null,null,null,{"$f":"IF('＜入力不要＞報告書'!O207=\"\",\"\",'＜入力不要＞報告書'!O207)","v":""},null,null,null,null,null,null,null,"㎡"]
[]
[]
[]
[]
[]
[null,"【3．階別用途別床面積】",null,null,null,null,null,null,null,null,null,null,null,null,null,null,null,null,null,null,"（",null,"用途",null,null,null,"）",null,"（",null,"床面積",null,null,null,"）",null,{"$f":"IF(BG214=1,\"\",HYPERLINK(\"#A310:A380\",\"第二面別紙参照\"))","v":""},null,null,null,null,null,null,null,null,null,null,null,null,null,null,null,null,null,null,null,null,null,{"$f":"'＜入力不要＞報告書'!BG213","v":"完全未入力判定(1：延べ面積の総合計0.00㎡で完全未入力）"}]
[null,null,null,"【イ．階別用途別】",null,null,null,null,null,null,null,null,null,"（",{"$f":"IF('＜入力不要＞報告書'!O214=\"\",\"\",'＜入力不要＞報告書'!O214)","v":""},null,null,"階）",null,null,"（",{"$f":"IF('＜入力不要＞報告書'!V214=\"\",\"\",'＜入力不要＞報告書'!V214)","v":""},null,null,null,null,"）",null,"（",{"$f":"IF('＜入力不要＞報告書'!AD214=\"\",\"\",'＜入力不要＞報告書'!AD214)","v":""},null,null,null,"㎡","）",null,null,null,null,null,null,null,null,null,null,null,null,null,null,null,null,null,null,null,null,null,null,null,{"$f":"'＜入力不要＞報告書'!BG214","v":1}]
[null,null,null,null,null,null,null,null,null,null,null,null,null,null,null,null,null,null,null,null,"（",{"$f":"IF('＜入力不要＞報告書'!V215=\"\",\"\",'＜入力不要＞報告書'!V215)","v":""},null,null,null,null,"）",null,"（",{"$f":"IF('＜入力不要＞報告書'!AD215=\"\",\"\",'＜入力不要＞報告書'!AD215)","v":""},null,null,null,"㎡","）"]
[null,null,null,null,null,null,null,null,null,null,null,null,null,null,null,null,null,null,null,null,"（",{"$f":"IF('＜入力不要＞報告書'!V216=\"\",\"\",'＜入力不要＞報告書'!V216)","v":""},null,null,null,null,"）",null,"（",{"$f":"IF('＜入力不要＞報告書'!AD216=\"\",\"\",'＜入力不要＞報告書'!AD216)","v":""},null,null,null,"㎡","）"]
[null,null,null,null,null,null,null,null,null,null,null,null,null,"（",{"$f":"IF('＜入力不要＞報告書'!O217=\"\",\"\",'＜入力不要＞報告書'!O217)","v":""},null,null,"階）",null,null,"（",{"$f":"IF('＜入力不要＞報告書'!V217=\"\",\"\",'＜入力不要＞報告書'!V217)","v":""},null,null,null,null,"）",null,"（",{"$f":"IF('＜入力不要＞報告書'!AD217=\"\",\"\",'＜入力不要＞報告書'!AD217)","v":""},null,null,null,"㎡","）"]
[null,null,null,null,null,null,null,null,null,null,null,null,null,null,null,null,null,null,null,null,"（",{"$f":"IF('＜入力不要＞報告書'!V218=\"\",\"\",'＜入力不要＞報告書'!V218)","v":""},null,null,null,null,"）",null,"（",{"$f":"IF('＜入力不要＞報告書'!AD218=\"\",\"\",'＜入力不要＞報告書'!AD218)","v":""},null,null,null,"㎡","）"]
[null,null,null,null,null,null,null,null,null,null,null,null,null,null,null,null,null,null,null,null,"（",{"$f":"IF('＜入力不要＞報告書'!V219=\"\",\"\",'＜入力不要＞報告書'!V219)","v":""},null,null,null,null,"）",null,"（",{"$f":"IF('＜入力不要＞報告書'!AD219=\"\",\"\",'＜入力不要＞報告書'!AD219)","v":""},null,null,null,"㎡","）"]
[null,null,null,null,null,null,null,null,null,null,null,null,null,"（",{"$f":"IF('＜入力不要＞報告書'!O220=\"\",\"\",'＜入力不要＞報告書'!O220)","v":""},null,null,"階）",null,null,"（",{"$f":"IF('＜入力不要＞報告書'!V220=\"\",\"\",'＜入力不要＞報告書'!V220)","v":""},null,null,null,null,"）",null,"（",{"$f":"IF('＜入力不要＞報告書'!AD220=\"\",\"\",'＜入力不要＞報告書'!AD220)","v":""},null,null,null,"㎡","）"]
[null,null,null,null,null,null,null,null,null,null,null,null,null,null,null,null,null,null,null,null,"（",{"$f":"IF('＜入力不要＞報告書'!V221=\"\",\"\",'＜入力不要＞報告書'!V221)","v":""},null,null,null,null,"）",null,"（",{"$f":"IF('＜入力不要＞報告書'!AD221=\"\",\"\",'＜入力不要＞報告書'!AD221)","v":""},null,null,null,"㎡","）"]
[null,null,null,null,null,null,null,null,null,null,null,null,null,null,null,null,null,null,null,null,"（",{"$f":"IF('＜入力不要＞報告書'!V222=\"\",\"\",'＜入力不要＞報告書'!V222)","v":""},null,null,null,null,"）",null,"（",{"$f":"IF('＜入力不要＞報告書'!AD222=\"\",\"\",'＜入力不要＞報告書'!AD222)","v":""},null,null,null,"㎡","）"]
[null,null,null,null,null,null,null,null,null,null,null,null,null,"（",{"$f":"IF('＜入力不要＞報告書'!O223=\"\",\"\",'＜入力不要＞報告書'!O223)","v":""},null,null,"階）",null,null,"（",{"$f":"IF('＜入力不要＞報告書'!V223=\"\",\"\",'＜入力不要＞報告書'!V223)","v":""},null,null,null,null,"）",null,"（",{"$f":"IF('＜入力不要＞報告書'!AD223=\"\",\"\",'＜入力不要＞報告書'!AD223)","v":""},null,null,null,"㎡","）"]
[null,null,null,null,null,null,null,null,null,null,null,null,null,null,null,null,null,null,null,null,"（",{"$f":"IF('＜入力不要＞報告書'!V224=\"\",\"\",'＜入力不要＞報告書'!V224)","v":""},null,null,null,null,"）",null,"（",{"$f":"IF('＜入力不要＞報告書'!AD224=\"\",\"\",'＜入力不要＞報告書'!AD224)","v":""},null,null,null,"㎡","）"]
[null,null,null,null,null,null,null,null,null,null,null,null,null,null,null,null,null,null,null,null,"（",{"$f":"IF('＜入力不要＞報告書'!V225=\"\",\"\",'＜入力不要＞報告書'!V225)","v":""},null,null,null,null,"）",null,"（",{"$f":"IF('＜入力不要＞報告書'!AD225=\"\",\"\",'＜入力不要＞報告書'!AD225)","v":""},null,null,null,"㎡","）"]
[null,null,null,null,null,null,null,null,null,null,null,null,null,"（",{"$f":"IF('＜入力不要＞報告書'!O226=\"\",\"\",'＜入力不要＞報告書'!O226)","v":""},null,null,"階）",null,null,"（",{"$f":"IF('＜入力不要＞報告書'!V226=\"\",\"\",'＜入力不要＞報告書'!V226)","v":""},null,null,null,null,"）",null,"（",{"$f":"IF('＜入力不要＞報告書'!AD226=\"\",\"\",'＜入力不要＞報告書'!AD226)","v":""},null,null,null,"㎡","）"]
[null,null,null,null,null,null,null,null,null,null,null,null,null,null,null,null,null,null,null,null,"（",{"$f":"IF('＜入力不要＞報告書'!V227=\"\",\"\",'＜入力不要＞報告書'!V227)","v":""},null,null,null,null,"）",null,"（",{"$f":"IF('＜入力不要＞報告書'!AD227=\"\",\"\",'＜入力不要＞報告書'!AD227)","v":""},null,null,null,"㎡","）"]
[null,null,null,null,null,null,null,null,null,null,null,null,null,null,null,null,null,null,null,null,"（",{"$f":"IF('＜入力不要＞報告書'!V228=\"\",\"\",'＜入力不要＞報告書'!V228)","v":""},null,null,null,null,"）",null,"（",{"$f":"IF('＜入力不要＞報告書'!AD228=\"\",\"\",'＜入力不要＞報告書'!AD228)","v":""},null,null,null,"㎡","）"]
[null,null,null,"【ロ．用途別】",null,null,null,null,null,null,null,null,null,null,null,null,null,null,null,null,"（",{"$f":"IF('＜入力不要＞報告書'!V229=\"\",\"\",'＜入力不要＞報告書'!V229)","v":""},null,null,null,null,"）",null,"（",{"$f":"IF('＜入力不要＞報告書'!AD229=\"\",\"\",'＜入力不要＞報告書'!AD229)","v":""},null,null,null,"㎡","）"]
[null,null,null,null,null,null,null,null,null,null,null,null,null,null,null,null,null,null,null,null,"（",{"$f":"IF('＜入力不要＞報告書'!V230=\"\",\"\",'＜入力不要＞報告書'!V230)","v":""},null,null,null,null,"）",null,"（",{"$f":"IF('＜入力不要＞報告書'!AD230=\"\",\"\",'＜入力不要＞報告書'!AD230)","v":""},null,null,null,"㎡","）"]
[null,null,null,null,null,null,null,null,null,null,null,null,null,null,null,null,null,null,null,null,"（",{"$f":"IF('＜入力不要＞報告書'!V231=\"\",\"\",'＜入力不要＞報告書'!V231)","v":""},null,null,null,null,"）",null,"（",{"$f":"IF('＜入力不要＞報告書'!AD231=\"\",\"\",'＜入力不要＞報告書'!AD231)","v":""},null,null,null,"㎡","）"]
[null," （その他の検査者２）"]
[null,null,"【イ．資格】",null,null,null,null,null,null,"（",null,null," ）建築士",null,null,null,null,null,null,null,null,null,"（",null,null,null,null,null,null,null,null,null,")登録第",null,null,null,null,null,null,null,"号"]
[null,null,null,null,null,null,null,null,null,"建築設備検査員",null,null,null,null,null,null,null,null,null,null,null,null,null,null,null,null,null,null,null,null,null,null,"第",null,null,null,null,null,null,null,"号"]
[null,null,null,null,null,null,null,null,null,"登録建築設備検査資格者講習を修了した者",null,null,null,null,null,null,null,null,null,null,null,null,null,null,null,null,null,null,null,null,null,null,"第",null,null,null,null,null,null,null,"号"]
[null,null,"【ロ．氏名のフリガナ】"]
[null,null,"【ハ．氏名】"]
[null,null,"【ニ．勤務先】"]
[null,null,null,null,null,null,null,null,null,"（",null,null," ）建築士事務所",null,null,null,null,null,null,null,null,null,"（",null,null,null,null,null,null,null,null,null,")知事登録第",null,null,null,null,null,null,null,"号"]
[null,null,"【ホ．郵便番号】"]
[null,null,"【ヘ．所在地】"]
[null,null,"【ト．電話番号】"]
[]
[]
[]
[]
[]
[null,"【4．性能検証法等の適用】",null,null,null,null,null,null,null,null,null,null,null,null,{"$f":"IF('＜入力不要＞報告書'!O248=\"\",\"\",'＜入力不要＞報告書'!O248)","v":""},"耐火性能検証法",null,null,null,null,null,null,null,null,null,null,null,null,null,null,null,{"$f":"IF('＜入力不要＞報告書'!AF248=\"\",\"\",'＜入力不要＞報告書'!AF248)","v":""},"防火区画検証法"]
[null,null,null,null,null,null,null,null,null,null,null,null,null,null,{"$f":"IF('＜入力不要＞報告書'!O249=\"\",\"\",'＜入力不要＞報告書'!O249)","v":""},"区画避難安全検証法（",null,null,null,null,null,null,null,null,null,{"$f":"IF('＜入力不要＞報告書'!Z249=\"\",\"\",'＜入力不要＞報告書'!Z249)","v":""},null,null,"階）",null,null,{"$f":"IF('＜入力不要＞報告書'!AF249=\"\",\"\",'＜入力不要＞報告書'!AF249)","v":""},"階避難安全検証法（",null,null,null,null,null,null,null,null,{"$f":"IF('＜入力不要＞報告書'!AP249=\"\",\"\",'＜入力不要＞報告書'!AP249)","v":""},null,null,"階）"]
[null,null,null,null,null,null,null,null,null,null,null,null,null,null,{"$f":"IF('＜入力不要＞報告書'!O250=\"\",\"\",'＜入力不要＞報告書'!O250)","v":""},"全館避難安全検証法"]
[null,null,null,null,null,null,null,null,null,null,null,null,null,null,{"$f":"IF('＜入力不要＞報告書'!O251=\"\",\"\",'＜入力不要＞報告書'!O251)","v":""},"その他（",null,null,null,{"$f":"IF('＜入力不要＞報告書'!T251=\"\",\"\",'＜入力不要＞報告書'!T251)","v":""},null,null,null,null,null,null,null,null,null,null,null,null,null,null,null,null,null,null,null,null,null,"）"]
[]
[]
[]
[]
[null,"【5．増築、改築、用途変更等の経過】"]
[null,null,null,null,null,null,null,null,null,null,{"$f":"IF('＜入力不要＞報告書'!K257=\"\",\"\",'＜入力不要＞報告書'!K257)","v":""},null,{"$f":"IF('＜入力不要＞報告書'!M257=\"\",\"\",'＜入力不要＞報告書'!M257)","v":""},null,"年",{"$f":"IF('＜入力不要＞報告書'!P257=\"\",\"\",'＜入力不要＞報告書'!P257)","v":""},null,"月",{"$f":"IF('＜入力不要＞報告書'!S257=\"\",\"\",'＜入力不要＞報告書'!S257)","v":""},null,"日",null,null,"概要（",null,null,{"$f":"IF('＜入力不要＞報告書'!AA257=\"\",\"\",'＜入力不要＞報告書'!AA257)","v":0},null,null,null,null,null,null,null,null,null,null,null,null,null,null,null,null,null,null,"）"]
[null,null,null,null,null,null,null,null,null,null,{"$f":"IF('＜入力不要＞報告書'!K258=\"\",\"\",'＜入力不要＞報告書'!K258)","v":""},null,{"$f":"IF('＜入力不要＞報告書'!M258=\"\",\"\",'＜入力不要＞報告書'!M258)","v":""},null,"年",{"$f":"IF('＜入力不要＞報告書'!P258=\"\",\"\",'＜入力不要＞報告書'!P258)","v":""},null,"月",{"$f":"IF('＜入力不要＞報告書'!S258=\"\",\"\",'＜入力不要＞報告書'!S258)","v":""},null,"日",null,null,"概要（",null,null,{"$f":"IF('＜入力不要＞報告書'!AA258=\"\",\"\",'＜入力不要＞報告書'!AA258)","v":0},null,null,null,null,null,null,null,null,null,null,null,null,null,null,null,null,null,null,"）"]
[null,null,null,null,null,null,null,null,null,null,{"$f":"IF('＜入力不要＞報告書'!K259=\"\",\"\",'＜入力不要＞報告書'!K259)","v":""},null,{"$f":"IF('＜入力不要＞報告書'!M259=\"\",\"\",'＜入力不要＞報告書'!M259)","v":""},null,"年",{"$f":"IF('＜入力不要＞報告書'!P259=\"\",\"\",'＜入力不要＞報告書'!P259)","v":""},null,"月",{"$f":"IF('＜入力不要＞報告書'!S259=\"\",\"\",'＜入力不要＞報告書'!S259)","v":""},null,"日",null,null,"概要（",null,null,{"$f":"IF('＜入力不要＞報告書'!AA259=\"\",\"\",'＜入力不要＞報告書'!AA259)","v":0},null,null,null,null,null,null,null,null,null,null,null,null,null,null,null,null,null,null,"）"]
[null,null,null,null,null,null,null,null,null,null,{"$f":"IF('＜入力不要＞報告書'!K260=\"\",\"\",'＜入力不要＞報告書'!K260)","v":""},null,{"$f":"IF('＜入力不要＞報告書'!M260=\"\",\"\",'＜入力不要＞報告書'!M260)","v":""},null,"年",{"$f":"IF('＜入力不要＞報告書'!P260=\"\",\"\",'＜入力不要＞報告書'!P260)","v":""},null,"月",{"$f":"IF('＜入力不要＞報告書'!S260=\"\",\"\",'＜入力不要＞報告書'!S260)","v":""},null,"日",null,null,"概要（",null,null,{"$f":"IF('＜入力不要＞報告書'!AA260=\"\",\"\",'＜入力不要＞報告書'!AA260)","v":0},null,null,null,null,null,null,null,null,null,null,null,null,null,null,null,null,null,null,"）"]
[]
[]
[]
[]
[]
[]
[]
[]
[]
[]
[null,"【6．関連図書の整備状況】"]
[null,null,null,"【イ．確認に要した図書】",null,null,null,null,null,null,null,null,null,null,null,{"$f":"IF('＜入力不要＞報告書'!P272=\"\",\"\",'＜入力不要＞報告書'!P272)","v":""},"有（",null,{"$f":"IF('＜入力不要＞報告書'!S272=\"\",\"\",'＜入力不要＞報告書'!S272)","v":""},"各階平面図あり）",null,null,null,null,null,null,null,{"$f":"IF('＜入力不要＞報告書'!AB272=\"\",\"\",'＜入力不要＞報告書'!AB272)","v":""},"無"]
[null,null,null,"【ロ．確認済証】",null,null,null,null,null,null,null,null,null,null,null,{"$f":"IF('＜入力不要＞報告書'!P273=\"\",\"\",'＜入力不要＞報告書'!P273)","v":""},"有",null,{"$f":"IF('＜入力不要＞報告書'!S273=\"\",\"\",'＜入力不要＞報告書'!S273)","v":""},"無"]
[null,null,null,null,null,null,null,null,null,null,null,null,null,null,null,"交付番号",null,null,null,null,{"$f":"IF('＜入力不要＞報告書'!U274=\"\",\"\",'＜入力不要＞報告書'!U274)","v":""},null,{"$f":"IF('＜入力不要＞報告書'!W274=\"\",\"\",'＜入力不要＞報告書'!W274)","v":""},null,"年",{"$f":"IF('＜入力不要＞報告書'!Z274=\"\",\"\",'＜入力不要＞報告書'!Z274)","v":""},null,"月",{"$f":"IF('＜入力不要＞報告書'!AC274=\"\",\"\",'＜入力不要＞報告書'!AC274)","v":""},null,"日","第",null,{"$f":"IF('＜入力不要＞報告書'!AH274=\"\",\"\",'＜入力不要＞報告書'!AH274)","v":""},null,null,null,null,null,null,null,null,null,null,"号"]
[null,null,null,null,null,null,null,null,null,null,null,null,null,null,null,"  交付者",null,null,null,null,{"$f":"IF('＜入力不要＞報告書'!U275=\"\",\"\",'＜入力不要＞報告書'!U275)","v":""},"建築主事",null,null,null,null,{"$f":"IF('＜入力不要＞報告書'!AA275=\"\",\"\",'＜入力不要＞報告書'!AA275)","v":""},"指定確認検査機関（",null,null,null,null,null,null,null,null,{"$f":"IF('＜入力不要＞報告書'!AK275=\"\",\"\",'＜入力不要＞報告書'!AK275)","v":""},null,null,null,null,null,null,null,null,"）"]
[null,null,null,"【ハ．完了検査に要した図書】",null,null,null,null,null,null,null,null,null,null,null,null,null,{"$f":"IF('＜入力不要＞報告書'!R276=\"\",\"\",'＜入力不要＞報告書'!R276)","v":""},"有",null,{"$f":"IF('＜入力不要＞報告書'!U276=\"\",\"\",'＜入力不要＞報告書'!U276)","v":""},"無"]
[null,null,null,"【ニ．検査済証】",null,null,null,null,null,null,null,null,null,null,null,{"$f":"IF('＜入力不要＞報告書'!P277=\"\",\"\",'＜入力不要＞報告書'!P277)","v":""},"有",null,{"$f":"IF('＜入力不要＞報告書'!S277=\"\",\"\",'＜入力不要＞報告書'!S277)","v":""},"無"]
[null,null,null,null,null,null,null,null,null,null,null,null,null,null,null,"交付番号",null,null,null,null,{"$f":"IF('＜入力不要＞報告書'!U278=\"\",\"\",'＜入力不要＞報告書'!U278)","v":""},null,{"$f":"IF('＜入力不要＞報告書'!W278=\"\",\"\",'＜入力不要＞報告書'!W278)","v":""},null,"年",{"$f":"IF('＜入力不要＞報告書'!Z278=\"\",\"\",'＜入力不要＞報告書'!Z278)","v":""},null,"月",{"$f":"IF('＜入力不要＞報告書'!AC278=\"\",\"\",'＜入力不要＞報告書'!AC278)","v":""},null,"日","第",null,{"$f":"IF('＜入力不要＞報告書'!AH278=\"\",\"\",'＜入力不要＞報告書'!AH278)","v":""},null,null,null,null,null,null,null,null,null,null,"号"]
[null,null,null,null,null,null,null,null,null,null,null,null,null,null,null,"　交付者",null,null,null,null,{"$f":"IF('＜入力不要＞報告書'!U279=\"\",\"\",'＜入力不要＞報告書'!U279)","v":""},"建築主事",null,null,null,null,{"$f":"IF('＜入力不要＞報告書'!AA279=\"\",\"\",'＜入力不要＞報告書'!AA279)","v":""},"指定確認検査機関（",null,null,null,null,null,null,null,null,{"$f":"IF('＜入力不要＞報告書'!AK279=\"\",\"\",'＜入力不要＞報告書'!AK279)","v":""},null,null,null,null,null,null,null,null,"）"]
[null,null,null,"【ホ．維持保全に関する準則又は計画】",null,null,null,null,null,null,null,null,null,null,null,null,null,null,null,null,null,{"$f":"IF('＜入力不要＞報告書'!V280=\"\",\"\",'＜入力不要＞報告書'!V280)","v":""},"有",null,{"$f":"IF('＜入力不要＞報告書'!Y280=\"\",\"\",'＜入力不要＞報告書'!Y280)","v":""},"無"]
[null,null,null,"【ヘ．前回の調査に関する書類の写し】",null,null,null,null,null,null,null,null,null,null,null,null,null,null,null,null,null,{"$f":"IF('＜入力不要＞報告書'!V281=\"\",\"\",'＜入力不要＞報告書'!V281)","v":""},"有",null,{"$f":"IF('＜入力不要＞報告書'!Y281=\"\",\"\",'＜入力不要＞報告書'!Y281)","v":""},"無",null,{"$f":"IF('＜入力不要＞報告書'!AB281=\"\",\"\",'＜入力不要＞報告書'!AB281)","v":""},"対象外"]
[null," （その他の検査者２）"]
[null,null,"【イ．資格】",null,null,null,null,null,null,"（",null,null," ）建築士",null,null,null,null,null,null,null,null,null,"（",null,null,null,null,null,null,null,null,null,")登録第",null,null,null,null,null,null,null,"号"]
[null,null,null,null,null,null,null,null,null,"建築設備検査員",null,null,null,null,null,null,null,null,null,null,null,null,null,null,null,null,null,null,null,null,null,null,"第",null,null,null,null,null,null,null,"号"]
[null,null,null,null,null,null,null,null,null,"登録建築設備検査資格者講習を修了した者",null,null,null,null,null,null,null,null,null,null,null,null,null,null,null,null,null,null,null,null,null,null,"第",null,null,null,null,null,null,null,"号"]
[null,null,"【ロ．氏名のフリガナ】"]
[null,null,"【ハ．氏名】"]
[null,null,"【ニ．勤務先】"]
[null,null,null,null,null,null,null,null,null,"（",null,null," ）建築士事務所",null,null,null,null,null,null,null,null,null,"（",null,null,null,null,null,null,null,null,null,")知事登録第",null,null,null,null,null,null,null,"号"]
[null,null,"【ホ．郵便番号】"]
[null,null,"【ヘ．所在地】"]
[null,null,"【ト．電話番号】"]
[]
[]
[]
[null,"【7．備考】"]
[null,null,{"$f":"IF('＜入力不要＞報告書'!C297=\"\",\"\",'＜入力不要＞報告書'!C297)","v":""}]
[]
[]
[]
[]
[]
[]
[null,"（注意）"]
[null,"　この様式には、第三十六号の二様式に記入した内容と同一の内容を記入してください。なお、第一面"]
[null,"の５欄の「ロ」及び「ニ」は同様式第三面の２欄から４欄において指摘があつた項目について、第一面"]
[null,"の７欄の「ハ」は同様式第四面に記入されたものについて、すべて記入してください。"]
[]
[]
[null,"（第二面　別紙）"]
[null,"3．階別用途別床面積"]
[]
[]
[null,{"$f":"'＜入力不要＞報告書'!B313","v":"階＼用途"},null,null,null,{"$f":"'＜入力不要＞報告書'!F313","v":"各階合計"},null,null,null,null,{"$f":"'＜入力不要＞報告書'!K313","v":""},null,null,null,null,{"$f":"'＜入力不要＞報告書'!P313","v":""},null,null,null,null,{"$f":"'＜入力不要＞報告書'!U313","v":""},null,null,null,null,{"$f":"'＜入力不要＞報告書'!Z313","v":""},null,null,null,null,{"$f":"'＜入力不要＞報告書'!AE313","v":""},null,null,null,null,{"$f":"'＜入力不要＞報告書'!AJ313","v":""},null,null,null,null,{"$f":"'＜入力不要＞報告書'!AO313","v":""}]
[]
[null,null,null,null,null,null,null,null,null,null,{"$f":"'＜入力不要＞報告書'!K315","v":""},null,null,null,null,{"$f":"'＜入力不要＞報告書'!P315","v":""},null,null,null,null,{"$f":"'＜入力不要＞報告書'!U315","v":""},null,null,null,null,{"$f":"'＜入力不要＞報告書'!Z315","v":""},null,null,null,null,{"$f":"'＜入力不要＞報告書'!AE315","v":""},null,null,null,null,{"$f":"'＜入力不要＞報告書'!AJ315","v":""},null,null,null,null,{"$f":"'＜入力不要＞報告書'!AO315","v":""}]
[]
[]
[]
[null,{"$f":"'＜入力不要＞報告書'!B319","v":"延べ面積"},null,null,null,{"$f":"'＜入力不要＞報告書'!F319","v":""},null,null,null,{"$f":"'＜入力不要＞報告書'!J319","v":"㎡"},{"$f":"'＜入力不要＞報告書'!K319","v":""},null,null,null,{"$f":"'＜入力不要＞報告書'!O319","v":"㎡"},{"$f":"'＜入力不要＞報告書'!P319","v":""},null,null,null,{"$f":"'＜入力不要＞報告書'!T319","v":"㎡"},{"$f":"'＜入力不要＞報告書'!U319","v":""},null,null,null,{"$f":"'＜入力不要＞報告書'!Y319","v":"㎡"},{"$f":"'＜入力不要＞報告書'!Z319","v":""},null,null,null,{"$f":"'＜入力不要＞報告書'!AD319","v":"㎡"},{"$f":"'＜入力不要＞報告書'!AE319","v":""},null,null,null,{"$f":"'＜入力不要＞報告書'!AI319","v":"㎡"},{"$f":"'＜入力不要＞報告書'!AJ319","v":""},null,null,null,{"$f":"'＜入力不要＞報告書'!AN319","v":"㎡"},{"$f":"'＜入力不要＞報告書'!AO319","v":""},null,null,null,{"$f":"'＜入力不要＞報告書'!AS319","v":"㎡"}]
[null,{"$f":"'＜入力不要＞報告書'!B320","v":"地下1"},null,null,{"$f":"'＜入力不要＞報告書'!E320","v":"階"},{"$f":"'＜入力不要＞報告書'!F320","v":""},null,null,null,{"$f":"'＜入力不要＞報告書'!J320","v":"㎡"},{"$f":"'＜入力不要＞報告書'!K320","v":""},null,null,null,{"$f":"'＜入力不要＞報告書'!O320","v":"㎡"},{"$f":"'＜入力不要＞報告書'!P320","v":""},null,null,null,{"$f":"'＜入力不要＞報告書'!T320","v":"㎡"},{"$f":"'＜入力不要＞報告書'!U320","v":""},null,null,null,{"$f":"'＜入力不要＞報告書'!Y320","v":"㎡"},{"$f":"'＜入力不要＞報告書'!Z320","v":""},null,null,null,{"$f":"'＜入力不要＞報告書'!AD320","v":"㎡"},{"$f":"'＜入力不要＞報告書'!AE320","v":""},null,null,null,{"$f":"'＜入力不要＞報告書'!AI320","v":"㎡"},{"$f":"'＜入力不要＞報告書'!AJ320","v":""},null,null,null,{"$f":"'＜入力不要＞報告書'!AN320","v":"㎡"},{"$f":"'＜入力不要＞報告書'!AO320","v":""},null,null,null,{"$f":"'＜入力不要＞報告書'!AS320","v":"㎡"}]
[null,{"$f":"'＜入力不要＞報告書'!B321","v":"地下2"},null,null,{"$f":"'＜入力不要＞報告書'!E321","v":"階"},{"$f":"'＜入力不要＞報告書'!F321","v":""},null,null,null,{"$f":"'＜入力不要＞報告書'!J321","v":"㎡"},{"$f":"'＜入力不要＞報告書'!K321","v":""},null,null,null,{"$f":"'＜入力不要＞報告書'!O321","v":"㎡"},{"$f":"'＜入力不要＞報告書'!P321","v":""},null,null,null,{"$f":"'＜入力不要＞報告書'!T321","v":"㎡"},{"$f":"'＜入力不要＞報告書'!U321","v":""},null,null,null,{"$f":"'＜入力不要＞報告書'!Y321","v":"㎡"},{"$f":"'＜入力不要＞報告書'!Z321","v":""},null,null,null,{"$f":"'＜入力不要＞報告書'!AD321","v":"㎡"},{"$f":"'＜入力不要＞報告書'!AE321","v":""},null,null,null,{"$f":"'＜入力不要＞報告書'!AI321","v":"㎡"},{"$f":"'＜入力不要＞報告書'!AJ321","v":""},null,null,null,{"$f":"'＜入力不要＞報告書'!AN321","v":"㎡"},{"$f":"'＜入力不要＞報告書'!AO321","v":""},null,null,null,{"$f":"'＜入力不要＞報告書'!AS321","v":"㎡"}]
[null,{"$f":"'＜入力不要＞報告書'!B322","v":"地下3"},null,null,{"$f":"'＜入力不要＞報告書'!E322","v":"階"},{"$f":"'＜入力不要＞報告書'!F322","v":""},null,null,null,{"$f":"'＜入力不要＞報告書'!J322","v":"㎡"},{"$f":"'＜入力不要＞報告書'!K322","v":""},null,null,null,{"$f":"'＜入力不要＞報告書'!O322","v":"㎡"},{"$f":"'＜入力不要＞報告書'!P322","v":""},null,null,null,{"$f":"'＜入力不要＞報告書'!T322","v":"㎡"},{"$f":"'＜入力不要＞報告書'!U322","v":""},null,null,null,{"$f":"'＜入力不要＞報告書'!Y322","v":"㎡"},{"$f":"'＜入力不要＞報告書'!Z322","v":""},null,null,null,{"$f":"'＜入力不要＞報告書'!AD322","v":"㎡"},{"$f":"'＜入力不要＞報告書'!AE322","v":""},null,null,null,{"$f":"'＜入力不要＞報告書'!AI322","v":"㎡"},{"$f":"'＜入力不要＞報告書'!AJ322","v":""},null,null,null,{"$f":"'＜入力不要＞報告書'!AN322","v":"㎡"},{"$f":"'＜入力不要＞報告書'!AO322","v":""},null,null,null,{"$f":"'＜入力不要＞報告書'!AS322","v":"㎡"}]
[null,{"$f":"'＜入力不要＞報告書'!B323","v":"地下4"},null,null,{"$f":"'＜入力不要＞報告書'!E323","v":"階"},{"$f":"'＜入力不要＞報告書'!F323","v":""},null,null,null,{"$f":"'＜入力不要＞報告書'!J323","v":"㎡"},{"$f":"'＜入力不要＞報告書'!K323","v":""},null,null,null,{"$f":"'＜入力不要＞報告書'!O323","v":"㎡"},{"$f":"'＜入力不要＞報告書'!P323","v":""},null,null,null,{"$f":"'＜入力不要＞報告書'!T323","v":"㎡"},{"$f":"'＜入力不要＞報告書'!U323","v":""},null,null,null,{"$f":"'＜入力不要＞報告書'!Y323","v":"㎡"},{"$f":"'＜入力不要＞報告書'!Z323","v":""},null,null,null,{"$f":"'＜入力不要＞報告書'!AD323","v":"㎡"},{"$f":"'＜入力不要＞報告書'!AE323","v":""},null,null,null,{"$f":"'＜入力不要＞報告書'!AI323","v":"㎡"},{"$f":"'＜入力不要＞報告書'!AJ323","v":""},null,null,null,{"$f":"'＜入力不要＞報告書'!AN323","v":"㎡"},{"$f":"'＜入力不要＞報告書'!AO323","v":""},null,null,null,{"$f":"'＜入力不要＞報告書'!AS323","v":"㎡"}]
[null,{"$f":"'＜入力不要＞報告書'!B324","v":"塔屋 1"},null,null,{"$f":"'＜入力不要＞報告書'!E324","v":"階"},{"$f":"'＜入力不要＞報告書'!F324","v":""},null,null,null,{"$f":"'＜入力不要＞報告書'!J324","v":"㎡"},{"$f":"'＜入力不要＞報告書'!K324","v":""},null,null,null,{"$f":"'＜入力不要＞報告書'!O324","v":"㎡"},{"$f":"'＜入力不要＞報告書'!P324","v":""},null,null,null,{"$f":"'＜入力不要＞報告書'!T324","v":"㎡"},{"$f":"'＜入力不要＞報告書'!U324","v":""},null,null,null,{"$f":"'＜入力不要＞報告書'!Y324","v":"㎡"},{"$f":"'＜入力不要＞報告書'!Z324","v":""},null,null,null,{"$f":"'＜入力不要＞報告書'!AD324","v":"㎡"},{"$f":"'＜入力不要＞報告書'!AE324","v":""},null,null,null,{"$f":"'＜入力不要＞報告書'!AI324","v":"㎡"},{"$f":"'＜入力不要＞報告書'!AJ324","v":""},null,null,null,{"$f":"'＜入力不要＞報告書'!AN324","v":"㎡"},{"$f":"'＜入力不要＞報告書'!AO324","v":""},null,null,null,{"$f":"'＜入力不要＞報告書'!AS324","v":"㎡"}]
[null,{"$f":"'＜入力不要＞報告書'!B325","v":"塔屋 2"},null,null,{"$f":"'＜入力不要＞報告書'!E325","v":"階"},{"$f":"'＜入力不要＞報告書'!F325","v":""},null,null,null,{"$f":"'＜入力不要＞報告書'!J325","v":"㎡"},{"$f":"'＜入力不要＞報告書'!K325","v":""},null,null,null,{"$f":"'＜入力不要＞報告書'!O325","v":"㎡"},{"$f":"'＜入力不要＞報告書'!P325","v":""},null,null,null,{"$f":"'＜入力不要＞報告書'!T325","v":"㎡"},{"$f":"'＜入力不要＞報告書'!U325","v":""},null,null,null,{"$f":"'＜入力不要＞報告書'!Y325","v":"㎡"},{"$f":"'＜入力不要＞報告書'!Z325","v":""},null,null,null,{"$f":"'＜入力不要＞報告書'!AD325","v":"㎡"},{"$f":"'＜入力不要＞報告書'!AE325","v":""},null,null,null,{"$f":"'＜入力不要＞報告書'!AI325","v":"㎡"},{"$f":"'＜入力不要＞報告書'!AJ325","v":""},null,null,null,{"$f":"'＜入力不要＞報告書'!AN325","v":"㎡"},{"$f":"'＜入力不要＞報告書'!AO325","v":""},null,null,null,{"$f":"'＜入力不要＞報告書'!AS325","v":"㎡"}]
[null,{"$f":"'＜入力不要＞報告書'!B326","v":"塔屋 3"},null,null,{"$f":"'＜入力不要＞報告書'!E326","v":"階"},{"$f":"'＜入力不要＞報告書'!F326","v":""},null,null,null,{"$f":"'＜入力不要＞報告書'!J326","v":"㎡"},{"$f":"'＜入力不要＞報告書'!K326","v":""},null,null,null,{"$f":"'＜入力不要＞報告書'!O326","v":"㎡"},{"$f":"'＜入力不要＞報告書'!P326","v":""},null,null,null,{"$f":"'＜入力不要＞報告書'!T326","v":"㎡"},{"$f":"'＜入力不要＞報告書'!U326","v":""},null,null,null,{"$f":"'＜入力不要＞報告書'!Y326","v":"㎡"},{"$f":"'＜入力不要＞報告書'!Z326","v":""},null,null,null,{"$f":"'＜入力不要＞報告書'!AD326","v":"㎡"},{"$f":"'＜入力不要＞報告書'!AE326","v":""},null,null,null,{"$f":"'＜入力不要＞報告書'!AI326","v":"㎡"},{"$f":"'＜入力不要＞報告書'!AJ326","v":""},null,null,null,{"$f":"'＜入力不要＞報告書'!AN326","v":"㎡"},{"$f":"'＜入力不要＞報告書'!AO326","v":""},null,null,null,{"$f":"'＜入力不要＞報告書'!AS326","v":"㎡"}]
[null,{"$f":"'＜入力不要＞報告書'!B327","v":"塔屋 4"},null,null,{"$f":"'＜入力不要＞報告書'!E327","v":"階"},{"$f":"'＜入力不要＞報告書'!F327","v":""},null,null,null,{"$f":"'＜入力不要＞報告書'!J327","v":"㎡"},{"$f":"'＜入力不要＞報告書'!K327","v":""},null,null,null,{"$f":"'＜入力不要＞報告書'!O327","v":"㎡"},{"$f":"'＜入力不要＞報告書'!P327","v":""},null,null,null,{"$f":"'＜入力不要＞報告書'!T327","v":"㎡"},{"$f":"'＜入力不要＞報告書'!U327","v":""},null,null,null,{"$f":"'＜入力不要＞報告書'!Y327","v":"㎡"},{"$f":"'＜入力不要＞報告書'!Z327","v":""},null,null,null,{"$f":"'＜入力不要＞報告書'!AD327","v":"㎡"},{"$f":"'＜入力不要＞報告書'!AE327","v":""},null,null,null,{"$f":"'＜入力不要＞報告書'!AI327","v":"㎡"},{"$f":"'＜入力不要＞報告書'!AJ327","v":""},null,null,null,{"$f":"'＜入力不要＞報告書'!AN327","v":"㎡"},{"$f":"'＜入力不要＞報告書'!AO327","v":""},null,null,null,{"$f":"'＜入力不要＞報告書'!AS327","v":"㎡"}]
[null,{"$f":"'＜入力不要＞報告書'!B328","v":"塔屋 5"},null,null,{"$f":"'＜入力不要＞報告書'!E328","v":"階"},{"$f":"'＜入力不要＞報告書'!F328","v":""},null,null,null,{"$f":"'＜入力不要＞報告書'!J328","v":"㎡"},{"$f":"'＜入力不要＞報告書'!K328","v":""},null,null,null,{"$f":"'＜入力不要＞報告書'!O328","v":"㎡"},{"$f":"'＜入力不要＞報告書'!P328","v":""},null,null,null,{"$f":"'＜入力不要＞報告書'!T328","v":"㎡"},{"$f":"'＜入力不要＞報告書'!U328","v":""},null,null,null,{"$f":"'＜入力不要＞報告書'!Y328","v":"㎡"},{"$f":"'＜入力不要＞報告書'!Z328","v":""},null,null,null,{"$f":"'＜入力不要＞報告書'!AD328","v":"㎡"},{"$f":"'＜入力不要＞報告書'!AE328","v":""},null,null,null,{"$f":"'＜入力不要＞報告書'!AI328","v":"㎡"},{"$f":"'＜入力不要＞報告書'!AJ328","v":""},null,null,null,{"$f":"'＜入力不要＞報告書'!AN328","v":"㎡"},{"$f":"'＜入力不要＞報告書'!AO328","v":""},null,null,null,{"$f":"'＜入力不要＞報告書'!AS328","v":"㎡"}]
[null,null,{"$f":"'＜入力不要＞報告書'!C329","v":1},null,{"$f":"'＜入力不要＞報告書'!E329","v":"階"},{"$f":"'＜入力不要＞報告書'!F329","v":""},null,null,null,{"$f":"'＜入力不要＞報告書'!J329","v":"㎡"},{"$f":"'＜入力不要＞報告書'!K329","v":""},null,null,null,{"$f":"'＜入力不要＞報告書'!O329","v":"㎡"},{"$f":"'＜入力不要＞報告書'!P329","v":""},null,null,null,{"$f":"'＜入力不要＞報告書'!T329","v":"㎡"},{"$f":"'＜入力不要＞報告書'!U329","v":""},null,null,null,{"$f":"'＜入力不要＞報告書'!Y329","v":"㎡"},{"$f":"'＜入力不要＞報告書'!Z329","v":""},null,null,null,{"$f":"'＜入力不要＞報告書'!AD329","v":"㎡"},{"$f":"'＜入力不要＞報告書'!AE329","v":""},null,null,null,{"$f":"'＜入力不要＞報告書'!AI329","v":"㎡"},{"$f":"'＜入力不要＞報告書'!AJ329","v":""},null,null,null,{"$f":"'＜入力不要＞報告書'!AN329","v":"㎡"},{"$f":"'＜入力不要＞報告書'!AO329","v":""},null,null,null,{"$f":"'＜入力不要＞報告書'!AS329","v":"㎡"}]
[null,null,{"$f":"'＜入力不要＞報告書'!C330","v":2},null,{"$f":"'＜入力不要＞報告書'!E330","v":"階"},{"$f":"'＜入力不要＞報告書'!F330","v":""},null,null,null,{"$f":"'＜入力不要＞報告書'!J330","v":"㎡"},{"$f":"'＜入力不要＞報告書'!K330","v":""},null,null,null,{"$f":"'＜入力不要＞報告書'!O330","v":"㎡"},{"$f":"'＜入力不要＞報告書'!P330","v":""},null,null,null,{"$f":"'＜入力不要＞報告書'!T330","v":"㎡"},{"$f":"'＜入力不要＞報告書'!U330","v":""},null,null,null,{"$f":"'＜入力不要＞報告書'!Y330","v":"㎡"},{"$f":"'＜入力不要＞報告書'!Z330","v":""},null,null,null,{"$f":"'＜入力不要＞報告書'!AD330","v":"㎡"},{"$f":"'＜入力不要＞報告書'!AE330","v":""},null,null,null,{"$f":"'＜入力不要＞報告書'!AI330","v":"㎡"},{"$f":"'＜入力不要＞報告書'!AJ330","v":""},null,null,null,{"$f":"'＜入力不要＞報告書'!AN330","v":"㎡"},{"$f":"'＜入力不要＞報告書'!AO330","v":""},null,null,null,{"$f":"'＜入力不要＞報告書'!AS330","v":"㎡"}]
[null,null,{"$f":"'＜入力不要＞報告書'!C331","v":3},null,{"$f":"'＜入力不要＞報告書'!E331","v":"階"},{"$f":"'＜入力不要＞報告書'!F331","v":""},null,null,null,{"$f":"'＜入力不要＞報告書'!J331","v":"㎡"},{"$f":"'＜入力不要＞報告書'!K331","v":""},null,null,null,{"$f":"'＜入力不要＞報告書'!O331","v":"㎡"},{"$f":"'＜入力不要＞報告書'!P331","v":""},null,null,null,{"$f":"'＜入力不要＞報告書'!T331","v":"㎡"},{"$f":"'＜入力不要＞報告書'!U331","v":""},null,null,null,{"$f":"'＜入力不要＞報告書'!Y331","v":"㎡"},{"$f":"'＜入力不要＞報告書'!Z331","v":""},null,null,null,{"$f":"'＜入力不要＞報告書'!AD331","v":"㎡"},{"$f":"'＜入力不要＞報告書'!AE331","v":""},null,null,null,{"$f":"'＜入力不要＞報告書'!AI331","v":"㎡"},{"$f":"'＜入力不要＞報告書'!AJ331","v":""},null,null,null,{"$f":"'＜入力不要＞報告書'!AN331","v":"㎡"},{"$f":"'＜入力不要＞報告書'!AO331","v":""},null,null,null,{"$f":"'＜入力不要＞報告書'!AS331","v":"㎡"}]
[null,null,{"$f":"'＜入力不要＞報告書'!C332","v":4},null,{"$f":"'＜入力不要＞報告書'!E332","v":"階"},{"$f":"'＜入力不要＞報告書'!F332","v":""},null,null,null,{"$f":"'＜入力不要＞報告書'!J332","v":"㎡"},{"$f":"'＜入力不要＞報告書'!K332","v":""},null,null,null,{"$f":"'＜入力不要＞報告書'!O332","v":"㎡"},{"$f":"'＜入力不要＞報告書'!P332","v":""},null,null,null,{"$f":"'＜入力不要＞報告書'!T332","v":"㎡"},{"$f":"'＜入力不要＞報告書'!U332","v":""},null,null,null,{"$f":"'＜入力不要＞報告書'!Y332","v":"㎡"},{"$f":"'＜入力不要＞報告書'!Z332","v":""},null,null,null,{"$f":"'＜入力不要＞報告書'!AD332","v":"㎡"},{"$f":"'＜入力不要＞報告書'!AE332","v":""},null,null,null,{"$f":"'＜入力不要＞報告書'!AI332","v":"㎡"},{"$f":"'＜入力不要＞報告書'!AJ332","v":""},null,null,null,{"$f":"'＜入力不要＞報告書'!AN332","v":"㎡"},{"$f":"'＜入力不要＞報告書'!AO332","v":""},null,null,null,{"$f":"'＜入力不要＞報告書'!AS332","v":"㎡"}]
[null,null,{"$f":"'＜入力不要＞報告書'!C333","v":5},null,{"$f":"'＜入力不要＞報告書'!E333","v":"階"},{"$f":"'＜入力不要＞報告書'!F333","v":""},null,null,null,{"$f":"'＜入力不要＞報告書'!J333","v":"㎡"},{"$f":"'＜入力不要＞報告書'!K333","v":""},null,null,null,{"$f":"'＜入力不要＞報告書'!O333","v":"㎡"},{"$f":"'＜入力不要＞報告書'!P333","v":""},null,null,null,{"$f":"'＜入力不要＞報告書'!T333","v":"㎡"},{"$f":"'＜入力不要＞報告書'!U333","v":""},null,null,null,{"$f":"'＜入力不要＞報告書'!Y333","v":"㎡"},{"$f":"'＜入力不要＞報告書'!Z333","v":""},null,null,null,{"$f":"'＜入力不要＞報告書'!AD333","v":"㎡"},{"$f":"'＜入力不要＞報告書'!AE333","v":""},null,null,null,{"$f":"'＜入力不要＞報告書'!AI333","v":"㎡"},{"$f":"'＜入力不要＞報告書'!AJ333","v":""},null,null,null,{"$f":"'＜入力不要＞報告書'!AN333","v":"㎡"},{"$f":"'＜入力不要＞報告書'!AO333","v":""},null,null,null,{"$f":"'＜入力不要＞報告書'!AS333","v":"㎡"}]
[null,null,{"$f":"'＜入力不要＞報告書'!C334","v":6},null,{"$f":"'＜入力不要＞報告書'!E334","v":"階"},{"$f":"'＜入力不要＞報告書'!F334","v":""},null,null,null,{"$f":"'＜入力不要＞報告書'!J334","v":"㎡"},{"$f":"'＜入力不要＞報告書'!K334","v":""},null,null,null,{"$f":"'＜入力不要＞報告書'!O334","v":"㎡"},{"$f":"'＜入力不要＞報告書'!P334","v":""},null,null,null,{"$f":"'＜入力不要＞報告書'!T334","v":"㎡"},{"$f":"'＜入力不要＞報告書'!U334","v":""},null,null,null,{"$f":"'＜入力不要＞報告書'!Y334","v":"㎡"},{"$f":"'＜入力不要＞報告書'!Z334","v":""},null,null,null,{"$f":"'＜入力不要＞報告書'!AD334","v":"㎡"},{"$f":"'＜入力不要＞報告書'!AE334","v":""},null,null,null,{"$f":"'＜入力不要＞報告書'!AI334","v":"㎡"},{"$f":"'＜入力不要＞報告書'!AJ334","v":""},null,null,null,{"$f":"'＜入力不要＞報告書'!AN334","v":"㎡"},{"$f":"'＜入力不要＞報告書'!AO334","v":""},null,null,null,{"$f":"'＜入力不要＞報告書'!AS334","v":"㎡"}]
[null,null,{"$f":"'＜入力不要＞報告書'!C335","v":7},null,{"$f":"'＜入力不要＞報告書'!E335","v":"階"},{"$f":"'＜入力不要＞報告書'!F335","v":""},null,null,null,{"$f":"'＜入力不要＞報告書'!J335","v":"㎡"},{"$f":"'＜入力不要＞報告書'!K335","v":""},null,null,null,{"$f":"'＜入力不要＞報告書'!O335","v":"㎡"},{"$f":"'＜入力不要＞報告書'!P335","v":""},null,null,null,{"$f":"'＜入力不要＞報告書'!T335","v":"㎡"},{"$f":"'＜入力不要＞報告書'!U335","v":""},null,null,null,{"$f":"'＜入力不要＞報告書'!Y335","v":"㎡"},{"$f":"'＜入力不要＞報告書'!Z335","v":""},null,null,null,{"$f":"'＜入力不要＞報告書'!AD335","v":"㎡"},{"$f":"'＜入力不要＞報告書'!AE335","v":""},null,null,null,{"$f":"'＜入力不要＞報告書'!AI335","v":"㎡"},{"$f":"'＜入力不要＞報告書'!AJ335","v":""},null,null,null,{"$f":"'＜入力不要＞報告書'!AN335","v":"㎡"},{"$f":"'＜入力不要＞報告書'!AO335","v":""},null,null,null,{"$f":"'＜入力不要＞報告書'!AS335","v":"㎡"}]
[null,null,{"$f":"'＜入力不要＞報告書'!C336","v":8},null,{"$f":"'＜入力不要＞報告書'!E336","v":"階"},{"$f":"'＜入力不要＞報告書'!F336","v":""},null,null,null,{"$f":"'＜入力不要＞報告書'!J336","v":"㎡"},{"$f":"'＜入力不要＞報告書'!K336","v":""},null,null,null,{"$f":"'＜入力不要＞報告書'!O336","v":"㎡"},{"$f":"'＜入力不要＞報告書'!P336","v":""},null,null,null,{"$f":"'＜入力不要＞報告書'!T336","v":"㎡"},{"$f":"'＜入力不要＞報告書'!U336","v":""},null,null,null,{"$f":"'＜入力不要＞報告書'!Y336","v":"㎡"},{"$f":"'＜入力不要＞報告書'!Z336","v":""},null,null,null,{"$f":"'＜入力不要＞報告書'!AD336","v":"㎡"},{"$f":"'＜入力不要＞報告書'!AE336","v":""},null,null,null,{"$f":"'＜入力不要＞報告書'!AI336","v":"㎡"},{"$f":"'＜入力不要＞報告書'!AJ336","v":""},null,null,null,{"$f":"'＜入力不要＞報告書'!AN336","v":"㎡"},{"$f":"'＜入力不要＞報告書'!AO336","v":""},null,null,null,{"$f":"'＜入力不要＞報告書'!AS336","v":"㎡"}]
[null,null,{"$f":"'＜入力不要＞報告書'!C337","v":9},null,{"$f":"'＜入力不要＞報告書'!E337","v":"階"},{"$f":"'＜入力不要＞報告書'!F337","v":""},null,null,null,{"$f":"'＜入力不要＞報告書'!J337","v":"㎡"},{"$f":"'＜入力不要＞報告書'!K337","v":""},null,null,null,{"$f":"'＜入力不要＞報告書'!O337","v":"㎡"},{"$f":"'＜入力不要＞報告書'!P337","v":""},null,null,null,{"$f":"'＜入力不要＞報告書'!T337","v":"㎡"},{"$f":"'＜入力不要＞報告書'!U337","v":""},null,null,null,{"$f":"'＜入力不要＞報告書'!Y337","v":"㎡"},{"$f":"'＜入力不要＞報告書'!Z337","v":""},null,null,null,{"$f":"'＜入力不要＞報告書'!AD337","v":"㎡"},{"$f":"'＜入力不要＞報告書'!AE337","v":""},null,null,null,{"$f":"'＜入力不要＞報告書'!AI337","v":"㎡"},{"$f":"'＜入力不要＞報告書'!AJ337","v":""},null,null,null,{"$f":"'＜入力不要＞報告書'!AN337","v":"㎡"},{"$f":"'＜入力不要＞報告書'!AO337","v":""},null,null,null,{"$f":"'＜入力不要＞報告書'!AS337","v":"㎡"}]
[null,null,{"$f":"'＜入力不要＞報告書'!C338","v":10},null,{"$f":"'＜入力不要＞報告書'!E338","v":"階"},{"$f":"'＜入力不要＞報告書'!F338","v":""},null,null,null,{"$f":"'＜入力不要＞報告書'!J338","v":"㎡"},{"$f":"'＜入力不要＞報告書'!K338","v":""},null,null,null,{"$f":"'＜入力不要＞報告書'!O338","v":"㎡"},{"$f":"'＜入力不要＞報告書'!P338","v":""},null,null,null,{"$f":"'＜入力不要＞報告書'!T338","v":"㎡"},{"$f":"'＜入力不要＞報告書'!U338","v":""},null,null,null,{"$f":"'＜入力不要＞報告書'!Y338","v":"㎡"},{"$f":"'＜入力不要＞報告書'!Z338","v":""},null,null,null,{"$f":"'＜入力不要＞報告書'!AD338","v":"㎡"},{"$f":"'＜入力不要＞報告書'!AE338","v":""},null,null,null,{"$f":"'＜入力不要＞報告書'!AI338","v":"㎡"},{"$f":"'＜入力不要＞報告書'!AJ338","v":""},null,null,null,{"$f":"'＜入力不要＞報告書'!AN338","v":"㎡"},{"$f":"'＜入力不要＞報告書'!AO338","v":""},null,null,null,{"$f":"'＜入力不要＞報告書'!AS338","v":"㎡"}]
[null,null,{"$f":"'＜入力不要＞報告書'!C339","v":11},null,{"$f":"'＜入力不要＞報告書'!E339","v":"階"},{"$f":"'＜入力不要＞報告書'!F339","v":""},null,null,null,{"$f":"'＜入力不要＞報告書'!J339","v":"㎡"},{"$f":"'＜入力不要＞報告書'!K339","v":""},null,null,null,{"$f":"'＜入力不要＞報告書'!O339","v":"㎡"},{"$f":"'＜入力不要＞報告書'!P339","v":""},null,null,null,{"$f":"'＜入力不要＞報告書'!T339","v":"㎡"},{"$f":"'＜入力不要＞報告書'!U339","v":""},null,null,null,{"$f":"'＜入力不要＞報告書'!Y339","v":"㎡"},{"$f":"'＜入力不要＞報告書'!Z339","v":""},null,null,null,{"$f":"'＜入力不要＞報告書'!AD339","v":"㎡"},{"$f":"'＜入力不要＞報告書'!AE339","v":""},null,null,null,{"$f":"'＜入力不要＞報告書'!AI339","v":"㎡"},{"$f":"'＜入力不要＞報告書'!AJ339","v":""},null,null,null,{"$f":"'＜入力不要＞報告書'!AN339","v":"㎡"},{"$f":"'＜入力不要＞報告書'!AO339","v":""},null,null,null,{"$f":"'＜入力不要＞報告書'!AS339","v":"㎡"}]
[null,null,{"$f":"'＜入力不要＞報告書'!C340","v":12},null,{"$f":"'＜入力不要＞報告書'!E340","v":"階"},{"$f":"'＜入力不要＞報告書'!F340","v":""},null,null,null,{"$f":"'＜入力不要＞報告書'!J340","v":"㎡"},{"$f":"'＜入力不要＞報告書'!K340","v":""},null,null,null,{"$f":"'＜入力不要＞報告書'!O340","v":"㎡"},{"$f":"'＜入力不要＞報告書'!P340","v":""},null,null,null,{"$f":"'＜入力不要＞報告書'!T340","v":"㎡"},{"$f":"'＜入力不要＞報告書'!U340","v":""},null,null,null,{"$f":"'＜入力不要＞報告書'!Y340","v":"㎡"},{"$f":"'＜入力不要＞報告書'!Z340","v":""},null,null,null,{"$f":"'＜入力不要＞報告書'!AD340","v":"㎡"},{"$f":"'＜入力不要＞報告書'!AE340","v":""},null,null,null,{"$f":"'＜入力不要＞報告書'!AI340","v":"㎡"},{"$f":"'＜入力不要＞報告書'!AJ340","v":""},null,null,null,{"$f":"'＜入力不要＞報告書'!AN340","v":"㎡"},{"$f":"'＜入力不要＞報告書'!AO340","v":""},null,null,null,{"$f":"'＜入力不要＞報告書'!AS340","v":"㎡"}]
[null,null,{"$f":"'＜入力不要＞報告書'!C341","v":13},null,{"$f":"'＜入力不要＞報告書'!E341","v":"階"},{"$f":"'＜入力不要＞報告書'!F341","v":""},null,null,null,{"$f":"'＜入力不要＞報告書'!J341","v":"㎡"},{"$f":"'＜入力不要＞報告書'!K341","v":""},null,null,null,{"$f":"'＜入力不要＞報告書'!O341","v":"㎡"},{"$f":"'＜入力不要＞報告書'!P341","v":""},null,null,null,{"$f":"'＜入力不要＞報告書'!T341","v":"㎡"},{"$f":"'＜入力不要＞報告書'!U341","v":""},null,null,null,{"$f":"'＜入力不要＞報告書'!Y341","v":"㎡"},{"$f":"'＜入力不要＞報告書'!Z341","v":""},null,null,null,{"$f":"'＜入力不要＞報告書'!AD341","v":"㎡"},{"$f":"'＜入力不要＞報告書'!AE341","v":""},null,null,null,{"$f":"'＜入力不要＞報告書'!AI341","v":"㎡"},{"$f":"'＜入力不要＞報告書'!AJ341","v":""},null,null,null,{"$f":"'＜入力不要＞報告書'!AN341","v":"㎡"},{"$f":"'＜入力不要＞報告書'!AO341","v":""},null,null,null,{"$f":"'＜入力不要＞報告書'!AS341","v":"㎡"}]
[null,null,{"$f":"'＜入力不要＞報告書'!C342","v":14},null,{"$f":"'＜入力不要＞報告書'!E342","v":"階"},{"$f":"'＜入力不要＞報告書'!F342","v":""},null,null,null,{"$f":"'＜入力不要＞報告書'!J342","v":"㎡"},{"$f":"'＜入力不要＞報告書'!K342","v":""},null,null,null,{"$f":"'＜入力不要＞報告書'!O342","v":"㎡"},{"$f":"'＜入力不要＞報告書'!P342","v":""},null,null,null,{"$f":"'＜入力不要＞報告書'!T342","v":"㎡"},{"$f":"'＜入力不要＞報告書'!U342","v":""},null,null,null,{"$f":"'＜入力不要＞報告書'!Y342","v":"㎡"},{"$f":"'＜入力不要＞報告書'!Z342","v":""},null,null,null,{"$f":"'＜入力不要＞報告書'!AD342","v":"㎡"},{"$f":"'＜入力不要＞報告書'!AE342","v":""},null,null,null,{"$f":"'＜入力不要＞報告書'!AI342","v":"㎡"},{"$f":"'＜入力不要＞報告書'!AJ342","v":""},null,null,null,{"$f":"'＜入力不要＞報告書'!AN342","v":"㎡"},{"$f":"'＜入力不要＞報告書'!AO342","v":""},null,null,null,{"$f":"'＜入力不要＞報告書'!AS342","v":"㎡"}]
[null,null,{"$f":"'＜入力不要＞報告書'!C343","v":15},null,{"$f":"'＜入力不要＞報告書'!E343","v":"階"},{"$f":"'＜入力不要＞報告書'!F343","v":""},null,null,null,{"$f":"'＜入力不要＞報告書'!J343","v":"㎡"},{"$f":"'＜入力不要＞報告書'!K343","v":""},null,null,null,{"$f":"'＜入力不要＞報告書'!O343","v":"㎡"},{"$f":"'＜入力不要＞報告書'!P343","v":""},null,null,null,{"$f":"'＜入力不要＞報告書'!T343","v":"㎡"},{"$f":"'＜入力不要＞報告書'!U343","v":""},null,null,null,{"$f":"'＜入力不要＞報告書'!Y343","v":"㎡"},{"$f":"'＜入力不要＞報告書'!Z343","v":""},null,null,null,{"$f":"'＜入力不要＞報告書'!AD343","v":"㎡"},{"$f":"'＜入力不要＞報告書'!AE343","v":""},null,null,null,{"$f":"'＜入力不要＞報告書'!AI343","v":"㎡"},{"$f":"'＜入力不要＞報告書'!AJ343","v":""},null,null,null,{"$f":"'＜入力不要＞報告書'!AN343","v":"㎡"},{"$f":"'＜入力不要＞報告書'!AO343","v":""},null,null,null,{"$f":"'＜入力不要＞報告書'!AS343","v":"㎡"}]
[null,null,{"$f":"'＜入力不要＞報告書'!C344","v":16},null,{"$f":"'＜入力不要＞報告書'!E344","v":"階"},{"$f":"'＜入力不要＞報告書'!F344","v":""},null,null,null,{"$f":"'＜入力不要＞報告書'!J344","v":"㎡"},{"$f":"'＜入力不要＞報告書'!K344","v":""},null,null,null,{"$f":"'＜入力不要＞報告書'!O344","v":"㎡"},{"$f":"'＜入力不要＞報告書'!P344","v":""},null,null,null,{"$f":"'＜入力不要＞報告書'!T344","v":"㎡"},{"$f":"'＜入力不要＞報告書'!U344","v":""},null,null,null,{"$f":"'＜入力不要＞報告書'!Y344","v":"㎡"},{"$f":"'＜入力不要＞報告書'!Z344","v":""},null,null,null,{"$f":"'＜入力不要＞報告書'!AD344","v":"㎡"},{"$f":"'＜入力不要＞報告書'!AE344","v":""},null,null,null,{"$f":"'＜入力不要＞報告書'!AI344","v":"㎡"},{"$f":"'＜入力不要＞報告書'!AJ344","v":""},null,null,null,{"$f":"'＜入力不要＞報告書'!AN344","v":"㎡"},{"$f":"'＜入力不要＞報告書'!AO344","v":""},null,null,null,{"$f":"'＜入力不要＞報告書'!AS344","v":"㎡"}]
[null,null,{"$f":"'＜入力不要＞報告書'!C345","v":17},null,{"$f":"'＜入力不要＞報告書'!E345","v":"階"},{"$f":"'＜入力不要＞報告書'!F345","v":""},null,null,null,{"$f":"'＜入力不要＞報告書'!J345","v":"㎡"},{"$f":"'＜入力不要＞報告書'!K345","v":""},null,null,null,{"$f":"'＜入力不要＞報告書'!O345","v":"㎡"},{"$f":"'＜入力不要＞報告書'!P345","v":""},null,null,null,{"$f":"'＜入力不要＞報告書'!T345","v":"㎡"},{"$f":"'＜入力不要＞報告書'!U345","v":""},null,null,null,{"$f":"'＜入力不要＞報告書'!Y345","v":"㎡"},{"$f":"'＜入力不要＞報告書'!Z345","v":""},null,null,null,{"$f":"'＜入力不要＞報告書'!AD345","v":"㎡"},{"$f":"'＜入力不要＞報告書'!AE345","v":""},null,null,null,{"$f":"'＜入力不要＞報告書'!AI345","v":"㎡"},{"$f":"'＜入力不要＞報告書'!AJ345","v":""},null,null,null,{"$f":"'＜入力不要＞報告書'!AN345","v":"㎡"},{"$f":"'＜入力不要＞報告書'!AO345","v":""},null,null,null,{"$f":"'＜入力不要＞報告書'!AS345","v":"㎡"}]
[null,null,{"$f":"'＜入力不要＞報告書'!C346","v":18},null,{"$f":"'＜入力不要＞報告書'!E346","v":"階"},{"$f":"'＜入力不要＞報告書'!F346","v":""},null,null,null,{"$f":"'＜入力不要＞報告書'!J346","v":"㎡"},{"$f":"'＜入力不要＞報告書'!K346","v":""},null,null,null,{"$f":"'＜入力不要＞報告書'!O346","v":"㎡"},{"$f":"'＜入力不要＞報告書'!P346","v":""},null,null,null,{"$f":"'＜入力不要＞報告書'!T346","v":"㎡"},{"$f":"'＜入力不要＞報告書'!U346","v":""},null,null,null,{"$f":"'＜入力不要＞報告書'!Y346","v":"㎡"},{"$f":"'＜入力不要＞報告書'!Z346","v":""},null,null,null,{"$f":"'＜入力不要＞報告書'!AD346","v":"㎡"},{"$f":"'＜入力不要＞報告書'!AE346","v":""},null,null,null,{"$f":"'＜入力不要＞報告書'!AI346","v":"㎡"},{"$f":"'＜入力不要＞報告書'!AJ346","v":""},null,null,null,{"$f":"'＜入力不要＞報告書'!AN346","v":"㎡"},{"$f":"'＜入力不要＞報告書'!AO346","v":""},null,null,null,{"$f":"'＜入力不要＞報告書'!AS346","v":"㎡"}]
[null,null,{"$f":"'＜入力不要＞報告書'!C347","v":19},null,{"$f":"'＜入力不要＞報告書'!E347","v":"階"},{"$f":"'＜入力不要＞報告書'!F347","v":""},null,null,null,{"$f":"'＜入力不要＞報告書'!J347","v":"㎡"},{"$f":"'＜入力不要＞報告書'!K347","v":""},null,null,null,{"$f":"'＜入力不要＞報告書'!O347","v":"㎡"},{"$f":"'＜入力不要＞報告書'!P347","v":""},null,null,null,{"$f":"'＜入力不要＞報告書'!T347","v":"㎡"},{"$f":"'＜入力不要＞報告書'!U347","v":""},null,null,null,{"$f":"'＜入力不要＞報告書'!Y347","v":"㎡"},{"$f":"'＜入力不要＞報告書'!Z347","v":""},null,null,null,{"$f":"'＜入力不要＞報告書'!AD347","v":"㎡"},{"$f":"'＜入力不要＞報告書'!AE347","v":""},null,null,null,{"$f":"'＜入力不要＞報告書'!AI347","v":"㎡"},{"$f":"'＜入力不要＞報告書'!AJ347","v":""},null,null,null,{"$f":"'＜入力不要＞報告書'!AN347","v":"㎡"},{"$f":"'＜入力不要＞報告書'!AO347","v":""},null,null,null,{"$f":"'＜入力不要＞報告書'!AS347","v":"㎡"}]
[null,null,{"$f":"'＜入力不要＞報告書'!C348","v":20},null,{"$f":"'＜入力不要＞報告書'!E348","v":"階"},{"$f":"'＜入力不要＞報告書'!F348","v":""},null,null,null,{"$f":"'＜入力不要＞報告書'!J348","v":"㎡"},{"$f":"'＜入力不要＞報告書'!K348","v":""},null,null,null,{"$f":"'＜入力不要＞報告書'!O348","v":"㎡"},{"$f":"'＜入力不要＞報告書'!P348","v":""},null,null,null,{"$f":"'＜入力不要＞報告書'!T348","v":"㎡"},{"$f":"'＜入力不要＞報告書'!U348","v":""},null,null,null,{"$f":"'＜入力不要＞報告書'!Y348","v":"㎡"},{"$f":"'＜入力不要＞報告書'!Z348","v":""},null,null,null,{"$f":"'＜入力不要＞報告書'!AD348","v":"㎡"},{"$f":"'＜入力不要＞報告書'!AE348","v":""},null,null,null,{"$f":"'＜入力不要＞報告書'!AI348","v":"㎡"},{"$f":"'＜入力不要＞報告書'!AJ348","v":""},null,null,null,{"$f":"'＜入力不要＞報告書'!AN348","v":"㎡"},{"$f":"'＜入力不要＞報告書'!AO348","v":""},null,null,null,{"$f":"'＜入力不要＞報告書'!AS348","v":"㎡"}]
[null,null,{"$f":"'＜入力不要＞報告書'!C349","v":21},null,{"$f":"'＜入力不要＞報告書'!E349","v":"階"},{"$f":"'＜入力不要＞報告書'!F349","v":""},null,null,null,{"$f":"'＜入力不要＞報告書'!J349","v":"㎡"},{"$f":"'＜入力不要＞報告書'!K349","v":""},null,null,null,{"$f":"'＜入力不要＞報告書'!O349","v":"㎡"},{"$f":"'＜入力不要＞報告書'!P349","v":""},null,null,null,{"$f":"'＜入力不要＞報告書'!T349","v":"㎡"},{"$f":"'＜入力不要＞報告書'!U349","v":""},null,null,null,{"$f":"'＜入力不要＞報告書'!Y349","v":"㎡"},{"$f":"'＜入力不要＞報告書'!Z349","v":""},null,null,null,{"$f":"'＜入力不要＞報告書'!AD349","v":"㎡"},{"$f":"'＜入力不要＞報告書'!AE349","v":""},null,null,null,{"$f":"'＜入力不要＞報告書'!AI349","v":"㎡"},{"$f":"'＜入力不要＞報告書'!AJ349","v":""},null,null,null,{"$f":"'＜入力不要＞報告書'!AN349","v":"㎡"},{"$f":"'＜入力不要＞報告書'!AO349","v":""},null,null,null,{"$f":"'＜入力不要＞報告書'!AS349","v":"㎡"}]
[null,null,{"$f":"'＜入力不要＞報告書'!C350","v":22},null,{"$f":"'＜入力不要＞報告書'!E350","v":"階"},{"$f":"'＜入力不要＞報告書'!F350","v":""},null,null,null,{"$f":"'＜入力不要＞報告書'!J350","v":"㎡"},{"$f":"'＜入力不要＞報告書'!K350","v":""},null,null,null,{"$f":"'＜入力不要＞報告書'!O350","v":"㎡"},{"$f":"'＜入力不要＞報告書'!P350","v":""},null,null,null,{"$f":"'＜入力不要＞報告書'!T350","v":"㎡"},{"$f":"'＜入力不要＞報告書'!U350","v":""},null,null,null,{"$f":"'＜入力不要＞報告書'!Y350","v":"㎡"},{"$f":"'＜入力不要＞報告書'!Z350","v":""},null,null,null,{"$f":"'＜入力不要＞報告書'!AD350","v":"㎡"},{"$f":"'＜入力不要＞報告書'!AE350","v":""},null,null,null,{"$f":"'＜入力不要＞報告書'!AI350","v":"㎡"},{"$f":"'＜入力不要＞報告書'!AJ350","v":""},null,null,null,{"$f":"'＜入力不要＞報告書'!AN350","v":"㎡"},{"$f":"'＜入力不要＞報告書'!AO350","v":""},null,null,null,{"$f":"'＜入力不要＞報告書'!AS350","v":"㎡"}]
[null,null,{"$f":"'＜入力不要＞報告書'!C351","v":23},null,{"$f":"'＜入力不要＞報告書'!E351","v":"階"},{"$f":"'＜入力不要＞報告書'!F351","v":""},null,null,null,{"$f":"'＜入力不要＞報告書'!J351","v":"㎡"},{"$f":"'＜入力不要＞報告書'!K351","v":""},null,null,null,{"$f":"'＜入力不要＞報告書'!O351","v":"㎡"},{"$f":"'＜入力不要＞報告書'!P351","v":""},null,null,null,{"$f":"'＜入力不要＞報告書'!T351","v":"㎡"},{"$f":"'＜入力不要＞報告書'!U351","v":""},null,null,null,{"$f":"'＜入力不要＞報告書'!Y351","v":"㎡"},{"$f":"'＜入力不要＞報告書'!Z351","v":""},null,null,null,{"$f":"'＜入力不要＞報告書'!AD351","v":"㎡"},{"$f":"'＜入力不要＞報告書'!AE351","v":""},null,null,null,{"$f":"'＜入力不要＞報告書'!AI351","v":"㎡"},{"$f":"'＜入力不要＞報告書'!AJ351","v":""},null,null,null,{"$f":"'＜入力不要＞報告書'!AN351","v":"㎡"},{"$f":"'＜入力不要＞報告書'!AO351","v":""},null,null,null,{"$f":"'＜入力不要＞報告書'!AS351","v":"㎡"}]
[null,null,{"$f":"'＜入力不要＞報告書'!C352","v":24},null,{"$f":"'＜入力不要＞報告書'!E352","v":"階"},{"$f":"'＜入力不要＞報告書'!F352","v":""},null,null,null,{"$f":"'＜入力不要＞報告書'!J352","v":"㎡"},{"$f":"'＜入力不要＞報告書'!K352","v":""},null,null,null,{"$f":"'＜入力不要＞報告書'!O352","v":"㎡"},{"$f":"'＜入力不要＞報告書'!P352","v":""},null,null,null,{"$f":"'＜入力不要＞報告書'!T352","v":"㎡"},{"$f":"'＜入力不要＞報告書'!U352","v":""},null,null,null,{"$f":"'＜入力不要＞報告書'!Y352","v":"㎡"},{"$f":"'＜入力不要＞報告書'!Z352","v":""},null,null,null,{"$f":"'＜入力不要＞報告書'!AD352","v":"㎡"},{"$f":"'＜入力不要＞報告書'!AE352","v":""},null,null,null,{"$f":"'＜入力不要＞報告書'!AI352","v":"㎡"},{"$f":"'＜入力不要＞報告書'!AJ352","v":""},null,null,null,{"$f":"'＜入力不要＞報告書'!AN352","v":"㎡"},{"$f":"'＜入力不要＞報告書'!AO352","v":""},null,null,null,{"$f":"'＜入力不要＞報告書'!AS352","v":"㎡"}]
[null,null,{"$f":"'＜入力不要＞報告書'!C353","v":25},null,{"$f":"'＜入力不要＞報告書'!E353","v":"階"},{"$f":"'＜入力不要＞報告書'!F353","v":""},null,null,null,{"$f":"'＜入力不要＞報告書'!J353","v":"㎡"},{"$f":"'＜入力不要＞報告書'!K353","v":""},null,null,null,{"$f":"'＜入力不要＞報告書'!O353","v":"㎡"},{"$f":"'＜入力不要＞報告書'!P353","v":""},null,null,null,{"$f":"'＜入力不要＞報告書'!T353","v":"㎡"},{"$f":"'＜入力不要＞報告書'!U353","v":""},null,null,null,{"$f":"'＜入力不要＞報告書'!Y353","v":"㎡"},{"$f":"'＜入力不要＞報告書'!Z353","v":""},null,null,null,{"$f":"'＜入力不要＞報告書'!AD353","v":"㎡"},{"$f":"'＜入力不要＞報告書'!AE353","v":""},null,null,null,{"$f":"'＜入力不要＞報告書'!AI353","v":"㎡"},{"$f":"'＜入力不要＞報告書'!AJ353","v":""},null,null,null,{"$f":"'＜入力不要＞報告書'!AN353","v":"㎡"},{"$f":"'＜入力不要＞報告書'!AO353","v":""},null,null,null,{"$f":"'＜入力不要＞報告書'!AS353","v":"㎡"}]
[null,null,{"$f":"'＜入力不要＞報告書'!C354","v":26},null,{"$f":"'＜入力不要＞報告書'!E354","v":"階"},{"$f":"'＜入力不要＞報告書'!F354","v":""},null,null,null,{"$f":"'＜入力不要＞報告書'!J354","v":"㎡"},{"$f":"'＜入力不要＞報告書'!K354","v":""},null,null,null,{"$f":"'＜入力不要＞報告書'!O354","v":"㎡"},{"$f":"'＜入力不要＞報告書'!P354","v":""},null,null,null,{"$f":"'＜入力不要＞報告書'!T354","v":"㎡"},{"$f":"'＜入力不要＞報告書'!U354","v":""},null,null,null,{"$f":"'＜入力不要＞報告書'!Y354","v":"㎡"},{"$f":"'＜入力不要＞報告書'!Z354","v":""},null,null,null,{"$f":"'＜入力不要＞報告書'!AD354","v":"㎡"},{"$f":"'＜入力不要＞報告書'!AE354","v":""},null,null,null,{"$f":"'＜入力不要＞報告書'!AI354","v":"㎡"},{"$f":"'＜入力不要＞報告書'!AJ354","v":""},null,null,null,{"$f":"'＜入力不要＞報告書'!AN354","v":"㎡"},{"$f":"'＜入力不要＞報告書'!AO354","v":""},null,null,null,{"$f":"'＜入力不要＞報告書'!AS354","v":"㎡"}]
[null,null,{"$f":"'＜入力不要＞報告書'!C355","v":27},null,{"$f":"'＜入力不要＞報告書'!E355","v":"階"},{"$f":"'＜入力不要＞報告書'!F355","v":""},null,null,null,{"$f":"'＜入力不要＞報告書'!J355","v":"㎡"},{"$f":"'＜入力不要＞報告書'!K355","v":""},null,null,null,{"$f":"'＜入力不要＞報告書'!O355","v":"㎡"},{"$f":"'＜入力不要＞報告書'!P355","v":""},null,null,null,{"$f":"'＜入力不要＞報告書'!T355","v":"㎡"},{"$f":"'＜入力不要＞報告書'!U355","v":""},null,null,null,{"$f":"'＜入力不要＞報告書'!Y355","v":"㎡"},{"$f":"'＜入力不要＞報告書'!Z355","v":""},null,null,null,{"$f":"'＜入力不要＞報告書'!AD355","v":"㎡"},{"$f":"'＜入力不要＞報告書'!AE355","v":""},null,null,null,{"$f":"'＜入力不要＞報告書'!AI355","v":"㎡"},{"$f":"'＜入力不要＞報告書'!AJ355","v":""},null,null,null,{"$f":"'＜入力不要＞報告書'!AN355","v":"㎡"},{"$f":"'＜入力不要＞報告書'!AO355","v":""},null,null,null,{"$f":"'＜入力不要＞報告書'!AS355","v":"㎡"}]
[null,null,{"$f":"'＜入力不要＞報告書'!C356","v":28},null,{"$f":"'＜入力不要＞報告書'!E356","v":"階"},{"$f":"'＜入力不要＞報告書'!F356","v":""},null,null,null,{"$f":"'＜入力不要＞報告書'!J356","v":"㎡"},{"$f":"'＜入力不要＞報告書'!K356","v":""},null,null,null,{"$f":"'＜入力不要＞報告書'!O356","v":"㎡"},{"$f":"'＜入力不要＞報告書'!P356","v":""},null,null,null,{"$f":"'＜入力不要＞報告書'!T356","v":"㎡"},{"$f":"'＜入力不要＞報告書'!U356","v":""},null,null,null,{"$f":"'＜入力不要＞報告書'!Y356","v":"㎡"},{"$f":"'＜入力不要＞報告書'!Z356","v":""},null,null,null,{"$f":"'＜入力不要＞報告書'!AD356","v":"㎡"},{"$f":"'＜入力不要＞報告書'!AE356","v":""},null,null,null,{"$f":"'＜入力不要＞報告書'!AI356","v":"㎡"},{"$f":"'＜入力不要＞報告書'!AJ356","v":""},null,null,null,{"$f":"'＜入力不要＞報告書'!AN356","v":"㎡"},{"$f":"'＜入力不要＞報告書'!AO356","v":""},null,null,null,{"$f":"'＜入力不要＞報告書'!AS356","v":"㎡"}]
[null,null,{"$f":"'＜入力不要＞報告書'!C357","v":29},null,{"$f":"'＜入力不要＞報告書'!E357","v":"階"},{"$f":"'＜入力不要＞報告書'!F357","v":""},null,null,null,{"$f":"'＜入力不要＞報告書'!J357","v":"㎡"},{"$f":"'＜入力不要＞報告書'!K357","v":""},null,null,null,{"$f":"'＜入力不要＞報告書'!O357","v":"㎡"},{"$f":"'＜入力不要＞報告書'!P357","v":""},null,null,null,{"$f":"'＜入力不要＞報告書'!T357","v":"㎡"},{"$f":"'＜入力不要＞報告書'!U357","v":""},null,null,null,{"$f":"'＜入力不要＞報告書'!Y357","v":"㎡"},{"$f":"'＜入力不要＞報告書'!Z357","v":""},null,null,null,{"$f":"'＜入力不要＞報告書'!AD357","v":"㎡"},{"$f":"'＜入力不要＞報告書'!AE357","v":""},null,null,null,{"$f":"'＜入力不要＞報告書'!AI357","v":"㎡"},{"$f":"'＜入力不要＞報告書'!AJ357","v":""},null,null,null,{"$f":"'＜入力不要＞報告書'!AN357","v":"㎡"},{"$f":"'＜入力不要＞報告書'!AO357","v":""},null,null,null,{"$f":"'＜入力不要＞報告書'!AS357","v":"㎡"}]
[null,null,{"$f":"'＜入力不要＞報告書'!C358","v":30},null,{"$f":"'＜入力不要＞報告書'!E358","v":"階"},{"$f":"'＜入力不要＞報告書'!F358","v":""},null,null,null,{"$f":"'＜入力不要＞報告書'!J358","v":"㎡"},{"$f":"'＜入力不要＞報告書'!K358","v":""},null,null,null,{"$f":"'＜入力不要＞報告書'!O358","v":"㎡"},{"$f":"'＜入力不要＞報告書'!P358","v":""},null,null,null,{"$f":"'＜入力不要＞報告書'!T358","v":"㎡"},{"$f":"'＜入力不要＞報告書'!U358","v":""},null,null,null,{"$f":"'＜入力不要＞報告書'!Y358","v":"㎡"},{"$f":"'＜入力不要＞報告書'!Z358","v":""},null,null,null,{"$f":"'＜入力不要＞報告書'!AD358","v":"㎡"},{"$f":"'＜入力不要＞報告書'!AE358","v":""},null,null,null,{"$f":"'＜入力不要＞報告書'!AI358","v":"㎡"},{"$f":"'＜入力不要＞報告書'!AJ358","v":""},null,null,null,{"$f":"'＜入力不要＞報告書'!AN358","v":"㎡"},{"$f":"'＜入力不要＞報告書'!AO358","v":""},null,null,null,{"$f":"'＜入力不要＞報告書'!AS358","v":"㎡"}]
[null,null,{"$f":"'＜入力不要＞報告書'!C359","v":31},null,{"$f":"'＜入力不要＞報告書'!E359","v":"階"},{"$f":"'＜入力不要＞報告書'!F359","v":""},null,null,null,{"$f":"'＜入力不要＞報告書'!J359","v":"㎡"},{"$f":"'＜入力不要＞報告書'!K359","v":""},null,null,null,{"$f":"'＜入力不要＞報告書'!O359","v":"㎡"},{"$f":"'＜入力不要＞報告書'!P359","v":""},null,null,null,{"$f":"'＜入力不要＞報告書'!T359","v":"㎡"},{"$f":"'＜入力不要＞報告書'!U359","v":""},null,null,null,{"$f":"'＜入力不要＞報告書'!Y359","v":"㎡"},{"$f":"'＜入力不要＞報告書'!Z359","v":""},null,null,null,{"$f":"'＜入力不要＞報告書'!AD359","v":"㎡"},{"$f":"'＜入力不要＞報告書'!AE359","v":""},null,null,null,{"$f":"'＜入力不要＞報告書'!AI359","v":"㎡"},{"$f":"'＜入力不要＞報告書'!AJ359","v":""},null,null,null,{"$f":"'＜入力不要＞報告書'!AN359","v":"㎡"},{"$f":"'＜入力不要＞報告書'!AO359","v":""},null,null,null,{"$f":"'＜入力不要＞報告書'!AS359","v":"㎡"}]
[null,null,{"$f":"'＜入力不要＞報告書'!C360","v":32},null,{"$f":"'＜入力不要＞報告書'!E360","v":"階"},{"$f":"'＜入力不要＞報告書'!F360","v":""},null,null,null,{"$f":"'＜入力不要＞報告書'!J360","v":"㎡"},{"$f":"'＜入力不要＞報告書'!K360","v":""},null,null,null,{"$f":"'＜入力不要＞報告書'!O360","v":"㎡"},{"$f":"'＜入力不要＞報告書'!P360","v":""},null,null,null,{"$f":"'＜入力不要＞報告書'!T360","v":"㎡"},{"$f":"'＜入力不要＞報告書'!U360","v":""},null,null,null,{"$f":"'＜入力不要＞報告書'!Y360","v":"㎡"},{"$f":"'＜入力不要＞報告書'!Z360","v":""},null,null,null,{"$f":"'＜入力不要＞報告書'!AD360","v":"㎡"},{"$f":"'＜入力不要＞報告書'!AE360","v":""},null,null,null,{"$f":"'＜入力不要＞報告書'!AI360","v":"㎡"},{"$f":"'＜入力不要＞報告書'!AJ360","v":""},null,null,null,{"$f":"'＜入力不要＞報告書'!AN360","v":"㎡"},{"$f":"'＜入力不要＞報告書'!AO360","v":""},null,null,null,{"$f":"'＜入力不要＞報告書'!AS360","v":"㎡"}]
[null,null,{"$f":"'＜入力不要＞報告書'!C361","v":33},null,{"$f":"'＜入力不要＞報告書'!E361","v":"階"},{"$f":"'＜入力不要＞報告書'!F361","v":""},null,null,null,{"$f":"'＜入力不要＞報告書'!J361","v":"㎡"},{"$f":"'＜入力不要＞報告書'!K361","v":""},null,null,null,{"$f":"'＜入力不要＞報告書'!O361","v":"㎡"},{"$f":"'＜入力不要＞報告書'!P361","v":""},null,null,null,{"$f":"'＜入力不要＞報告書'!T361","v":"㎡"},{"$f":"'＜入力不要＞報告書'!U361","v":""},null,null,null,{"$f":"'＜入力不要＞報告書'!Y361","v":"㎡"},{"$f":"'＜入力不要＞報告書'!Z361","v":""},null,null,null,{"$f":"'＜入力不要＞報告書'!AD361","v":"㎡"},{"$f":"'＜入力不要＞報告書'!AE361","v":""},null,null,null,{"$f":"'＜入力不要＞報告書'!AI361","v":"㎡"},{"$f":"'＜入力不要＞報告書'!AJ361","v":""},null,null,null,{"$f":"'＜入力不要＞報告書'!AN361","v":"㎡"},{"$f":"'＜入力不要＞報告書'!AO361","v":""},null,null,null,{"$f":"'＜入力不要＞報告書'!AS361","v":"㎡"}]
[null,null,{"$f":"'＜入力不要＞報告書'!C362","v":34},null,{"$f":"'＜入力不要＞報告書'!E362","v":"階"},{"$f":"'＜入力不要＞報告書'!F362","v":""},null,null,null,{"$f":"'＜入力不要＞報告書'!J362","v":"㎡"},{"$f":"'＜入力不要＞報告書'!K362","v":""},null,null,null,{"$f":"'＜入力不要＞報告書'!O362","v":"㎡"},{"$f":"'＜入力不要＞報告書'!P362","v":""},null,null,null,{"$f":"'＜入力不要＞報告書'!T362","v":"㎡"},{"$f":"'＜入力不要＞報告書'!U362","v":""},null,null,null,{"$f":"'＜入力不要＞報告書'!Y362","v":"㎡"},{"$f":"'＜入力不要＞報告書'!Z362","v":""},null,null,null,{"$f":"'＜入力不要＞報告書'!AD362","v":"㎡"},{"$f":"'＜入力不要＞報告書'!AE362","v":""},null,null,null,{"$f":"'＜入力不要＞報告書'!AI362","v":"㎡"},{"$f":"'＜入力不要＞報告書'!AJ362","v":""},null,null,null,{"$f":"'＜入力不要＞報告書'!AN362","v":"㎡"},{"$f":"'＜入力不要＞報告書'!AO362","v":""},null,null,null,{"$f":"'＜入力不要＞報告書'!AS362","v":"㎡"}]
[null,null,{"$f":"'＜入力不要＞報告書'!C363","v":35},null,{"$f":"'＜入力不要＞報告書'!E363","v":"階"},{"$f":"'＜入力不要＞報告書'!F363","v":""},null,null,null,{"$f":"'＜入力不要＞報告書'!J363","v":"㎡"},{"$f":"'＜入力不要＞報告書'!K363","v":""},null,null,null,{"$f":"'＜入力不要＞報告書'!O363","v":"㎡"},{"$f":"'＜入力不要＞報告書'!P363","v":""},null,null,null,{"$f":"'＜入力不要＞報告書'!T363","v":"㎡"},{"$f":"'＜入力不要＞報告書'!U363","v":""},null,null,null,{"$f":"'＜入力不要＞報告書'!Y363","v":"㎡"},{"$f":"'＜入力不要＞報告書'!Z363","v":""},null,null,null,{"$f":"'＜入力不要＞報告書'!AD363","v":"㎡"},{"$f":"'＜入力不要＞報告書'!AE363","v":""},null,null,null,{"$f":"'＜入力不要＞報告書'!AI363","v":"㎡"},{"$f":"'＜入力不要＞報告書'!AJ363","v":""},null,null,null,{"$f":"'＜入力不要＞報告書'!AN363","v":"㎡"},{"$f":"'＜入力不要＞報告書'!AO363","v":""},null,null,null,{"$f":"'＜入力不要＞報告書'!AS363","v":"㎡"}]
[null,null,{"$f":"'＜入力不要＞報告書'!C364","v":36},null,{"$f":"'＜入力不要＞報告書'!E364","v":"階"},{"$f":"'＜入力不要＞報告書'!F364","v":""},null,null,null,{"$f":"'＜入力不要＞報告書'!J364","v":"㎡"},{"$f":"'＜入力不要＞報告書'!K364","v":""},null,null,null,{"$f":"'＜入力不要＞報告書'!O364","v":"㎡"},{"$f":"'＜入力不要＞報告書'!P364","v":""},null,null,null,{"$f":"'＜入力不要＞報告書'!T364","v":"㎡"},{"$f":"'＜入力不要＞報告書'!U364","v":""},null,null,null,{"$f":"'＜入力不要＞報告書'!Y364","v":"㎡"},{"$f":"'＜入力不要＞報告書'!Z364","v":""},null,null,null,{"$f":"'＜入力不要＞報告書'!AD364","v":"㎡"},{"$f":"'＜入力不要＞報告書'!AE364","v":""},null,null,null,{"$f":"'＜入力不要＞報告書'!AI364","v":"㎡"},{"$f":"'＜入力不要＞報告書'!AJ364","v":""},null,null,null,{"$f":"'＜入力不要＞報告書'!AN364","v":"㎡"},{"$f":"'＜入力不要＞報告書'!AO364","v":""},null,null,null,{"$f":"'＜入力不要＞報告書'!AS364","v":"㎡"}]
[null,null,{"$f":"'＜入力不要＞報告書'!C365","v":37},null,{"$f":"'＜入力不要＞報告書'!E365","v":"階"},{"$f":"'＜入力不要＞報告書'!F365","v":""},null,null,null,{"$f":"'＜入力不要＞報告書'!J365","v":"㎡"},{"$f":"'＜入力不要＞報告書'!K365","v":""},null,null,null,{"$f":"'＜入力不要＞報告書'!O365","v":"㎡"},{"$f":"'＜入力不要＞報告書'!P365","v":""},null,null,null,{"$f":"'＜入力不要＞報告書'!T365","v":"㎡"},{"$f":"'＜入力不要＞報告書'!U365","v":""},null,null,null,{"$f":"'＜入力不要＞報告書'!Y365","v":"㎡"},{"$f":"'＜入力不要＞報告書'!Z365","v":""},null,null,null,{"$f":"'＜入力不要＞報告書'!AD365","v":"㎡"},{"$f":"'＜入力不要＞報告書'!AE365","v":""},null,null,null,{"$f":"'＜入力不要＞報告書'!AI365","v":"㎡"},{"$f":"'＜入力不要＞報告書'!AJ365","v":""},null,null,null,{"$f":"'＜入力不要＞報告書'!AN365","v":"㎡"},{"$f":"'＜入力不要＞報告書'!AO365","v":""},null,null,null,{"$f":"'＜入力不要＞報告書'!AS365","v":"㎡"}]
[null,null,{"$f":"'＜入力不要＞報告書'!C366","v":38},null,{"$f":"'＜入力不要＞報告書'!E366","v":"階"},{"$f":"'＜入力不要＞報告書'!F366","v":""},null,null,null,{"$f":"'＜入力不要＞報告書'!J366","v":"㎡"},{"$f":"'＜入力不要＞報告書'!K366","v":""},null,null,null,{"$f":"'＜入力不要＞報告書'!O366","v":"㎡"},{"$f":"'＜入力不要＞報告書'!P366","v":""},null,null,null,{"$f":"'＜入力不要＞報告書'!T366","v":"㎡"},{"$f":"'＜入力不要＞報告書'!U366","v":""},null,null,null,{"$f":"'＜入力不要＞報告書'!Y366","v":"㎡"},{"$f":"'＜入力不要＞報告書'!Z366","v":""},null,null,null,{"$f":"'＜入力不要＞報告書'!AD366","v":"㎡"},{"$f":"'＜入力不要＞報告書'!AE366","v":""},null,null,null,{"$f":"'＜入力不要＞報告書'!AI366","v":"㎡"},{"$f":"'＜入力不要＞報告書'!AJ366","v":""},null,null,null,{"$f":"'＜入力不要＞報告書'!AN366","v":"㎡"},{"$f":"'＜入力不要＞報告書'!AO366","v":""},null,null,null,{"$f":"'＜入力不要＞報告書'!AS366","v":"㎡"}]
[null,null,{"$f":"'＜入力不要＞報告書'!C367","v":39},null,{"$f":"'＜入力不要＞報告書'!E367","v":"階"},{"$f":"'＜入力不要＞報告書'!F367","v":""},null,null,null,{"$f":"'＜入力不要＞報告書'!J367","v":"㎡"},{"$f":"'＜入力不要＞報告書'!K367","v":""},null,null,null,{"$f":"'＜入力不要＞報告書'!O367","v":"㎡"},{"$f":"'＜入力不要＞報告書'!P367","v":""},null,null,null,{"$f":"'＜入力不要＞報告書'!T367","v":"㎡"},{"$f":"'＜入力不要＞報告書'!U367","v":""},null,null,null,{"$f":"'＜入力不要＞報告書'!Y367","v":"㎡"},{"$f":"'＜入力不要＞報告書'!Z367","v":""},null,null,null,{"$f":"'＜入力不要＞報告書'!AD367","v":"㎡"},{"$f":"'＜入力不要＞報告書'!AE367","v":""},null,null,null,{"$f":"'＜入力不要＞報告書'!AI367","v":"㎡"},{"$f":"'＜入力不要＞報告書'!AJ367","v":""},null,null,null,{"$f":"'＜入力不要＞報告書'!AN367","v":"㎡"},{"$f":"'＜入力不要＞報告書'!AO367","v":""},null,null,null,{"$f":"'＜入力不要＞報告書'!AS367","v":"㎡"}]
[null,null,{"$f":"'＜入力不要＞報告書'!C368","v":40},null,{"$f":"'＜入力不要＞報告書'!E368","v":"階"},{"$f":"'＜入力不要＞報告書'!F368","v":""},null,null,null,{"$f":"'＜入力不要＞報告書'!J368","v":"㎡"},{"$f":"'＜入力不要＞報告書'!K368","v":""},null,null,null,{"$f":"'＜入力不要＞報告書'!O368","v":"㎡"},{"$f":"'＜入力不要＞報告書'!P368","v":""},null,null,null,{"$f":"'＜入力不要＞報告書'!T368","v":"㎡"},{"$f":"'＜入力不要＞報告書'!U368","v":""},null,null,null,{"$f":"'＜入力不要＞報告書'!Y368","v":"㎡"},{"$f":"'＜入力不要＞報告書'!Z368","v":""},null,null,null,{"$f":"'＜入力不要＞報告書'!AD368","v":"㎡"},{"$f":"'＜入力不要＞報告書'!AE368","v":""},null,null,null,{"$f":"'＜入力不要＞報告書'!AI368","v":"㎡"},{"$f":"'＜入力不要＞報告書'!AJ368","v":""},null,null,null,{"$f":"'＜入力不要＞報告書'!AN368","v":"㎡"},{"$f":"'＜入力不要＞報告書'!AO368","v":""},null,null,null,{"$f":"'＜入力不要＞報告書'!AS368","v":"㎡"}]
[null,null,{"$f":"'＜入力不要＞報告書'!C369","v":41},null,{"$f":"'＜入力不要＞報告書'!E369","v":"階"},{"$f":"'＜入力不要＞報告書'!F369","v":""},null,null,null,{"$f":"'＜入力不要＞報告書'!J369","v":"㎡"},{"$f":"'＜入力不要＞報告書'!K369","v":""},null,null,null,{"$f":"'＜入力不要＞報告書'!O369","v":"㎡"},{"$f":"'＜入力不要＞報告書'!P369","v":""},null,null,null,{"$f":"'＜入力不要＞報告書'!T369","v":"㎡"},{"$f":"'＜入力不要＞報告書'!U369","v":""},null,null,null,{"$f":"'＜入力不要＞報告書'!Y369","v":"㎡"},{"$f":"'＜入力不要＞報告書'!Z369","v":""},null,null,null,{"$f":"'＜入力不要＞報告書'!AD369","v":"㎡"},{"$f":"'＜入力不要＞報告書'!AE369","v":""},null,null,null,{"$f":"'＜入力不要＞報告書'!AI369","v":"㎡"},{"$f":"'＜入力不要＞報告書'!AJ369","v":""},null,null,null,{"$f":"'＜入力不要＞報告書'!AN369","v":"㎡"},{"$f":"'＜入力不要＞報告書'!AO369","v":""},null,null,null,{"$f":"'＜入力不要＞報告書'!AS369","v":"㎡"}]
[null,null,{"$f":"'＜入力不要＞報告書'!C370","v":42},null,{"$f":"'＜入力不要＞報告書'!E370","v":"階"},{"$f":"'＜入力不要＞報告書'!F370","v":""},null,null,null,{"$f":"'＜入力不要＞報告書'!J370","v":"㎡"},{"$f":"'＜入力不要＞報告書'!K370","v":""},null,null,null,{"$f":"'＜入力不要＞報告書'!O370","v":"㎡"},{"$f":"'＜入力不要＞報告書'!P370","v":""},null,null,null,{"$f":"'＜入力不要＞報告書'!T370","v":"㎡"},{"$f":"'＜入力不要＞報告書'!U370","v":""},null,null,null,{"$f":"'＜入力不要＞報告書'!Y370","v":"㎡"},{"$f":"'＜入力不要＞報告書'!Z370","v":""},null,null,null,{"$f":"'＜入力不要＞報告書'!AD370","v":"㎡"},{"$f":"'＜入力不要＞報告書'!AE370","v":""},null,null,null,{"$f":"'＜入力不要＞報告書'!AI370","v":"㎡"},{"$f":"'＜入力不要＞報告書'!AJ370","v":""},null,null,null,{"$f":"'＜入力不要＞報告書'!AN370","v":"㎡"},{"$f":"'＜入力不要＞報告書'!AO370","v":""},null,null,null,{"$f":"'＜入力不要＞報告書'!AS370","v":"㎡"}]
[null,null,{"$f":"'＜入力不要＞報告書'!C371","v":43},null,{"$f":"'＜入力不要＞報告書'!E371","v":"階"},{"$f":"'＜入力不要＞報告書'!F371","v":""},null,null,null,{"$f":"'＜入力不要＞報告書'!J371","v":"㎡"},{"$f":"'＜入力不要＞報告書'!K371","v":""},null,null,null,{"$f":"'＜入力不要＞報告書'!O371","v":"㎡"},{"$f":"'＜入力不要＞報告書'!P371","v":""},null,null,null,{"$f":"'＜入力不要＞報告書'!T371","v":"㎡"},{"$f":"'＜入力不要＞報告書'!U371","v":""},null,null,null,{"$f":"'＜入力不要＞報告書'!Y371","v":"㎡"},{"$f":"'＜入力不要＞報告書'!Z371","v":""},null,null,null,{"$f":"'＜入力不要＞報告書'!AD371","v":"㎡"},{"$f":"'＜入力不要＞報告書'!AE371","v":""},null,null,null,{"$f":"'＜入力不要＞報告書'!AI371","v":"㎡"},{"$f":"'＜入力不要＞報告書'!AJ371","v":""},null,null,null,{"$f":"'＜入力不要＞報告書'!AN371","v":"㎡"},{"$f":"'＜入力不要＞報告書'!AO371","v":""},null,null,null,{"$f":"'＜入力不要＞報告書'!AS371","v":"㎡"}]
[null,null,{"$f":"'＜入力不要＞報告書'!C372","v":44},null,{"$f":"'＜入力不要＞報告書'!E372","v":"階"},{"$f":"'＜入力不要＞報告書'!F372","v":""},null,null,null,{"$f":"'＜入力不要＞報告書'!J372","v":"㎡"},{"$f":"'＜入力不要＞報告書'!K372","v":""},null,null,null,{"$f":"'＜入力不要＞報告書'!O372","v":"㎡"},{"$f":"'＜入力不要＞報告書'!P372","v":""},null,null,null,{"$f":"'＜入力不要＞報告書'!T372","v":"㎡"},{"$f":"'＜入力不要＞報告書'!U372","v":""},null,null,null,{"$f":"'＜入力不要＞報告書'!Y372","v":"㎡"},{"$f":"'＜入力不要＞報告書'!Z372","v":""},null,null,null,{"$f":"'＜入力不要＞報告書'!AD372","v":"㎡"},{"$f":"'＜入力不要＞報告書'!AE372","v":""},null,null,null,{"$f":"'＜入力不要＞報告書'!AI372","v":"㎡"},{"$f":"'＜入力不要＞報告書'!AJ372","v":""},null,null,null,{"$f":"'＜入力不要＞報告書'!AN372","v":"㎡"},{"$f":"'＜入力不要＞報告書'!AO372","v":""},null,null,null,{"$f":"'＜入力不要＞報告書'!AS372","v":"㎡"}]
[null,null,{"$f":"'＜入力不要＞報告書'!C373","v":45},null,{"$f":"'＜入力不要＞報告書'!E373","v":"階"},{"$f":"'＜入力不要＞報告書'!F373","v":""},null,null,null,{"$f":"'＜入力不要＞報告書'!J373","v":"㎡"},{"$f":"'＜入力不要＞報告書'!K373","v":""},null,null,null,{"$f":"'＜入力不要＞報告書'!O373","v":"㎡"},{"$f":"'＜入力不要＞報告書'!P373","v":""},null,null,null,{"$f":"'＜入力不要＞報告書'!T373","v":"㎡"},{"$f":"'＜入力不要＞報告書'!U373","v":""},null,null,null,{"$f":"'＜入力不要＞報告書'!Y373","v":"㎡"},{"$f":"'＜入力不要＞報告書'!Z373","v":""},null,null,null,{"$f":"'＜入力不要＞報告書'!AD373","v":"㎡"},{"$f":"'＜入力不要＞報告書'!AE373","v":""},null,null,null,{"$f":"'＜入力不要＞報告書'!AI373","v":"㎡"},{"$f":"'＜入力不要＞報告書'!AJ373","v":""},null,null,null,{"$f":"'＜入力不要＞報告書'!AN373","v":"㎡"},{"$f":"'＜入力不要＞報告書'!AO373","v":""},null,null,null,{"$f":"'＜入力不要＞報告書'!AS373","v":"㎡"}]
[null,null,{"$f":"'＜入力不要＞報告書'!C374","v":46},null,{"$f":"'＜入力不要＞報告書'!E374","v":"階"},{"$f":"'＜入力不要＞報告書'!F374","v":""},null,null,null,{"$f":"'＜入力不要＞報告書'!J374","v":"㎡"},{"$f":"'＜入力不要＞報告書'!K374","v":""},null,null,null,{"$f":"'＜入力不要＞報告書'!O374","v":"㎡"},{"$f":"'＜入力不要＞報告書'!P374","v":""},null,null,null,{"$f":"'＜入力不要＞報告書'!T374","v":"㎡"},{"$f":"'＜入力不要＞報告書'!U374","v":""},null,null,null,{"$f":"'＜入力不要＞報告書'!Y374","v":"㎡"},{"$f":"'＜入力不要＞報告書'!Z374","v":""},null,null,null,{"$f":"'＜入力不要＞報告書'!AD374","v":"㎡"},{"$f":"'＜入力不要＞報告書'!AE374","v":""},null,null,null,{"$f":"'＜入力不要＞報告書'!AI374","v":"㎡"},{"$f":"'＜入力不要＞報告書'!AJ374","v":""},null,null,null,{"$f":"'＜入力不要＞報告書'!AN374","v":"㎡"},{"$f":"'＜入力不要＞報告書'!AO374","v":""},null,null,null,{"$f":"'＜入力不要＞報告書'!AS374","v":"㎡"}]
[null,null,{"$f":"'＜入力不要＞報告書'!C375","v":47},null,{"$f":"'＜入力不要＞報告書'!E375","v":"階"},{"$f":"'＜入力不要＞報告書'!F375","v":""},null,null,null,{"$f":"'＜入力不要＞報告書'!J375","v":"㎡"},{"$f":"'＜入力不要＞報告書'!K375","v":""},null,null,null,{"$f":"'＜入力不要＞報告書'!O375","v":"㎡"},{"$f":"'＜入力不要＞報告書'!P375","v":""},null,null,null,{"$f":"'＜入力不要＞報告書'!T375","v":"㎡"},{"$f":"'＜入力不要＞報告書'!U375","v":""},null,null,null,{"$f":"'＜入力不要＞報告書'!Y375","v":"㎡"},{"$f":"'＜入力不要＞報告書'!Z375","v":""},null,null,null,{"$f":"'＜入力不要＞報告書'!AD375","v":"㎡"},{"$f":"'＜入力不要＞報告書'!AE375","v":""},null,null,null,{"$f":"'＜入力不要＞報告書'!AI375","v":"㎡"},{"$f":"'＜入力不要＞報告書'!AJ375","v":""},null,null,null,{"$f":"'＜入力不要＞報告書'!AN375","v":"㎡"},{"$f":"'＜入力不要＞報告書'!AO375","v":""},null,null,null,{"$f":"'＜入力不要＞報告書'!AS375","v":"㎡"}]
[null,null,{"$f":"'＜入力不要＞報告書'!C376","v":48},null,{"$f":"'＜入力不要＞報告書'!E376","v":"階"},{"$f":"'＜入力不要＞報告書'!F376","v":""},null,null,null,{"$f":"'＜入力不要＞報告書'!J376","v":"㎡"},{"$f":"'＜入力不要＞報告書'!K376","v":""},null,null,null,{"$f":"'＜入力不要＞報告書'!O376","v":"㎡"},{"$f":"'＜入力不要＞報告書'!P376","v":""},null,null,null,{"$f":"'＜入力不要＞報告書'!T376","v":"㎡"},{"$f":"'＜入力不要＞報告書'!U376","v":""},null,null,null,{"$f":"'＜入力不要＞報告書'!Y376","v":"㎡"},{"$f":"'＜入力不要＞報告書'!Z376","v":""},null,null,null,{"$f":"'＜入力不要＞報告書'!AD376","v":"㎡"},{"$f":"'＜入力不要＞報告書'!AE376","v":""},null,null,null,{"$f":"'＜入力不要＞報告書'!AI376","v":"㎡"},{"$f":"'＜入力不要＞報告書'!AJ376","v":""},null,null,null,{"$f":"'＜入力不要＞報告書'!AN376","v":"㎡"},{"$f":"'＜入力不要＞報告書'!AO376","v":""},null,null,null,{"$f":"'＜入力不要＞報告書'!AS376","v":"㎡"}]
[null,null,{"$f":"'＜入力不要＞報告書'!C377","v":49},null,{"$f":"'＜入力不要＞報告書'!E377","v":"階"},{"$f":"'＜入力不要＞報告書'!F377","v":""},null,null,null,{"$f":"'＜入力不要＞報告書'!J377","v":"㎡"},{"$f":"'＜入力不要＞報告書'!K377","v":""},null,null,null,{"$f":"'＜入力不要＞報告書'!O377","v":"㎡"},{"$f":"'＜入力不要＞報告書'!P377","v":""},null,null,null,{"$f":"'＜入力不要＞報告書'!T377","v":"㎡"},{"$f":"'＜入力不要＞報告書'!U377","v":""},null,null,null,{"$f":"'＜入力不要＞報告書'!Y377","v":"㎡"},{"$f":"'＜入力不要＞報告書'!Z377","v":""},null,null,null,{"$f":"'＜入力不要＞報告書'!AD377","v":"㎡"},{"$f":"'＜入力不要＞報告書'!AE377","v":""},null,null,null,{"$f":"'＜入力不要＞報告書'!AI377","v":"㎡"},{"$f":"'＜入力不要＞報告書'!AJ377","v":""},null,null,null,{"$f":"'＜入力不要＞報告書'!AN377","v":"㎡"},{"$f":"'＜入力不要＞報告書'!AO377","v":""},null,null,null,{"$f":"'＜入力不要＞報告書'!AS377","v":"㎡"}]
[null,null,{"$f":"'＜入力不要＞報告書'!C378","v":50},null,{"$f":"'＜入力不要＞報告書'!E378","v":"階"},{"$f":"'＜入力不要＞報告書'!F378","v":""},null,null,null,{"$f":"'＜入力不要＞報告書'!J378","v":"㎡"},{"$f":"'＜入力不要＞報告書'!K378","v":""},null,null,null,{"$f":"'＜入力不要＞報告書'!O378","v":"㎡"},{"$f":"'＜入力不要＞報告書'!P378","v":""},null,null,null,{"$f":"'＜入力不要＞報告書'!T378","v":"㎡"},{"$f":"'＜入力不要＞報告書'!U378","v":""},null,null,null,{"$f":"'＜入力不要＞報告書'!Y378","v":"㎡"},{"$f":"'＜入力不要＞報告書'!Z378","v":""},null,null,null,{"$f":"'＜入力不要＞報告書'!AD378","v":"㎡"},{"$f":"'＜入力不要＞報告書'!AE378","v":""},null,null,null,{"$f":"'＜入力不要＞報告書'!AI378","v":"㎡"},{"$f":"'＜入力不要＞報告書'!AJ378","v":""},null,null,null,{"$f":"'＜入力不要＞報告書'!AN378","v":"㎡"},{"$f":"'＜入力不要＞報告書'!AO378","v":""},null,null,null,{"$f":"'＜入力不要＞報告書'!AS378","v":"㎡"}]

{"sheet":"＜入力不要＞調査結果表","index":6,"n_rows":257,"n_cols":42,"rows_kept":257,"cut":false,"hidden":false,"merged":[[232,1,232,3],[232,4,232,13],[232,14,232,29],[232,30,232,40],[231,1,231,3],[231,4,231,13],[231,14,231,29],[231,30,231,40],[225,1,225,3],[225,4,225,13],[225,14,225,29],[225,30,225,40],[224,1,224,3],[224,4,224,13],[224,14,224,29],[224,30,224,40],[220,1,220,3],[220,4,220,13],[220,14,220,29],[220,30,220,40],[228,4,228,13],[228,14,228,29],[228,30,228,40],[227,14,227,29],[227,30,227,40],[216,1,216,3],[216,4,216,13],[216,14,216,29],[216,30,216,40],[217,1,217,3],[217,4,217,13],[217,14,217,29],[217,30,217,40],[226,30,226,40],[213,1,213,3],[213,4,213,13],[213,14,213,29],[213,30,213,40],[214,1,214,3],[214,4,214,13],[214,14,214,29],[214,30,214,40],[226,1,226,3],[226,4,226,13],[226,14,226,29],[210,1,210,3],[210,4,210,13],[210,14,210,29],[210,30,210,40],[239,30,239,40],[238,1,238,3],[238,4,238,13],[238,14,238,29],[238,30,238,40],[237,1,237,3],[237,4,237,13],[237,14,237,29],[237,30,237,40],[236,1,236,3],[236,4,236,13],[236,14,236,29],[236,30,236,40],[235,1,235,3],[235,4,235,13],[235,14,235,29],[212,1,212,3],[212,4,212,13],[212,14,212,29],[212,30,212,40],[211,1,211,3],[211,4,211,13],[211,14,211,29],[211,30,211,40],[215,1,215,3],[215,4,215,13],[215,14,215,29],[215,30,215,40],[205,1,205,3],[205,4,205,13],[205,14,205,29],[205,30,205,40],[206,1,206,3],[206,4,206,13],[206,14,206,29],[206,30,206,40],[207,1,207,3],[207,4,207,13],[207,14,207,29],[207,30,207,40],[208,1,208,3],[208,4,208,13],[208,14,208,29],[208,30,208,40],[209,1,209,3],[209,4,209,13],[209,14,209,29],[209,30,209,40],[200,1,200,3],[200,4,200,13],[200,14,200,29],[200,30,200,40],[201,1,201,3],[201,4,201,13],[201,14,201,29],[201,30,201,40],[202,1,202,3],[202,4,202,13],[202,14,202,29],[202,30,202,40],[203,1,203,3],[203,4,203,13],[203,14,203,29],[203,30,203,40],[204,1,204,3],[204,4,204,13],[204,14,204,29],[204,30,204,40],[191,4,191,13],[196,1,196,3],[196,4,196,13],[196,14,196,29],[196,30,196,40],[197,1,197,3],[197,4,197,13],[197,14,197,29],[197,30,197,40],[198,1,198,3],[198,4,198,13],[198,14,198,29],[198,30,198,40],[199,1,199,3],[199,4,199,13],[199,14,199,29],[199,30,199,40],[158,1,158,3],[159,1,159,3],[153,1,153,3],[154,1,154,3],[155,1,155,3],[156,1,156,3],[157,1,157,3],[170,14,170,29],[165,1,165,3],[169,14,169,29],[169,30,169,40],[179,14,179,29],[179,30,179,40],[180,14,180,29],[191,14,191,29],[191,30,191,40],[192,1,192,3],[192,4,192,13],[192,14,192,29],[192,30,192,40],[185,14,185,29],[171,4,171,13],[172,4,172,13],[174,30,174,40],[185,30,185,40],[186,1,186,3],[186,4,186,13],[186,14,186,29],[186,30,186,40],[187,1,187,3],[187,4,187,13],[187,14,187,29],[173,4,173,13],[171,14,171,29],[171,30,171,40],[172,14,172,29],[172,30,172,40],[170,1,170,3],[170,4,170,13],[168,4,168,13],[176,30,176,40],[177,14,177,29],[177,30,177,40],[178,14,178,29],[178,30,178,40],[180,30,180,40],[168,14,168,29],[168,30,168,40],[175,1,175,3],[176,1,176,3],[177,1,177,3],[178,1,178,3],[179,1,179,3],[180,1,180,3],[167,30,167,40],[153,8,153,36],[154,8,154,36],[162,6,162,18],[164,2,164,41],[160,2,160,41],[240,30,240,40],[240,14,240,29],[182,30,182,40],[182,14,182,29],[175,14,175,29],[175,30,175,40],[176,14,176,29],[169,4,169,13],[183,1,183,3],[183,4,183,13],[183,14,183,29],[183,30,183,40],[184,1,184,3],[184,4,184,13],[184,14,184,29],[184,30,184,40],[189,1,189,3],[189,4,189,13],[170,30,170,40],[174,14,174,29],[223,1,223,3],[223,4,223,13],[223,14,223,29],[223,30,223,40],[218,1,218,3],[218,4,218,13],[95,20,95,36],[96,20,96,36],[116,20,116,36],[119,20,119,36],[151,1,151,3],[152,1,152,3],[159,8,159,36],[150,1,150,3],[30,20,30,36],[166,4,166,13],[167,4,167,13],[163,1,163,41],[165,14,165,29],[135,1,135,3],[136,1,136,3],[137,1,137,3],[138,1,138,3],[143,20,143,36],[128,20,128,36],[129,20,129,36],[150,4,159,7],[155,8,155,36],[156,8,156,36],[139,1,139,3],[128,1,128,3],[165,30,165,40],[157,8,157,36],[158,8,158,36],[131,20,131,36],[166,14,166,29],[166,30,166,40],[167,14,167,29],[67,20,67,36],[60,20,60,36],[61,20,61,36],[62,20,62,36],[63,20,63,36],[64,20,64,36],[46,4,47,19],[4,6,4,13],[8,4,10,36],[0,1,0,5],[165,4,165,13],[147,6,148,19],[149,4,149,41],[147,20,147,36],[148,20,148,36],[140,6,141,19],[142,6,143,19],[144,4,144,19],[145,6,146,19],[130,6,135,19],[136,6,138,19],[125,6,127,19],[128,6,129,19],[117,6,121,19],[122,6,124,19],[114,6,114,19],[115,6,116,19],[100,4,101,19],[102,4,103,19],[92,20,92,36],[93,20,93,36],[94,20,94,36],[36,20,36,36],[29,20,29,36],[85,20,85,36],[75,20,75,36],[56,20,56,36],[57,20,57,36],[86,20,86,36],[87,20,87,36],[88,20,88,36],[3,6,3,13],[76,20,76,36],[77,20,77,36],[78,20,78,36],[79,20,79,36],[80,20,80,36],[81,20,81,36],[83,20,83,36],[69,20,69,36],[70,20,70,36],[70,6,72,19],[73,6,74,19],[65,6,65,19],[66,6,66,19],[67,6,69,19],[52,6,52,36],[53,6,53,36],[58,20,58,36],[59,20,59,36],[73,20,73,36],[74,20,74,36],[65,20,65,36],[66,20,66,36],[5,6,6,13],[6,40,6,41],[8,37,9,37],[8,38,8,40],[8,41,10,41],[22,20,22,36],[23,20,23,36],[24,20,24,36],[3,1,6,5],[25,20,25,36],[26,20,26,36],[27,20,27,36],[28,20,28,36],[17,4,18,19],[84,20,84,36],[91,20,91,36],[82,20,82,36],[14,4,16,19],[13,4,13,19],[12,4,12,19],[19,4,20,19],[11,4,11,41],[76,4,83,19],[56,6,60,19],[61,6,64,19],[45,20,45,36],[46,20,46,36],[47,20,47,36],[48,20,48,36],[49,20,49,36],[51,6,51,36],[31,20,31,36],[1,1,1,41],[145,4,148,5],[140,4,143,5],[128,4,138,5],[122,4,127,5],[109,4,121,5],[26,4,39,5],[51,4,55,5],[56,4,66,5],[32,1,32,3],[33,1,33,3],[34,1,34,3],[35,1,35,3],[36,1,36,3],[37,1,37,3],[38,1,38,3],[39,1,39,3],[40,1,40,3],[56,1,56,3],[134,1,134,3],[3,14,3,39],[4,14,4,39],[6,14,6,39],[38,6,39,19],[40,4,40,41],[41,4,41,19],[42,4,45,19],[37,20,37,36],[38,20,38,36],[48,4,49,19],[39,20,39,36],[41,20,41,36],[152,16301,152,16302],[152,16303,152,16304],[152,16305,152,16306],[152,16307,152,16308],[152,16309,152,16310],[152,16311,152,16312],[152,16265,152,16266],[152,16267,152,16268],[152,16269,152,16270],[53,1,53,3],[54,1,54,3],[28,1,28,3],[29,1,29,3],[30,1,30,3],[31,1,31,3],[41,1,41,3],[42,1,42,3],[43,1,43,3],[44,1,44,3],[42,20,42,36],[43,20,43,36],[44,20,44,36],[26,6,31,19],[32,6,35,19],[36,6,37,19],[54,6,55,19],[54,20,54,36],[55,20,55,36],[32,20,32,36],[33,20,33,36],[34,20,34,36],[35,20,35,36],[152,16331,152,16332],[152,16333,152,16334],[152,16335,152,16336],[152,16365,152,16366],[152,16367,152,16368],[152,16369,152,16370],[152,16355,152,16356],[152,16357,152,16358],[152,16359,152,16360],[152,16361,152,16362],[152,16363,152,16364],[5,14,5,39],[92,1,92,3],[93,1,93,3],[94,1,94,3],[95,1,95,3],[71,20,71,36],[72,20,72,36],[97,1,97,3],[86,4,87,19],[88,4,93,19],[152,16315,152,16316],[152,16317,152,16318],[152,16229,152,16230],[152,16231,152,16232],[152,16233,152,16234],[152,16235,152,16236],[152,16237,152,16238],[152,16239,152,16240],[152,16241,152,16242],[152,16243,152,16244],[152,16245,152,16246],[152,16313,152,16314],[152,16283,152,16284],[152,16285,152,16286],[152,16287,152,16288],[152,16289,152,16290],[152,16291,152,16292],[152,16293,152,16294],[152,16295,152,16296],[152,16297,152,16298],[152,16299,152,16300],[152,16255,152,16256],[152,16257,152,16258],[152,16259,152,16260],[152,16261,152,16262],[152,16263,152,16264],[152,16281,152,16282],[152,16371,152,16372],[152,16337,152,16338],[152,16339,152,16340],[152,16341,152,16342],[152,16343,152,16344],[152,16345,152,16346],[152,16347,152,16348],[152,16349,152,16350],[152,16351,152,16352],[152,16353,152,16354],[152,16319,152,16320],[152,16321,152,16322],[152,16323,152,16324],[152,16325,152,16326],[152,16327,152,16328],[152,16329,152,16330],[152,16167,152,16168],[152,16169,152,16170],[152,16171,152,16172],[152,16173,152,16174],[152,16215,152,16216],[152,16217,152,16218],[152,16219,152,16220],[152,16221,152,16222],[152,16223,152,16224],[152,16225,152,16226],[152,16227,152,16228],[152,16193,152,16194],[152,16195,152,16196],[152,16197,152,16198],[152,16199,152,16200],[152,16201,152,16202],[152,16203,152,16204],[152,16205,152,16206],[152,16207,152,16208],[152,16209,152,16210],[152,16211,152,16212],[152,16213,152,16214],[152,16271,152,16272],[152,16273,152,16274],[152,16275,152,16276],[152,16277,152,16278],[152,16279,152,16280],[152,16247,152,16248],[152,16249,152,16250],[152,16251,152,16252],[152,16253,152,16254],[152,16139,152,16140],[152,16141,152,16142],[152,16143,152,16144],[152,16145,152,16146],[152,16147,152,16148],[152,16149,152,16150],[152,16151,152,16152],[152,16153,152,16154],[152,16155,152,16156],[152,16175,152,16176],[152,16177,152,16178],[152,16179,152,16180],[152,16181,152,16182],[152,16183,152,16184],[152,16185,152,16186],[152,16187,152,16188],[152,16189,152,16190],[152,16191,152,16192],[152,16157,152,16158],[152,16159,152,16160],[152,16161,152,16162],[152,16163,152,16164],[152,16165,152,16166],[152,16121,152,16122],[152,16123,152,16124],[152,16125,152,16126],[152,16127,152,16128],[152,16129,152,16130],[152,16131,152,16132],[152,16133,152,16134],[152,16135,152,16136],[152,16137,152,16138],[152,16103,152,16104],[152,16105,152,16106],[152,16107,152,16108],[152,16109,152,16110],[152,16111,152,16112],[152,16113,152,16114],[152,16115,152,16116],[152,16117,152,16118],[152,16119,152,16120],[152,16085,152,16086],[152,16087,152,16088],[152,16089,152,16090],[152,16091,152,16092],[152,16093,152,16094],[152,16095,152,16096],[152,16097,152,16098],[152,16099,152,16100],[152,16101,152,16102],[152,16067,152,16068],[152,16069,152,16070],[152,16071,152,16072],[152,16073,152,16074],[152,16075,152,16076],[152,16077,152,16078],[152,16079,152,16080],[152,16081,152,16082],[152,16083,152,16084],[152,16049,152,16050],[152,16051,152,16052],[152,16053,152,16054],[152,16055,152,16056],[152,16057,152,16058],[152,16059,152,16060],[152,16061,152,16062],[152,16063,152,16064],[152,16065,152,16066],[152,16031,152,16032],[152,16033,152,16034],[152,16035,152,16036],[152,16037,152,16038],[152,16039,152,16040],[152,16041,152,16042],[152,16043,152,16044],[152,16045,152,16046],[152,16047,152,16048],[152,16013,152,16014],[152,16015,152,16016],[152,16017,152,16018],[152,16019,152,16020],[152,16021,152,16022],[152,16023,152,16024],[152,16025,152,16026],[152,16027,152,16028],[152,16029,152,16030],[152,15995,152,15996],[152,15997,152,15998],[152,15999,152,16000],[152,16001,152,16002],[152,16003,152,16004],[152,16005,152,16006],[152,16007,152,16008],[152,16009,152,16010],[152,16011,152,16012],[152,15977,152,15978],[152,15979,152,15980],[152,15981,152,15982],[152,15983,152,15984],[152,15985,152,15986],[152,15987,152,15988],[152,15989,152,15990],[152,15991,152,15992],[152,15993,152,15994],[152,15959,152,15960],[152,15961,152,15962],[152,15963,152,15964],[152,15965,152,15966],[152,15967,152,15968],[152,15969,152,15970],[152,15971,152,15972],[152,15973,152,15974],[152,15975,152,15976],[152,15941,152,15942],[152,15943,152,15944],[152,15945,152,15946],[152,15947,152,15948],[152,15949,152,15950],[152,15951,152,15952],[152,15953,152,15954],[152,15955,152,15956],[152,15957,152,15958],[152,15923,152,15924],[152,15925,152,15926],[152,15927,152,15928],[152,15929,152,15930],[152,15931,152,15932],[152,15933,152,15934],[152,15935,152,15936],[152,15937,152,15938],[152,15939,152,15940],[152,15905,152,15906],[152,15907,152,15908],[152,15909,152,15910],[152,15911,152,15912],[152,15913,152,15914],[152,15915,152,15916],[152,15917,152,15918],[152,15919,152,15920],[152,15921,152,15922],[152,15887,152,15888],[152,15889,152,15890],[152,15891,152,15892],[152,15893,152,15894],[152,15895,152,15896],[152,15897,152,15898],[152,15899,152,15900],[152,15901,152,15902],[152,15903,152,15904],[152,15869,152,15870],[152,15871,152,15872],[152,15873,152,15874],[152,15875,152,15876],[152,15877,152,15878],[152,15879,152,15880],[152,15881,152,15882],[152,15883,152,15884],[152,15885,152,15886],[152,15851,152,15852],[152,15853,152,15854],[152,15855,152,15856],[152,15857,152,15858],[152,15859,152,15860],[152,15861,152,15862],[152,15863,152,15864],[152,15865,152,15866],[152,15867,152,15868],[152,15833,152,15834],[152,15835,152,15836],[152,15837,152,15838],[152,15839,152,15840],[152,15841,152,15842],[152,15843,152,15844],[152,15845,152,15846],[152,15847,152,15848],[152,15849,152,15850],[152,15815,152,15816],[152,15817,152,15818],[152,15819,152,15820],[152,15821,152,15822],[152,15823,152,15824],[152,15825,152,15826],[152,15827,152,15828],[152,15829,152,15830],[152,15831,152,15832],[152,15797,152,15798],[152,15799,152,15800],[152,15801,152,15802],[152,15803,152,15804],[152,15805,152,15806],[152,15807,152,15808],[152,15809,152,15810],[152,15811,152,15812],[152,15813,152,15814],[152,15779,152,15780],[152,15781,152,15782],[152,15783,152,15784],[152,15785,152,15786],[152,15787,152,15788],[152,15789,152,15790],[152,15791,152,15792],[152,15793,152,15794],[152,15795,152,15796],[152,15761,152,15762],[152,15763,152,15764],[152,15765,152,15766],[152,15767,152,15768],[152,15769,152,15770],[152,15771,152,15772],[152,15773,152,15774],[152,15775,152,15776],[152,15777,152,15778],[152,15743,152,15744],[152,15745,152,15746],[152,15747,152,15748],[152,15749,152,15750],[152,15751,152,15752],[152,15753,152,15754],[152,15755,152,15756],[152,15757,152,15758],[152,15759,152,15760],[152,15725,152,15726],[152,15727,152,15728],[152,15729,152,15730],[152,15731,152,15732],[152,15733,152,15734],[152,15735,152,15736],[152,15737,152,15738],[152,15739,152,15740],[152,15741,152,15742],[152,15707,152,15708],[152,15709,152,15710],[152,15711,152,15712],[152,15713,152,15714],[152,15715,152,15716],[152,15717,152,15718],[152,15719,152,15720],[152,15721,152,15722],[152,15723,152,15724],[152,15689,152,15690],[152,15691,152,15692],[152,15693,152,15694],[152,15695,152,15696],[152,15697,152,15698],[152,15699,152,15700],[152,15701,152,15702],[152,15703,152,15704],[152,15705,152,15706],[152,15671,152,15672],[152,15673,152,15674],[152,15675,152,15676],[152,15677,152,15678],[152,15679,152,15680],[152,15681,152,15682],[152,15683,152,15684],[152,15685,152,15686],[152,15687,152,15688],[152,15653,152,15654],[152,15655,152,15656],[152,15657,152,15658],[152,15659,152,15660],[152,15661,152,15662],[152,15663,152,15664],[152,15665,152,15666],[152,15667,152,15668],[152,15669,152,15670],[152,15635,152,15636],[152,15637,152,15638],[152,15639,152,15640],[152,15641,152,15642],[152,15643,152,15644],[152,15645,152,15646],[152,15647,152,15648],[152,15649,152,15650],[152,15651,152,15652],[152,15617,152,15618],[152,15619,152,15620],[152,15621,152,15622],[152,15623,152,15624],[152,15625,152,15626],[152,15627,152,15628],[152,15629,152,15630],[152,15631,152,15632],[152,15633,152,15634],[152,15599,152,15600],[152,15601,152,15602],[152,15603,152,15604],[152,15605,152,15606],[152,15607,152,15608],[152,15609,152,15610],[152,15611,152,15612],[152,15613,152,15614],[152,15615,152,15616],[152,15581,152,15582],[152,15583,152,15584],[152,15585,152,15586],[152,15587,152,15588],[152,15589,152,15590],[152,15591,152,15592],[152,15593,152,15594],[152,15595,152,15596],[152,15597,152,15598],[152,15563,152,15564],[152,15565,152,15566],[152,15567,152,15568],[152,15569,152,15570],[152,15571,152,15572],[152,15573,152,15574],[152,15575,152,15576],[152,15577,152,15578],[152,15579,152,15580],[152,15545,152,15546],[152,15547,152,15548],[152,15549,152,15550],[152,15551,152,15552],[152,15553,152,15554],[152,15555,152,15556],[152,15557,152,15558],[152,15559,152,15560],[152,15561,152,15562],[152,15527,152,15528],[152,15529,152,15530],[152,15531,152,15532],[152,15533,152,15534],[152,15535,152,15536],[152,15537,152,15538],[152,15539,152,15540],[152,15541,152,15542],[152,15543,152,15544],[152,15509,152,15510],[152,15511,152,15512],[152,15513,152,15514],[152,15515,152,15516],[152,15517,152,15518],[152,15519,152,15520],[152,15521,152,15522],[152,15523,152,15524],[152,15525,152,15526],[152,15491,152,15492],[152,15493,152,15494],[152,15495,152,15496],[152,15497,152,15498],[152,15499,152,15500],[152,15501,152,15502],[152,15503,152,15504],[152,15505,152,15506],[152,15507,152,15508],[152,15473,152,15474],[152,15475,152,15476],[152,15477,152,15478],[152,15479,152,15480],[152,15481,152,15482],[152,15483,152,15484],[152,15485,152,15486],[152,15487,152,15488],[152,15489,152,15490],[152,15455,152,15456],[152,15457,152,15458],[152,15459,152,15460],[152,15461,152,15462],[152,15463,152,15464],[152,15465,152,15466],[152,15467,152,15468],[152,15469,152,15470],[152,15471,152,15472],[152,15437,152,15438],[152,15439,152,15440],[152,15441,152,15442],[152,15443,152,15444],[152,15445,152,15446],[152,15447,152,15448],[152,15449,152,15450],[152,15451,152,15452],[152,15453,152,15454],[152,15419,152,15420],[152,15421,152,15422],[152,15423,152,15424],[152,15425,152,15426],[152,15427,152,15428],[152,15429,152,15430],[152,15431,152,15432],[152,15433,152,15434],[152,15435,152,15436],[152,15401,152,15402],[152,15403,152,15404],[152,15405,152,15406],[152,15407,152,15408],[152,15409,152,15410],[152,15411,152,15412],[152,15413,152,15414],[152,15415,152,15416],[152,15417,152,15418],[152,15383,152,15384],[152,15385,152,15386],[152,15387,152,15388],[152,15389,152,15390],[152,15391,152,15392],[152,15393,152,15394],[152,15395,152,15396],[152,15397,152,15398],[152,15399,152,15400],[152,15365,152,15366],[152,15367,152,15368],[152,15369,152,15370],[152,15371,152,15372],[152,15373,152,15374],[152,15375,152,15376],[152,15377,152,15378],[152,15379,152,15380],[152,15381,152,15382],[152,15347,152,15348],[152,15349,152,15350],[152,15351,152,15352],[152,15353,152,15354],[152,15355,152,15356],[152,15357,152,15358],[152,15359,152,15360],[152,15361,152,15362],[152,15363,152,15364],[152,15329,152,15330],[152,15331,152,15332],[152,15333,152,15334],[152,15335,152,15336],[152,15337,152,15338],[152,15339,152,15340],[152,15341,152,15342],[152,15343,152,15344],[152,15345,152,15346],[152,15311,152,15312],[152,15313,152,15314],[152,15315,152,15316],[152,15317,152,15318],[152,15319,152,15320],[152,15321,152,15322],[152,15323,152,15324],[152,15325,152,15326],[152,15327,152,15328],[152,15293,152,15294],[152,15295,152,15296],[152,15297,152,15298],[152,15299,152,15300],[152,15301,152,15302],[152,15303,152,15304],[152,15305,152,15306],[152,15307,152,15308],[152,15309,152,15310],[152,15275,152,15276],[152,15277,152,15278],[152,15279,152,15280],[152,15281,152,15282],[152,15283,152,15284],[152,15285,152,15286],[152,15287,152,15288],[152,15289,152,15290],[152,15291,152,15292],[152,15257,152,15258],[152,15259,152,15260],[152,15261,152,15262],[152,15263,152,15264],[152,15265,152,15266],[152,15267,152,15268],[152,15269,152,15270],[152,15271,152,15272],[152,15273,152,15274],[152,15239,152,15240],[152,15241,152,15242],[152,15243,152,15244],[152,15245,152,15246],[152,15247,152,15248],[152,15249,152,15250],[152,15251,152,15252],[152,15253,152,15254],[152,15255,152,15256],[152,15221,152,15222],[152,15223,152,15224],[152,15225,152,15226],[152,15227,152,15228],[152,15229,152,15230],[152,15231,152,15232],[152,15233,152,15234],[152,15235,152,15236],[152,15237,152,15238],[152,15203,152,15204],[152,15205,152,15206],[152,15207,152,15208],[152,15209,152,15210],[152,15211,152,15212],[152,15213,152,15214],[152,15215,152,15216],[152,15217,152,15218],[152,15219,152,15220],[152,15185,152,15186],[152,15187,152,15188]],"merged_total":8834,"flags":["merged_cut"]}
[null,"別記（A４)　"]
[null,"調査結果表"]
[]
[null,"当該調査に関与した調査者",null,null,null,null,null,null,null,null,null,null,null,null,"　　氏　名",null,null,null,null,null,null,null,null,null,null,null,null,null,null,null,null,null,null,null,null,null,null,null,null,null,"調査者番号"]
[null,null,null,null,null,null,"代表となる調査者",null,null,null,null,null,null,null,{"$f":"'1_入力シート【基本情報】'!$U$301","v":0},null,null,null,null,null,null,null,null,null,null,null,null,null,null,null,null,null,null,null,null,null,null,null,null,null,1]
[null,null,null,null,null,null,"その他の調査者",null,null,null,null,null,null,null,{"$f":"'1_入力シート【基本情報】'!$AW$301","v":0},null,null,null,null,null,null,null,null,null,null,null,null,null,null,null,null,null,null,null,null,null,null,null,null,null,2]
[null,null,null,null,null,null,null,null,null,null,null,null,null,null,{"$f":"'1_入力シート【基本情報】'!$BY$301","v":0},null,null,null,null,null,null,null,null,null,null,null,null,null,null,null,null,null,null,null,null,null,null,null,null,null,3]
[]
[null,"番号",null,null,"調　査　項　目",null,null,null,null,null,null,null,null,null,null,null,null,null,null,null,null,null,null,null,null,null,null,null,null,null,null,null,null,null,null,null,null,"対象外項目","調査結果",null,null,"担当\n調査者\n番号"]
[null,null,null,null,null,null,null,null,null,null,null,null,null,null,null,null,null,null,null,null,null,null,null,null,null,null,null,null,null,null,null,null,null,null,null,null,null,null,"指摘\nなし","要是正"]
[null,null,null,null,null,null,null,null,null,null,null,null,null,null,null,null,null,null,null,null,null,null,null,null,null,null,null,null,null,null,null,null,null,null,null,null,null,null,null,null,"既　存\n不適格"]
[null,1,null,null,"敷地及び地盤"]
[null,"(1)",null,null,"地盤",null,null,null,null,null,null,null,null,null,null,null,null,null,null,null,"地盤沈下等による不陸、傾斜等の状況",null,null,null,null,null,null,null,null,null,null,null,null,null,null,null,null,null,{"$f":"'1_入力シート【基本情報】'!FK307","v":""},{"$f":"'1_入力シート【基本情報】'!FL307","v":""},{"$f":"'1_入力シート【基本情報】'!FM307","v":""},{"$f":"'1_入力シート【基本情報】'!FN307","v":0}]
[null,"(2)",null,null,"敷地",null,null,null,null,null,null,null,null,null,null,null,null,null,null,null,"敷地内の排水の状況",null,null,null,null,null,null,null,null,null,null,null,null,null,null,null,null,null,{"$f":"'1_入力シート【基本情報】'!FK308","v":""},{"$f":"'1_入力シート【基本情報】'!FL308","v":""},{"$f":"'1_入力シート【基本情報】'!FM308","v":""},{"$f":"'1_入力シート【基本情報】'!FN308","v":0}]
[null,"(3)",null,null,"敷地内の通路",null,null,null,null,null,null,null,null,null,null,null,null,null,null,null,"敷地内の通路の確保の状況",null,null,null,null,null,null,null,null,null,null,null,null,null,null,null,null,null,{"$f":"'1_入力シート【基本情報】'!FK309","v":""},{"$f":"'1_入力シート【基本情報】'!FL309","v":""},{"$f":"'1_入力シート【基本情報】'!FM309","v":""},{"$f":"'1_入力シート【基本情報】'!FN309","v":0}]
[null,"(4)",null,null,null,null,null,null,null,null,null,null,null,null,null,null,null,null,null,null,"有効幅員の確保の状況",null,null,null,null,null,null,null,null,null,null,null,null,null,null,null,null,null,{"$f":"'1_入力シート【基本情報】'!FK310","v":""},{"$f":"'1_入力シート【基本情報】'!FL310","v":""},{"$f":"'1_入力シート【基本情報】'!FM310","v":""},{"$f":"'1_入力シート【基本情報】'!FN310","v":0}]
[null,"(5)",null,null,null,null,null,null,null,null,null,null,null,null,null,null,null,null,null,null,"敷地内の通路の支障物の状況",null,null,null,null,null,null,null,null,null,null,null,null,null,null,null,null,null,{"$f":"'1_入力シート【基本情報】'!FK311","v":""},{"$f":"'1_入力シート【基本情報】'!FL311","v":""},{"$f":"'1_入力シート【基本情報】'!FM311","v":""},{"$f":"'1_入力シート【基本情報】'!FN311","v":0}]
[null,"(6)",null,null,"塀",null,null,null,null,null,null,null,null,null,null,null,null,null,null,null,"組積造の塀又は補強コンクリートブロック造の塀等の耐震対策の状況",null,null,null,null,null,null,null,null,null,null,null,null,null,null,null,null,null,{"$f":"'1_入力シート【基本情報】'!FK312","v":""},{"$f":"'1_入力シート【基本情報】'!FL312","v":""},{"$f":"'1_入力シート【基本情報】'!FM312","v":""},{"$f":"'1_入力シート【基本情報】'!FN312","v":0}]
[null,"(7)",null,null,null,null,null,null,null,null,null,null,null,null,null,null,null,null,null,null,"組積造の塀又は補強コンクリートブロック造の塀等の劣化及び損傷の状況",null,null,null,null,null,null,null,null,null,null,null,null,null,null,null,null,null,{"$f":"'1_入力シート【基本情報】'!FK313","v":""},{"$f":"'1_入力シート【基本情報】'!FL313","v":""},{"$f":"'1_入力シート【基本情報】'!FM313","v":""},{"$f":"'1_入力シート【基本情報】'!FN313","v":0}]
[null,"(8)",null,null,"擁壁",null,null,null,null,null,null,null,null,null,null,null,null,null,null,null,"擁壁の劣化及び損傷の状況",null,null,null,null,null,null,null,null,null,null,null,null,null,null,null,null,null,{"$f":"'1_入力シート【基本情報】'!FK314","v":""},{"$f":"'1_入力シート【基本情報】'!FL314","v":""},{"$f":"'1_入力シート【基本情報】'!FM314","v":""},{"$f":"'1_入力シート【基本情報】'!FN314","v":0}]
[null,"(9)",null,null,null,null,null,null,null,null,null,null,null,null,null,null,null,null,null,null,"擁壁の水抜きパイプの維持保全の状況",null,null,null,null,null,null,null,null,null,null,null,null,null,null,null,null,null,{"$f":"'1_入力シート【基本情報】'!FK315","v":""},{"$f":"'1_入力シート【基本情報】'!FL315","v":""},{"$f":"'1_入力シート【基本情報】'!FM315","v":""},{"$f":"'1_入力シート【基本情報】'!FN315","v":0}]
[null,2,null,null,"建築物の外部"]
[null,"(1)",null,null,"基礎",null,null,null,null,null,null,null,null,null,null,null,null,null,null,null,"基礎の沈下等の状況",null,null,null,null,null,null,null,null,null,null,null,null,null,null,null,null,null,{"$f":"'1_入力シート【基本情報】'!FK325","v":""},{"$f":"'1_入力シート【基本情報】'!FL325","v":""},{"$f":"'1_入力シート【基本情報】'!FM325","v":""},{"$f":"'1_入力シート【基本情報】'!FN325","v":0}]
[null,"(2)",null,null,null,null,null,null,null,null,null,null,null,null,null,null,null,null,null,null,"基礎の劣化及び損傷の状況",null,null,null,null,null,null,null,null,null,null,null,null,null,null,null,null,null,{"$f":"'1_入力シート【基本情報】'!FK326","v":""},{"$f":"'1_入力シート【基本情報】'!FL326","v":""},{"$f":"'1_入力シート【基本情報】'!FM326","v":""},{"$f":"'1_入力シート【基本情報】'!FN326","v":0}]
[null,"(3)",null,null,"土台（木造に限る。）",null,null,null,null,null,null,null,null,null,null,null,null,null,null,null,"土台の沈下等の状況",null,null,null,null,null,null,null,null,null,null,null,null,null,null,null,null,null,{"$f":"'1_入力シート【基本情報】'!FK327","v":""},{"$f":"'1_入力シート【基本情報】'!FL327","v":""},{"$f":"'1_入力シート【基本情報】'!FM327","v":""},{"$f":"'1_入力シート【基本情報】'!FN327","v":0}]
[null,"(4)",null,null,null,null,null,null,null,null,null,null,null,null,null,null,null,null,null,null,"土台の劣化及び損傷の状況",null,null,null,null,null,null,null,null,null,null,null,null,null,null,null,null,null,{"$f":"'1_入力シート【基本情報】'!FK328","v":""},{"$f":"'1_入力シート【基本情報】'!FL328","v":""},{"$f":"'1_入力シート【基本情報】'!FM328","v":""},{"$f":"'1_入力シート【基本情報】'!FN328","v":0}]
[null,"(5)",null,null,"外壁",null,"躯体等",null,null,null,null,null,null,null,null,null,null,null,null,null,"外壁、軒裏及び外壁の開口部で延焼のおそれのある部分の防火対策の状況",null,null,null,null,null,null,null,null,null,null,null,null,null,null,null,null,null,{"$f":"'1_入力シート【基本情報】'!FK329","v":""},{"$f":"'1_入力シート【基本情報】'!FL329","v":""},{"$f":"'1_入力シート【基本情報】'!FM329","v":""},{"$f":"'1_入力シート【基本情報】'!FN329","v":0}]
[null,"(6)",null,null,null,null,null,null,null,null,null,null,null,null,null,null,null,null,null,null,"木造の外壁躯体の劣化及び損傷の状況",null,null,null,null,null,null,null,null,null,null,null,null,null,null,null,null,null,{"$f":"'1_入力シート【基本情報】'!FK330","v":""},{"$f":"'1_入力シート【基本情報】'!FL330","v":""},{"$f":"'1_入力シート【基本情報】'!FM330","v":""},{"$f":"'1_入力シート【基本情報】'!FN330","v":0}]
[null,"(7)",null,null,null,null,null,null,null,null,null,null,null,null,null,null,null,null,null,null,"組積造の外壁躯体の劣化及び損傷の状況",null,null,null,null,null,null,null,null,null,null,null,null,null,null,null,null,null,{"$f":"'1_入力シート【基本情報】'!FK331","v":""},{"$f":"'1_入力シート【基本情報】'!FL331","v":""},{"$f":"'1_入力シート【基本情報】'!FM331","v":""},{"$f":"'1_入力シート【基本情報】'!FN331","v":0}]
[null,"(8)",null,null,null,null,null,null,null,null,null,null,null,null,null,null,null,null,null,null,"補強コンクリートブロック造の外壁躯体の劣化及び損傷の状況",null,null,null,null,null,null,null,null,null,null,null,null,null,null,null,null,null,{"$f":"'1_入力シート【基本情報】'!FK332","v":""},{"$f":"'1_入力シート【基本情報】'!FL332","v":""},{"$f":"'1_入力シート【基本情報】'!FM332","v":""},{"$f":"'1_入力シート【基本情報】'!FN332","v":0}]
[null,"(9)",null,null,null,null,null,null,null,null,null,null,null,null,null,null,null,null,null,null,"鉄骨造の外壁躯体の劣化及び損傷の状況",null,null,null,null,null,null,null,null,null,null,null,null,null,null,null,null,null,{"$f":"'1_入力シート【基本情報】'!FK333","v":""},{"$f":"'1_入力シート【基本情報】'!FL333","v":""},{"$f":"'1_入力シート【基本情報】'!FM333","v":""},{"$f":"'1_入力シート【基本情報】'!FN333","v":0}]
[null,"(10)",null,null,null,null,null,null,null,null,null,null,null,null,null,null,null,null,null,null,"鉄筋コンクリート造及び鉄骨鉄筋コンクリート造の外壁躯体の劣化及び損傷の状況",null,null,null,null,null,null,null,null,null,null,null,null,null,null,null,null,null,{"$f":"'1_入力シート【基本情報】'!FK334","v":""},{"$f":"'1_入力シート【基本情報】'!FL334","v":""},{"$f":"'1_入力シート【基本情報】'!FM334","v":""},{"$f":"'1_入力シート【基本情報】'!FN334","v":0}]
[null,"(11)",null,null,null,null,"外装仕上げ材等",null,null,null,null,null,null,null,null,null,null,null,null,null,"タイル、石貼り等（乾式工法によるものを除く。）、モルタル等の劣化及び損傷の状況",null,null,null,null,null,null,null,null,null,null,null,null,null,null,null,null,null,{"$f":"'1_入力シート【基本情報】'!FK335","v":""},{"$f":"'1_入力シート【基本情報】'!FL335","v":""},{"$f":"'1_入力シート【基本情報】'!FM335","v":""},{"$f":"'1_入力シート【基本情報】'!FN335","v":0}]
[null,"(12)",null,null,null,null,null,null,null,null,null,null,null,null,null,null,null,null,null,null,"乾式工法によるタイル、石貼り等の劣化及び損傷の状況",null,null,null,null,null,null,null,null,null,null,null,null,null,null,null,null,null,{"$f":"'1_入力シート【基本情報】'!FK336","v":""},{"$f":"'1_入力シート【基本情報】'!FL336","v":""},{"$f":"'1_入力シート【基本情報】'!FM336","v":""},{"$f":"'1_入力シート【基本情報】'!FN336","v":0}]
[null,"(13)",null,null,null,null,null,null,null,null,null,null,null,null,null,null,null,null,null,null,"金属系パネル（帳壁を含む。）の劣化及び損傷の状況",null,null,null,null,null,null,null,null,null,null,null,null,null,null,null,null,null,{"$f":"'1_入力シート【基本情報】'!FK337","v":""},{"$f":"'1_入力シート【基本情報】'!FL337","v":""},{"$f":"'1_入力シート【基本情報】'!FM337","v":""},{"$f":"'1_入力シート【基本情報】'!FN337","v":0}]
[null,"(14)",null,null,null,null,null,null,null,null,null,null,null,null,null,null,null,null,null,null,"コンクリート系パネル（帳壁を含む。）の劣化及び損傷の状況",null,null,null,null,null,null,null,null,null,null,null,null,null,null,null,null,null,{"$f":"'1_入力シート【基本情報】'!FK338","v":""},{"$f":"'1_入力シート【基本情報】'!FL338","v":""},{"$f":"'1_入力シート【基本情報】'!FM338","v":""},{"$f":"'1_入力シート【基本情報】'!FN338","v":0}]
[null,"(15)",null,null,null,null,"窓サッシ等",null,null,null,null,null,null,null,null,null,null,null,null,null,"サッシ等の劣化及び損傷の状況",null,null,null,null,null,null,null,null,null,null,null,null,null,null,null,null,null,{"$f":"'1_入力シート【基本情報】'!FK339","v":""},{"$f":"'1_入力シート【基本情報】'!FL339","v":""},{"$f":"'1_入力シート【基本情報】'!FM339","v":""},{"$f":"'1_入力シート【基本情報】'!FN339","v":0}]
[null,"(16)",null,null,null,null,null,null,null,null,null,null,null,null,null,null,null,null,null,null,"はめ殺し窓のガラスの固定の状況",null,null,null,null,null,null,null,null,null,null,null,null,null,null,null,null,null,{"$f":"'1_入力シート【基本情報】'!FK340","v":""},{"$f":"'1_入力シート【基本情報】'!FL340","v":""},{"$f":"'1_入力シート【基本情報】'!FM340","v":""},{"$f":"'1_入力シート【基本情報】'!FN340","v":0}]
[null,"(17)",null,null,null,null,"外壁に緊結された広告板、空調室外機等",null,null,null,null,null,null,null,null,null,null,null,null,null,"機器本体の劣化及び損傷の状況",null,null,null,null,null,null,null,null,null,null,null,null,null,null,null,null,null,{"$f":"'1_入力シート【基本情報】'!FK341","v":""},{"$f":"'1_入力シート【基本情報】'!FL341","v":""},{"$f":"'1_入力シート【基本情報】'!FM341","v":""},{"$f":"'1_入力シート【基本情報】'!FN341","v":0}]
[null,"(18)",null,null,null,null,null,null,null,null,null,null,null,null,null,null,null,null,null,null,"支持部分等の劣化及び損傷の状況",null,null,null,null,null,null,null,null,null,null,null,null,null,null,null,null,null,{"$f":"'1_入力シート【基本情報】'!FK342","v":""},{"$f":"'1_入力シート【基本情報】'!FL342","v":""},{"$f":"'1_入力シート【基本情報】'!FM342","v":""},{"$f":"'1_入力シート【基本情報】'!FN342","v":0}]
[null,3,null,null,"屋上及び屋根"]
[null,"(1)",null,null,"屋上面",null,null,null,null,null,null,null,null,null,null,null,null,null,null,null,"屋上面の劣化及び損傷の状況",null,null,null,null,null,null,null,null,null,null,null,null,null,null,null,null,null,{"$f":"'1_入力シート【基本情報】'!FK352","v":""},{"$f":"'1_入力シート【基本情報】'!FL352","v":""},{"$f":"'1_入力シート【基本情報】'!FM352","v":""},{"$f":"'1_入力シート【基本情報】'!FN352","v":0}]
[null,"(2)",null,null,"屋上周り（屋上面を除く。）",null,null,null,null,null,null,null,null,null,null,null,null,null,null,null,"パラペットの立上り面の劣化及び損傷の状況",null,null,null,null,null,null,null,null,null,null,null,null,null,null,null,null,null,{"$f":"'1_入力シート【基本情報】'!FK353","v":""},{"$f":"'1_入力シート【基本情報】'!FL353","v":""},{"$f":"'1_入力シート【基本情報】'!FM353","v":""},{"$f":"'1_入力シート【基本情報】'!FN353","v":0}]
[null,"(3)",null,null,null,null,null,null,null,null,null,null,null,null,null,null,null,null,null,null,"笠木モルタル等の劣化及び損傷の状況",null,null,null,null,null,null,null,null,null,null,null,null,null,null,null,null,null,{"$f":"'1_入力シート【基本情報】'!FK354","v":""},{"$f":"'1_入力シート【基本情報】'!FL354","v":""},{"$f":"'1_入力シート【基本情報】'!FM354","v":""},{"$f":"'1_入力シート【基本情報】'!FN354","v":0}]
[null,"(4)",null,null,null,null,null,null,null,null,null,null,null,null,null,null,null,null,null,null,"金属笠木の劣化及び損傷の状況",null,null,null,null,null,null,null,null,null,null,null,null,null,null,null,null,null,{"$f":"'1_入力シート【基本情報】'!FK355","v":""},{"$f":"'1_入力シート【基本情報】'!FL355","v":""},{"$f":"'1_入力シート【基本情報】'!FM355","v":""},{"$f":"'1_入力シート【基本情報】'!FN355","v":0}]
[null,"(5)",null,null,null,null,null,null,null,null,null,null,null,null,null,null,null,null,null,null,"排水溝（ドレーンを含む。）の劣化及び損傷の状況",null,null,null,null,null,null,null,null,null,null,null,null,null,null,null,null,null,{"$f":"'1_入力シート【基本情報】'!FK356","v":""},{"$f":"'1_入力シート【基本情報】'!FL356","v":""},{"$f":"'1_入力シート【基本情報】'!FM356","v":""},{"$f":"'1_入力シート【基本情報】'!FN356","v":0}]
[null,"(6)",null,null,"屋根（屋上面を除く。）",null,null,null,null,null,null,null,null,null,null,null,null,null,null,null,"屋根の防火対策の状況",null,null,null,null,null,null,null,null,null,null,null,null,null,null,null,null,null,{"$f":"'1_入力シート【基本情報】'!FK357","v":""},{"$f":"'1_入力シート【基本情報】'!FL357","v":""},{"$f":"'1_入力シート【基本情報】'!FM357","v":""},{"$f":"'1_入力シート【基本情報】'!FN357","v":0}]
[null,"(7)",null,null,null,null,null,null,null,null,null,null,null,null,null,null,null,null,null,null,"屋根の劣化及び損傷の状況",null,null,null,null,null,null,null,null,null,null,null,null,null,null,null,null,null,{"$f":"'1_入力シート【基本情報】'!FK358","v":""},{"$f":"'1_入力シート【基本情報】'!FL358","v":""},{"$f":"'1_入力シート【基本情報】'!FM358","v":""},{"$f":"'1_入力シート【基本情報】'!FN358","v":0}]
[null,"(8)",null,null,"機器及び工作物（冷却等設備、広告塔等）",null,null,null,null,null,null,null,null,null,null,null,null,null,null,null,"機器、工作物本体及び接合部の劣化及び損傷の状況",null,null,null,null,null,null,null,null,null,null,null,null,null,null,null,null,null,{"$f":"'1_入力シート【基本情報】'!FK359","v":""},{"$f":"'1_入力シート【基本情報】'!FL359","v":""},{"$f":"'1_入力シート【基本情報】'!FM359","v":""},{"$f":"'1_入力シート【基本情報】'!FN359","v":0}]
[null,"(9)",null,null,null,null,null,null,null,null,null,null,null,null,null,null,null,null,null,null,"支持部分等の劣化及び損傷の状況",null,null,null,null,null,null,null,null,null,null,null,null,null,null,null,null,null,{"$f":"'1_入力シート【基本情報】'!FK360","v":""},{"$f":"'1_入力シート【基本情報】'!FL360","v":""},{"$f":"'1_入力シート【基本情報】'!FM360","v":""},{"$f":"'1_入力シート【基本情報】'!FN360","v":0}]
[null,4,null,null,"建築物の内部"]
[null,"(1)",null,null,"防火区画",null,"令第112条第11項から第13項までに規定する区画の状況",null,null,null,null,null,null,null,null,null,null,null,null,null,null,null,null,null,null,null,null,null,null,null,null,null,null,null,null,null,null,null,{"$f":"'1_入力シート【基本情報】'!FK370","v":""},{"$f":"'1_入力シート【基本情報】'!FL370","v":""},{"$f":"'1_入力シート【基本情報】'!FM370","v":""},{"$f":"'1_入力シート【基本情報】'!AR370","v":0}]
[null,"(2)",null,null,null,null,"令第112条第1項、第4項、第5項又は第7項から第10項までの各項に規定する区画の状況",null,null,null,null,null,null,null,null,null,null,null,null,null,null,null,null,null,null,null,null,null,null,null,null,null,null,null,null,null,null,null,{"$f":"'1_入力シート【基本情報】'!FK371","v":""},{"$f":"'1_入力シート【基本情報】'!FL371","v":""},{"$f":"'1_入力シート【基本情報】'!FM371","v":""},{"$f":"'1_入力シート【基本情報】'!AR371","v":0}]
[null,"(3)",null,null,null,null,"令第112条第18項に規定する区画の状況",null,null,null,null,null,null,null,null,null,null,null,null,null,null,null,null,null,null,null,null,null,null,null,null,null,null,null,null,null,null,null,{"$f":"'1_入力シート【基本情報】'!FK372","v":""},{"$f":"'1_入力シート【基本情報】'!FL372","v":""},{"$f":"'1_入力シート【基本情報】'!FM372","v":""},{"$f":"'1_入力シート【基本情報】'!AR372","v":0}]
[null,"(4)",null,null,null,null,"防火区画の外周部",null,null,null,null,null,null,null,null,null,null,null,null,null,"令第112条第16項に規定する外壁等及び同条第17項に規定する防火設備の処置の状況",null,null,null,null,null,null,null,null,null,null,null,null,null,null,null,null,null,{"$f":"'1_入力シート【基本情報】'!FK373","v":""},{"$f":"'1_入力シート【基本情報】'!FL373","v":""},{"$f":"'1_入力シート【基本情報】'!FM373","v":""},{"$f":"'1_入力シート【基本情報】'!AR373","v":0}]
[null,"(5)",null,null,null,null,null,null,null,null,null,null,null,null,null,null,null,null,null,null,"令第112条第16項に規定する外壁等及び同条第17項に規定する防火設備の劣化及び損傷の状況",null,null,null,null,null,null,null,null,null,null,null,null,null,null,null,null,null,{"$f":"'1_入力シート【基本情報】'!FK374","v":""},{"$f":"'1_入力シート【基本情報】'!FL374","v":""},{"$f":"'1_入力シート【基本情報】'!FM374","v":""},{"$f":"'1_入力シート【基本情報】'!AR374","v":0}]
[null,"(6)",null,null,"壁の室内に面する部分",null,"躯体等",null,null,null,null,null,null,null,null,null,null,null,null,null,"木造の壁の室内に面する部分の躯体の劣化及び損傷の状況",null,null,null,null,null,null,null,null,null,null,null,null,null,null,null,null,null,{"$f":"'1_入力シート【基本情報】'!FK375","v":""},{"$f":"'1_入力シート【基本情報】'!FL375","v":""},{"$f":"'1_入力シート【基本情報】'!FM375","v":""},{"$f":"'1_入力シート【基本情報】'!AR375","v":0}]
[null,"(7)",null,null,null,null,null,null,null,null,null,null,null,null,null,null,null,null,null,null,"組積造の壁の室内に面する部分の躯体の劣化及び損傷の状況",null,null,null,null,null,null,null,null,null,null,null,null,null,null,null,null,null,{"$f":"'1_入力シート【基本情報】'!FK376","v":""},{"$f":"'1_入力シート【基本情報】'!FL376","v":""},{"$f":"'1_入力シート【基本情報】'!FM376","v":""},{"$f":"'1_入力シート【基本情報】'!AR376","v":0}]
[null,"(8)",null,null,null,null,null,null,null,null,null,null,null,null,null,null,null,null,null,null,"補強コンクリートブロック造の壁の室内に面する部分の躯体の劣化及び損傷の状況",null,null,null,null,null,null,null,null,null,null,null,null,null,null,null,null,null,{"$f":"'1_入力シート【基本情報】'!FK377","v":""},{"$f":"'1_入力シート【基本情報】'!FL377","v":""},{"$f":"'1_入力シート【基本情報】'!FM377","v":""},{"$f":"'1_入力シート【基本情報】'!AR377","v":0}]
[null,"(9)",null,null,null,null,null,null,null,null,null,null,null,null,null,null,null,null,null,null,"鉄骨造の壁の室内に面する部分の躯体の劣化及び損傷の状況",null,null,null,null,null,null,null,null,null,null,null,null,null,null,null,null,null,{"$f":"'1_入力シート【基本情報】'!FK378","v":""},{"$f":"'1_入力シート【基本情報】'!FL378","v":""},{"$f":"'1_入力シート【基本情報】'!FM378","v":""},{"$f":"'1_入力シート【基本情報】'!AR378","v":0}]
[null,"(10)",null,null,null,null,null,null,null,null,null,null,null,null,null,null,null,null,null,null,"鉄筋コンクリート造及び鉄骨鉄筋コンクリート造の壁の室内に面する部分の躯体の劣化及び損傷の状況",null,null,null,null,null,null,null,null,null,null,null,null,null,null,null,null,null,{"$f":"'1_入力シート【基本情報】'!FK379","v":""},{"$f":"'1_入力シート【基本情報】'!FL379","v":""},{"$f":"'1_入力シート【基本情報】'!FM379","v":""},{"$f":"'1_入力シート【基本情報】'!AR379","v":0}]
[null,"(11)",null,null,null,null,"耐火構造の壁又は準耐火構造の壁（防火区画を構成する壁等に限る。）",null,null,null,null,null,null,null,null,null,null,null,null,null,"準耐火性能等の確保の状況",null,null,null,null,null,null,null,null,null,null,null,null,null,null,null,null,null,{"$f":"'1_入力シート【基本情報】'!FK380","v":""},{"$f":"'1_入力シート【基本情報】'!FL380","v":""},{"$f":"'1_入力シート【基本情報】'!FM380","v":""},{"$f":"'1_入力シート【基本情報】'!AR380","v":0}]
[null,"(12)",null,null,null,null,null,null,null,null,null,null,null,null,null,null,null,null,null,null,"部材の劣化及び損傷の状況",null,null,null,null,null,null,null,null,null,null,null,null,null,null,null,null,null,{"$f":"'1_入力シート【基本情報】'!FK381","v":""},{"$f":"'1_入力シート【基本情報】'!FL381","v":""},{"$f":"'1_入力シート【基本情報】'!FM381","v":""},{"$f":"'1_入力シート【基本情報】'!AR381","v":0}]
[null,"(13)",null,null,null,null,null,null,null,null,null,null,null,null,null,null,null,null,null,null,"鉄骨の耐火被覆の劣化及び損傷の状況",null,null,null,null,null,null,null,null,null,null,null,null,null,null,null,null,null,{"$f":"'1_入力シート【基本情報】'!FK382","v":""},{"$f":"'1_入力シート【基本情報】'!FL382","v":""},{"$f":"'1_入力シート【基本情報】'!FM382","v":""},{"$f":"'1_入力シート【基本情報】'!AR382","v":0}]
[null,"(14)",null,null,null,null,null,null,null,null,null,null,null,null,null,null,null,null,null,null,"給水管、配電管その他の管又は風道の区画貫通部の充填等の処理の状況",null,null,null,null,null,null,null,null,null,null,null,null,null,null,null,null,null,{"$f":"'1_入力シート【基本情報】'!FK383","v":""},{"$f":"'1_入力シート【基本情報】'!FL383","v":""},{"$f":"'1_入力シート【基本情報】'!FM383","v":""},{"$f":"'1_入力シート【基本情報】'!AR383","v":0}]
[null,"(15)",null,null,null,null,"令第114条に規定する界壁、間仕切壁及び隔壁",null,null,null,null,null,null,null,null,null,null,null,null,null,"令第114条に規定する界壁、間仕切壁及び隔壁の状況",null,null,null,null,null,null,null,null,null,null,null,null,null,null,null,null,null,{"$f":"'1_入力シート【基本情報】'!FK384","v":""},{"$f":"'1_入力シート【基本情報】'!FL384","v":""},{"$f":"'1_入力シート【基本情報】'!FM384","v":""},{"$f":"'1_入力シート【基本情報】'!AR384","v":0}]
[null,"(16)",null,null,null,null,"令第128条の5各項に規定する建築物の壁の室内に面する部分",null,null,null,null,null,null,null,null,null,null,null,null,null,"室内に面する部分の仕上げの維持保全の状況",null,null,null,null,null,null,null,null,null,null,null,null,null,null,null,null,null,{"$f":"'1_入力シート【基本情報】'!FK385","v":""},{"$f":"'1_入力シート【基本情報】'!FL385","v":""},{"$f":"'1_入力シート【基本情報】'!FM385","v":""},{"$f":"'1_入力シート【基本情報】'!AR385","v":0}]
[null,"(17)",null,null,"床",null,"躯体等",null,null,null,null,null,null,null,null,null,null,null,null,null,"木造の床躯体の劣化及び損傷の状況",null,null,null,null,null,null,null,null,null,null,null,null,null,null,null,null,null,{"$f":"'1_入力シート【基本情報】'!FK386","v":""},{"$f":"'1_入力シート【基本情報】'!FL386","v":""},{"$f":"'1_入力シート【基本情報】'!FM386","v":""},{"$f":"'1_入力シート【基本情報】'!AR386","v":0}]
[null,"(18)",null,null,null,null,null,null,null,null,null,null,null,null,null,null,null,null,null,null,"鉄骨造の床躯体の劣化及び損傷の状況",null,null,null,null,null,null,null,null,null,null,null,null,null,null,null,null,null,{"$f":"'1_入力シート【基本情報】'!FK387","v":""},{"$f":"'1_入力シート【基本情報】'!FL387","v":""},{"$f":"'1_入力シート【基本情報】'!FM387","v":""},{"$f":"'1_入力シート【基本情報】'!AR387","v":0}]
[null,"(19)",null,null,null,null,null,null,null,null,null,null,null,null,null,null,null,null,null,null,"鉄筋コンクリート造及び鉄骨鉄筋コンクリート造の床躯体の劣化及び損傷の状況",null,null,null,null,null,null,null,null,null,null,null,null,null,null,null,null,null,{"$f":"'1_入力シート【基本情報】'!FK388","v":""},{"$f":"'1_入力シート【基本情報】'!FL388","v":""},{"$f":"'1_入力シート【基本情報】'!FM388","v":""},{"$f":"'1_入力シート【基本情報】'!AR388","v":0}]
[null,"(20)",null,null,null,null,"耐火構造の床又は準耐火構造の床（防火区画を構成する床に限る。）",null,null,null,null,null,null,null,null,null,null,null,null,null,"準耐火性能等の確保の状況",null,null,null,null,null,null,null,null,null,null,null,null,null,null,null,null,null,{"$f":"'1_入力シート【基本情報】'!FK389","v":""},{"$f":"'1_入力シート【基本情報】'!FL389","v":""},{"$f":"'1_入力シート【基本情報】'!FM389","v":""},{"$f":"'1_入力シート【基本情報】'!AR389","v":0}]
[null,"(21)",null,null,null,null,null,null,null,null,null,null,null,null,null,null,null,null,null,null,"部材の劣化及び損傷の状況",null,null,null,null,null,null,null,null,null,null,null,null,null,null,null,null,null,{"$f":"'1_入力シート【基本情報】'!FK390","v":""},{"$f":"'1_入力シート【基本情報】'!FL390","v":""},{"$f":"'1_入力シート【基本情報】'!FM390","v":""},{"$f":"'1_入力シート【基本情報】'!AR390","v":0}]
[null,"(22)",null,null,null,null,null,null,null,null,null,null,null,null,null,null,null,null,null,null,"給水管、配電管その他の管又は風道の区画貫通部の充填等の処理の状況",null,null,null,null,null,null,null,null,null,null,null,null,null,null,null,null,null,{"$f":"'1_入力シート【基本情報】'!FK391","v":""},{"$f":"'1_入力シート【基本情報】'!FL391","v":""},{"$f":"'1_入力シート【基本情報】'!FM391","v":""},{"$f":"'1_入力シート【基本情報】'!AR391","v":0}]
[null,"(23)",null,null,"天井",null,"令第128条の5各項に規定する建築物の天井の室内に面する部分",null,null,null,null,null,null,null,null,null,null,null,null,null,"室内に面する部分の仕上げの維持保全の状況",null,null,null,null,null,null,null,null,null,null,null,null,null,null,null,null,null,{"$f":"'1_入力シート【基本情報】'!FK392","v":""},{"$f":"'1_入力シート【基本情報】'!FL392","v":""},{"$f":"'1_入力シート【基本情報】'!FM392","v":""},{"$f":"'1_入力シート【基本情報】'!AR392","v":0}]
[null,"(24)",null,null,null,null,null,null,null,null,null,null,null,null,null,null,null,null,null,null,"室内に面する部分の仕上げの劣化及び損傷の状況",null,null,null,null,null,null,null,null,null,null,null,null,null,null,null,null,null,{"$f":"'1_入力シート【基本情報】'!FK393","v":""},{"$f":"'1_入力シート【基本情報】'!FL393","v":""},{"$f":"'1_入力シート【基本情報】'!FM393","v":""},{"$f":"'1_入力シート【基本情報】'!AR393","v":0}]
[null,"(25)",null,null,null,null,"特定天井",null,null,null,null,null,null,null,null,null,null,null,null,null,"特定天井の天井材の劣化及び損傷の状況",null,null,null,null,null,null,null,null,null,null,null,null,null,null,null,null,null,{"$f":"'1_入力シート【基本情報】'!FK394","v":""},{"$f":"'1_入力シート【基本情報】'!FL394","v":""},{"$f":"'1_入力シート【基本情報】'!FM394","v":""},{"$f":"'1_入力シート【基本情報】'!AR394","v":0}]
[null,"(26)",null,null,"防火設備（防火扉、防火シャッターその他これらに類するものに限る。）又は戸",null,null,null,null,null,null,null,null,null,null,null,null,null,null,null,"区画に対応した防火設備又は戸の設置の状況",null,null,null,null,null,null,null,null,null,null,null,null,null,null,null,null,null,{"$f":"'1_入力シート【基本情報】'!FK395","v":""},{"$f":"'1_入力シート【基本情報】'!FL395","v":""},{"$f":"'1_入力シート【基本情報】'!FM395","v":""},{"$f":"'1_入力シート【基本情報】'!AR395","v":0}]
[null,"(27)",null,null,null,null,null,null,null,null,null,null,null,null,null,null,null,null,null,null,"居室から地上へ通じる主たる廊下、階段その他の通路に設置された防火設備又は戸におけるくぐり戸の設置の状況",null,null,null,null,null,null,null,null,null,null,null,null,null,null,null,null,null,{"$f":"'1_入力シート【基本情報】'!FK396","v":""},{"$f":"'1_入力シート【基本情報】'!FL396","v":""},{"$f":"'1_入力シート【基本情報】'!FM396","v":""},{"$f":"'1_入力シート【基本情報】'!AR396","v":0}]
[null,"(28)",null,null,null,null,null,null,null,null,null,null,null,null,null,null,null,null,null,null,"昭和48年建設省告示第2563号第１第１号ロに規定する基準への適合の状況",null,null,null,null,null,null,null,null,null,null,null,null,null,null,null,null,null,{"$f":"'1_入力シート【基本情報】'!FK397","v":""},{"$f":"'1_入力シート【基本情報】'!FL397","v":""},{"$f":"'1_入力シート【基本情報】'!FM397","v":""},{"$f":"'1_入力シート【基本情報】'!AR397","v":0}]
[null,"(29)",null,null,null,null,null,null,null,null,null,null,null,null,null,null,null,null,null,null,"防火扉又は戸の開放方向",null,null,null,null,null,null,null,null,null,null,null,null,null,null,null,null,null,{"$f":"'1_入力シート【基本情報】'!FK398","v":""},{"$f":"'1_入力シート【基本情報】'!FL398","v":""},{"$f":"'1_入力シート【基本情報】'!FM398","v":""},{"$f":"'1_入力シート【基本情報】'!AR398","v":0}]
[null,"(30)",null,null,null,null,null,null,null,null,null,null,null,null,null,null,null,null,null,null,"常閉防火設備等の本体と枠の劣化及び損傷の状況",null,null,null,null,null,null,null,null,null,null,null,null,null,null,null,null,null,{"$f":"'1_入力シート【基本情報】'!FK399","v":""},{"$f":"'1_入力シート【基本情報】'!FL399","v":""},{"$f":"'1_入力シート【基本情報】'!FM399","v":""},{"$f":"'1_入力シート【基本情報】'!AR399","v":0}]
[null,"(31)",null,null,null,null,null,null,null,null,null,null,null,null,null,null,null,null,null,null,"常閉防火設備等の閉鎖又は作動の状況",null,null,null,null,null,null,null,null,null,null,null,null,null,null,null,null,null,{"$f":"'1_入力シート【基本情報】'!FK400","v":""},{"$f":"'1_入力シート【基本情報】'!FL400","v":""},{"$f":"'1_入力シート【基本情報】'!FM400","v":""},{"$f":"'1_入力シート【基本情報】'!AR400","v":0}]
[null,"(32)",null,null,null,null,null,null,null,null,null,null,null,null,null,null,null,null,null,null,"常閉防火設備等の閉鎖又は作動の障害となる物品の放置の状況",null,null,null,null,null,null,null,null,null,null,null,null,null,null,null,null,null,{"$f":"'1_入力シート【基本情報】'!FK401","v":""},{"$f":"'1_入力シート【基本情報】'!FL401","v":""},{"$f":"'1_入力シート【基本情報】'!FM401","v":""},{"$f":"'1_入力シート【基本情報】'!AR401","v":0}]
[null,"(33)",null,null,null,null,null,null,null,null,null,null,null,null,null,null,null,null,null,null,"常閉防火扉等の固定の状況",null,null,null,null,null,null,null,null,null,null,null,null,null,null,null,null,null,{"$f":"'1_入力シート【基本情報】'!FK402","v":""},{"$f":"'1_入力シート【基本情報】'!FL402","v":""},{"$f":"'1_入力シート【基本情報】'!FM402","v":""},{"$f":"'1_入力シート【基本情報】'!AR402","v":0}]
[null,"(34)",null,null,"照明器具、懸垂物等",null,null,null,null,null,null,null,null,null,null,null,null,null,null,null,"照明器具、懸垂物等の落下防止対策の状況　",null,null,null,null,null,null,null,null,null,null,null,null,null,null,null,null,null,{"$f":"'1_入力シート【基本情報】'!FK403","v":""},{"$f":"'1_入力シート【基本情報】'!FL403","v":""},{"$f":"'1_入力シート【基本情報】'!FM403","v":""},{"$f":"'1_入力シート【基本情報】'!AR403","v":0}]
[null,"(35)",null,null,null,null,null,null,null,null,null,null,null,null,null,null,null,null,null,null,"防火設備又は戸の閉鎖の障害となる照明器具、懸垂物等の状況",null,null,null,null,null,null,null,null,null,null,null,null,null,null,null,null,null,{"$f":"'1_入力シート【基本情報】'!FK404","v":""},{"$f":"'1_入力シート【基本情報】'!FL404","v":""},{"$f":"'1_入力シート【基本情報】'!FM404","v":""},{"$f":"'1_入力シート【基本情報】'!AR404","v":0}]
[null,"(36)",null,null,"警報設備",null,null,null,null,null,null,null,null,null,null,null,null,null,null,null,"警報設備の設置の状況",null,null,null,null,null,null,null,null,null,null,null,null,null,null,null,null,null,{"$f":"'1_入力シート【基本情報】'!FK405","v":""},{"$f":"'1_入力シート【基本情報】'!FL405","v":""},{"$f":"'1_入力シート【基本情報】'!FM405","v":""},{"$f":"'1_入力シート【基本情報】'!AR405","v":0}]
[null,"(37)",null,null,null,null,null,null,null,null,null,null,null,null,null,null,null,null,null,null,"警報設備の劣化及び損傷の状況",null,null,null,null,null,null,null,null,null,null,null,null,null,null,null,null,null,{"$f":"'1_入力シート【基本情報】'!FK406","v":""},{"$f":"'1_入力シート【基本情報】'!FL406","v":""},{"$f":"'1_入力シート【基本情報】'!FM406","v":""},{"$f":"'1_入力シート【基本情報】'!AR406","v":0}]
[null,"(38)",null,null,"居室の採光及び換気",null,null,null,null,null,null,null,null,null,null,null,null,null,null,null,"採光のための開口部の面積の確保の状況",null,null,null,null,null,null,null,null,null,null,null,null,null,null,null,null,null,{"$f":"'1_入力シート【基本情報】'!FK407","v":""},{"$f":"'1_入力シート【基本情報】'!FL407","v":""},{"$f":"'1_入力シート【基本情報】'!FM407","v":""},{"$f":"'1_入力シート【基本情報】'!AR407","v":0}]
[null,"(39)",null,null,null,null,null,null,null,null,null,null,null,null,null,null,null,null,null,null,"採光の妨げとなる物品の放置の状況",null,null,null,null,null,null,null,null,null,null,null,null,null,null,null,null,null,{"$f":"'1_入力シート【基本情報】'!FK408","v":""},{"$f":"'1_入力シート【基本情報】'!FL408","v":""},{"$f":"'1_入力シート【基本情報】'!FM408","v":""},{"$f":"'1_入力シート【基本情報】'!AR408","v":0}]
[null,"(40)",null,null,null,null,null,null,null,null,null,null,null,null,null,null,null,null,null,null,"換気のための開口部の面積の確保の状況",null,null,null,null,null,null,null,null,null,null,null,null,null,null,null,null,null,{"$f":"'1_入力シート【基本情報】'!FK409","v":""},{"$f":"'1_入力シート【基本情報】'!FL409","v":""},{"$f":"'1_入力シート【基本情報】'!FM409","v":""},{"$f":"'1_入力シート【基本情報】'!AR409","v":0}]
[null,"(41)",null,null,null,null,null,null,null,null,null,null,null,null,null,null,null,null,null,null,"換気設備の設置の状況",null,null,null,null,null,null,null,null,null,null,null,null,null,null,null,null,null,{"$f":"'1_入力シート【基本情報】'!FK410","v":""},{"$f":"'1_入力シート【基本情報】'!FL410","v":""},{"$f":"'1_入力シート【基本情報】'!FM410","v":""},{"$f":"'1_入力シート【基本情報】'!AR410","v":0}]
[null,"(42)",null,null,null,null,null,null,null,null,null,null,null,null,null,null,null,null,null,null,"換気設備の作動の状況",null,null,null,null,null,null,null,null,null,null,null,null,null,null,null,null,null,{"$f":"'1_入力シート【基本情報】'!FK411","v":""},{"$f":"'1_入力シート【基本情報】'!FL411","v":""},{"$f":"'1_入力シート【基本情報】'!FM411","v":""},{"$f":"'1_入力シート【基本情報】'!AR411","v":0}]
[null,"(43)",null,null,null,null,null,null,null,null,null,null,null,null,null,null,null,null,null,null,"換気の妨げとなる物品の放置の状況",null,null,null,null,null,null,null,null,null,null,null,null,null,null,null,null,null,{"$f":"'1_入力シート【基本情報】'!FK412","v":""},{"$f":"'1_入力シート【基本情報】'!FL412","v":""},{"$f":"'1_入力シート【基本情報】'!FM412","v":""},{"$f":"'1_入力シート【基本情報】'!AR412","v":0}]
[null,"(44)",null,null,"石綿等を添加した建築材料　",null,null,null,null,null,null,null,null,null,null,null,null,null,null,null,"吹付け石綿及び吹付けロックウールでその含有する石綿の重量が当該建築材料の重量の0.1パーセントを超えるもの（以下「吹付け石綿等」という。）の使用の状況",null,null,null,null,null,null,null,null,null,null,null,null,null,null,null,null,null,{"$f":"'1_入力シート【基本情報】'!FK413","v":""},{"$f":"'1_入力シート【基本情報】'!FL413","v":""},{"$f":"'1_入力シート【基本情報】'!FM413","v":""},{"$f":"'1_入力シート【基本情報】'!AR413","v":0}]
[null,"(45)",null,null,null,null,null,null,null,null,null,null,null,null,null,null,null,null,null,null,"吹付け石綿等の劣化の状況　",null,null,null,null,null,null,null,null,null,null,null,null,null,null,null,null,null,{"$f":"'1_入力シート【基本情報】'!FK414","v":""},{"$f":"'1_入力シート【基本情報】'!FL414","v":""},{"$f":"'1_入力シート【基本情報】'!FM414","v":""},{"$f":"'1_入力シート【基本情報】'!AR414","v":0}]
[null,"(46)",null,null,null,null,null,null,null,null,null,null,null,null,null,null,null,null,null,null,"除去又は囲い込み若しくは封じ込めによる飛散防止措置の実施の状況　",null,null,null,null,null,null,null,null,null,null,null,null,null,null,null,null,null,{"$f":"'1_入力シート【基本情報】'!FK415","v":""},{"$f":"'1_入力シート【基本情報】'!FL415","v":""},{"$f":"'1_入力シート【基本情報】'!FM415","v":""},{"$f":"'1_入力シート【基本情報】'!AR415","v":0}]
[null,"(47)",null,null,null,null,null,null,null,null,null,null,null,null,null,null,null,null,null,null,"囲い込み又は封じ込めによる飛散防止措置の劣化及び損傷の状況　",null,null,null,null,null,null,null,null,null,null,null,null,null,null,null,null,null,{"$f":"'1_入力シート【基本情報】'!FK416","v":""},{"$f":"'1_入力シート【基本情報】'!FL416","v":""},{"$f":"'1_入力シート【基本情報】'!FM416","v":""},{"$f":"'1_入力シート【基本情報】'!AR416","v":0}]
[null,5,null,null,"避難施設等"]
[null,"(1)",null,null,"令第120条第２項に規定する通路",null,null,null,null,null,null,null,null,null,null,null,null,null,null,null,"令第120条第２項に規定する通路の確保の状況",null,null,null,null,null,null,null,null,null,null,null,null,null,null,null,null,null,{"$f":"'1_入力シート【基本情報】'!FK426","v":""},{"$f":"'1_入力シート【基本情報】'!FL426","v":""},{"$f":"'1_入力シート【基本情報】'!FM426","v":""},{"$f":"'1_入力シート【基本情報】'!FN426","v":0}]
[null,"(2)",null,null,"廊下",null,null,null,null,null,null,null,null,null,null,null,null,null,null,null,"幅員の確保の状況\n",null,null,null,null,null,null,null,null,null,null,null,null,null,null,null,null,null,{"$f":"'1_入力シート【基本情報】'!FK427","v":""},{"$f":"'1_入力シート【基本情報】'!FL427","v":""},{"$f":"'1_入力シート【基本情報】'!FM427","v":""},{"$f":"'1_入力シート【基本情報】'!FN427","v":0}]
[null,"(3)",null,null,null,null,null,null,null,null,null,null,null,null,null,null,null,null,null,null,"物品の放置の状況",null,null,null,null,null,null,null,null,null,null,null,null,null,null,null,null,null,{"$f":"'1_入力シート【基本情報】'!FK428","v":""},{"$f":"'1_入力シート【基本情報】'!FL428","v":""},{"$f":"'1_入力シート【基本情報】'!FM428","v":""},{"$f":"'1_入力シート【基本情報】'!FN428","v":0}]
[null,"(4)",null,null,"出入口",null,null,null,null,null,null,null,null,null,null,null,null,null,null,null,"出入口の確保の状況",null,null,null,null,null,null,null,null,null,null,null,null,null,null,null,null,null,{"$f":"'1_入力シート【基本情報】'!FK429","v":""},{"$f":"'1_入力シート【基本情報】'!FL429","v":""},{"$f":"'1_入力シート【基本情報】'!FM429","v":""},{"$f":"'1_入力シート【基本情報】'!FN429","v":0}]
[null,"(5)",null,null,null,null,null,null,null,null,null,null,null,null,null,null,null,null,null,null,"物品の放置の状況",null,null,null,null,null,null,null,null,null,null,null,null,null,null,null,null,null,{"$f":"'1_入力シート【基本情報】'!FK430","v":""},{"$f":"'1_入力シート【基本情報】'!FL430","v":""},{"$f":"'1_入力シート【基本情報】'!FM430","v":""},{"$f":"'1_入力シート【基本情報】'!FN430","v":0}]
[null,"(6)",null,null,"屋上広場",null,null,null,null,null,null,null,null,null,null,null,null,null,null,null,"屋上広場の確保の状況",null,null,null,null,null,null,null,null,null,null,null,null,null,null,null,null,null,{"$f":"'1_入力シート【基本情報】'!FK431","v":""},{"$f":"'1_入力シート【基本情報】'!FL431","v":""},{"$f":"'1_入力シート【基本情報】'!FM431","v":""},{"$f":"'1_入力シート【基本情報】'!FN431","v":0}]
[null,"(7)",null,null,"避難上有効なバルコニー",null,null,null,null,null,null,null,null,null,null,null,null,null,null,null,"避難上有効なバルコニーの確保の状況",null,null,null,null,null,null,null,null,null,null,null,null,null,null,null,null,null,{"$f":"'1_入力シート【基本情報】'!FK432","v":""},{"$f":"'1_入力シート【基本情報】'!FL432","v":""},{"$f":"'1_入力シート【基本情報】'!FM432","v":""},{"$f":"'1_入力シート【基本情報】'!FN432","v":0}]
[null,"(8)",null,null,null,null,null,null,null,null,null,null,null,null,null,null,null,null,null,null,"手すり等の劣化及び損傷の状況",null,null,null,null,null,null,null,null,null,null,null,null,null,null,null,null,null,{"$f":"'1_入力シート【基本情報】'!FK433","v":""},{"$f":"'1_入力シート【基本情報】'!FL433","v":""},{"$f":"'1_入力シート【基本情報】'!FM433","v":""},{"$f":"'1_入力シート【基本情報】'!FN433","v":0}]
[null,"(9)",null,null,null,null,null,null,null,null,null,null,null,null,null,null,null,null,null,null,"物品の放置の状況",null,null,null,null,null,null,null,null,null,null,null,null,null,null,null,null,null,{"$f":"'1_入力シート【基本情報】'!FK434","v":""},{"$f":"'1_入力シート【基本情報】'!FL434","v":""},{"$f":"'1_入力シート【基本情報】'!FM434","v":""},{"$f":"'1_入力シート【基本情報】'!FN434","v":0}]
[null,"(10)",null,null,null,null,null,null,null,null,null,null,null,null,null,null,null,null,null,null,"避難器具の操作性の確保の状況",null,null,null,null,null,null,null,null,null,null,null,null,null,null,null,null,null,{"$f":"'1_入力シート【基本情報】'!FK435","v":""},{"$f":"'1_入力シート【基本情報】'!FL435","v":""},{"$f":"'1_入力シート【基本情報】'!FM435","v":""},{"$f":"'1_入力シート【基本情報】'!FN435","v":0}]
[null,"(11)",null,null,"階段",null,"階段",null,null,null,null,null,null,null,null,null,null,null,null,null,"直通階段の設置の状況",null,null,null,null,null,null,null,null,null,null,null,null,null,null,null,null,null,{"$f":"'1_入力シート【基本情報】'!FK436","v":""},{"$f":"'1_入力シート【基本情報】'!FL436","v":""},{"$f":"'1_入力シート【基本情報】'!FM436","v":""},{"$f":"'1_入力シート【基本情報】'!FN436","v":0}]
[null,"(12)",null,null,null,null,null,null,null,null,null,null,null,null,null,null,null,null,null,null,"幅員の確保の状況",null,null,null,null,null,null,null,null,null,null,null,null,null,null,null,null,null,{"$f":"'1_入力シート【基本情報】'!FK437","v":""},{"$f":"'1_入力シート【基本情報】'!FL437","v":""},{"$f":"'1_入力シート【基本情報】'!FM437","v":""},{"$f":"'1_入力シート【基本情報】'!FN437","v":0}]
[null,"(13)",null,null,null,null,null,null,null,null,null,null,null,null,null,null,null,null,null,null,"手すりの設置の状況",null,null,null,null,null,null,null,null,null,null,null,null,null,null,null,null,null,{"$f":"'1_入力シート【基本情報】'!FK438","v":""},{"$f":"'1_入力シート【基本情報】'!FL438","v":""},{"$f":"'1_入力シート【基本情報】'!FM438","v":""},{"$f":"'1_入力シート【基本情報】'!FN438","v":0}]
[null,"(14)",null,null,null,null,null,null,null,null,null,null,null,null,null,null,null,null,null,null,"物品の放置の状況",null,null,null,null,null,null,null,null,null,null,null,null,null,null,null,null,null,{"$f":"'1_入力シート【基本情報】'!FK439","v":""},{"$f":"'1_入力シート【基本情報】'!FL439","v":""},{"$f":"'1_入力シート【基本情報】'!FM439","v":""},{"$f":"'1_入力シート【基本情報】'!FN439","v":0}]
[null,"(15)",null,null,null,null,null,null,null,null,null,null,null,null,null,null,null,null,null,null,"階段各部の劣化及び損傷の状況",null,null,null,null,null,null,null,null,null,null,null,null,null,null,null,null,null,{"$f":"'1_入力シート【基本情報】'!FK440","v":""},{"$f":"'1_入力シート【基本情報】'!FL440","v":""},{"$f":"'1_入力シート【基本情報】'!FM440","v":""},{"$f":"'1_入力シート【基本情報】'!FN440","v":0}]
[null,"(16)",null,null,null,null,"屋内に設けられた避難階段",null,null,null,null,null,null,null,null,null,null,null,null,null,"階段室の構造の確保の状況",null,null,null,null,null,null,null,null,null,null,null,null,null,null,null,null,null,{"$f":"'1_入力シート【基本情報】'!FK441","v":""},{"$f":"'1_入力シート【基本情報】'!FL441","v":""},{"$f":"'1_入力シート【基本情報】'!FM441","v":""},{"$f":"'1_入力シート【基本情報】'!FN441","v":0}]
[null,"(17)",null,null,null,null,"屋外に設けられた避難階段",null,null,null,null,null,null,null,null,null,null,null,null,null,"屋内と階段との間の防火区画の確保の状況",null,null,null,null,null,null,null,null,null,null,null,null,null,null,null,null,null,{"$f":"'1_入力シート【基本情報】'!FK442","v":""},{"$f":"'1_入力シート【基本情報】'!FL442","v":""},{"$f":"'1_入力シート【基本情報】'!FM442","v":""},{"$f":"'1_入力シート【基本情報】'!FN442","v":0}]
[null,"(18)",null,null,null,null,null,null,null,null,null,null,null,null,null,null,null,null,null,null,"開放性の確保の状況",null,null,null,null,null,null,null,null,null,null,null,null,null,null,null,null,null,{"$f":"'1_入力シート【基本情報】'!FK443","v":""},{"$f":"'1_入力シート【基本情報】'!FL443","v":""},{"$f":"'1_入力シート【基本情報】'!FM443","v":""},{"$f":"'1_入力シート【基本情報】'!FN443","v":0}]
[null,"(19)",null,null,null,null,"特別避難階段",null,null,null,null,null,null,null,null,null,null,null,null,null,"バルコニー又は付室の構造及び面積の確保の状況",null,null,null,null,null,null,null,null,null,null,null,null,null,null,null,null,null,{"$f":"'1_入力シート【基本情報】'!FK444","v":""},{"$f":"'1_入力シート【基本情報】'!FL444","v":""},{"$f":"'1_入力シート【基本情報】'!FM444","v":""},{"$f":"'1_入力シート【基本情報】'!FN444","v":0}]
[null,"(20)",null,null,null,null,null,null,null,null,null,null,null,null,null,null,null,null,null,null,"付室等の排煙設備の設置の状況",null,null,null,null,null,null,null,null,null,null,null,null,null,null,null,null,null,{"$f":"'1_入力シート【基本情報】'!FK445","v":""},{"$f":"'1_入力シート【基本情報】'!FL445","v":""},{"$f":"'1_入力シート【基本情報】'!FM445","v":""},{"$f":"'1_入力シート【基本情報】'!FN445","v":0}]
[null,"(21)",null,null,null,null,null,null,null,null,null,null,null,null,null,null,null,null,null,null,"付室等の排煙設備の作動の状況",null,null,null,null,null,null,null,null,null,null,null,null,null,null,null,null,null,{"$f":"'1_入力シート【基本情報】'!FK446","v":""},{"$f":"'1_入力シート【基本情報】'!FL446","v":""},{"$f":"'1_入力シート【基本情報】'!FM446","v":""},{"$f":"'1_入力シート【基本情報】'!FN446","v":0}]
[null,"(22)",null,null,null,null,null,null,null,null,null,null,null,null,null,null,null,null,null,null,"付室等の外気に向かって開くことができる窓の状況",null,null,null,null,null,null,null,null,null,null,null,null,null,null,null,null,null,{"$f":"'1_入力シート【基本情報】'!FK447","v":""},{"$f":"'1_入力シート【基本情報】'!FL447","v":""},{"$f":"'1_入力シート【基本情報】'!FM447","v":""},{"$f":"'1_入力シート【基本情報】'!FN447","v":0}]
[null,"(23)",null,null,null,null,null,null,null,null,null,null,null,null,null,null,null,null,null,null,"物品の放置の状況",null,null,null,null,null,null,null,null,null,null,null,null,null,null,null,null,null,{"$f":"'1_入力シート【基本情報】'!FK448","v":""},{"$f":"'1_入力シート【基本情報】'!FL448","v":""},{"$f":"'1_入力シート【基本情報】'!FM448","v":""},{"$f":"'1_入力シート【基本情報】'!FN448","v":0}]
[null,"(24)",null,null,"排煙設備等",null,"防煙壁",null,null,null,null,null,null,null,null,null,null,null,null,null,"防煙区画の設置の状況",null,null,null,null,null,null,null,null,null,null,null,null,null,null,null,null,null,{"$f":"'1_入力シート【基本情報】'!FK449","v":""},{"$f":"'1_入力シート【基本情報】'!FL449","v":""},{"$f":"'1_入力シート【基本情報】'!FM449","v":""},{"$f":"'1_入力シート【基本情報】'!FN449","v":0}]
[null,"(25)",null,null,null,null,null,null,null,null,null,null,null,null,null,null,null,null,null,null,"防煙垂れ壁の劣化及び損傷の状況",null,null,null,null,null,null,null,null,null,null,null,null,null,null,null,null,null,{"$f":"'1_入力シート【基本情報】'!FK450","v":""},{"$f":"'1_入力シート【基本情報】'!FL450","v":""},{"$f":"'1_入力シート【基本情報】'!FM450","v":""},{"$f":"'1_入力シート【基本情報】'!FN450","v":0}]
[null,"(26)",null,null,null,null,null,null,null,null,null,null,null,null,null,null,null,null,null,null,"可動式防煙垂れ壁の作動の状況",null,null,null,null,null,null,null,null,null,null,null,null,null,null,null,null,null,{"$f":"'1_入力シート【基本情報】'!FK451","v":""},{"$f":"'1_入力シート【基本情報】'!FL451","v":""},{"$f":"'1_入力シート【基本情報】'!FM451","v":""},{"$f":"'1_入力シート【基本情報】'!FN451","v":0}]
[null,"(27)",null,null,null,null,"排煙設備",null,null,null,null,null,null,null,null,null,null,null,null,null,"排煙設備の設置の状況",null,null,null,null,null,null,null,null,null,null,null,null,null,null,null,null,null,{"$f":"'1_入力シート【基本情報】'!FK452","v":""},{"$f":"'1_入力シート【基本情報】'!FL452","v":""},{"$f":"'1_入力シート【基本情報】'!FM452","v":""},{"$f":"'1_入力シート【基本情報】'!FN452","v":0}]
[null,"(28)",null,null,null,null,null,null,null,null,null,null,null,null,null,null,null,null,null,null,"排煙設備の作動の状況",null,null,null,null,null,null,null,null,null,null,null,null,null,null,null,null,null,{"$f":"'1_入力シート【基本情報】'!FK453","v":""},{"$f":"'1_入力シート【基本情報】'!FL453","v":""},{"$f":"'1_入力シート【基本情報】'!FM453","v":""},{"$f":"'1_入力シート【基本情報】'!FN453","v":0}]
[null,"(29)",null,null,null,null,null,null,null,null,null,null,null,null,null,null,null,null,null,null,"自然排煙口の維持保全の状況",null,null,null,null,null,null,null,null,null,null,null,null,null,null,null,null,null,{"$f":"'1_入力シート【基本情報】'!FK454","v":""},{"$f":"'1_入力シート【基本情報】'!FL454","v":""},{"$f":"'1_入力シート【基本情報】'!FM454","v":""},{"$f":"'1_入力シート【基本情報】'!FN454","v":0}]
[null,"(30)",null,null,"その他の設備等",null,"非常用の進入口等",null,null,null,null,null,null,null,null,null,null,null,null,null,"非常用の進入口等の設置の状況",null,null,null,null,null,null,null,null,null,null,null,null,null,null,null,null,null,{"$f":"'1_入力シート【基本情報】'!FK455","v":""},{"$f":"'1_入力シート【基本情報】'!FL455","v":""},{"$f":"'1_入力シート【基本情報】'!FM455","v":""},{"$f":"'1_入力シート【基本情報】'!FN455","v":0}]
[null,"(31)",null,null,null,null,null,null,null,null,null,null,null,null,null,null,null,null,null,null,"非常用の進入口等の維持保全の状況",null,null,null,null,null,null,null,null,null,null,null,null,null,null,null,null,null,{"$f":"'1_入力シート【基本情報】'!FK456","v":""},{"$f":"'1_入力シート【基本情報】'!FL456","v":""},{"$f":"'1_入力シート【基本情報】'!FM456","v":""},{"$f":"'1_入力シート【基本情報】'!FN456","v":0}]
[null,"(32)",null,null,null,null,"非常用エレベーター",null,null,null,null,null,null,null,null,null,null,null,null,null,"乗降ロビーの構造及び面積の確保の状況",null,null,null,null,null,null,null,null,null,null,null,null,null,null,null,null,null,{"$f":"'1_入力シート【基本情報】'!FK457","v":""},{"$f":"'1_入力シート【基本情報】'!FL457","v":""},{"$f":"'1_入力シート【基本情報】'!FM457","v":""},{"$f":"'1_入力シート【基本情報】'!FN457","v":0}]
[null,"(33)",null,null,null,null,null,null,null,null,null,null,null,null,null,null,null,null,null,null,"乗降ロビー等の排煙設備の設置の状況",null,null,null,null,null,null,null,null,null,null,null,null,null,null,null,null,null,{"$f":"'1_入力シート【基本情報】'!FK458","v":""},{"$f":"'1_入力シート【基本情報】'!FL458","v":""},{"$f":"'1_入力シート【基本情報】'!FM458","v":""},{"$f":"'1_入力シート【基本情報】'!FN458","v":0}]
[null,"(34)",null,null,null,null,null,null,null,null,null,null,null,null,null,null,null,null,null,null,"乗降ロビー等の排煙設備の作動の状況",null,null,null,null,null,null,null,null,null,null,null,null,null,null,null,null,null,{"$f":"'1_入力シート【基本情報】'!FK459","v":""},{"$f":"'1_入力シート【基本情報】'!FL459","v":""},{"$f":"'1_入力シート【基本情報】'!FM459","v":""},{"$f":"'1_入力シート【基本情報】'!FN459","v":0}]
[null,"(35)",null,null,null,null,null,null,null,null,null,null,null,null,null,null,null,null,null,null,"乗降ロビーの付室の外気に向かって開くことができる窓の状況",null,null,null,null,null,null,null,null,null,null,null,null,null,null,null,null,null,{"$f":"'1_入力シート【基本情報】'!FK460","v":""},{"$f":"'1_入力シート【基本情報】'!FL460","v":""},{"$f":"'1_入力シート【基本情報】'!FM460","v":""},{"$f":"'1_入力シート【基本情報】'!FN460","v":0}]
[null,"(36)",null,null,null,null,null,null,null,null,null,null,null,null,null,null,null,null,null,null,"物品の放置の状況",null,null,null,null,null,null,null,null,null,null,null,null,null,null,null,null,null,{"$f":"'1_入力シート【基本情報】'!FK461","v":""},{"$f":"'1_入力シート【基本情報】'!FL461","v":""},{"$f":"'1_入力シート【基本情報】'!FM461","v":""},{"$f":"'1_入力シート【基本情報】'!FN461","v":0}]
[null,"(37)",null,null,null,null,null,null,null,null,null,null,null,null,null,null,null,null,null,null,"非常用エレベーターの作動の状況",null,null,null,null,null,null,null,null,null,null,null,null,null,null,null,null,null,{"$f":"'1_入力シート【基本情報】'!FK462","v":""},{"$f":"'1_入力シート【基本情報】'!FL462","v":""},{"$f":"'1_入力シート【基本情報】'!FM462","v":""},{"$f":"'1_入力シート【基本情報】'!FN462","v":0}]
[null,"(38)",null,null,null,null,"非常用の照明装置",null,null,null,null,null,null,null,null,null,null,null,null,null,"非常用の照明装置の設置の状況",null,null,null,null,null,null,null,null,null,null,null,null,null,null,null,null,null,{"$f":"'1_入力シート【基本情報】'!FK463","v":""},{"$f":"'1_入力シート【基本情報】'!FL463","v":""},{"$f":"'1_入力シート【基本情報】'!FM463","v":""},{"$f":"'1_入力シート【基本情報】'!FN463","v":0}]
[null,"(39)",null,null,null,null,null,null,null,null,null,null,null,null,null,null,null,null,null,null,"非常用の照明装置の作動の状況",null,null,null,null,null,null,null,null,null,null,null,null,null,null,null,null,null,{"$f":"'1_入力シート【基本情報】'!FK464","v":""},{"$f":"'1_入力シート【基本情報】'!FL464","v":""},{"$f":"'1_入力シート【基本情報】'!FM464","v":""},{"$f":"'1_入力シート【基本情報】'!FN464","v":0}]
[null,"(40)",null,null,null,null,null,null,null,null,null,null,null,null,null,null,null,null,null,null,"照明の妨げとなる物品の放置の状況",null,null,null,null,null,null,null,null,null,null,null,null,null,null,null,null,null,{"$f":"'1_入力シート【基本情報】'!FK465","v":""},{"$f":"'1_入力シート【基本情報】'!FL465","v":""},{"$f":"'1_入力シート【基本情報】'!FM465","v":""},{"$f":"'1_入力シート【基本情報】'!FN465","v":0}]
[null,6,null,null,"その他"]
[null,"(1)",null,null,"特殊な構造等",null,"膜構造建築物の膜体、取付部材等",null,null,null,null,null,null,null,null,null,null,null,null,null,"膜体及び取付部材の劣化及び損傷の状況",null,null,null,null,null,null,null,null,null,null,null,null,null,null,null,null,null,{"$f":"'1_入力シート【基本情報】'!FK475","v":""},{"$f":"'1_入力シート【基本情報】'!FL475","v":""},{"$f":"'1_入力シート【基本情報】'!FM475","v":""},{"$f":"'1_入力シート【基本情報】'!FN475","v":0}]
[null,"(2)",null,null,null,null,null,null,null,null,null,null,null,null,null,null,null,null,null,null,"膜張力及びケーブル張力の状況",null,null,null,null,null,null,null,null,null,null,null,null,null,null,null,null,null,{"$f":"'1_入力シート【基本情報】'!FK476","v":""},{"$f":"'1_入力シート【基本情報】'!FL476","v":""},{"$f":"'1_入力シート【基本情報】'!FM476","v":""},{"$f":"'1_入力シート【基本情報】'!FN476","v":0}]
[null,"(3)",null,null,null,null,"免震構造建築物の免震層及び免震装置",null,null,null,null,null,null,null,null,null,null,null,null,null,"免震装置の劣化及び損傷の状況（免震装置が可視状態にある場合に限る。）",null,null,null,null,null,null,null,null,null,null,null,null,null,null,null,null,null,{"$f":"'1_入力シート【基本情報】'!FK477","v":""},{"$f":"'1_入力シート【基本情報】'!FL477","v":""},{"$f":"'1_入力シート【基本情報】'!FM477","v":""},{"$f":"'1_入力シート【基本情報】'!FN477","v":0}]
[null,"(4)",null,null,null,null,null,null,null,null,null,null,null,null,null,null,null,null,null,null,"上部構造の可動の状況",null,null,null,null,null,null,null,null,null,null,null,null,null,null,null,null,null,{"$f":"'1_入力シート【基本情報】'!FK478","v":""},{"$f":"'1_入力シート【基本情報】'!FL478","v":""},{"$f":"'1_入力シート【基本情報】'!FM478","v":""},{"$f":"'1_入力シート【基本情報】'!FN478","v":0}]
[null,"(5)",null,null,"避雷設備",null,null,null,null,null,null,null,null,null,null,null,null,null,null,null,"避雷針、避雷導線等の劣化及び損傷の状況",null,null,null,null,null,null,null,null,null,null,null,null,null,null,null,null,null,{"$f":"'1_入力シート【基本情報】'!FK479","v":""},{"$f":"'1_入力シート【基本情報】'!FL479","v":""},{"$f":"'1_入力シート【基本情報】'!FM479","v":""},{"$f":"'1_入力シート【基本情報】'!FN479","v":0}]
[null,"(6)",null,null,"煙突",null,"建築物に設ける煙突",null,null,null,null,null,null,null,null,null,null,null,null,null,"煙突本体及び建築物との接合部の劣化及び損傷の状況",null,null,null,null,null,null,null,null,null,null,null,null,null,null,null,null,null,{"$f":"'1_入力シート【基本情報】'!FK480","v":""},{"$f":"'1_入力シート【基本情報】'!FL480","v":""},{"$f":"'1_入力シート【基本情報】'!FM480","v":""},{"$f":"'1_入力シート【基本情報】'!FN480","v":0}]
[null,"(7)",null,null,null,null,null,null,null,null,null,null,null,null,null,null,null,null,null,null,"付帯金物の劣化及び損傷の状況",null,null,null,null,null,null,null,null,null,null,null,null,null,null,null,null,null,{"$f":"'1_入力シート【基本情報】'!FK481","v":""},{"$f":"'1_入力シート【基本情報】'!FL481","v":""},{"$f":"'1_入力シート【基本情報】'!FM481","v":""},{"$f":"'1_入力シート【基本情報】'!FN481","v":0}]
[null,"(8)",null,null,null,null,"令第138条第１項第１号に掲げる煙突",null,null,null,null,null,null,null,null,null,null,null,null,null,"煙突本体の劣化及び損傷の状況",null,null,null,null,null,null,null,null,null,null,null,null,null,null,null,null,null,{"$f":"'1_入力シート【基本情報】'!FK482","v":""},{"$f":"'1_入力シート【基本情報】'!FL482","v":""},{"$f":"'1_入力シート【基本情報】'!FM482","v":""},{"$f":"'1_入力シート【基本情報】'!FN482","v":0}]
[null,"(9)",null,null,null,null,null,null,null,null,null,null,null,null,null,null,null,null,null,null,"付帯金物の劣化及び損傷の状況",null,null,null,null,null,null,null,null,null,null,null,null,null,null,null,null,null,{"$f":"'1_入力シート【基本情報】'!FK483","v":""},{"$f":"'1_入力シート【基本情報】'!FL483","v":""},{"$f":"'1_入力シート【基本情報】'!FM483","v":""},{"$f":"'1_入力シート【基本情報】'!FN483","v":0}]
[null,7,null,null,"上記以外の調査項目"]
[null,"(1)",null,null,null,null,null,null,{"$f":"'1_入力シート【基本情報】'!$U$493","v":0},null,null,null,null,null,null,null,null,null,null,null,null,null,null,null,null,null,null,null,null,null,null,null,null,null,null,null,null,null,{"$f":"'1_入力シート【基本情報】'!FK493","v":""},{"$f":"'1_入力シート【基本情報】'!FL493","v":""},{"$f":"'1_入力シート【基本情報】'!FM493","v":""},{"$f":"'1_入力シート【基本情報】'!FN493","v":0}]
[null,"(2)",null,null,null,null,null,null,{"$f":"'1_入力シート【基本情報】'!$U$494","v":0},null,null,null,null,null,null,null,null,null,null,null,null,null,null,null,null,null,null,null,null,null,null,null,null,null,null,null,null,null,{"$f":"'1_入力シート【基本情報】'!FK494","v":""},{"$f":"'1_入力シート【基本情報】'!FL494","v":""},{"$f":"'1_入力シート【基本情報】'!FM494","v":""},{"$f":"'1_入力シート【基本情報】'!FN494","v":0}]
[null,"(3)",null,null,null,null,null,null,{"$f":"'1_入力シート【基本情報】'!$U$495","v":0},null,null,null,null,null,null,null,null,null,null,null,null,null,null,null,null,null,null,null,null,null,null,null,null,null,null,null,null,null,{"$f":"'1_入力シート【基本情報】'!FK495","v":""},{"$f":"'1_入力シート【基本情報】'!FL495","v":""},{"$f":"'1_入力シート【基本情報】'!FM495","v":""},{"$f":"'1_入力シート【基本情報】'!FN495","v":0}]
[null,"(4)",null,null,null,null,null,null,{"$f":"'1_入力シート【基本情報】'!$U$496","v":0},null,null,null,null,null,null,null,null,null,null,null,null,null,null,null,null,null,null,null,null,null,null,null,null,null,null,null,null,null,{"$f":"'1_入力シート【基本情報】'!FK496","v":""},{"$f":"'1_入力シート【基本情報】'!FL496","v":""},{"$f":"'1_入力シート【基本情報】'!FM496","v":""},{"$f":"'1_入力シート【基本情報】'!FN496","v":0}]
[null,"(5)",null,null,null,null,null,null,{"$f":"'1_入力シート【基本情報】'!$U$497","v":0},null,null,null,null,null,null,null,null,null,null,null,null,null,null,null,null,null,null,null,null,null,null,null,null,null,null,null,null,null,{"$f":"'1_入力シート【基本情報】'!FK497","v":""},{"$f":"'1_入力シート【基本情報】'!FL497","v":""},{"$f":"'1_入力シート【基本情報】'!FM497","v":""},{"$f":"'1_入力シート【基本情報】'!FN497","v":0}]
[null,"(6)",null,null,null,null,null,null,{"$f":"'1_入力シート【基本情報】'!$U$498","v":0},null,null,null,null,null,null,null,null,null,null,null,null,null,null,null,null,null,null,null,null,null,null,null,null,null,null,null,null,null,{"$f":"'1_入力シート【基本情報】'!FK498","v":""},{"$f":"'1_入力シート【基本情報】'!FL498","v":""},{"$f":"'1_入力シート【基本情報】'!FM498","v":""},{"$f":"'1_入力シート【基本情報】'!FN498","v":0}]
[null,"(7)",null,null,null,null,null,null,{"$f":"'1_入力シート【基本情報】'!$U$499","v":0},null,null,null,null,null,null,null,null,null,null,null,null,null,null,null,null,null,null,null,null,null,null,null,null,null,null,null,null,null,{"$f":"'1_入力シート【基本情報】'!FK499","v":""},{"$f":"'1_入力シート【基本情報】'!FL499","v":""},{"$f":"'1_入力シート【基本情報】'!FM499","v":""},{"$f":"'1_入力シート【基本情報】'!FN499","v":0}]
[null,"(8)",null,null,null,null,null,null,{"$f":"'1_入力シート【基本情報】'!$U$500","v":0},null,null,null,null,null,null,null,null,null,null,null,null,null,null,null,null,null,null,null,null,null,null,null,null,null,null,null,null,null,{"$f":"'1_入力シート【基本情報】'!FK500","v":""},{"$f":"'1_入力シート【基本情報】'!FL500","v":""},{"$f":"'1_入力シート【基本情報】'!FM500","v":""},{"$f":"'1_入力シート【基本情報】'!FN500","v":0}]
[null,"(9)",null,null,null,null,null,null,{"$f":"'1_入力シート【基本情報】'!$U$501","v":0},null,null,null,null,null,null,null,null,null,null,null,null,null,null,null,null,null,null,null,null,null,null,null,null,null,null,null,null,null,{"$f":"'1_入力シート【基本情報】'!FK501","v":""},{"$f":"'1_入力シート【基本情報】'!FL501","v":""},{"$f":"'1_入力シート【基本情報】'!FM501","v":""},{"$f":"'1_入力シート【基本情報】'!FN501","v":0}]
[null,"(10)",null,null,null,null,null,null,{"$f":"'1_入力シート【基本情報】'!$U$502","v":0},null,null,null,null,null,null,null,null,null,null,null,null,null,null,null,null,null,null,null,null,null,null,null,null,null,null,null,null,null,{"$f":"'1_入力シート【基本情報】'!FK502","v":""},{"$f":"'1_入力シート【基本情報】'!FL502","v":""},{"$f":"'1_入力シート【基本情報】'!FM502","v":""},{"$f":"'1_入力シート【基本情報】'!FN502","v":0}]
[null,null,"その他確認事項"]
[null,"法第12条第3項の規定による検査を要する防火設備の有無","法第12条第3項の規定による検査を要する防火設備の有無"]
[null,null,null,{"$f":"'1_入力シート【基本情報】'!$DO$277","v":""},"有","（",{"$f":"'1_入力シート【基本情報】'!$DM$277","v":""},null,null,null,null,null,null,null,null,null,null,null,null,null,"階）",null,{"$f":"'1_入力シート【基本情報】'!$DP$277","v":""},"無"]
[]
[null,null,"特記事項"]
[null,"番号",null,null,"調査項目",null,null,null,null,null,null,null,null,null,"指摘の具体的内容等",null,null,null,null,null,null,null,null,null,null,null,null,null,null,null,"改善策の具体的内容等",null,null,null,null,null,null,null,null,null,null,"改善（予定）年月"]
[null,{"$f":"IFERROR(INDEX('1_入力シート【基本情報】'!DW:DW,1/LARGE(INDEX(('1_入力シート【基本情報】'!$AF$307:$AF$526={\"×要是正（既存不適格以外）\",\"△既存不適格\"})/ROW('1_入力シート【基本情報】'!$DW$307:$DW$526),0),ROW(A1))),\"\")","v":""},null,null,{"$f":"IFERROR(INDEX('1_入力シート【基本情報】'!DR:DR,1/LARGE(INDEX(('1_入力シート【基本情報】'!$AF$307:$AF$526={\"×要是正（既存不適格以外）\",\"△既存不適格\"})/ROW('1_入力シート【基本情報】'!$DR$307:$DR$526),0),ROW(A1))),\"\")","v":""},null,null,null,null,null,null,null,null,null,{"$f":"IFERROR(INDEX('1_入力シート【基本情報】'!FW:FW,1/LARGE(INDEX(('1_入力シート【基本情報】'!$AF$307:$AF$526={\"×要是正（既存不適格以外）\",\"△既存不適格\"})/ROW('1_入力シート【基本情報】'!$FW$307:$FW$526),0),ROW(A1))),\"\")","v":""},null,null,null,null,null,null,null,null,null,null,null,null,null,null,null,{"$f":"IFERROR(INDEX('1_入力シート【基本情報】'!BD:BD,1/LARGE(INDEX(('1_入力シート【基本情報】'!$AF$307:$AF$526={\"×要是正（既存不適格以外）\",\"△既存不適格\"})/ROW('1_入力シート【基本情報】'!$BD$307:$BD$526),0),ROW(A1))),\"\")","v":""},null,null,null,null,null,null,null,null,null,null,{"$f":"IFERROR(INDEX('1_入力シート【基本情報】'!EA:EA,1/LARGE(INDEX(('1_入力シート【基本情報】'!$AF$307:$AF$526={\"×要是正（既存不適格以外）\",\"△既存不適格\"})/ROW('1_入力シート【基本情報】'!$EA$307:$EA$526),0),ROW(A1))),\"\")","v":""}]
[null,{"$f":"IFERROR(INDEX('1_入力シート【基本情報】'!DW:DW,1/LARGE(INDEX(('1_入力シート【基本情報】'!$AF$307:$AF$526={\"×要是正（既存不適格以外）\",\"△既存不適格\"})/ROW('1_入力シート【基本情報】'!$DW$307:$DW$526),0),ROW(A2))),\"\")","v":""},null,null,{"$f":"IFERROR(INDEX('1_入力シート【基本情報】'!DR:DR,1/LARGE(INDEX(('1_入力シート【基本情報】'!$AF$307:$AF$526={\"×要是正（既存不適格以外）\",\"△既存不適格\"})/ROW('1_入力シート【基本情報】'!$DR$307:$DR$526),0),ROW(A2))),\"\")","v":""},null,null,null,null,null,null,null,null,null,{"$f":"IFERROR(INDEX('1_入力シート【基本情報】'!FW:FW,1/LARGE(INDEX(('1_入力シート【基本情報】'!$AF$307:$AF$526={\"×要是正（既存不適格以外）\",\"△既存不適格\"})/ROW('1_入力シート【基本情報】'!$FW$307:$FW$526),0),ROW(A2))),\"\")","v":""},null,null,null,null,null,null,null,null,null,null,null,null,null,null,null,{"$f":"IFERROR(INDEX('1_入力シート【基本情報】'!BD:BD,1/LARGE(INDEX(('1_入力シート【基本情報】'!$AF$307:$AF$526={\"×要是正（既存不適格以外）\",\"△既存不適格\"})/ROW('1_入力シート【基本情報】'!$BD$307:$BD$526),0),ROW(A2))),\"\")","v":""},null,null,null,null,null,null,null,null,null,null,{"$f":"IFERROR(INDEX('1_入力シート【基本情報】'!EA:EA,1/LARGE(INDEX(('1_入力シート【基本情報】'!$AF$307:$AF$526={\"×要是正（既存不適格以外）\",\"△既存不適格\"})/ROW('1_入力シート【基本情報】'!$EA$307:$EA$526),0),ROW(A2))),\"\")","v":""}]
[null,{"$f":"IFERROR(INDEX('1_入力シート【基本情報】'!DW:DW,1/LARGE(INDEX(('1_入力シート【基本情報】'!$AF$307:$AF$526={\"×要是正（既存不適格以外）\",\"△既存不適格\"})/ROW('1_入力シート【基本情報】'!$DW$307:$DW$526),0),ROW(A3))),\"\")","v":""},null,null,{"$f":"IFERROR(INDEX('1_入力シート【基本情報】'!DR:DR,1/LARGE(INDEX(('1_入力シート【基本情報】'!$AF$307:$AF$526={\"×要是正（既存不適格以外）\",\"△既存不適格\"})/ROW('1_入力シート【基本情報】'!$DR$307:$DR$526),0),ROW(A3))),\"\")","v":""},null,null,null,null,null,null,null,null,null,{"$f":"IFERROR(INDEX('1_入力シート【基本情報】'!FW:FW,1/LARGE(INDEX(('1_入力シート【基本情報】'!$AF$307:$AF$526={\"×要是正（既存不適格以外）\",\"△既存不適格\"})/ROW('1_入力シート【基本情報】'!$FW$307:$FW$526),0),ROW(A3))),\"\")","v":""},null,null,null,null,null,null,null,null,null,null,null,null,null,null,null,{"$f":"IFERROR(INDEX('1_入力シート【基本情報】'!BD:BD,1/LARGE(INDEX(('1_入力シート【基本情報】'!$AF$307:$AF$526={\"×要是正（既存不適格以外）\",\"△既存不適格\"})/ROW('1_入力シート【基本情報】'!$BD$307:$BD$526),0),ROW(A3))),\"\")","v":""},null,null,null,null,null,null,null,null,null,null,{"$f":"IFERROR(INDEX('1_入力シート【基本情報】'!EA:EA,1/LARGE(INDEX(('1_入力シート【基本情報】'!$AF$307:$AF$526={\"×要是正（既存不適格以外）\",\"△既存不適格\"})/ROW('1_入力シート【基本情報】'!$EA$307:$EA$526),0),ROW(A3))),\"\")","v":""}]
[null,{"$f":"IFERROR(INDEX('1_入力シート【基本情報】'!DW:DW,1/LARGE(INDEX(('1_入力シート【基本情報】'!$AF$307:$AF$526={\"×要是正（既存不適格以外）\",\"△既存不適格\"})/ROW('1_入力シート【基本情報】'!$DW$307:$DW$526),0),ROW(A4))),\"\")","v":""},null,null,{"$f":"IFERROR(INDEX('1_入力シート【基本情報】'!DR:DR,1/LARGE(INDEX(('1_入力シート【基本情報】'!$AF$307:$AF$526={\"×要是正（既存不適格以外）\",\"△既存不適格\"})/ROW('1_入力シート【基本情報】'!$DR$307:$DR$526),0),ROW(A4))),\"\")","v":""},null,null,null,null,null,null,null,null,null,{"$f":"IFERROR(INDEX('1_入力シート【基本情報】'!FW:FW,1/LARGE(INDEX(('1_入力シート【基本情報】'!$AF$307:$AF$526={\"×要是正（既存不適格以外）\",\"△既存不適格\"})/ROW('1_入力シート【基本情報】'!$FW$307:$FW$526),0),ROW(A4))),\"\")","v":""},null,null,null,null,null,null,null,null,null,null,null,null,null,null,null,{"$f":"IFERROR(INDEX('1_入力シート【基本情報】'!BD:BD,1/LARGE(INDEX(('1_入力シート【基本情報】'!$AF$307:$AF$526={\"×要是正（既存不適格以外）\",\"△既存不適格\"})/ROW('1_入力シート【基本情報】'!$BD$307:$BD$526),0),ROW(A4))),\"\")","v":""},null,null,null,null,null,null,null,null,null,null,{"$f":"IFERROR(INDEX('1_入力シート【基本情報】'!EA:EA,1/LARGE(INDEX(('1_入力シート【基本情報】'!$AF$307:$AF$526={\"×要是正（既存不適格以外）\",\"△既存不適格\"})/ROW('1_入力シート【基本情報】'!$EA$307:$EA$526),0),ROW(A4))),\"\")","v":""}]
[null,{"$f":"IFERROR(INDEX('1_入力シート【基本情報】'!DW:DW,1/LARGE(INDEX(('1_入力シート【基本情報】'!$AF$307:$AF$526={\"×要是正（既存不適格以外）\",\"△既存不適格\"})/ROW('1_入力シート【基本情報】'!$DW$307:$DW$526),0),ROW(A5))),\"\")","v":""},null,null,{"$f":"IFERROR(INDEX('1_入力シート【基本情報】'!DR:DR,1/LARGE(INDEX(('1_入力シート【基本情報】'!$AF$307:$AF$526={\"×要是正（既存不適格以外）\",\"△既存不適格\"})/ROW('1_入力シート【基本情報】'!$DR$307:$DR$526),0),ROW(A5))),\"\")","v":""},null,null,null,null,null,null,null,null,null,{"$f":"IFERROR(INDEX('1_入力シート【基本情報】'!FW:FW,1/LARGE(INDEX(('1_入力シート【基本情報】'!$AF$307:$AF$526={\"×要是正（既存不適格以外）\",\"△既存不適格\"})/ROW('1_入力シート【基本情報】'!$FW$307:$FW$526),0),ROW(A5))),\"\")","v":""},null,null,null,null,null,null,null,null,null,null,null,null,null,null,null,{"$f":"IFERROR(INDEX('1_入力シート【基本情報】'!BD:BD,1/LARGE(INDEX(('1_入力シート【基本情報】'!$AF$307:$AF$526={\"×要是正（既存不適格以外）\",\"△既存不適格\"})/ROW('1_入力シート【基本情報】'!$BD$307:$BD$526),0),ROW(A5))),\"\")","v":""},null,null,null,null,null,null,null,null,null,null,{"$f":"IFERROR(INDEX('1_入力シート【基本情報】'!EA:EA,1/LARGE(INDEX(('1_入力シート【基本情報】'!$AF$307:$AF$526={\"×要是正（既存不適格以外）\",\"△既存不適格\"})/ROW('1_入力シート【基本情報】'!$EA$307:$EA$526),0),ROW(A5))),\"\")","v":""}]
[null,{"$f":"IFERROR(INDEX('1_入力シート【基本情報】'!DW:DW,1/LARGE(INDEX(('1_入力シート【基本情報】'!$AF$307:$AF$526={\"×要是正（既存不適格以外）\",\"△既存不適格\"})/ROW('1_入力シート【基本情報】'!$DW$307:$DW$526),0),ROW(A6))),\"\")","v":""},null,null,{"$f":"IFERROR(INDEX('1_入力シート【基本情報】'!DR:DR,1/LARGE(INDEX(('1_入力シート【基本情報】'!$AF$307:$AF$526={\"×要是正（既存不適格以外）\",\"△既存不適格\"})/ROW('1_入力シート【基本情報】'!$DR$307:$DR$526),0),ROW(A6))),\"\")","v":""},null,null,null,null,null,null,null,null,null,{"$f":"IFERROR(INDEX('1_入力シート【基本情報】'!FW:FW,1/LARGE(INDEX(('1_入力シート【基本情報】'!$AF$307:$AF$526={\"×要是正（既存不適格以外）\",\"△既存不適格\"})/ROW('1_入力シート【基本情報】'!$FW$307:$FW$526),0),ROW(A6))),\"\")","v":""},null,null,null,null,null,null,null,null,null,null,null,null,null,null,null,{"$f":"IFERROR(INDEX('1_入力シート【基本情報】'!BD:BD,1/LARGE(INDEX(('1_入力シート【基本情報】'!$AF$307:$AF$526={\"×要是正（既存不適格以外）\",\"△既存不適格\"})/ROW('1_入力シート【基本情報】'!$BD$307:$BD$526),0),ROW(A6))),\"\")","v":""},null,null,null,null,null,null,null,null,null,null,{"$f":"IFERROR(INDEX('1_入力シート【基本情報】'!EA:EA,1/LARGE(INDEX(('1_入力シート【基本情報】'!$AF$307:$AF$526={\"×要是正（既存不適格以外）\",\"△既存不適格\"})/ROW('1_入力シート【基本情報】'!$EA$307:$EA$526),0),ROW(A6))),\"\")","v":""}]
[null,{"$f":"IFERROR(INDEX('1_入力シート【基本情報】'!DW:DW,1/LARGE(INDEX(('1_入力シート【基本情報】'!$AF$307:$AF$526={\"×要是正（既存不適格以外）\",\"△既存不適格\"})/ROW('1_入力シート【基本情報】'!$DW$307:$DW$526),0),ROW(A7))),\"\")","v":""},null,null,{"$f":"IFERROR(INDEX('1_入力シート【基本情報】'!DR:DR,1/LARGE(INDEX(('1_入力シート【基本情報】'!$AF$307:$AF$526={\"×要是正（既存不適格以外）\",\"△既存不適格\"})/ROW('1_入力シート【基本情報】'!$DR$307:$DR$526),0),ROW(A7))),\"\")","v":""},null,null,null,null,null,null,null,null,null,{"$f":"IFERROR(INDEX('1_入力シート【基本情報】'!FW:FW,1/LARGE(INDEX(('1_入力シート【基本情報】'!$AF$307:$AF$526={\"×要是正（既存不適格以外）\",\"△既存不適格\"})/ROW('1_入力シート【基本情報】'!$FW$307:$FW$526),0),ROW(A7))),\"\")","v":""},null,null,null,null,null,null,null,null,null,null,null,null,null,null,null,{"$f":"IFERROR(INDEX('1_入力シート【基本情報】'!BD:BD,1/LARGE(INDEX(('1_入力シート【基本情報】'!$AF$307:$AF$526={\"×要是正（既存不適格以外）\",\"△既存不適格\"})/ROW('1_入力シート【基本情報】'!$BD$307:$BD$526),0),ROW(A7))),\"\")","v":""},null,null,null,null,null,null,null,null,null,null,{"$f":"IFERROR(INDEX('1_入力シート【基本情報】'!EA:EA,1/LARGE(INDEX(('1_入力シート【基本情報】'!$AF$307:$AF$526={\"×要是正（既存不適格以外）\",\"△既存不適格\"})/ROW('1_入力シート【基本情報】'!$EA$307:$EA$526),0),ROW(A7))),\"\")","v":""}]
[null,{"$f":"IFERROR(INDEX('1_入力シート【基本情報】'!DW:DW,1/LARGE(INDEX(('1_入力シート【基本情報】'!$AF$307:$AF$526={\"×要是正（既存不適格以外）\",\"△既存不適格\"})/ROW('1_入力シート【基本情報】'!$DW$307:$DW$526),0),ROW(A8))),\"\")","v":""},null,null,{"$f":"IFERROR(INDEX('1_入力シート【基本情報】'!DR:DR,1/LARGE(INDEX(('1_入力シート【基本情報】'!$AF$307:$AF$526={\"×要是正（既存不適格以外）\",\"△既存不適格\"})/ROW('1_入力シート【基本情報】'!$DR$307:$DR$526),0),ROW(A8))),\"\")","v":""},null,null,null,null,null,null,null,null,null,{"$f":"IFERROR(INDEX('1_入力シート【基本情報】'!FW:FW,1/LARGE(INDEX(('1_入力シート【基本情報】'!$AF$307:$AF$526={\"×要是正（既存不適格以外）\",\"△既存不適格\"})/ROW('1_入力シート【基本情報】'!$FW$307:$FW$526),0),ROW(A8))),\"\")","v":""},null,null,null,null,null,null,null,null,null,null,null,null,null,null,null,{"$f":"IFERROR(INDEX('1_入力シート【基本情報】'!BD:BD,1/LARGE(INDEX(('1_入力シート【基本情報】'!$AF$307:$AF$526={\"×要是正（既存不適格以外）\",\"△既存不適格\"})/ROW('1_入力シート【基本情報】'!$BD$307:$BD$526),0),ROW(A8))),\"\")","v":""},null,null,null,null,null,null,null,null,null,null,{"$f":"IFERROR(INDEX('1_入力シート【基本情報】'!EA:EA,1/LARGE(INDEX(('1_入力シート【基本情報】'!$AF$307:$AF$526={\"×要是正（既存不適格以外）\",\"△既存不適格\"})/ROW('1_入力シート【基本情報】'!$EA$307:$EA$526),0),ROW(A8))),\"\")","v":""}]
[null,{"$f":"IFERROR(INDEX('1_入力シート【基本情報】'!DW:DW,1/LARGE(INDEX(('1_入力シート【基本情報】'!$AF$307:$AF$526={\"×要是正（既存不適格以外）\",\"△既存不適格\"})/ROW('1_入力シート【基本情報】'!$DW$307:$DW$526),0),ROW(A9))),\"\")","v":""},null,null,{"$f":"IFERROR(INDEX('1_入力シート【基本情報】'!DR:DR,1/LARGE(INDEX(('1_入力シート【基本情報】'!$AF$307:$AF$526={\"×要是正（既存不適格以外）\",\"△既存不適格\"})/ROW('1_入力シート【基本情報】'!$DR$307:$DR$526),0),ROW(A9))),\"\")","v":""},null,null,null,null,null,null,null,null,null,{"$f":"IFERROR(INDEX('1_入力シート【基本情報】'!FW:FW,1/LARGE(INDEX(('1_入力シート【基本情報】'!$AF$307:$AF$526={\"×要是正（既存不適格以外）\",\"△既存不適格\"})/ROW('1_入力シート【基本情報】'!$FW$307:$FW$526),0),ROW(A9))),\"\")","v":""},null,null,null,null,null,null,null,null,null,null,null,null,null,null,null,{"$f":"IFERROR(INDEX('1_入力シート【基本情報】'!BD:BD,1/LARGE(INDEX(('1_入力シート【基本情報】'!$AF$307:$AF$526={\"×要是正（既存不適格以外）\",\"△既存不適格\"})/ROW('1_入力シート【基本情報】'!$BD$307:$BD$526),0),ROW(A9))),\"\")","v":""},null,null,null,null,null,null,null,null,null,null,{"$f":"IFERROR(INDEX('1_入力シート【基本情報】'!EA:EA,1/LARGE(INDEX(('1_入力シート【基本情報】'!$AF$307:$AF$526={\"×要是正（既存不適格以外）\",\"△既存不適格\"})/ROW('1_入力シート【基本情報】'!$EA$307:$EA$526),0),ROW(A9))),\"\")","v":""}]
[null,{"$f":"IFERROR(INDEX('1_入力シート【基本情報】'!DW:DW,1/LARGE(INDEX(('1_入力シート【基本情報】'!$AF$307:$AF$526={\"×要是正（既存不適格以外）\",\"△既存不適格\"})/ROW('1_入力シート【基本情報】'!$DW$307:$DW$526),0),ROW(A10))),\"\")","v":""},null,null,{"$f":"IFERROR(INDEX('1_入力シート【基本情報】'!DR:DR,1/LARGE(INDEX(('1_入力シート【基本情報】'!$AF$307:$AF$526={\"×要是正（既存不適格以外）\",\"△既存不適格\"})/ROW('1_入力シート【基本情報】'!$DR$307:$DR$526),0),ROW(A10))),\"\")","v":""},null,null,null,null,null,null,null,null,null,{"$f":"IFERROR(INDEX('1_入力シート【基本情報】'!FW:FW,1/LARGE(INDEX(('1_入力シート【基本情報】'!$AF$307:$AF$526={\"×要是正（既存不適格以外）\",\"△既存不適格\"})/ROW('1_入力シート【基本情報】'!$FW$307:$FW$526),0),ROW(A10))),\"\")","v":""},null,null,null,null,null,null,null,null,null,null,null,null,null,null,null,{"$f":"IFERROR(INDEX('1_入力シート【基本情報】'!BD:BD,1/LARGE(INDEX(('1_入力シート【基本情報】'!$AF$307:$AF$526={\"×要是正（既存不適格以外）\",\"△既存不適格\"})/ROW('1_入力シート【基本情報】'!$BD$307:$BD$526),0),ROW(A10))),\"\")","v":""},null,null,null,null,null,null,null,null,null,null,{"$f":"IFERROR(INDEX('1_入力シート【基本情報】'!EA:EA,1/LARGE(INDEX(('1_入力シート【基本情報】'!$AF$307:$AF$526={\"×要是正（既存不適格以外）\",\"△既存不適格\"})/ROW('1_入力シート【基本情報】'!$EA$307:$EA$526),0),ROW(A10))),\"\")","v":""}]
[null,{"$f":"IFERROR(INDEX('1_入力シート【基本情報】'!DW:DW,1/LARGE(INDEX(('1_入力シート【基本情報】'!$AF$307:$AF$526={\"×要是正（既存不適格以外）\",\"△既存不適格\"})/ROW('1_入力シート【基本情報】'!$DW$307:$DW$526),0),ROW(A11))),\"\")","v":""},null,null,{"$f":"IFERROR(INDEX('1_入力シート【基本情報】'!DR:DR,1/LARGE(INDEX(('1_入力シート【基本情報】'!$AF$307:$AF$526={\"×要是正（既存不適格以外）\",\"△既存不適格\"})/ROW('1_入力シート【基本情報】'!$DR$307:$DR$526),0),ROW(A11))),\"\")","v":""},null,null,null,null,null,null,null,null,null,{"$f":"IFERROR(INDEX('1_入力シート【基本情報】'!FW:FW,1/LARGE(INDEX(('1_入力シート【基本情報】'!$AF$307:$AF$526={\"×要是正（既存不適格以外）\",\"△既存不適格\"})/ROW('1_入力シート【基本情報】'!$FW$307:$FW$526),0),ROW(A11))),\"\")","v":""},null,null,null,null,null,null,null,null,null,null,null,null,null,null,null,{"$f":"IFERROR(INDEX('1_入力シート【基本情報】'!BD:BD,1/LARGE(INDEX(('1_入力シート【基本情報】'!$AF$307:$AF$526={\"×要是正（既存不適格以外）\",\"△既存不適格\"})/ROW('1_入力シート【基本情報】'!$BD$307:$BD$526),0),ROW(A11))),\"\")","v":""},null,null,null,null,null,null,null,null,null,null,{"$f":"IFERROR(INDEX('1_入力シート【基本情報】'!EA:EA,1/LARGE(INDEX(('1_入力シート【基本情報】'!$AF$307:$AF$526={\"×要是正（既存不適格以外）\",\"△既存不適格\"})/ROW('1_入力シート【基本情報】'!$EA$307:$EA$526),0),ROW(A11))),\"\")","v":""}]
[null,{"$f":"IFERROR(INDEX('1_入力シート【基本情報】'!DW:DW,1/LARGE(INDEX(('1_入力シート【基本情報】'!$AF$307:$AF$526={\"×要是正（既存不適格以外）\",\"△既存不適格\"})/ROW('1_入力シート【基本情報】'!$DW$307:$DW$526),0),ROW(A12))),\"\")","v":""},null,null,{"$f":"IFERROR(INDEX('1_入力シート【基本情報】'!DR:DR,1/LARGE(INDEX(('1_入力シート【基本情報】'!$AF$307:$AF$526={\"×要是正（既存不適格以外）\",\"△既存不適格\"})/ROW('1_入力シート【基本情報】'!$DR$307:$DR$526),0),ROW(A12))),\"\")","v":""},null,null,null,null,null,null,null,null,null,{"$f":"IFERROR(INDEX('1_入力シート【基本情報】'!FW:FW,1/LARGE(INDEX(('1_入力シート【基本情報】'!$AF$307:$AF$526={\"×要是正（既存不適格以外）\",\"△既存不適格\"})/ROW('1_入力シート【基本情報】'!$FW$307:$FW$526),0),ROW(A12))),\"\")","v":""},null,null,null,null,null,null,null,null,null,null,null,null,null,null,null,{"$f":"IFERROR(INDEX('1_入力シート【基本情報】'!BD:BD,1/LARGE(INDEX(('1_入力シート【基本情報】'!$AF$307:$AF$526={\"×要是正（既存不適格以外）\",\"△既存不適格\"})/ROW('1_入力シート【基本情報】'!$BD$307:$BD$526),0),ROW(A12))),\"\")","v":""},null,null,null,null,null,null,null,null,null,null,{"$f":"IFERROR(INDEX('1_入力シート【基本情報】'!EA:EA,1/LARGE(INDEX(('1_入力シート【基本情報】'!$AF$307:$AF$526={\"×要是正（既存不適格以外）\",\"△既存不適格\"})/ROW('1_入力シート【基本情報】'!$EA$307:$EA$526),0),ROW(A12))),\"\")","v":""}]
[null,{"$f":"IFERROR(INDEX('1_入力シート【基本情報】'!DW:DW,1/LARGE(INDEX(('1_入力シート【基本情報】'!$AF$307:$AF$526={\"×要是正（既存不適格以外）\",\"△既存不適格\"})/ROW('1_入力シート【基本情報】'!$DW$307:$DW$526),0),ROW(A13))),\"\")","v":""},null,null,{"$f":"IFERROR(INDEX('1_入力シート【基本情報】'!DR:DR,1/LARGE(INDEX(('1_入力シート【基本情報】'!$AF$307:$AF$526={\"×要是正（既存不適格以外）\",\"△既存不適格\"})/ROW('1_入力シート【基本情報】'!$DR$307:$DR$526),0),ROW(A13))),\"\")","v":""},null,null,null,null,null,null,null,null,null,{"$f":"IFERROR(INDEX('1_入力シート【基本情報】'!FW:FW,1/LARGE(INDEX(('1_入力シート【基本情報】'!$AF$307:$AF$526={\"×要是正（既存不適格以外）\",\"△既存不適格\"})/ROW('1_入力シート【基本情報】'!$FW$307:$FW$526),0),ROW(A13))),\"\")","v":""},null,null,null,null,null,null,null,null,null,null,null,null,null,null,null,{"$f":"IFERROR(INDEX('1_入力シート【基本情報】'!BD:BD,1/LARGE(INDEX(('1_入力シート【基本情報】'!$AF$307:$AF$526={\"×要是正（既存不適格以外）\",\"△既存不適格\"})/ROW('1_入力シート【基本情報】'!$BD$307:$BD$526),0),ROW(A13))),\"\")","v":""},null,null,null,null,null,null,null,null,null,null,{"$f":"IFERROR(INDEX('1_入力シート【基本情報】'!EA:EA,1/LARGE(INDEX(('1_入力シート【基本情報】'!$AF$307:$AF$526={\"×要是正（既存不適格以外）\",\"△既存不適格\"})/ROW('1_入力シート【基本情報】'!$EA$307:$EA$526),0),ROW(A13))),\"\")","v":""}]
[null,{"$f":"IFERROR(INDEX('1_入力シート【基本情報】'!DW:DW,1/LARGE(INDEX(('1_入力シート【基本情報】'!$AF$307:$AF$526={\"×要是正（既存不適格以外）\",\"△既存不適格\"})/ROW('1_入力シート【基本情報】'!$DW$307:$DW$526),0),ROW(A14))),\"\")","v":""},null,null,{"$f":"IFERROR(INDEX('1_入力シート【基本情報】'!DR:DR,1/LARGE(INDEX(('1_入力シート【基本情報】'!$AF$307:$AF$526={\"×要是正（既存不適格以外）\",\"△既存不適格\"})/ROW('1_入力シート【基本情報】'!$DR$307:$DR$526),0),ROW(A14))),\"\")","v":""},null,null,null,null,null,null,null,null,null,{"$f":"IFERROR(INDEX('1_入力シート【基本情報】'!FW:FW,1/LARGE(INDEX(('1_入力シート【基本情報】'!$AF$307:$AF$526={\"×要是正（既存不適格以外）\",\"△既存不適格\"})/ROW('1_入力シート【基本情報】'!$FW$307:$FW$526),0),ROW(A14))),\"\")","v":""},null,null,null,null,null,null,null,null,null,null,null,null,null,null,null,{"$f":"IFERROR(INDEX('1_入力シート【基本情報】'!BD:BD,1/LARGE(INDEX(('1_入力シート【基本情報】'!$AF$307:$AF$526={\"×要是正（既存不適格以外）\",\"△既存不適格\"})/ROW('1_入力シート【基本情報】'!$BD$307:$BD$526),0),ROW(A14))),\"\")","v":""},null,null,null,null,null,null,null,null,null,null,{"$f":"IFERROR(INDEX('1_入力シート【基本情報】'!EA:EA,1/LARGE(INDEX(('1_入力シート【基本情報】'!$AF$307:$AF$526={\"×要是正（既存不適格以外）\",\"△既存不適格\"})/ROW('1_入力シート【基本情報】'!$EA$307:$EA$526),0),ROW(A14))),\"\")","v":""}]
[null,{"$f":"IFERROR(INDEX('1_入力シート【基本情報】'!DW:DW,1/LARGE(INDEX(('1_入力シート【基本情報】'!$AF$307:$AF$526={\"×要是正（既存不適格以外）\",\"△既存不適格\"})/ROW('1_入力シート【基本情報】'!$DW$307:$DW$526),0),ROW(A15))),\"\")","v":""},null,null,{"$f":"IFERROR(INDEX('1_入力シート【基本情報】'!DR:DR,1/LARGE(INDEX(('1_入力シート【基本情報】'!$AF$307:$AF$526={\"×要是正（既存不適格以外）\",\"△既存不適格\"})/ROW('1_入力シート【基本情報】'!$DR$307:$DR$526),0),ROW(A15))),\"\")","v":""},null,null,null,null,null,null,null,null,null,{"$f":"IFERROR(INDEX('1_入力シート【基本情報】'!FW:FW,1/LARGE(INDEX(('1_入力シート【基本情報】'!$AF$307:$AF$526={\"×要是正（既存不適格以外）\",\"△既存不適格\"})/ROW('1_入力シート【基本情報】'!$FW$307:$FW$526),0),ROW(A15))),\"\")","v":""},null,null,null,null,null,null,null,null,null,null,null,null,null,null,null,{"$f":"IFERROR(INDEX('1_入力シート【基本情報】'!BD:BD,1/LARGE(INDEX(('1_入力シート【基本情報】'!$AF$307:$AF$526={\"×要是正（既存不適格以外）\",\"△既存不適格\"})/ROW('1_入力シート【基本情報】'!$BD$307:$BD$526),0),ROW(A15))),\"\")","v":""},null,null,null,null,null,null,null,null,null,null,{"$f":"IFERROR(INDEX('1_入力シート【基本情報】'!EA:EA,1/LARGE(INDEX(('1_入力シート【基本情報】'!$AF$307:$AF$526={\"×要是正（既存不適格以外）\",\"△既存不適格\"})/ROW('1_入力シート【基本情報】'!$EA$307:$EA$526),0),ROW(A15))),\"\")","v":""}]
[null,{"$f":"IFERROR(INDEX('1_入力シート【基本情報】'!DW:DW,1/LARGE(INDEX(('1_入力シート【基本情報】'!$AF$307:$AF$526={\"×要是正（既存不適格以外）\",\"△既存不適格\"})/ROW('1_入力シート【基本情報】'!$DW$307:$DW$526),0),ROW(A16))),\"\")","v":""},null,null,{"$f":"IFERROR(INDEX('1_入力シート【基本情報】'!DR:DR,1/LARGE(INDEX(('1_入力シート【基本情報】'!$AF$307:$AF$526={\"×要是正（既存不適格以外）\",\"△既存不適格\"})/ROW('1_入力シート【基本情報】'!$DR$307:$DR$526),0),ROW(A16))),\"\")","v":""},null,null,null,null,null,null,null,null,null,{"$f":"IFERROR(INDEX('1_入力シート【基本情報】'!FW:FW,1/LARGE(INDEX(('1_入力シート【基本情報】'!$AF$307:$AF$526={\"×要是正（既存不適格以外）\",\"△既存不適格\"})/ROW('1_入力シート【基本情報】'!$FW$307:$FW$526),0),ROW(A16))),\"\")","v":""},null,null,null,null,null,null,null,null,null,null,null,null,null,null,null,{"$f":"IFERROR(INDEX('1_入力シート【基本情報】'!BD:BD,1/LARGE(INDEX(('1_入力シート【基本情報】'!$AF$307:$AF$526={\"×要是正（既存不適格以外）\",\"△既存不適格\"})/ROW('1_入力シート【基本情報】'!$BD$307:$BD$526),0),ROW(A16))),\"\")","v":""},null,null,null,null,null,null,null,null,null,null,{"$f":"IFERROR(INDEX('1_入力シート【基本情報】'!EA:EA,1/LARGE(INDEX(('1_入力シート【基本情報】'!$AF$307:$AF$526={\"×要是正（既存不適格以外）\",\"△既存不適格\"})/ROW('1_入力シート【基本情報】'!$EA$307:$EA$526),0),ROW(A16))),\"\")","v":""}]
[null,{"$f":"IFERROR(INDEX('1_入力シート【基本情報】'!DW:DW,1/LARGE(INDEX(('1_入力シート【基本情報】'!$AF$307:$AF$526={\"×要是正（既存不適格以外）\",\"△既存不適格\"})/ROW('1_入力シート【基本情報】'!$DW$307:$DW$526),0),ROW(A17))),\"\")","v":""},null,null,{"$f":"IFERROR(INDEX('1_入力シート【基本情報】'!DR:DR,1/LARGE(INDEX(('1_入力シート【基本情報】'!$AF$307:$AF$526={\"×要是正（既存不適格以外）\",\"△既存不適格\"})/ROW('1_入力シート【基本情報】'!$DR$307:$DR$526),0),ROW(A17))),\"\")","v":""},null,null,null,null,null,null,null,null,null,{"$f":"IFERROR(INDEX('1_入力シート【基本情報】'!FW:FW,1/LARGE(INDEX(('1_入力シート【基本情報】'!$AF$307:$AF$526={\"×要是正（既存不適格以外）\",\"△既存不適格\"})/ROW('1_入力シート【基本情報】'!$FW$307:$FW$526),0),ROW(A17))),\"\")","v":""},null,null,null,null,null,null,null,null,null,null,null,null,null,null,null,{"$f":"IFERROR(INDEX('1_入力シート【基本情報】'!BD:BD,1/LARGE(INDEX(('1_入力シート【基本情報】'!$AF$307:$AF$526={\"×要是正（既存不適格以外）\",\"△既存不適格\"})/ROW('1_入力シート【基本情報】'!$BD$307:$BD$526),0),ROW(A17))),\"\")","v":""},null,null,null,null,null,null,null,null,null,null,{"$f":"IFERROR(INDEX('1_入力シート【基本情報】'!EA:EA,1/LARGE(INDEX(('1_入力シート【基本情報】'!$AF$307:$AF$526={\"×要是正（既存不適格以外）\",\"△既存不適格\"})/ROW('1_入力シート【基本情報】'!$EA$307:$EA$526),0),ROW(A17))),\"\")","v":""}]
[null,{"$f":"IFERROR(INDEX('1_入力シート【基本情報】'!DW:DW,1/LARGE(INDEX(('1_入力シート【基本情報】'!$AF$307:$AF$526={\"×要是正（既存不適格以外）\",\"△既存不適格\"})/ROW('1_入力シート【基本情報】'!$DW$307:$DW$526),0),ROW(A18))),\"\")","v":""},null,null,{"$f":"IFERROR(INDEX('1_入力シート【基本情報】'!DR:DR,1/LARGE(INDEX(('1_入力シート【基本情報】'!$AF$307:$AF$526={\"×要是正（既存不適格以外）\",\"△既存不適格\"})/ROW('1_入力シート【基本情報】'!$DR$307:$DR$526),0),ROW(A18))),\"\")","v":""},null,null,null,null,null,null,null,null,null,{"$f":"IFERROR(INDEX('1_入力シート【基本情報】'!FW:FW,1/LARGE(INDEX(('1_入力シート【基本情報】'!$AF$307:$AF$526={\"×要是正（既存不適格以外）\",\"△既存不適格\"})/ROW('1_入力シート【基本情報】'!$FW$307:$FW$526),0),ROW(A18))),\"\")","v":""},null,null,null,null,null,null,null,null,null,null,null,null,null,null,null,{"$f":"IFERROR(INDEX('1_入力シート【基本情報】'!BD:BD,1/LARGE(INDEX(('1_入力シート【基本情報】'!$AF$307:$AF$526={\"×要是正（既存不適格以外）\",\"△既存不適格\"})/ROW('1_入力シート【基本情報】'!$BD$307:$BD$526),0),ROW(A18))),\"\")","v":""},null,null,null,null,null,null,null,null,null,null,{"$f":"IFERROR(INDEX('1_入力シート【基本情報】'!EA:EA,1/LARGE(INDEX(('1_入力シート【基本情報】'!$AF$307:$AF$526={\"×要是正（既存不適格以外）\",\"△既存不適格\"})/ROW('1_入力シート【基本情報】'!$EA$307:$EA$526),0),ROW(A18))),\"\")","v":""}]
[null,{"$f":"IFERROR(INDEX('1_入力シート【基本情報】'!DW:DW,1/LARGE(INDEX(('1_入力シート【基本情報】'!$AF$307:$AF$526={\"×要是正（既存不適格以外）\",\"△既存不適格\"})/ROW('1_入力シート【基本情報】'!$DW$307:$DW$526),0),ROW(A19))),\"\")","v":""},null,null,{"$f":"IFERROR(INDEX('1_入力シート【基本情報】'!DR:DR,1/LARGE(INDEX(('1_入力シート【基本情報】'!$AF$307:$AF$526={\"×要是正（既存不適格以外）\",\"△既存不適格\"})/ROW('1_入力シート【基本情報】'!$DR$307:$DR$526),0),ROW(A19))),\"\")","v":""},null,null,null,null,null,null,null,null,null,{"$f":"IFERROR(INDEX('1_入力シート【基本情報】'!FW:FW,1/LARGE(INDEX(('1_入力シート【基本情報】'!$AF$307:$AF$526={\"×要是正（既存不適格以外）\",\"△既存不適格\"})/ROW('1_入力シート【基本情報】'!$FW$307:$FW$526),0),ROW(A19))),\"\")","v":""},null,null,null,null,null,null,null,null,null,null,null,null,null,null,null,{"$f":"IFERROR(INDEX('1_入力シート【基本情報】'!BD:BD,1/LARGE(INDEX(('1_入力シート【基本情報】'!$AF$307:$AF$526={\"×要是正（既存不適格以外）\",\"△既存不適格\"})/ROW('1_入力シート【基本情報】'!$BD$307:$BD$526),0),ROW(A19))),\"\")","v":""},null,null,null,null,null,null,null,null,null,null,{"$f":"IFERROR(INDEX('1_入力シート【基本情報】'!EA:EA,1/LARGE(INDEX(('1_入力シート【基本情報】'!$AF$307:$AF$526={\"×要是正（既存不適格以外）\",\"△既存不適格\"})/ROW('1_入力シート【基本情報】'!$EA$307:$EA$526),0),ROW(A19))),\"\")","v":""}]
[null,{"$f":"IFERROR(INDEX('1_入力シート【基本情報】'!DW:DW,1/LARGE(INDEX(('1_入力シート【基本情報】'!$AF$307:$AF$526={\"×要是正（既存不適格以外）\",\"△既存不適格\"})/ROW('1_入力シート【基本情報】'!$DW$307:$DW$526),0),ROW(A20))),\"\")","v":""},null,null,{"$f":"IFERROR(INDEX('1_入力シート【基本情報】'!DR:DR,1/LARGE(INDEX(('1_入力シート【基本情報】'!$AF$307:$AF$526={\"×要是正（既存不適格以外）\",\"△既存不適格\"})/ROW('1_入力シート【基本情報】'!$DR$307:$DR$526),0),ROW(A20))),\"\")","v":""},null,null,null,null,null,null,null,null,null,{"$f":"IFERROR(INDEX('1_入力シート【基本情報】'!FW:FW,1/LARGE(INDEX(('1_入力シート【基本情報】'!$AF$307:$AF$526={\"×要是正（既存不適格以外）\",\"△既存不適格\"})/ROW('1_入力シート【基本情報】'!$FW$307:$FW$526),0),ROW(A20))),\"\")","v":""},null,null,null,null,null,null,null,null,null,null,null,null,null,null,null,{"$f":"IFERROR(INDEX('1_入力シート【基本情報】'!BD:BD,1/LARGE(INDEX(('1_入力シート【基本情報】'!$AF$307:$AF$526={\"×要是正（既存不適格以外）\",\"△既存不適格\"})/ROW('1_入力シート【基本情報】'!$BD$307:$BD$526),0),ROW(A20))),\"\")","v":""},null,null,null,null,null,null,null,null,null,null,{"$f":"IFERROR(INDEX('1_入力シート【基本情報】'!EA:EA,1/LARGE(INDEX(('1_入力シート【基本情報】'!$AF$307:$AF$526={\"×要是正（既存不適格以外）\",\"△既存不適格\"})/ROW('1_入力シート【基本情報】'!$EA$307:$EA$526),0),ROW(A20))),\"\")","v":""}]
[null,{"$f":"IFERROR(INDEX('1_入力シート【基本情報】'!DW:DW,1/LARGE(INDEX(('1_入力シート【基本情報】'!$AF$307:$AF$526={\"×要是正（既存不適格以外）\",\"△既存不適格\"})/ROW('1_入力シート【基本情報】'!$DW$307:$DW$526),0),ROW(A21))),\"\")","v":""},null,null,{"$f":"IFERROR(INDEX('1_入力シート【基本情報】'!DR:DR,1/LARGE(INDEX(('1_入力シート【基本情報】'!$AF$307:$AF$526={\"×要是正（既存不適格以外）\",\"△既存不適格\"})/ROW('1_入力シート【基本情報】'!$DR$307:$DR$526),0),ROW(A21))),\"\")","v":""},null,null,null,null,null,null,null,null,null,{"$f":"IFERROR(INDEX('1_入力シート【基本情報】'!FW:FW,1/LARGE(INDEX(('1_入力シート【基本情報】'!$AF$307:$AF$526={\"×要是正（既存不適格以外）\",\"△既存不適格\"})/ROW('1_入力シート【基本情報】'!$FW$307:$FW$526),0),ROW(A21))),\"\")","v":""},null,null,null,null,null,null,null,null,null,null,null,null,null,null,null,{"$f":"IFERROR(INDEX('1_入力シート【基本情報】'!BD:BD,1/LARGE(INDEX(('1_入力シート【基本情報】'!$AF$307:$AF$526={\"×要是正（既存不適格以外）\",\"△既存不適格\"})/ROW('1_入力シート【基本情報】'!$BD$307:$BD$526),0),ROW(A21))),\"\")","v":""},null,null,null,null,null,null,null,null,null,null,{"$f":"IFERROR(INDEX('1_入力シート【基本情報】'!EA:EA,1/LARGE(INDEX(('1_入力シート【基本情報】'!$AF$307:$AF$526={\"×要是正（既存不適格以外）\",\"△既存不適格\"})/ROW('1_入力シート【基本情報】'!$EA$307:$EA$526),0),ROW(A21))),\"\")","v":""}]
[null,{"$f":"IFERROR(INDEX('1_入力シート【基本情報】'!DW:DW,1/LARGE(INDEX(('1_入力シート【基本情報】'!$AF$307:$AF$526={\"×要是正（既存不適格以外）\",\"△既存不適格\"})/ROW('1_入力シート【基本情報】'!$DW$307:$DW$526),0),ROW(A22))),\"\")","v":""},null,null,{"$f":"IFERROR(INDEX('1_入力シート【基本情報】'!DR:DR,1/LARGE(INDEX(('1_入力シート【基本情報】'!$AF$307:$AF$526={\"×要是正（既存不適格以外）\",\"△既存不適格\"})/ROW('1_入力シート【基本情報】'!$DR$307:$DR$526),0),ROW(A22))),\"\")","v":""},null,null,null,null,null,null,null,null,null,{"$f":"IFERROR(INDEX('1_入力シート【基本情報】'!FW:FW,1/LARGE(INDEX(('1_入力シート【基本情報】'!$AF$307:$AF$526={\"×要是正（既存不適格以外）\",\"△既存不適格\"})/ROW('1_入力シート【基本情報】'!$FW$307:$FW$526),0),ROW(A22))),\"\")","v":""},null,null,null,null,null,null,null,null,null,null,null,null,null,null,null,{"$f":"IFERROR(INDEX('1_入力シート【基本情報】'!BD:BD,1/LARGE(INDEX(('1_入力シート【基本情報】'!$AF$307:$AF$526={\"×要是正（既存不適格以外）\",\"△既存不適格\"})/ROW('1_入力シート【基本情報】'!$BD$307:$BD$526),0),ROW(A22))),\"\")","v":""},null,null,null,null,null,null,null,null,null,null,{"$f":"IFERROR(INDEX('1_入力シート【基本情報】'!EA:EA,1/LARGE(INDEX(('1_入力シート【基本情報】'!$AF$307:$AF$526={\"×要是正（既存不適格以外）\",\"△既存不適格\"})/ROW('1_入力シート【基本情報】'!$EA$307:$EA$526),0),ROW(A22))),\"\")","v":""}]
[null,{"$f":"IFERROR(INDEX('1_入力シート【基本情報】'!DW:DW,1/LARGE(INDEX(('1_入力シート【基本情報】'!$AF$307:$AF$526={\"×要是正（既存不適格以外）\",\"△既存不適格\"})/ROW('1_入力シート【基本情報】'!$DW$307:$DW$526),0),ROW(A23))),\"\")","v":""},null,null,{"$f":"IFERROR(INDEX('1_入力シート【基本情報】'!DR:DR,1/LARGE(INDEX(('1_入力シート【基本情報】'!$AF$307:$AF$526={\"×要是正（既存不適格以外）\",\"△既存不適格\"})/ROW('1_入力シート【基本情報】'!$DR$307:$DR$526),0),ROW(A23))),\"\")","v":""},null,null,null,null,null,null,null,null,null,{"$f":"IFERROR(INDEX('1_入力シート【基本情報】'!FW:FW,1/LARGE(INDEX(('1_入力シート【基本情報】'!$AF$307:$AF$526={\"×要是正（既存不適格以外）\",\"△既存不適格\"})/ROW('1_入力シート【基本情報】'!$FW$307:$FW$526),0),ROW(A23))),\"\")","v":""},null,null,null,null,null,null,null,null,null,null,null,null,null,null,null,{"$f":"IFERROR(INDEX('1_入力シート【基本情報】'!BD:BD,1/LARGE(INDEX(('1_入力シート【基本情報】'!$AF$307:$AF$526={\"×要是正（既存不適格以外）\",\"△既存不適格\"})/ROW('1_入力シート【基本情報】'!$BD$307:$BD$526),0),ROW(A23))),\"\")","v":""},null,null,null,null,null,null,null,null,null,null,{"$f":"IFERROR(INDEX('1_入力シート【基本情報】'!EA:EA,1/LARGE(INDEX(('1_入力シート【基本情報】'!$AF$307:$AF$526={\"×要是正（既存不適格以外）\",\"△既存不適格\"})/ROW('1_入力シート【基本情報】'!$EA$307:$EA$526),0),ROW(A23))),\"\")","v":""}]
[null,{"$f":"IFERROR(INDEX('1_入力シート【基本情報】'!DW:DW,1/LARGE(INDEX(('1_入力シート【基本情報】'!$AF$307:$AF$526={\"×要是正（既存不適格以外）\",\"△既存不適格\"})/ROW('1_入力シート【基本情報】'!$DW$307:$DW$526),0),ROW(A24))),\"\")","v":""},null,null,{"$f":"IFERROR(INDEX('1_入力シート【基本情報】'!DR:DR,1/LARGE(INDEX(('1_入力シート【基本情報】'!$AF$307:$AF$526={\"×要是正（既存不適格以外）\",\"△既存不適格\"})/ROW('1_入力シート【基本情報】'!$DR$307:$DR$526),0),ROW(A24))),\"\")","v":""},null,null,null,null,null,null,null,null,null,{"$f":"IFERROR(INDEX('1_入力シート【基本情報】'!FW:FW,1/LARGE(INDEX(('1_入力シート【基本情報】'!$AF$307:$AF$526={\"×要是正（既存不適格以外）\",\"△既存不適格\"})/ROW('1_入力シート【基本情報】'!$FW$307:$FW$526),0),ROW(A24))),\"\")","v":""},null,null,null,null,null,null,null,null,null,null,null,null,null,null,null,{"$f":"IFERROR(INDEX('1_入力シート【基本情報】'!BD:BD,1/LARGE(INDEX(('1_入力シート【基本情報】'!$AF$307:$AF$526={\"×要是正（既存不適格以外）\",\"△既存不適格\"})/ROW('1_入力シート【基本情報】'!$BD$307:$BD$526),0),ROW(A24))),\"\")","v":""},null,null,null,null,null,null,null,null,null,null,{"$f":"IFERROR(INDEX('1_入力シート【基本情報】'!EA:EA,1/LARGE(INDEX(('1_入力シート【基本情報】'!$AF$307:$AF$526={\"×要是正（既存不適格以外）\",\"△既存不適格\"})/ROW('1_入力シート【基本情報】'!$EA$307:$EA$526),0),ROW(A24))),\"\")","v":""}]
[null,{"$f":"IFERROR(INDEX('1_入力シート【基本情報】'!DW:DW,1/LARGE(INDEX(('1_入力シート【基本情報】'!$AF$307:$AF$526={\"×要是正（既存不適格以外）\",\"△既存不適格\"})/ROW('1_入力シート【基本情報】'!$DW$307:$DW$526),0),ROW(A25))),\"\")","v":""},null,null,{"$f":"IFERROR(INDEX('1_入力シート【基本情報】'!DR:DR,1/LARGE(INDEX(('1_入力シート【基本情報】'!$AF$307:$AF$526={\"×要是正（既存不適格以外）\",\"△既存不適格\"})/ROW('1_入力シート【基本情報】'!$DR$307:$DR$526),0),ROW(A25))),\"\")","v":""},null,null,null,null,null,null,null,null,null,{"$f":"IFERROR(INDEX('1_入力シート【基本情報】'!FW:FW,1/LARGE(INDEX(('1_入力シート【基本情報】'!$AF$307:$AF$526={\"×要是正（既存不適格以外）\",\"△既存不適格\"})/ROW('1_入力シート【基本情報】'!$FW$307:$FW$526),0),ROW(A25))),\"\")","v":""},null,null,null,null,null,null,null,null,null,null,null,null,null,null,null,{"$f":"IFERROR(INDEX('1_入力シート【基本情報】'!BD:BD,1/LARGE(INDEX(('1_入力シート【基本情報】'!$AF$307:$AF$526={\"×要是正（既存不適格以外）\",\"△既存不適格\"})/ROW('1_入力シート【基本情報】'!$BD$307:$BD$526),0),ROW(A25))),\"\")","v":""},null,null,null,null,null,null,null,null,null,null,{"$f":"IFERROR(INDEX('1_入力シート【基本情報】'!EA:EA,1/LARGE(INDEX(('1_入力シート【基本情報】'!$AF$307:$AF$526={\"×要是正（既存不適格以外）\",\"△既存不適格\"})/ROW('1_入力シート【基本情報】'!$EA$307:$EA$526),0),ROW(A25))),\"\")","v":""}]
[null,{"$f":"IFERROR(INDEX('1_入力シート【基本情報】'!DW:DW,1/LARGE(INDEX(('1_入力シート【基本情報】'!$AF$307:$AF$526={\"×要是正（既存不適格以外）\",\"△既存不適格\"})/ROW('1_入力シート【基本情報】'!$DW$307:$DW$526),0),ROW(A26))),\"\")","v":""},null,null,{"$f":"IFERROR(INDEX('1_入力シート【基本情報】'!DR:DR,1/LARGE(INDEX(('1_入力シート【基本情報】'!$AF$307:$AF$526={\"×要是正（既存不適格以外）\",\"△既存不適格\"})/ROW('1_入力シート【基本情報】'!$DR$307:$DR$526),0),ROW(A26))),\"\")","v":""},null,null,null,null,null,null,null,null,null,{"$f":"IFERROR(INDEX('1_入力シート【基本情報】'!FW:FW,1/LARGE(INDEX(('1_入力シート【基本情報】'!$AF$307:$AF$526={\"×要是正（既存不適格以外）\",\"△既存不適格\"})/ROW('1_入力シート【基本情報】'!$FW$307:$FW$526),0),ROW(A26))),\"\")","v":""},null,null,null,null,null,null,null,null,null,null,null,null,null,null,null,{"$f":"IFERROR(INDEX('1_入力シート【基本情報】'!BD:BD,1/LARGE(INDEX(('1_入力シート【基本情報】'!$AF$307:$AF$526={\"×要是正（既存不適格以外）\",\"△既存不適格\"})/ROW('1_入力シート【基本情報】'!$BD$307:$BD$526),0),ROW(A26))),\"\")","v":""},null,null,null,null,null,null,null,null,null,null,{"$f":"IFERROR(INDEX('1_入力シート【基本情報】'!EA:EA,1/LARGE(INDEX(('1_入力シート【基本情報】'!$AF$307:$AF$526={\"×要是正（既存不適格以外）\",\"△既存不適格\"})/ROW('1_入力シート【基本情報】'!$EA$307:$EA$526),0),ROW(A26))),\"\")","v":""}]
[null,{"$f":"IFERROR(INDEX('1_入力シート【基本情報】'!DW:DW,1/LARGE(INDEX(('1_入力シート【基本情報】'!$AF$307:$AF$526={\"×要是正（既存不適格以外）\",\"△既存不適格\"})/ROW('1_入力シート【基本情報】'!$DW$307:$DW$526),0),ROW(A27))),\"\")","v":""},null,null,{"$f":"IFERROR(INDEX('1_入力シート【基本情報】'!DR:DR,1/LARGE(INDEX(('1_入力シート【基本情報】'!$AF$307:$AF$526={\"×要是正（既存不適格以外）\",\"△既存不適格\"})/ROW('1_入力シート【基本情報】'!$DR$307:$DR$526),0),ROW(A27))),\"\")","v":""},null,null,null,null,null,null,null,null,null,{"$f":"IFERROR(INDEX('1_入力シート【基本情報】'!FW:FW,1/LARGE(INDEX(('1_入力シート【基本情報】'!$AF$307:$AF$526={\"×要是正（既存不適格以外）\",\"△既存不適格\"})/ROW('1_入力シート【基本情報】'!$FW$307:$FW$526),0),ROW(A27))),\"\")","v":""},null,null,null,null,null,null,null,null,null,null,null,null,null,null,null,{"$f":"IFERROR(INDEX('1_入力シート【基本情報】'!BD:BD,1/LARGE(INDEX(('1_入力シート【基本情報】'!$AF$307:$AF$526={\"×要是正（既存不適格以外）\",\"△既存不適格\"})/ROW('1_入力シート【基本情報】'!$BD$307:$BD$526),0),ROW(A27))),\"\")","v":""},null,null,null,null,null,null,null,null,null,null,{"$f":"IFERROR(INDEX('1_入力シート【基本情報】'!EA:EA,1/LARGE(INDEX(('1_入力シート【基本情報】'!$AF$307:$AF$526={\"×要是正（既存不適格以外）\",\"△既存不適格\"})/ROW('1_入力シート【基本情報】'!$EA$307:$EA$526),0),ROW(A27))),\"\")","v":""}]
[null,{"$f":"IFERROR(INDEX('1_入力シート【基本情報】'!DW:DW,1/LARGE(INDEX(('1_入力シート【基本情報】'!$AF$307:$AF$526={\"×要是正（既存不適格以外）\",\"△既存不適格\"})/ROW('1_入力シート【基本情報】'!$DW$307:$DW$526),0),ROW(A28))),\"\")","v":""},null,null,{"$f":"IFERROR(INDEX('1_入力シート【基本情報】'!DR:DR,1/LARGE(INDEX(('1_入力シート【基本情報】'!$AF$307:$AF$526={\"×要是正（既存不適格以外）\",\"△既存不適格\"})/ROW('1_入力シート【基本情報】'!$DR$307:$DR$526),0),ROW(A28))),\"\")","v":""},null,null,null,null,null,null,null,null,null,{"$f":"IFERROR(INDEX('1_入力シート【基本情報】'!FW:FW,1/LARGE(INDEX(('1_入力シート【基本情報】'!$AF$307:$AF$526={\"×要是正（既存不適格以外）\",\"△既存不適格\"})/ROW('1_入力シート【基本情報】'!$FW$307:$FW$526),0),ROW(A28))),\"\")","v":""},null,null,null,null,null,null,null,null,null,null,null,null,null,null,null,{"$f":"IFERROR(INDEX('1_入力シート【基本情報】'!BD:BD,1/LARGE(INDEX(('1_入力シート【基本情報】'!$AF$307:$AF$526={\"×要是正（既存不適格以外）\",\"△既存不適格\"})/ROW('1_入力シート【基本情報】'!$BD$307:$BD$526),0),ROW(A28))),\"\")","v":""},null,null,null,null,null,null,null,null,null,null,{"$f":"IFERROR(INDEX('1_入力シート【基本情報】'!EA:EA,1/LARGE(INDEX(('1_入力シート【基本情報】'!$AF$307:$AF$526={\"×要是正（既存不適格以外）\",\"△既存不適格\"})/ROW('1_入力シート【基本情報】'!$EA$307:$EA$526),0),ROW(A28))),\"\")","v":""}]
[null,{"$f":"IFERROR(INDEX('1_入力シート【基本情報】'!DW:DW,1/LARGE(INDEX(('1_入力シート【基本情報】'!$AF$307:$AF$526={\"×要是正（既存不適格以外）\",\"△既存不適格\"})/ROW('1_入力シート【基本情報】'!$DW$307:$DW$526),0),ROW(A29))),\"\")","v":""},null,null,{"$f":"IFERROR(INDEX('1_入力シート【基本情報】'!DR:DR,1/LARGE(INDEX(('1_入力シート【基本情報】'!$AF$307:$AF$526={\"×要是正（既存不適格以外）\",\"△既存不適格\"})/ROW('1_入力シート【基本情報】'!$DR$307:$DR$526),0),ROW(A29))),\"\")","v":""},null,null,null,null,null,null,null,null,null,{"$f":"IFERROR(INDEX('1_入力シート【基本情報】'!FW:FW,1/LARGE(INDEX(('1_入力シート【基本情報】'!$AF$307:$AF$526={\"×要是正（既存不適格以外）\",\"△既存不適格\"})/ROW('1_入力シート【基本情報】'!$FW$307:$FW$526),0),ROW(A29))),\"\")","v":""},null,null,null,null,null,null,null,null,null,null,null,null,null,null,null,{"$f":"IFERROR(INDEX('1_入力シート【基本情報】'!BD:BD,1/LARGE(INDEX(('1_入力シート【基本情報】'!$AF$307:$AF$526={\"×要是正（既存不適格以外）\",\"△既存不適格\"})/ROW('1_入力シート【基本情報】'!$BD$307:$BD$526),0),ROW(A29))),\"\")","v":""},null,null,null,null,null,null,null,null,null,null,{"$f":"IFERROR(INDEX('1_入力シート【基本情報】'!EA:EA,1/LARGE(INDEX(('1_入力シート【基本情報】'!$AF$307:$AF$526={\"×要是正（既存不適格以外）\",\"△既存不適格\"})/ROW('1_入力シート【基本情報】'!$EA$307:$EA$526),0),ROW(A29))),\"\")","v":""}]
[null,{"$f":"IFERROR(INDEX('1_入力シート【基本情報】'!DW:DW,1/LARGE(INDEX(('1_入力シート【基本情報】'!$AF$307:$AF$526={\"×要是正（既存不適格以外）\",\"△既存不適格\"})/ROW('1_入力シート【基本情報】'!$DW$307:$DW$526),0),ROW(A30))),\"\")","v":""},null,null,{"$f":"IFERROR(INDEX('1_入力シート【基本情報】'!DR:DR,1/LARGE(INDEX(('1_入力シート【基本情報】'!$AF$307:$AF$526={\"×要是正（既存不適格以外）\",\"△既存不適格\"})/ROW('1_入力シート【基本情報】'!$DR$307:$DR$526),0),ROW(A30))),\"\")","v":""},null,null,null,null,null,null,null,null,null,{"$f":"IFERROR(INDEX('1_入力シート【基本情報】'!FW:FW,1/LARGE(INDEX(('1_入力シート【基本情報】'!$AF$307:$AF$526={\"×要是正（既存不適格以外）\",\"△既存不適格\"})/ROW('1_入力シート【基本情報】'!$FW$307:$FW$526),0),ROW(A30))),\"\")","v":""},null,null,null,null,null,null,null,null,null,null,null,null,null,null,null,{"$f":"IFERROR(INDEX('1_入力シート【基本情報】'!BD:BD,1/LARGE(INDEX(('1_入力シート【基本情報】'!$AF$307:$AF$526={\"×要是正（既存不適格以外）\",\"△既存不適格\"})/ROW('1_入力シート【基本情報】'!$BD$307:$BD$526),0),ROW(A30))),\"\")","v":""},null,null,null,null,null,null,null,null,null,null,{"$f":"IFERROR(INDEX('1_入力シート【基本情報】'!EA:EA,1/LARGE(INDEX(('1_入力シート【基本情報】'!$AF$307:$AF$526={\"×要是正（既存不適格以外）\",\"△既存不適格\"})/ROW('1_入力シート【基本情報】'!$EA$307:$EA$526),0),ROW(A30))),\"\")","v":""}]
[null,{"$f":"IFERROR(INDEX('1_入力シート【基本情報】'!DW:DW,1/LARGE(INDEX(('1_入力シート【基本情報】'!$AF$307:$AF$526={\"×要是正（既存不適格以外）\",\"△既存不適格\"})/ROW('1_入力シート【基本情報】'!$DW$307:$DW$526),0),ROW(A31))),\"\")","v":""},null,null,{"$f":"IFERROR(INDEX('1_入力シート【基本情報】'!DR:DR,1/LARGE(INDEX(('1_入力シート【基本情報】'!$AF$307:$AF$526={\"×要是正（既存不適格以外）\",\"△既存不適格\"})/ROW('1_入力シート【基本情報】'!$DR$307:$DR$526),0),ROW(A31))),\"\")","v":""},null,null,null,null,null,null,null,null,null,{"$f":"IFERROR(INDEX('1_入力シート【基本情報】'!FW:FW,1/LARGE(INDEX(('1_入力シート【基本情報】'!$AF$307:$AF$526={\"×要是正（既存不適格以外）\",\"△既存不適格\"})/ROW('1_入力シート【基本情報】'!$FW$307:$FW$526),0),ROW(A31))),\"\")","v":""},null,null,null,null,null,null,null,null,null,null,null,null,null,null,null,{"$f":"IFERROR(INDEX('1_入力シート【基本情報】'!BD:BD,1/LARGE(INDEX(('1_入力シート【基本情報】'!$AF$307:$AF$526={\"×要是正（既存不適格以外）\",\"△既存不適格\"})/ROW('1_入力シート【基本情報】'!$BD$307:$BD$526),0),ROW(A31))),\"\")","v":""},null,null,null,null,null,null,null,null,null,null,{"$f":"IFERROR(INDEX('1_入力シート【基本情報】'!EA:EA,1/LARGE(INDEX(('1_入力シート【基本情報】'!$AF$307:$AF$526={\"×要是正（既存不適格以外）\",\"△既存不適格\"})/ROW('1_入力シート【基本情報】'!$EA$307:$EA$526),0),ROW(A31))),\"\")","v":""}]
[null,{"$f":"IFERROR(INDEX('1_入力シート【基本情報】'!DW:DW,1/LARGE(INDEX(('1_入力シート【基本情報】'!$AF$307:$AF$526={\"×要是正（既存不適格以外）\",\"△既存不適格\"})/ROW('1_入力シート【基本情報】'!$DW$307:$DW$526),0),ROW(A32))),\"\")","v":""},null,null,{"$f":"IFERROR(INDEX('1_入力シート【基本情報】'!DR:DR,1/LARGE(INDEX(('1_入力シート【基本情報】'!$AF$307:$AF$526={\"×要是正（既存不適格以外）\",\"△既存不適格\"})/ROW('1_入力シート【基本情報】'!$DR$307:$DR$526),0),ROW(A32))),\"\")","v":""},null,null,null,null,null,null,null,null,null,{"$f":"IFERROR(INDEX('1_入力シート【基本情報】'!FW:FW,1/LARGE(INDEX(('1_入力シート【基本情報】'!$AF$307:$AF$526={\"×要是正（既存不適格以外）\",\"△既存不適格\"})/ROW('1_入力シート【基本情報】'!$FW$307:$FW$526),0),ROW(A32))),\"\")","v":""},null,null,null,null,null,null,null,null,null,null,null,null,null,null,null,{"$f":"IFERROR(INDEX('1_入力シート【基本情報】'!BD:BD,1/LARGE(INDEX(('1_入力シート【基本情報】'!$AF$307:$AF$526={\"×要是正（既存不適格以外）\",\"△既存不適格\"})/ROW('1_入力シート【基本情報】'!$BD$307:$BD$526),0),ROW(A32))),\"\")","v":""},null,null,null,null,null,null,null,null,null,null,{"$f":"IFERROR(INDEX('1_入力シート【基本情報】'!EA:EA,1/LARGE(INDEX(('1_入力シート【基本情報】'!$AF$307:$AF$526={\"×要是正（既存不適格以外）\",\"△既存不適格\"})/ROW('1_入力シート【基本情報】'!$EA$307:$EA$526),0),ROW(A32))),\"\")","v":""}]
[null,{"$f":"IFERROR(INDEX('1_入力シート【基本情報】'!DW:DW,1/LARGE(INDEX(('1_入力シート【基本情報】'!$AF$307:$AF$526={\"×要是正（既存不適格以外）\",\"△既存不適格\"})/ROW('1_入力シート【基本情報】'!$DW$307:$DW$526),0),ROW(A33))),\"\")","v":""},null,null,{"$f":"IFERROR(INDEX('1_入力シート【基本情報】'!DR:DR,1/LARGE(INDEX(('1_入力シート【基本情報】'!$AF$307:$AF$526={\"×要是正（既存不適格以外）\",\"△既存不適格\"})/ROW('1_入力シート【基本情報】'!$DR$307:$DR$526),0),ROW(A33))),\"\")","v":""},null,null,null,null,null,null,null,null,null,{"$f":"IFERROR(INDEX('1_入力シート【基本情報】'!FW:FW,1/LARGE(INDEX(('1_入力シート【基本情報】'!$AF$307:$AF$526={\"×要是正（既存不適格以外）\",\"△既存不適格\"})/ROW('1_入力シート【基本情報】'!$FW$307:$FW$526),0),ROW(A33))),\"\")","v":""},null,null,null,null,null,null,null,null,null,null,null,null,null,null,null,{"$f":"IFERROR(INDEX('1_入力シート【基本情報】'!BD:BD,1/LARGE(INDEX(('1_入力シート【基本情報】'!$AF$307:$AF$526={\"×要是正（既存不適格以外）\",\"△既存不適格\"})/ROW('1_入力シート【基本情報】'!$BD$307:$BD$526),0),ROW(A33))),\"\")","v":""},null,null,null,null,null,null,null,null,null,null,{"$f":"IFERROR(INDEX('1_入力シート【基本情報】'!EA:EA,1/LARGE(INDEX(('1_入力シート【基本情報】'!$AF$307:$AF$526={\"×要是正（既存不適格以外）\",\"△既存不適格\"})/ROW('1_入力シート【基本情報】'!$EA$307:$EA$526),0),ROW(A33))),\"\")","v":""}]
[null,{"$f":"IFERROR(INDEX('1_入力シート【基本情報】'!DW:DW,1/LARGE(INDEX(('1_入力シート【基本情報】'!$AF$307:$AF$526={\"×要是正（既存不適格以外）\",\"△既存不適格\"})/ROW('1_入力シート【基本情報】'!$DW$307:$DW$526),0),ROW(A34))),\"\")","v":""},null,null,{"$f":"IFERROR(INDEX('1_入力シート【基本情報】'!DR:DR,1/LARGE(INDEX(('1_入力シート【基本情報】'!$AF$307:$AF$526={\"×要是正（既存不適格以外）\",\"△既存不適格\"})/ROW('1_入力シート【基本情報】'!$DR$307:$DR$526),0),ROW(A34))),\"\")","v":""},null,null,null,null,null,null,null,null,null,{"$f":"IFERROR(INDEX('1_入力シート【基本情報】'!FW:FW,1/LARGE(INDEX(('1_入力シート【基本情報】'!$AF$307:$AF$526={\"×要是正（既存不適格以外）\",\"△既存不適格\"})/ROW('1_入力シート【基本情報】'!$FW$307:$FW$526),0),ROW(A34))),\"\")","v":""},null,null,null,null,null,null,null,null,null,null,null,null,null,null,null,{"$f":"IFERROR(INDEX('1_入力シート【基本情報】'!BD:BD,1/LARGE(INDEX(('1_入力シート【基本情報】'!$AF$307:$AF$526={\"×要是正（既存不適格以外）\",\"△既存不適格\"})/ROW('1_入力シート【基本情報】'!$BD$307:$BD$526),0),ROW(A34))),\"\")","v":""},null,null,null,null,null,null,null,null,null,null,{"$f":"IFERROR(INDEX('1_入力シート【基本情報】'!EA:EA,1/LARGE(INDEX(('1_入力シート【基本情報】'!$AF$307:$AF$526={\"×要是正（既存不適格以外）\",\"△既存不適格\"})/ROW('1_入力シート【基本情報】'!$EA$307:$EA$526),0),ROW(A34))),\"\")","v":""}]
[null,{"$f":"IFERROR(INDEX('1_入力シート【基本情報】'!DW:DW,1/LARGE(INDEX(('1_入力シート【基本情報】'!$AF$307:$AF$526={\"×要是正（既存不適格以外）\",\"△既存不適格\"})/ROW('1_入力シート【基本情報】'!$DW$307:$DW$526),0),ROW(A35))),\"\")","v":""},null,null,{"$f":"IFERROR(INDEX('1_入力シート【基本情報】'!DR:DR,1/LARGE(INDEX(('1_入力シート【基本情報】'!$AF$307:$AF$526={\"×要是正（既存不適格以外）\",\"△既存不適格\"})/ROW('1_入力シート【基本情報】'!$DR$307:$DR$526),0),ROW(A35))),\"\")","v":""},null,null,null,null,null,null,null,null,null,{"$f":"IFERROR(INDEX('1_入力シート【基本情報】'!FW:FW,1/LARGE(INDEX(('1_入力シート【基本情報】'!$AF$307:$AF$526={\"×要是正（既存不適格以外）\",\"△既存不適格\"})/ROW('1_入力シート【基本情報】'!$FW$307:$FW$526),0),ROW(A35))),\"\")","v":""},null,null,null,null,null,null,null,null,null,null,null,null,null,null,null,{"$f":"IFERROR(INDEX('1_入力シート【基本情報】'!BD:BD,1/LARGE(INDEX(('1_入力シート【基本情報】'!$AF$307:$AF$526={\"×要是正（既存不適格以外）\",\"△既存不適格\"})/ROW('1_入力シート【基本情報】'!$BD$307:$BD$526),0),ROW(A35))),\"\")","v":""},null,null,null,null,null,null,null,null,null,null,{"$f":"IFERROR(INDEX('1_入力シート【基本情報】'!EA:EA,1/LARGE(INDEX(('1_入力シート【基本情報】'!$AF$307:$AF$526={\"×要是正（既存不適格以外）\",\"△既存不適格\"})/ROW('1_入力シート【基本情報】'!$EA$307:$EA$526),0),ROW(A35))),\"\")","v":""}]
[null,{"$f":"IFERROR(INDEX('1_入力シート【基本情報】'!DW:DW,1/LARGE(INDEX(('1_入力シート【基本情報】'!$AF$307:$AF$526={\"×要是正（既存不適格以外）\",\"△既存不適格\"})/ROW('1_入力シート【基本情報】'!$DW$307:$DW$526),0),ROW(A36))),\"\")","v":""},null,null,{"$f":"IFERROR(INDEX('1_入力シート【基本情報】'!DR:DR,1/LARGE(INDEX(('1_入力シート【基本情報】'!$AF$307:$AF$526={\"×要是正（既存不適格以外）\",\"△既存不適格\"})/ROW('1_入力シート【基本情報】'!$DR$307:$DR$526),0),ROW(A36))),\"\")","v":""},null,null,null,null,null,null,null,null,null,{"$f":"IFERROR(INDEX('1_入力シート【基本情報】'!FW:FW,1/LARGE(INDEX(('1_入力シート【基本情報】'!$AF$307:$AF$526={\"×要是正（既存不適格以外）\",\"△既存不適格\"})/ROW('1_入力シート【基本情報】'!$FW$307:$FW$526),0),ROW(A36))),\"\")","v":""},null,null,null,null,null,null,null,null,null,null,null,null,null,null,null,{"$f":"IFERROR(INDEX('1_入力シート【基本情報】'!BD:BD,1/LARGE(INDEX(('1_入力シート【基本情報】'!$AF$307:$AF$526={\"×要是正（既存不適格以外）\",\"△既存不適格\"})/ROW('1_入力シート【基本情報】'!$BD$307:$BD$526),0),ROW(A36))),\"\")","v":""},null,null,null,null,null,null,null,null,null,null,{"$f":"IFERROR(INDEX('1_入力シート【基本情報】'!EA:EA,1/LARGE(INDEX(('1_入力シート【基本情報】'!$AF$307:$AF$526={\"×要是正（既存不適格以外）\",\"△既存不適格\"})/ROW('1_入力シート【基本情報】'!$EA$307:$EA$526),0),ROW(A36))),\"\")","v":""}]
[null,{"$f":"IFERROR(INDEX('1_入力シート【基本情報】'!DW:DW,1/LARGE(INDEX(('1_入力シート【基本情報】'!$AF$307:$AF$526={\"×要是正（既存不適格以外）\",\"△既存不適格\"})/ROW('1_入力シート【基本情報】'!$DW$307:$DW$526),0),ROW(A37))),\"\")","v":""},null,null,{"$f":"IFERROR(INDEX('1_入力シート【基本情報】'!DR:DR,1/LARGE(INDEX(('1_入力シート【基本情報】'!$AF$307:$AF$526={\"×要是正（既存不適格以外）\",\"△既存不適格\"})/ROW('1_入力シート【基本情報】'!$DR$307:$DR$526),0),ROW(A37))),\"\")","v":""},null,null,null,null,null,null,null,null,null,{"$f":"IFERROR(INDEX('1_入力シート【基本情報】'!FW:FW,1/LARGE(INDEX(('1_入力シート【基本情報】'!$AF$307:$AF$526={\"×要是正（既存不適格以外）\",\"△既存不適格\"})/ROW('1_入力シート【基本情報】'!$FW$307:$FW$526),0),ROW(A37))),\"\")","v":""},null,null,null,null,null,null,null,null,null,null,null,null,null,null,null,{"$f":"IFERROR(INDEX('1_入力シート【基本情報】'!BD:BD,1/LARGE(INDEX(('1_入力シート【基本情報】'!$AF$307:$AF$526={\"×要是正（既存不適格以外）\",\"△既存不適格\"})/ROW('1_入力シート【基本情報】'!$BD$307:$BD$526),0),ROW(A37))),\"\")","v":""},null,null,null,null,null,null,null,null,null,null,{"$f":"IFERROR(INDEX('1_入力シート【基本情報】'!EA:EA,1/LARGE(INDEX(('1_入力シート【基本情報】'!$AF$307:$AF$526={\"×要是正（既存不適格以外）\",\"△既存不適格\"})/ROW('1_入力シート【基本情報】'!$EA$307:$EA$526),0),ROW(A37))),\"\")","v":""}]
[null,{"$f":"IFERROR(INDEX('1_入力シート【基本情報】'!DW:DW,1/LARGE(INDEX(('1_入力シート【基本情報】'!$AF$307:$AF$526={\"×要是正（既存不適格以外）\",\"△既存不適格\"})/ROW('1_入力シート【基本情報】'!$DW$307:$DW$526),0),ROW(A38))),\"\")","v":""},null,null,{"$f":"IFERROR(INDEX('1_入力シート【基本情報】'!DR:DR,1/LARGE(INDEX(('1_入力シート【基本情報】'!$AF$307:$AF$526={\"×要是正（既存不適格以外）\",\"△既存不適格\"})/ROW('1_入力シート【基本情報】'!$DR$307:$DR$526),0),ROW(A38))),\"\")","v":""},null,null,null,null,null,null,null,null,null,{"$f":"IFERROR(INDEX('1_入力シート【基本情報】'!FW:FW,1/LARGE(INDEX(('1_入力シート【基本情報】'!$AF$307:$AF$526={\"×要是正（既存不適格以外）\",\"△既存不適格\"})/ROW('1_入力シート【基本情報】'!$FW$307:$FW$526),0),ROW(A38))),\"\")","v":""},null,null,null,null,null,null,null,null,null,null,null,null,null,null,null,{"$f":"IFERROR(INDEX('1_入力シート【基本情報】'!BD:BD,1/LARGE(INDEX(('1_入力シート【基本情報】'!$AF$307:$AF$526={\"×要是正（既存不適格以外）\",\"△既存不適格\"})/ROW('1_入力シート【基本情報】'!$BD$307:$BD$526),0),ROW(A38))),\"\")","v":""},null,null,null,null,null,null,null,null,null,null,{"$f":"IFERROR(INDEX('1_入力シート【基本情報】'!EA:EA,1/LARGE(INDEX(('1_入力シート【基本情報】'!$AF$307:$AF$526={\"×要是正（既存不適格以外）\",\"△既存不適格\"})/ROW('1_入力シート【基本情報】'!$EA$307:$EA$526),0),ROW(A38))),\"\")","v":""}]
[null,{"$f":"IFERROR(INDEX('1_入力シート【基本情報】'!DW:DW,1/LARGE(INDEX(('1_入力シート【基本情報】'!$AF$307:$AF$526={\"×要是正（既存不適格以外）\",\"△既存不適格\"})/ROW('1_入力シート【基本情報】'!$DW$307:$DW$526),0),ROW(A39))),\"\")","v":""},null,null,{"$f":"IFERROR(INDEX('1_入力シート【基本情報】'!DR:DR,1/LARGE(INDEX(('1_入力シート【基本情報】'!$AF$307:$AF$526={\"×要是正（既存不適格以外）\",\"△既存不適格\"})/ROW('1_入力シート【基本情報】'!$DR$307:$DR$526),0),ROW(A39))),\"\")","v":""},null,null,null,null,null,null,null,null,null,{"$f":"IFERROR(INDEX('1_入力シート【基本情報】'!FW:FW,1/LARGE(INDEX(('1_入力シート【基本情報】'!$AF$307:$AF$526={\"×要是正（既存不適格以外）\",\"△既存不適格\"})/ROW('1_入力シート【基本情報】'!$FW$307:$FW$526),0),ROW(A39))),\"\")","v":""},null,null,null,null,null,null,null,null,null,null,null,null,null,null,null,{"$f":"IFERROR(INDEX('1_入力シート【基本情報】'!BD:BD,1/LARGE(INDEX(('1_入力シート【基本情報】'!$AF$307:$AF$526={\"×要是正（既存不適格以外）\",\"△既存不適格\"})/ROW('1_入力シート【基本情報】'!$BD$307:$BD$526),0),ROW(A39))),\"\")","v":""},null,null,null,null,null,null,null,null,null,null,{"$f":"IFERROR(INDEX('1_入力シート【基本情報】'!EA:EA,1/LARGE(INDEX(('1_入力シート【基本情報】'!$AF$307:$AF$526={\"×要是正（既存不適格以外）\",\"△既存不適格\"})/ROW('1_入力シート【基本情報】'!$EA$307:$EA$526),0),ROW(A39))),\"\")","v":""}]
[null,{"$f":"IFERROR(INDEX('1_入力シート【基本情報】'!DW:DW,1/LARGE(INDEX(('1_入力シート【基本情報】'!$AF$307:$AF$526={\"×要是正（既存不適格以外）\",\"△既存不適格\"})/ROW('1_入力シート【基本情報】'!$DW$307:$DW$526),0),ROW(A40))),\"\")","v":""},null,null,{"$f":"IFERROR(INDEX('1_入力シート【基本情報】'!DR:DR,1/LARGE(INDEX(('1_入力シート【基本情報】'!$AF$307:$AF$526={\"×要是正（既存不適格以外）\",\"△既存不適格\"})/ROW('1_入力シート【基本情報】'!$DR$307:$DR$526),0),ROW(A40))),\"\")","v":""},null,null,null,null,null,null,null,null,null,{"$f":"IFERROR(INDEX('1_入力シート【基本情報】'!FW:FW,1/LARGE(INDEX(('1_入力シート【基本情報】'!$AF$307:$AF$526={\"×要是正（既存不適格以外）\",\"△既存不適格\"})/ROW('1_入力シート【基本情報】'!$FW$307:$FW$526),0),ROW(A40))),\"\")","v":""},null,null,null,null,null,null,null,null,null,null,null,null,null,null,null,{"$f":"IFERROR(INDEX('1_入力シート【基本情報】'!BD:BD,1/LARGE(INDEX(('1_入力シート【基本情報】'!$AF$307:$AF$526={\"×要是正（既存不適格以外）\",\"△既存不適格\"})/ROW('1_入力シート【基本情報】'!$BD$307:$BD$526),0),ROW(A40))),\"\")","v":""},null,null,null,null,null,null,null,null,null,null,{"$f":"IFERROR(INDEX('1_入力シート【基本情報】'!EA:EA,1/LARGE(INDEX(('1_入力シート【基本情報】'!$AF$307:$AF$526={\"×要是正（既存不適格以外）\",\"△既存不適格\"})/ROW('1_入力シート【基本情報】'!$EA$307:$EA$526),0),ROW(A40))),\"\")","v":""}]
[null,{"$f":"IFERROR(INDEX('1_入力シート【基本情報】'!DW:DW,1/LARGE(INDEX(('1_入力シート【基本情報】'!$AF$307:$AF$526={\"×要是正（既存不適格以外）\",\"△既存不適格\"})/ROW('1_入力シート【基本情報】'!$DW$307:$DW$526),0),ROW(A41))),\"\")","v":""},null,null,{"$f":"IFERROR(INDEX('1_入力シート【基本情報】'!DR:DR,1/LARGE(INDEX(('1_入力シート【基本情報】'!$AF$307:$AF$526={\"×要是正（既存不適格以外）\",\"△既存不適格\"})/ROW('1_入力シート【基本情報】'!$DR$307:$DR$526),0),ROW(A41))),\"\")","v":""},null,null,null,null,null,null,null,null,null,{"$f":"IFERROR(INDEX('1_入力シート【基本情報】'!FW:FW,1/LARGE(INDEX(('1_入力シート【基本情報】'!$AF$307:$AF$526={\"×要是正（既存不適格以外）\",\"△既存不適格\"})/ROW('1_入力シート【基本情報】'!$FW$307:$FW$526),0),ROW(A41))),\"\")","v":""},null,null,null,null,null,null,null,null,null,null,null,null,null,null,null,{"$f":"IFERROR(INDEX('1_入力シート【基本情報】'!BD:BD,1/LARGE(INDEX(('1_入力シート【基本情報】'!$AF$307:$AF$526={\"×要是正（既存不適格以外）\",\"△既存不適格\"})/ROW('1_入力シート【基本情報】'!$BD$307:$BD$526),0),ROW(A41))),\"\")","v":""},null,null,null,null,null,null,null,null,null,null,{"$f":"IFERROR(INDEX('1_入力シート【基本情報】'!EA:EA,1/LARGE(INDEX(('1_入力シート【基本情報】'!$AF$307:$AF$526={\"×要是正（既存不適格以外）\",\"△既存不適格\"})/ROW('1_入力シート【基本情報】'!$EA$307:$EA$526),0),ROW(A41))),\"\")","v":""}]
[null,{"$f":"IFERROR(INDEX('1_入力シート【基本情報】'!DW:DW,1/LARGE(INDEX(('1_入力シート【基本情報】'!$AF$307:$AF$526={\"×要是正（既存不適格以外）\",\"△既存不適格\"})/ROW('1_入力シート【基本情報】'!$DW$307:$DW$526),0),ROW(A42))),\"\")","v":""},null,null,{"$f":"IFERROR(INDEX('1_入力シート【基本情報】'!DR:DR,1/LARGE(INDEX(('1_入力シート【基本情報】'!$AF$307:$AF$526={\"×要是正（既存不適格以外）\",\"△既存不適格\"})/ROW('1_入力シート【基本情報】'!$DR$307:$DR$526),0),ROW(A42))),\"\")","v":""},null,null,null,null,null,null,null,null,null,{"$f":"IFERROR(INDEX('1_入力シート【基本情報】'!FW:FW,1/LARGE(INDEX(('1_入力シート【基本情報】'!$AF$307:$AF$526={\"×要是正（既存不適格以外）\",\"△既存不適格\"})/ROW('1_入力シート【基本情報】'!$FW$307:$FW$526),0),ROW(A42))),\"\")","v":""},null,null,null,null,null,null,null,null,null,null,null,null,null,null,null,{"$f":"IFERROR(INDEX('1_入力シート【基本情報】'!BD:BD,1/LARGE(INDEX(('1_入力シート【基本情報】'!$AF$307:$AF$526={\"×要是正（既存不適格以外）\",\"△既存不適格\"})/ROW('1_入力シート【基本情報】'!$BD$307:$BD$526),0),ROW(A42))),\"\")","v":""},null,null,null,null,null,null,null,null,null,null,{"$f":"IFERROR(INDEX('1_入力シート【基本情報】'!EA:EA,1/LARGE(INDEX(('1_入力シート【基本情報】'!$AF$307:$AF$526={\"×要是正（既存不適格以外）\",\"△既存不適格\"})/ROW('1_入力シート【基本情報】'!$EA$307:$EA$526),0),ROW(A42))),\"\")","v":""}]
[null,{"$f":"IFERROR(INDEX('1_入力シート【基本情報】'!DW:DW,1/LARGE(INDEX(('1_入力シート【基本情報】'!$AF$307:$AF$526={\"×要是正（既存不適格以外）\",\"△既存不適格\"})/ROW('1_入力シート【基本情報】'!$DW$307:$DW$526),0),ROW(A43))),\"\")","v":""},null,null,{"$f":"IFERROR(INDEX('1_入力シート【基本情報】'!DR:DR,1/LARGE(INDEX(('1_入力シート【基本情報】'!$AF$307:$AF$526={\"×要是正（既存不適格以外）\",\"△既存不適格\"})/ROW('1_入力シート【基本情報】'!$DR$307:$DR$526),0),ROW(A43))),\"\")","v":""},null,null,null,null,null,null,null,null,null,{"$f":"IFERROR(INDEX('1_入力シート【基本情報】'!FW:FW,1/LARGE(INDEX(('1_入力シート【基本情報】'!$AF$307:$AF$526={\"×要是正（既存不適格以外）\",\"△既存不適格\"})/ROW('1_入力シート【基本情報】'!$FW$307:$FW$526),0),ROW(A43))),\"\")","v":""},null,null,null,null,null,null,null,null,null,null,null,null,null,null,null,{"$f":"IFERROR(INDEX('1_入力シート【基本情報】'!BD:BD,1/LARGE(INDEX(('1_入力シート【基本情報】'!$AF$307:$AF$526={\"×要是正（既存不適格以外）\",\"△既存不適格\"})/ROW('1_入力シート【基本情報】'!$BD$307:$BD$526),0),ROW(A43))),\"\")","v":""},null,null,null,null,null,null,null,null,null,null,{"$f":"IFERROR(INDEX('1_入力シート【基本情報】'!EA:EA,1/LARGE(INDEX(('1_入力シート【基本情報】'!$AF$307:$AF$526={\"×要是正（既存不適格以外）\",\"△既存不適格\"})/ROW('1_入力シート【基本情報】'!$EA$307:$EA$526),0),ROW(A43))),\"\")","v":""}]
[null,{"$f":"IFERROR(INDEX('1_入力シート【基本情報】'!DW:DW,1/LARGE(INDEX(('1_入力シート【基本情報】'!$AF$307:$AF$526={\"×要是正（既存不適格以外）\",\"△既存不適格\"})/ROW('1_入力シート【基本情報】'!$DW$307:$DW$526),0),ROW(A44))),\"\")","v":""},null,null,{"$f":"IFERROR(INDEX('1_入力シート【基本情報】'!DR:DR,1/LARGE(INDEX(('1_入力シート【基本情報】'!$AF$307:$AF$526={\"×要是正（既存不適格以外）\",\"△既存不適格\"})/ROW('1_入力シート【基本情報】'!$DR$307:$DR$526),0),ROW(A44))),\"\")","v":""},null,null,null,null,null,null,null,null,null,{"$f":"IFERROR(INDEX('1_入力シート【基本情報】'!FW:FW,1/LARGE(INDEX(('1_入力シート【基本情報】'!$AF$307:$AF$526={\"×要是正（既存不適格以外）\",\"△既存不適格\"})/ROW('1_入力シート【基本情報】'!$FW$307:$FW$526),0),ROW(A44))),\"\")","v":""},null,null,null,null,null,null,null,null,null,null,null,null,null,null,null,{"$f":"IFERROR(INDEX('1_入力シート【基本情報】'!BD:BD,1/LARGE(INDEX(('1_入力シート【基本情報】'!$AF$307:$AF$526={\"×要是正（既存不適格以外）\",\"△既存不適格\"})/ROW('1_入力シート【基本情報】'!$BD$307:$BD$526),0),ROW(A44))),\"\")","v":""},null,null,null,null,null,null,null,null,null,null,{"$f":"IFERROR(INDEX('1_入力シート【基本情報】'!EA:EA,1/LARGE(INDEX(('1_入力シート【基本情報】'!$AF$307:$AF$526={\"×要是正（既存不適格以外）\",\"△既存不適格\"})/ROW('1_入力シート【基本情報】'!$EA$307:$EA$526),0),ROW(A44))),\"\")","v":""}]
[null,{"$f":"IFERROR(INDEX('1_入力シート【基本情報】'!DW:DW,1/LARGE(INDEX(('1_入力シート【基本情報】'!$AF$307:$AF$526={\"×要是正（既存不適格以外）\",\"△既存不適格\"})/ROW('1_入力シート【基本情報】'!$DW$307:$DW$526),0),ROW(A45))),\"\")","v":""},null,null,{"$f":"IFERROR(INDEX('1_入力シート【基本情報】'!DR:DR,1/LARGE(INDEX(('1_入力シート【基本情報】'!$AF$307:$AF$526={\"×要是正（既存不適格以外）\",\"△既存不適格\"})/ROW('1_入力シート【基本情報】'!$DR$307:$DR$526),0),ROW(A45))),\"\")","v":""},null,null,null,null,null,null,null,null,null,{"$f":"IFERROR(INDEX('1_入力シート【基本情報】'!FW:FW,1/LARGE(INDEX(('1_入力シート【基本情報】'!$AF$307:$AF$526={\"×要是正（既存不適格以外）\",\"△既存不適格\"})/ROW('1_入力シート【基本情報】'!$FW$307:$FW$526),0),ROW(A45))),\"\")","v":""},null,null,null,null,null,null,null,null,null,null,null,null,null,null,null,{"$f":"IFERROR(INDEX('1_入力シート【基本情報】'!BD:BD,1/LARGE(INDEX(('1_入力シート【基本情報】'!$AF$307:$AF$526={\"×要是正（既存不適格以外）\",\"△既存不適格\"})/ROW('1_入力シート【基本情報】'!$BD$307:$BD$526),0),ROW(A45))),\"\")","v":""},null,null,null,null,null,null,null,null,null,null,{"$f":"IFERROR(INDEX('1_入力シート【基本情報】'!EA:EA,1/LARGE(INDEX(('1_入力シート【基本情報】'!$AF$307:$AF$526={\"×要是正（既存不適格以外）\",\"△既存不適格\"})/ROW('1_入力シート【基本情報】'!$EA$307:$EA$526),0),ROW(A45))),\"\")","v":""}]
[null,{"$f":"IFERROR(INDEX('1_入力シート【基本情報】'!DW:DW,1/LARGE(INDEX(('1_入力シート【基本情報】'!$AF$307:$AF$526={\"×要是正（既存不適格以外）\",\"△既存不適格\"})/ROW('1_入力シート【基本情報】'!$DW$307:$DW$526),0),ROW(A46))),\"\")","v":""},null,null,{"$f":"IFERROR(INDEX('1_入力シート【基本情報】'!DR:DR,1/LARGE(INDEX(('1_入力シート【基本情報】'!$AF$307:$AF$526={\"×要是正（既存不適格以外）\",\"△既存不適格\"})/ROW('1_入力シート【基本情報】'!$DR$307:$DR$526),0),ROW(A46))),\"\")","v":""},null,null,null,null,null,null,null,null,null,{"$f":"IFERROR(INDEX('1_入力シート【基本情報】'!FW:FW,1/LARGE(INDEX(('1_入力シート【基本情報】'!$AF$307:$AF$526={\"×要是正（既存不適格以外）\",\"△既存不適格\"})/ROW('1_入力シート【基本情報】'!$FW$307:$FW$526),0),ROW(A46))),\"\")","v":""},null,null,null,null,null,null,null,null,null,null,null,null,null,null,null,{"$f":"IFERROR(INDEX('1_入力シート【基本情報】'!BD:BD,1/LARGE(INDEX(('1_入力シート【基本情報】'!$AF$307:$AF$526={\"×要是正（既存不適格以外）\",\"△既存不適格\"})/ROW('1_入力シート【基本情報】'!$BD$307:$BD$526),0),ROW(A46))),\"\")","v":""},null,null,null,null,null,null,null,null,null,null,{"$f":"IFERROR(INDEX('1_入力シート【基本情報】'!EA:EA,1/LARGE(INDEX(('1_入力シート【基本情報】'!$AF$307:$AF$526={\"×要是正（既存不適格以外）\",\"△既存不適格\"})/ROW('1_入力シート【基本情報】'!$EA$307:$EA$526),0),ROW(A46))),\"\")","v":""}]
[null,{"$f":"IFERROR(INDEX('1_入力シート【基本情報】'!DW:DW,1/LARGE(INDEX(('1_入力シート【基本情報】'!$AF$307:$AF$526={\"×要是正（既存不適格以外）\",\"△既存不適格\"})/ROW('1_入力シート【基本情報】'!$DW$307:$DW$526),0),ROW(A47))),\"\")","v":""},null,null,{"$f":"IFERROR(INDEX('1_入力シート【基本情報】'!DR:DR,1/LARGE(INDEX(('1_入力シート【基本情報】'!$AF$307:$AF$526={\"×要是正（既存不適格以外）\",\"△既存不適格\"})/ROW('1_入力シート【基本情報】'!$DR$307:$DR$526),0),ROW(A47))),\"\")","v":""},null,null,null,null,null,null,null,null,null,{"$f":"IFERROR(INDEX('1_入力シート【基本情報】'!FW:FW,1/LARGE(INDEX(('1_入力シート【基本情報】'!$AF$307:$AF$526={\"×要是正（既存不適格以外）\",\"△既存不適格\"})/ROW('1_入力シート【基本情報】'!$FW$307:$FW$526),0),ROW(A47))),\"\")","v":""},null,null,null,null,null,null,null,null,null,null,null,null,null,null,null,{"$f":"IFERROR(INDEX('1_入力シート【基本情報】'!BD:BD,1/LARGE(INDEX(('1_入力シート【基本情報】'!$AF$307:$AF$526={\"×要是正（既存不適格以外）\",\"△既存不適格\"})/ROW('1_入力シート【基本情報】'!$BD$307:$BD$526),0),ROW(A47))),\"\")","v":""},null,null,null,null,null,null,null,null,null,null,{"$f":"IFERROR(INDEX('1_入力シート【基本情報】'!EA:EA,1/LARGE(INDEX(('1_入力シート【基本情報】'!$AF$307:$AF$526={\"×要是正（既存不適格以外）\",\"△既存不適格\"})/ROW('1_入力シート【基本情報】'!$EA$307:$EA$526),0),ROW(A47))),\"\")","v":""}]
[null,{"$f":"IFERROR(INDEX('1_入力シート【基本情報】'!DW:DW,1/LARGE(INDEX(('1_入力シート【基本情報】'!$AF$307:$AF$526={\"×要是正（既存不適格以外）\",\"△既存不適格\"})/ROW('1_入力シート【基本情報】'!$DW$307:$DW$526),0),ROW(A48))),\"\")","v":""},null,null,{"$f":"IFERROR(INDEX('1_入力シート【基本情報】'!DR:DR,1/LARGE(INDEX(('1_入力シート【基本情報】'!$AF$307:$AF$526={\"×要是正（既存不適格以外）\",\"△既存不適格\"})/ROW('1_入力シート【基本情報】'!$DR$307:$DR$526),0),ROW(A48))),\"\")","v":""},null,null,null,null,null,null,null,null,null,{"$f":"IFERROR(INDEX('1_入力シート【基本情報】'!FW:FW,1/LARGE(INDEX(('1_入力シート【基本情報】'!$AF$307:$AF$526={\"×要是正（既存不適格以外）\",\"△既存不適格\"})/ROW('1_入力シート【基本情報】'!$FW$307:$FW$526),0),ROW(A48))),\"\")","v":""},null,null,null,null,null,null,null,null,null,null,null,null,null,null,null,{"$f":"IFERROR(INDEX('1_入力シート【基本情報】'!BD:BD,1/LARGE(INDEX(('1_入力シート【基本情報】'!$AF$307:$AF$526={\"×要是正（既存不適格以外）\",\"△既存不適格\"})/ROW('1_入力シート【基本情報】'!$BD$307:$BD$526),0),ROW(A48))),\"\")","v":""},null,null,null,null,null,null,null,null,null,null,{"$f":"IFERROR(INDEX('1_入力シート【基本情報】'!EA:EA,1/LARGE(INDEX(('1_入力シート【基本情報】'!$AF$307:$AF$526={\"×要是正（既存不適格以外）\",\"△既存不適格\"})/ROW('1_入力シート【基本情報】'!$EA$307:$EA$526),0),ROW(A48))),\"\")","v":""}]
[null,{"$f":"IFERROR(INDEX('1_入力シート【基本情報】'!DW:DW,1/LARGE(INDEX(('1_入力シート【基本情報】'!$AF$307:$AF$526={\"×要是正（既存不適格以外）\",\"△既存不適格\"})/ROW('1_入力シート【基本情報】'!$DW$307:$DW$526),0),ROW(A49))),\"\")","v":""},null,null,{"$f":"IFERROR(INDEX('1_入力シート【基本情報】'!DR:DR,1/LARGE(INDEX(('1_入力シート【基本情報】'!$AF$307:$AF$526={\"×要是正（既存不適格以外）\",\"△既存不適格\"})/ROW('1_入力シート【基本情報】'!$DR$307:$DR$526),0),ROW(A49))),\"\")","v":""},null,null,null,null,null,null,null,null,null,{"$f":"IFERROR(INDEX('1_入力シート【基本情報】'!FW:FW,1/LARGE(INDEX(('1_入力シート【基本情報】'!$AF$307:$AF$526={\"×要是正（既存不適格以外）\",\"△既存不適格\"})/ROW('1_入力シート【基本情報】'!$FW$307:$FW$526),0),ROW(A49))),\"\")","v":""},null,null,null,null,null,null,null,null,null,null,null,null,null,null,null,{"$f":"IFERROR(INDEX('1_入力シート【基本情報】'!BD:BD,1/LARGE(INDEX(('1_入力シート【基本情報】'!$AF$307:$AF$526={\"×要是正（既存不適格以外）\",\"△既存不適格\"})/ROW('1_入力シート【基本情報】'!$BD$307:$BD$526),0),ROW(A49))),\"\")","v":""},null,null,null,null,null,null,null,null,null,null,{"$f":"IFERROR(INDEX('1_入力シート【基本情報】'!EA:EA,1/LARGE(INDEX(('1_入力シート【基本情報】'!$AF$307:$AF$526={\"×要是正（既存不適格以外）\",\"△既存不適格\"})/ROW('1_入力シート【基本情報】'!$EA$307:$EA$526),0),ROW(A49))),\"\")","v":""}]
[null,{"$f":"IFERROR(INDEX('1_入力シート【基本情報】'!DW:DW,1/LARGE(INDEX(('1_入力シート【基本情報】'!$AF$307:$AF$526={\"×要是正（既存不適格以外）\",\"△既存不適格\"})/ROW('1_入力シート【基本情報】'!$DW$307:$DW$526),0),ROW(A50))),\"\")","v":""},null,null,{"$f":"IFERROR(INDEX('1_入力シート【基本情報】'!DR:DR,1/LARGE(INDEX(('1_入力シート【基本情報】'!$AF$307:$AF$526={\"×要是正（既存不適格以外）\",\"△既存不適格\"})/ROW('1_入力シート【基本情報】'!$DR$307:$DR$526),0),ROW(A50))),\"\")","v":""},null,null,null,null,null,null,null,null,null,{"$f":"IFERROR(INDEX('1_入力シート【基本情報】'!FW:FW,1/LARGE(INDEX(('1_入力シート【基本情報】'!$AF$307:$AF$526={\"×要是正（既存不適格以外）\",\"△既存不適格\"})/ROW('1_入力シート【基本情報】'!$FW$307:$FW$526),0),ROW(A50))),\"\")","v":""},null,null,null,null,null,null,null,null,null,null,null,null,null,null,null,{"$f":"IFERROR(INDEX('1_入力シート【基本情報】'!BD:BD,1/LARGE(INDEX(('1_入力シート【基本情報】'!$AF$307:$AF$526={\"×要是正（既存不適格以外）\",\"△既存不適格\"})/ROW('1_入力シート【基本情報】'!$BD$307:$BD$526),0),ROW(A50))),\"\")","v":""},null,null,null,null,null,null,null,null,null,null,{"$f":"IFERROR(INDEX('1_入力シート【基本情報】'!EA:EA,1/LARGE(INDEX(('1_入力シート【基本情報】'!$AF$307:$AF$526={\"×要是正（既存不適格以外）\",\"△既存不適格\"})/ROW('1_入力シート【基本情報】'!$EA$307:$EA$526),0),ROW(A50))),\"\")","v":""}]
[null,{"$f":"IFERROR(INDEX('1_入力シート【基本情報】'!DW:DW,1/LARGE(INDEX(('1_入力シート【基本情報】'!$AF$307:$AF$526={\"×要是正（既存不適格以外）\",\"△既存不適格\"})/ROW('1_入力シート【基本情報】'!$DW$307:$DW$526),0),ROW(A51))),\"\")","v":""},null,null,{"$f":"IFERROR(INDEX('1_入力シート【基本情報】'!DR:DR,1/LARGE(INDEX(('1_入力シート【基本情報】'!$AF$307:$AF$526={\"×要是正（既存不適格以外）\",\"△既存不適格\"})/ROW('1_入力シート【基本情報】'!$DR$307:$DR$526),0),ROW(A51))),\"\")","v":""},null,null,null,null,null,null,null,null,null,{"$f":"IFERROR(INDEX('1_入力シート【基本情報】'!FW:FW,1/LARGE(INDEX(('1_入力シート【基本情報】'!$AF$307:$AF$526={\"×要是正（既存不適格以外）\",\"△既存不適格\"})/ROW('1_入力シート【基本情報】'!$FW$307:$FW$526),0),ROW(A51))),\"\")","v":""},null,null,null,null,null,null,null,null,null,null,null,null,null,null,null,{"$f":"IFERROR(INDEX('1_入力シート【基本情報】'!BD:BD,1/LARGE(INDEX(('1_入力シート【基本情報】'!$AF$307:$AF$526={\"×要是正（既存不適格以外）\",\"△既存不適格\"})/ROW('1_入力シート【基本情報】'!$BD$307:$BD$526),0),ROW(A51))),\"\")","v":""},null,null,null,null,null,null,null,null,null,null,{"$f":"IFERROR(INDEX('1_入力シート【基本情報】'!EA:EA,1/LARGE(INDEX(('1_入力シート【基本情報】'!$AF$307:$AF$526={\"×要是正（既存不適格以外）\",\"△既存不適格\"})/ROW('1_入力シート【基本情報】'!$EA$307:$EA$526),0),ROW(A51))),\"\")","v":""}]
[null,{"$f":"IFERROR(INDEX('1_入力シート【基本情報】'!DW:DW,1/LARGE(INDEX(('1_入力シート【基本情報】'!$AF$307:$AF$526={\"×要是正（既存不適格以外）\",\"△既存不適格\"})/ROW('1_入力シート【基本情報】'!$DW$307:$DW$526),0),ROW(A52))),\"\")","v":""},null,null,{"$f":"IFERROR(INDEX('1_入力シート【基本情報】'!DR:DR,1/LARGE(INDEX(('1_入力シート【基本情報】'!$AF$307:$AF$526={\"×要是正（既存不適格以外）\",\"△既存不適格\"})/ROW('1_入力シート【基本情報】'!$DR$307:$DR$526),0),ROW(A52))),\"\")","v":""},null,null,null,null,null,null,null,null,null,{"$f":"IFERROR(INDEX('1_入力シート【基本情報】'!FW:FW,1/LARGE(INDEX(('1_入力シート【基本情報】'!$AF$307:$AF$526={\"×要是正（既存不適格以外）\",\"△既存不適格\"})/ROW('1_入力シート【基本情報】'!$FW$307:$FW$526),0),ROW(A52))),\"\")","v":""},null,null,null,null,null,null,null,null,null,null,null,null,null,null,null,{"$f":"IFERROR(INDEX('1_入力シート【基本情報】'!BD:BD,1/LARGE(INDEX(('1_入力シート【基本情報】'!$AF$307:$AF$526={\"×要是正（既存不適格以外）\",\"△既存不適格\"})/ROW('1_入力シート【基本情報】'!$BD$307:$BD$526),0),ROW(A52))),\"\")","v":""},null,null,null,null,null,null,null,null,null,null,{"$f":"IFERROR(INDEX('1_入力シート【基本情報】'!EA:EA,1/LARGE(INDEX(('1_入力シート【基本情報】'!$AF$307:$AF$526={\"×要是正（既存不適格以外）\",\"△既存不適格\"})/ROW('1_入力シート【基本情報】'!$EA$307:$EA$526),0),ROW(A52))),\"\")","v":""}]
[null,{"$f":"IFERROR(INDEX('1_入力シート【基本情報】'!DW:DW,1/LARGE(INDEX(('1_入力シート【基本情報】'!$AF$307:$AF$526={\"×要是正（既存不適格以外）\",\"△既存不適格\"})/ROW('1_入力シート【基本情報】'!$DW$307:$DW$526),0),ROW(A53))),\"\")","v":""},null,null,{"$f":"IFERROR(INDEX('1_入力シート【基本情報】'!DR:DR,1/LARGE(INDEX(('1_入力シート【基本情報】'!$AF$307:$AF$526={\"×要是正（既存不適格以外）\",\"△既存不適格\"})/ROW('1_入力シート【基本情報】'!$DR$307:$DR$526),0),ROW(A53))),\"\")","v":""},null,null,null,null,null,null,null,null,null,{"$f":"IFERROR(INDEX('1_入力シート【基本情報】'!FW:FW,1/LARGE(INDEX(('1_入力シート【基本情報】'!$AF$307:$AF$526={\"×要是正（既存不適格以外）\",\"△既存不適格\"})/ROW('1_入力シート【基本情報】'!$FW$307:$FW$526),0),ROW(A53))),\"\")","v":""},null,null,null,null,null,null,null,null,null,null,null,null,null,null,null,{"$f":"IFERROR(INDEX('1_入力シート【基本情報】'!BD:BD,1/LARGE(INDEX(('1_入力シート【基本情報】'!$AF$307:$AF$526={\"×要是正（既存不適格以外）\",\"△既存不適格\"})/ROW('1_入力シート【基本情報】'!$BD$307:$BD$526),0),ROW(A53))),\"\")","v":""},null,null,null,null,null,null,null,null,null,null,{"$f":"IFERROR(INDEX('1_入力シート【基本情報】'!EA:EA,1/LARGE(INDEX(('1_入力シート【基本情報】'!$AF$307:$AF$526={\"×要是正（既存不適格以外）\",\"△既存不適格\"})/ROW('1_入力シート【基本情報】'!$EA$307:$EA$526),0),ROW(A53))),\"\")","v":""}]
[null,{"$f":"IFERROR(INDEX('1_入力シート【基本情報】'!DW:DW,1/LARGE(INDEX(('1_入力シート【基本情報】'!$AF$307:$AF$526={\"×要是正（既存不適格以外）\",\"△既存不適格\"})/ROW('1_入力シート【基本情報】'!$DW$307:$DW$526),0),ROW(A54))),\"\")","v":""},null,null,{"$f":"IFERROR(INDEX('1_入力シート【基本情報】'!DR:DR,1/LARGE(INDEX(('1_入力シート【基本情報】'!$AF$307:$AF$526={\"×要是正（既存不適格以外）\",\"△既存不適格\"})/ROW('1_入力シート【基本情報】'!$DR$307:$DR$526),0),ROW(A54))),\"\")","v":""},null,null,null,null,null,null,null,null,null,{"$f":"IFERROR(INDEX('1_入力シート【基本情報】'!FW:FW,1/LARGE(INDEX(('1_入力シート【基本情報】'!$AF$307:$AF$526={\"×要是正（既存不適格以外）\",\"△既存不適格\"})/ROW('1_入力シート【基本情報】'!$FW$307:$FW$526),0),ROW(A54))),\"\")","v":""},null,null,null,null,null,null,null,null,null,null,null,null,null,null,null,{"$f":"IFERROR(INDEX('1_入力シート【基本情報】'!BD:BD,1/LARGE(INDEX(('1_入力シート【基本情報】'!$AF$307:$AF$526={\"×要是正（既存不適格以外）\",\"△既存不適格\"})/ROW('1_入力シート【基本情報】'!$BD$307:$BD$526),0),ROW(A54))),\"\")","v":""},null,null,null,null,null,null,null,null,null,null,{"$f":"IFERROR(INDEX('1_入力シート【基本情報】'!EA:EA,1/LARGE(INDEX(('1_入力シート【基本情報】'!$AF$307:$AF$526={\"×要是正（既存不適格以外）\",\"△既存不適格\"})/ROW('1_入力シート【基本情報】'!$EA$307:$EA$526),0),ROW(A54))),\"\")","v":""}]
[null,{"$f":"IFERROR(INDEX('1_入力シート【基本情報】'!DW:DW,1/LARGE(INDEX(('1_入力シート【基本情報】'!$AF$307:$AF$526={\"×要是正（既存不適格以外）\",\"△既存不適格\"})/ROW('1_入力シート【基本情報】'!$DW$307:$DW$526),0),ROW(A55))),\"\")","v":""},null,null,{"$f":"IFERROR(INDEX('1_入力シート【基本情報】'!DR:DR,1/LARGE(INDEX(('1_入力シート【基本情報】'!$AF$307:$AF$526={\"×要是正（既存不適格以外）\",\"△既存不適格\"})/ROW('1_入力シート【基本情報】'!$DR$307:$DR$526),0),ROW(A55))),\"\")","v":""},null,null,null,null,null,null,null,null,null,{"$f":"IFERROR(INDEX('1_入力シート【基本情報】'!FW:FW,1/LARGE(INDEX(('1_入力シート【基本情報】'!$AF$307:$AF$526={\"×要是正（既存不適格以外）\",\"△既存不適格\"})/ROW('1_入力シート【基本情報】'!$FW$307:$FW$526),0),ROW(A55))),\"\")","v":""},null,null,null,null,null,null,null,null,null,null,null,null,null,null,null,{"$f":"IFERROR(INDEX('1_入力シート【基本情報】'!BD:BD,1/LARGE(INDEX(('1_入力シート【基本情報】'!$AF$307:$AF$526={\"×要是正（既存不適格以外）\",\"△既存不適格\"})/ROW('1_入力シート【基本情報】'!$BD$307:$BD$526),0),ROW(A55))),\"\")","v":""},null,null,null,null,null,null,null,null,null,null,{"$f":"IFERROR(INDEX('1_入力シート【基本情報】'!EA:EA,1/LARGE(INDEX(('1_入力シート【基本情報】'!$AF$307:$AF$526={\"×要是正（既存不適格以外）\",\"△既存不適格\"})/ROW('1_入力シート【基本情報】'!$EA$307:$EA$526),0),ROW(A55))),\"\")","v":""}]
[null,{"$f":"IFERROR(INDEX('1_入力シート【基本情報】'!DW:DW,1/LARGE(INDEX(('1_入力シート【基本情報】'!$AF$307:$AF$526={\"×要是正（既存不適格以外）\",\"△既存不適格\"})/ROW('1_入力シート【基本情報】'!$DW$307:$DW$526),0),ROW(A56))),\"\")","v":""},null,null,{"$f":"IFERROR(INDEX('1_入力シート【基本情報】'!DR:DR,1/LARGE(INDEX(('1_入力シート【基本情報】'!$AF$307:$AF$526={\"×要是正（既存不適格以外）\",\"△既存不適格\"})/ROW('1_入力シート【基本情報】'!$DR$307:$DR$526),0),ROW(A56))),\"\")","v":""},null,null,null,null,null,null,null,null,null,{"$f":"IFERROR(INDEX('1_入力シート【基本情報】'!FW:FW,1/LARGE(INDEX(('1_入力シート【基本情報】'!$AF$307:$AF$526={\"×要是正（既存不適格以外）\",\"△既存不適格\"})/ROW('1_入力シート【基本情報】'!$FW$307:$FW$526),0),ROW(A56))),\"\")","v":""},null,null,null,null,null,null,null,null,null,null,null,null,null,null,null,{"$f":"IFERROR(INDEX('1_入力シート【基本情報】'!BD:BD,1/LARGE(INDEX(('1_入力シート【基本情報】'!$AF$307:$AF$526={\"×要是正（既存不適格以外）\",\"△既存不適格\"})/ROW('1_入力シート【基本情報】'!$BD$307:$BD$526),0),ROW(A56))),\"\")","v":""},null,null,null,null,null,null,null,null,null,null,{"$f":"IFERROR(INDEX('1_入力シート【基本情報】'!EA:EA,1/LARGE(INDEX(('1_入力シート【基本情報】'!$AF$307:$AF$526={\"×要是正（既存不適格以外）\",\"△既存不適格\"})/ROW('1_入力シート【基本情報】'!$EA$307:$EA$526),0),ROW(A56))),\"\")","v":""}]
[null,{"$f":"IFERROR(INDEX('1_入力シート【基本情報】'!DW:DW,1/LARGE(INDEX(('1_入力シート【基本情報】'!$AF$307:$AF$526={\"×要是正（既存不適格以外）\",\"△既存不適格\"})/ROW('1_入力シート【基本情報】'!$DW$307:$DW$526),0),ROW(A57))),\"\")","v":""},null,null,{"$f":"IFERROR(INDEX('1_入力シート【基本情報】'!DR:DR,1/LARGE(INDEX(('1_入力シート【基本情報】'!$AF$307:$AF$526={\"×要是正（既存不適格以外）\",\"△既存不適格\"})/ROW('1_入力シート【基本情報】'!$DR$307:$DR$526),0),ROW(A57))),\"\")","v":""},null,null,null,null,null,null,null,null,null,{"$f":"IFERROR(INDEX('1_入力シート【基本情報】'!FW:FW,1/LARGE(INDEX(('1_入力シート【基本情報】'!$AF$307:$AF$526={\"×要是正（既存不適格以外）\",\"△既存不適格\"})/ROW('1_入力シート【基本情報】'!$FW$307:$FW$526),0),ROW(A57))),\"\")","v":""},null,null,null,null,null,null,null,null,null,null,null,null,null,null,null,{"$f":"IFERROR(INDEX('1_入力シート【基本情報】'!BD:BD,1/LARGE(INDEX(('1_入力シート【基本情報】'!$AF$307:$AF$526={\"×要是正（既存不適格以外）\",\"△既存不適格\"})/ROW('1_入力シート【基本情報】'!$BD$307:$BD$526),0),ROW(A57))),\"\")","v":""},null,null,null,null,null,null,null,null,null,null,{"$f":"IFERROR(INDEX('1_入力シート【基本情報】'!EA:EA,1/LARGE(INDEX(('1_入力シート【基本情報】'!$AF$307:$AF$526={\"×要是正（既存不適格以外）\",\"△既存不適格\"})/ROW('1_入力シート【基本情報】'!$EA$307:$EA$526),0),ROW(A57))),\"\")","v":""}]
[null,{"$f":"IFERROR(INDEX('1_入力シート【基本情報】'!DW:DW,1/LARGE(INDEX(('1_入力シート【基本情報】'!$AF$307:$AF$526={\"×要是正（既存不適格以外）\",\"△既存不適格\"})/ROW('1_入力シート【基本情報】'!$DW$307:$DW$526),0),ROW(A58))),\"\")","v":""},null,null,{"$f":"IFERROR(INDEX('1_入力シート【基本情報】'!DR:DR,1/LARGE(INDEX(('1_入力シート【基本情報】'!$AF$307:$AF$526={\"×要是正（既存不適格以外）\",\"△既存不適格\"})/ROW('1_入力シート【基本情報】'!$DR$307:$DR$526),0),ROW(A58))),\"\")","v":""},null,null,null,null,null,null,null,null,null,{"$f":"IFERROR(INDEX('1_入力シート【基本情報】'!FW:FW,1/LARGE(INDEX(('1_入力シート【基本情報】'!$AF$307:$AF$526={\"×要是正（既存不適格以外）\",\"△既存不適格\"})/ROW('1_入力シート【基本情報】'!$FW$307:$FW$526),0),ROW(A58))),\"\")","v":""},null,null,null,null,null,null,null,null,null,null,null,null,null,null,null,{"$f":"IFERROR(INDEX('1_入力シート【基本情報】'!BD:BD,1/LARGE(INDEX(('1_入力シート【基本情報】'!$AF$307:$AF$526={\"×要是正（既存不適格以外）\",\"△既存不適格\"})/ROW('1_入力シート【基本情報】'!$BD$307:$BD$526),0),ROW(A58))),\"\")","v":""},null,null,null,null,null,null,null,null,null,null,{"$f":"IFERROR(INDEX('1_入力シート【基本情報】'!EA:EA,1/LARGE(INDEX(('1_入力シート【基本情報】'!$AF$307:$AF$526={\"×要是正（既存不適格以外）\",\"△既存不適格\"})/ROW('1_入力シート【基本情報】'!$EA$307:$EA$526),0),ROW(A58))),\"\")","v":""}]
[null,{"$f":"IFERROR(INDEX('1_入力シート【基本情報】'!DW:DW,1/LARGE(INDEX(('1_入力シート【基本情報】'!$AF$307:$AF$526={\"×要是正（既存不適格以外）\",\"△既存不適格\"})/ROW('1_入力シート【基本情報】'!$DW$307:$DW$526),0),ROW(A59))),\"\")","v":""},null,null,{"$f":"IFERROR(INDEX('1_入力シート【基本情報】'!DR:DR,1/LARGE(INDEX(('1_入力シート【基本情報】'!$AF$307:$AF$526={\"×要是正（既存不適格以外）\",\"△既存不適格\"})/ROW('1_入力シート【基本情報】'!$DR$307:$DR$526),0),ROW(A59))),\"\")","v":""},null,null,null,null,null,null,null,null,null,{"$f":"IFERROR(INDEX('1_入力シート【基本情報】'!FW:FW,1/LARGE(INDEX(('1_入力シート【基本情報】'!$AF$307:$AF$526={\"×要是正（既存不適格以外）\",\"△既存不適格\"})/ROW('1_入力シート【基本情報】'!$FW$307:$FW$526),0),ROW(A59))),\"\")","v":""},null,null,null,null,null,null,null,null,null,null,null,null,null,null,null,{"$f":"IFERROR(INDEX('1_入力シート【基本情報】'!BD:BD,1/LARGE(INDEX(('1_入力シート【基本情報】'!$AF$307:$AF$526={\"×要是正（既存不適格以外）\",\"△既存不適格\"})/ROW('1_入力シート【基本情報】'!$BD$307:$BD$526),0),ROW(A59))),\"\")","v":""},null,null,null,null,null,null,null,null,null,null,{"$f":"IFERROR(INDEX('1_入力シート【基本情報】'!EA:EA,1/LARGE(INDEX(('1_入力シート【基本情報】'!$AF$307:$AF$526={\"×要是正（既存不適格以外）\",\"△既存不適格\"})/ROW('1_入力シート【基本情報】'!$EA$307:$EA$526),0),ROW(A59))),\"\")","v":""}]
[null,{"$f":"IFERROR(INDEX('1_入力シート【基本情報】'!DW:DW,1/LARGE(INDEX(('1_入力シート【基本情報】'!$AF$307:$AF$526={\"×要是正（既存不適格以外）\",\"△既存不適格\"})/ROW('1_入力シート【基本情報】'!$DW$307:$DW$526),0),ROW(A60))),\"\")","v":""},null,null,{"$f":"IFERROR(INDEX('1_入力シート【基本情報】'!DR:DR,1/LARGE(INDEX(('1_入力シート【基本情報】'!$AF$307:$AF$526={\"×要是正（既存不適格以外）\",\"△既存不適格\"})/ROW('1_入力シート【基本情報】'!$DR$307:$DR$526),0),ROW(A60))),\"\")","v":""},null,null,null,null,null,null,null,null,null,{"$f":"IFERROR(INDEX('1_入力シート【基本情報】'!FW:FW,1/LARGE(INDEX(('1_入力シート【基本情報】'!$AF$307:$AF$526={\"×要是正（既存不適格以外）\",\"△既存不適格\"})/ROW('1_入力シート【基本情報】'!$FW$307:$FW$526),0),ROW(A60))),\"\")","v":""},null,null,null,null,null,null,null,null,null,null,null,null,null,null,null,{"$f":"IFERROR(INDEX('1_入力シート【基本情報】'!BD:BD,1/LARGE(INDEX(('1_入力シート【基本情報】'!$AF$307:$AF$526={\"×要是正（既存不適格以外）\",\"△既存不適格\"})/ROW('1_入力シート【基本情報】'!$BD$307:$BD$526),0),ROW(A60))),\"\")","v":""},null,null,null,null,null,null,null,null,null,null,{"$f":"IFERROR(INDEX('1_入力シート【基本情報】'!EA:EA,1/LARGE(INDEX(('1_入力シート【基本情報】'!$AF$307:$AF$526={\"×要是正（既存不適格以外）\",\"△既存不適格\"})/ROW('1_入力シート【基本情報】'!$EA$307:$EA$526),0),ROW(A60))),\"\")","v":""}]
[null,{"$f":"IFERROR(INDEX('1_入力シート【基本情報】'!DW:DW,1/LARGE(INDEX(('1_入力シート【基本情報】'!$AF$307:$AF$526={\"×要是正（既存不適格以外）\",\"△既存不適格\"})/ROW('1_入力シート【基本情報】'!$DW$307:$DW$526),0),ROW(A61))),\"\")","v":""},null,null,{"$f":"IFERROR(INDEX('1_入力シート【基本情報】'!DR:DR,1/LARGE(INDEX(('1_入力シート【基本情報】'!$AF$307:$AF$526={\"×要是正（既存不適格以外）\",\"△既存不適格\"})/ROW('1_入力シート【基本情報】'!$DR$307:$DR$526),0),ROW(A61))),\"\")","v":""},null,null,null,null,null,null,null,null,null,{"$f":"IFERROR(INDEX('1_入力シート【基本情報】'!FW:FW,1/LARGE(INDEX(('1_入力シート【基本情報】'!$AF$307:$AF$526={\"×要是正（既存不適格以外）\",\"△既存不適格\"})/ROW('1_入力シート【基本情報】'!$FW$307:$FW$526),0),ROW(A61))),\"\")","v":""},null,null,null,null,null,null,null,null,null,null,null,null,null,null,null,{"$f":"IFERROR(INDEX('1_入力シート【基本情報】'!BD:BD,1/LARGE(INDEX(('1_入力シート【基本情報】'!$AF$307:$AF$526={\"×要是正（既存不適格以外）\",\"△既存不適格\"})/ROW('1_入力シート【基本情報】'!$BD$307:$BD$526),0),ROW(A61))),\"\")","v":""},null,null,null,null,null,null,null,null,null,null,{"$f":"IFERROR(INDEX('1_入力シート【基本情報】'!EA:EA,1/LARGE(INDEX(('1_入力シート【基本情報】'!$AF$307:$AF$526={\"×要是正（既存不適格以外）\",\"△既存不適格\"})/ROW('1_入力シート【基本情報】'!$EA$307:$EA$526),0),ROW(A61))),\"\")","v":""}]
[null,{"$f":"IFERROR(INDEX('1_入力シート【基本情報】'!DW:DW,1/LARGE(INDEX(('1_入力シート【基本情報】'!$AF$307:$AF$526={\"×要是正（既存不適格以外）\",\"△既存不適格\"})/ROW('1_入力シート【基本情報】'!$DW$307:$DW$526),0),ROW(A62))),\"\")","v":""},null,null,{"$f":"IFERROR(INDEX('1_入力シート【基本情報】'!DR:DR,1/LARGE(INDEX(('1_入力シート【基本情報】'!$AF$307:$AF$526={\"×要是正（既存不適格以外）\",\"△既存不適格\"})/ROW('1_入力シート【基本情報】'!$DR$307:$DR$526),0),ROW(A62))),\"\")","v":""},null,null,null,null,null,null,null,null,null,{"$f":"IFERROR(INDEX('1_入力シート【基本情報】'!FW:FW,1/LARGE(INDEX(('1_入力シート【基本情報】'!$AF$307:$AF$526={\"×要是正（既存不適格以外）\",\"△既存不適格\"})/ROW('1_入力シート【基本情報】'!$FW$307:$FW$526),0),ROW(A62))),\"\")","v":""},null,null,null,null,null,null,null,null,null,null,null,null,null,null,null,{"$f":"IFERROR(INDEX('1_入力シート【基本情報】'!BD:BD,1/LARGE(INDEX(('1_入力シート【基本情報】'!$AF$307:$AF$526={\"×要是正（既存不適格以外）\",\"△既存不適格\"})/ROW('1_入力シート【基本情報】'!$BD$307:$BD$526),0),ROW(A62))),\"\")","v":""},null,null,null,null,null,null,null,null,null,null,{"$f":"IFERROR(INDEX('1_入力シート【基本情報】'!EA:EA,1/LARGE(INDEX(('1_入力シート【基本情報】'!$AF$307:$AF$526={\"×要是正（既存不適格以外）\",\"△既存不適格\"})/ROW('1_入力シート【基本情報】'!$EA$307:$EA$526),0),ROW(A62))),\"\")","v":""}]
[null,{"$f":"IFERROR(INDEX('1_入力シート【基本情報】'!DW:DW,1/LARGE(INDEX(('1_入力シート【基本情報】'!$AF$307:$AF$526={\"×要是正（既存不適格以外）\",\"△既存不適格\"})/ROW('1_入力シート【基本情報】'!$DW$307:$DW$526),0),ROW(A63))),\"\")","v":""},null,null,{"$f":"IFERROR(INDEX('1_入力シート【基本情報】'!DR:DR,1/LARGE(INDEX(('1_入力シート【基本情報】'!$AF$307:$AF$526={\"×要是正（既存不適格以外）\",\"△既存不適格\"})/ROW('1_入力シート【基本情報】'!$DR$307:$DR$526),0),ROW(A63))),\"\")","v":""},null,null,null,null,null,null,null,null,null,{"$f":"IFERROR(INDEX('1_入力シート【基本情報】'!FW:FW,1/LARGE(INDEX(('1_入力シート【基本情報】'!$AF$307:$AF$526={\"×要是正（既存不適格以外）\",\"△既存不適格\"})/ROW('1_入力シート【基本情報】'!$FW$307:$FW$526),0),ROW(A63))),\"\")","v":""},null,null,null,null,null,null,null,null,null,null,null,null,null,null,null,{"$f":"IFERROR(INDEX('1_入力シート【基本情報】'!BD:BD,1/LARGE(INDEX(('1_入力シート【基本情報】'!$AF$307:$AF$526={\"×要是正（既存不適格以外）\",\"△既存不適格\"})/ROW('1_入力シート【基本情報】'!$BD$307:$BD$526),0),ROW(A63))),\"\")","v":""},null,null,null,null,null,null,null,null,null,null,{"$f":"IFERROR(INDEX('1_入力シート【基本情報】'!EA:EA,1/LARGE(INDEX(('1_入力シート【基本情報】'!$AF$307:$AF$526={\"×要是正（既存不適格以外）\",\"△既存不適格\"})/ROW('1_入力シート【基本情報】'!$EA$307:$EA$526),0),ROW(A63))),\"\")","v":""}]
[null,{"$f":"IFERROR(INDEX('1_入力シート【基本情報】'!DW:DW,1/LARGE(INDEX(('1_入力シート【基本情報】'!$AF$307:$AF$526={\"×要是正（既存不適格以外）\",\"△既存不適格\"})/ROW('1_入力シート【基本情報】'!$DW$307:$DW$526),0),ROW(A64))),\"\")","v":""},null,null,{"$f":"IFERROR(INDEX('1_入力シート【基本情報】'!DR:DR,1/LARGE(INDEX(('1_入力シート【基本情報】'!$AF$307:$AF$526={\"×要是正（既存不適格以外）\",\"△既存不適格\"})/ROW('1_入力シート【基本情報】'!$DR$307:$DR$526),0),ROW(A64))),\"\")","v":""},null,null,null,null,null,null,null,null,null,{"$f":"IFERROR(INDEX('1_入力シート【基本情報】'!FW:FW,1/LARGE(INDEX(('1_入力シート【基本情報】'!$AF$307:$AF$526={\"×要是正（既存不適格以外）\",\"△既存不適格\"})/ROW('1_入力シート【基本情報】'!$FW$307:$FW$526),0),ROW(A64))),\"\")","v":""},null,null,null,null,null,null,null,null,null,null,null,null,null,null,null,{"$f":"IFERROR(INDEX('1_入力シート【基本情報】'!BD:BD,1/LARGE(INDEX(('1_入力シート【基本情報】'!$AF$307:$AF$526={\"×要是正（既存不適格以外）\",\"△既存不適格\"})/ROW('1_入力シート【基本情報】'!$BD$307:$BD$526),0),ROW(A64))),\"\")","v":""},null,null,null,null,null,null,null,null,null,null,{"$f":"IFERROR(INDEX('1_入力シート【基本情報】'!EA:EA,1/LARGE(INDEX(('1_入力シート【基本情報】'!$AF$307:$AF$526={\"×要是正（既存不適格以外）\",\"△既存不適格\"})/ROW('1_入力シート【基本情報】'!$EA$307:$EA$526),0),ROW(A64))),\"\")","v":""}]
[null,{"$f":"IFERROR(INDEX('1_入力シート【基本情報】'!DW:DW,1/LARGE(INDEX(('1_入力シート【基本情報】'!$AF$307:$AF$526={\"×要是正（既存不適格以外）\",\"△既存不適格\"})/ROW('1_入力シート【基本情報】'!$DW$307:$DW$526),0),ROW(A65))),\"\")","v":""},null,null,{"$f":"IFERROR(INDEX('1_入力シート【基本情報】'!DR:DR,1/LARGE(INDEX(('1_入力シート【基本情報】'!$AF$307:$AF$526={\"×要是正（既存不適格以外）\",\"△既存不適格\"})/ROW('1_入力シート【基本情報】'!$DR$307:$DR$526),0),ROW(A65))),\"\")","v":""},null,null,null,null,null,null,null,null,null,{"$f":"IFERROR(INDEX('1_入力シート【基本情報】'!FW:FW,1/LARGE(INDEX(('1_入力シート【基本情報】'!$AF$307:$AF$526={\"×要是正（既存不適格以外）\",\"△既存不適格\"})/ROW('1_入力シート【基本情報】'!$FW$307:$FW$526),0),ROW(A65))),\"\")","v":""},null,null,null,null,null,null,null,null,null,null,null,null,null,null,null,{"$f":"IFERROR(INDEX('1_入力シート【基本情報】'!BD:BD,1/LARGE(INDEX(('1_入力シート【基本情報】'!$AF$307:$AF$526={\"×要是正（既存不適格以外）\",\"△既存不適格\"})/ROW('1_入力シート【基本情報】'!$BD$307:$BD$526),0),ROW(A65))),\"\")","v":""},null,null,null,null,null,null,null,null,null,null,{"$f":"IFERROR(INDEX('1_入力シート【基本情報】'!EA:EA,1/LARGE(INDEX(('1_入力シート【基本情報】'!$AF$307:$AF$526={\"×要是正（既存不適格以外）\",\"△既存不適格\"})/ROW('1_入力シート【基本情報】'!$EA$307:$EA$526),0),ROW(A65))),\"\")","v":""}]
[null,{"$f":"IFERROR(INDEX('1_入力シート【基本情報】'!DW:DW,1/LARGE(INDEX(('1_入力シート【基本情報】'!$AF$307:$AF$526={\"×要是正（既存不適格以外）\",\"△既存不適格\"})/ROW('1_入力シート【基本情報】'!$DW$307:$DW$526),0),ROW(A66))),\"\")","v":""},null,null,{"$f":"IFERROR(INDEX('1_入力シート【基本情報】'!DR:DR,1/LARGE(INDEX(('1_入力シート【基本情報】'!$AF$307:$AF$526={\"×要是正（既存不適格以外）\",\"△既存不適格\"})/ROW('1_入力シート【基本情報】'!$DR$307:$DR$526),0),ROW(A66))),\"\")","v":""},null,null,null,null,null,null,null,null,null,{"$f":"IFERROR(INDEX('1_入力シート【基本情報】'!FW:FW,1/LARGE(INDEX(('1_入力シート【基本情報】'!$AF$307:$AF$526={\"×要是正（既存不適格以外）\",\"△既存不適格\"})/ROW('1_入力シート【基本情報】'!$FW$307:$FW$526),0),ROW(A66))),\"\")","v":""},null,null,null,null,null,null,null,null,null,null,null,null,null,null,null,{"$f":"IFERROR(INDEX('1_入力シート【基本情報】'!BD:BD,1/LARGE(INDEX(('1_入力シート【基本情報】'!$AF$307:$AF$526={\"×要是正（既存不適格以外）\",\"△既存不適格\"})/ROW('1_入力シート【基本情報】'!$BD$307:$BD$526),0),ROW(A66))),\"\")","v":""},null,null,null,null,null,null,null,null,null,null,{"$f":"IFERROR(INDEX('1_入力シート【基本情報】'!EA:EA,1/LARGE(INDEX(('1_入力シート【基本情報】'!$AF$307:$AF$526={\"×要是正（既存不適格以外）\",\"△既存不適格\"})/ROW('1_入力シート【基本情報】'!$EA$307:$EA$526),0),ROW(A66))),\"\")","v":""}]
[null,{"$f":"IFERROR(INDEX('1_入力シート【基本情報】'!DW:DW,1/LARGE(INDEX(('1_入力シート【基本情報】'!$AF$307:$AF$526={\"×要是正（既存不適格以外）\",\"△既存不適格\"})/ROW('1_入力シート【基本情報】'!$DW$307:$DW$526),0),ROW(A67))),\"\")","v":""},null,null,{"$f":"IFERROR(INDEX('1_入力シート【基本情報】'!DR:DR,1/LARGE(INDEX(('1_入力シート【基本情報】'!$AF$307:$AF$526={\"×要是正（既存不適格以外）\",\"△既存不適格\"})/ROW('1_入力シート【基本情報】'!$DR$307:$DR$526),0),ROW(A67))),\"\")","v":""},null,null,null,null,null,null,null,null,null,{"$f":"IFERROR(INDEX('1_入力シート【基本情報】'!FW:FW,1/LARGE(INDEX(('1_入力シート【基本情報】'!$AF$307:$AF$526={\"×要是正（既存不適格以外）\",\"△既存不適格\"})/ROW('1_入力シート【基本情報】'!$FW$307:$FW$526),0),ROW(A67))),\"\")","v":""},null,null,null,null,null,null,null,null,null,null,null,null,null,null,null,{"$f":"IFERROR(INDEX('1_入力シート【基本情報】'!BD:BD,1/LARGE(INDEX(('1_入力シート【基本情報】'!$AF$307:$AF$526={\"×要是正（既存不適格以外）\",\"△既存不適格\"})/ROW('1_入力シート【基本情報】'!$BD$307:$BD$526),0),ROW(A67))),\"\")","v":""},null,null,null,null,null,null,null,null,null,null,{"$f":"IFERROR(INDEX('1_入力シート【基本情報】'!EA:EA,1/LARGE(INDEX(('1_入力シート【基本情報】'!$AF$307:$AF$526={\"×要是正（既存不適格以外）\",\"△既存不適格\"})/ROW('1_入力シート【基本情報】'!$EA$307:$EA$526),0),ROW(A67))),\"\")","v":""}]
[null,{"$f":"IFERROR(INDEX('1_入力シート【基本情報】'!DW:DW,1/LARGE(INDEX(('1_入力シート【基本情報】'!$AF$307:$AF$526={\"×要是正（既存不適格以外）\",\"△既存不適格\"})/ROW('1_入力シート【基本情報】'!$DW$307:$DW$526),0),ROW(A68))),\"\")","v":""},null,null,{"$f":"IFERROR(INDEX('1_入力シート【基本情報】'!DR:DR,1/LARGE(INDEX(('1_入力シート【基本情報】'!$AF$307:$AF$526={\"×要是正（既存不適格以外）\",\"△既存不適格\"})/ROW('1_入力シート【基本情報】'!$DR$307:$DR$526),0),ROW(A68))),\"\")","v":""},null,null,null,null,null,null,null,null,null,{"$f":"IFERROR(INDEX('1_入力シート【基本情報】'!FW:FW,1/LARGE(INDEX(('1_入力シート【基本情報】'!$AF$307:$AF$526={\"×要是正（既存不適格以外）\",\"△既存不適格\"})/ROW('1_入力シート【基本情報】'!$FW$307:$FW$526),0),ROW(A68))),\"\")","v":""},null,null,null,null,null,null,null,null,null,null,null,null,null,null,null,{"$f":"IFERROR(INDEX('1_入力シート【基本情報】'!BD:BD,1/LARGE(INDEX(('1_入力シート【基本情報】'!$AF$307:$AF$526={\"×要是正（既存不適格以外）\",\"△既存不適格\"})/ROW('1_入力シート【基本情報】'!$BD$307:$BD$526),0),ROW(A68))),\"\")","v":""},null,null,null,null,null,null,null,null,null,null,{"$f":"IFERROR(INDEX('1_入力シート【基本情報】'!EA:EA,1/LARGE(INDEX(('1_入力シート【基本情報】'!$AF$307:$AF$526={\"×要是正（既存不適格以外）\",\"△既存不適格\"})/ROW('1_入力シート【基本情報】'!$EA$307:$EA$526),0),ROW(A68))),\"\")","v":""}]
[null,{"$f":"IFERROR(INDEX('1_入力シート【基本情報】'!DW:DW,1/LARGE(INDEX(('1_入力シート【基本情報】'!$AF$307:$AF$526={\"×要是正（既存不適格以外）\",\"△既存不適格\"})/ROW('1_入力シート【基本情報】'!$DW$307:$DW$526),0),ROW(A69))),\"\")","v":""},null,null,{"$f":"IFERROR(INDEX('1_入力シート【基本情報】'!DR:DR,1/LARGE(INDEX(('1_入力シート【基本情報】'!$AF$307:$AF$526={\"×要是正（既存不適格以外）\",\"△既存不適格\"})/ROW('1_入力シート【基本情報】'!$DR$307:$DR$526),0),ROW(A69))),\"\")","v":""},null,null,null,null,null,null,null,null,null,{"$f":"IFERROR(INDEX('1_入力シート【基本情報】'!FW:FW,1/LARGE(INDEX(('1_入力シート【基本情報】'!$AF$307:$AF$526={\"×要是正（既存不適格以外）\",\"△既存不適格\"})/ROW('1_入力シート【基本情報】'!$FW$307:$FW$526),0),ROW(A69))),\"\")","v":""},null,null,null,null,null,null,null,null,null,null,null,null,null,null,null,{"$f":"IFERROR(INDEX('1_入力シート【基本情報】'!BD:BD,1/LARGE(INDEX(('1_入力シート【基本情報】'!$AF$307:$AF$526={\"×要是正（既存不適格以外）\",\"△既存不適格\"})/ROW('1_入力シート【基本情報】'!$BD$307:$BD$526),0),ROW(A69))),\"\")","v":""},null,null,null,null,null,null,null,null,null,null,{"$f":"IFERROR(INDEX('1_入力シート【基本情報】'!EA:EA,1/LARGE(INDEX(('1_入力シート【基本情報】'!$AF$307:$AF$526={\"×要是正（既存不適格以外）\",\"△既存不適格\"})/ROW('1_入力シート【基本情報】'!$EA$307:$EA$526),0),ROW(A69))),\"\")","v":""}]
[null,{"$f":"IFERROR(INDEX('1_入力シート【基本情報】'!DW:DW,1/LARGE(INDEX(('1_入力シート【基本情報】'!$AF$307:$AF$526={\"×要是正（既存不適格以外）\",\"△既存不適格\"})/ROW('1_入力シート【基本情報】'!$DW$307:$DW$526),0),ROW(A70))),\"\")","v":""},null,null,{"$f":"IFERROR(INDEX('1_入力シート【基本情報】'!DR:DR,1/LARGE(INDEX(('1_入力シート【基本情報】'!$AF$307:$AF$526={\"×要是正（既存不適格以外）\",\"△既存不適格\"})/ROW('1_入力シート【基本情報】'!$DR$307:$DR$526),0),ROW(A70))),\"\")","v":""},null,null,null,null,null,null,null,null,null,{"$f":"IFERROR(INDEX('1_入力シート【基本情報】'!FW:FW,1/LARGE(INDEX(('1_入力シート【基本情報】'!$AF$307:$AF$526={\"×要是正（既存不適格以外）\",\"△既存不適格\"})/ROW('1_入力シート【基本情報】'!$FW$307:$FW$526),0),ROW(A70))),\"\")","v":""},null,null,null,null,null,null,null,null,null,null,null,null,null,null,null,{"$f":"IFERROR(INDEX('1_入力シート【基本情報】'!BD:BD,1/LARGE(INDEX(('1_入力シート【基本情報】'!$AF$307:$AF$526={\"×要是正（既存不適格以外）\",\"△既存不適格\"})/ROW('1_入力シート【基本情報】'!$BD$307:$BD$526),0),ROW(A70))),\"\")","v":""},null,null,null,null,null,null,null,null,null,null,{"$f":"IFERROR(INDEX('1_入力シート【基本情報】'!EA:EA,1/LARGE(INDEX(('1_入力シート【基本情報】'!$AF$307:$AF$526={\"×要是正（既存不適格以外）\",\"△既存不適格\"})/ROW('1_入力シート【基本情報】'!$EA$307:$EA$526),0),ROW(A70))),\"\")","v":""}]
[null,{"$f":"IFERROR(INDEX('1_入力シート【基本情報】'!DW:DW,1/LARGE(INDEX(('1_入力シート【基本情報】'!$AF$307:$AF$526={\"×要是正（既存不適格以外）\",\"△既存不適格\"})/ROW('1_入力シート【基本情報】'!$DW$307:$DW$526),0),ROW(A71))),\"\")","v":""},null,null,{"$f":"IFERROR(INDEX('1_入力シート【基本情報】'!DR:DR,1/LARGE(INDEX(('1_入力シート【基本情報】'!$AF$307:$AF$526={\"×要是正（既存不適格以外）\",\"△既存不適格\"})/ROW('1_入力シート【基本情報】'!$DR$307:$DR$526),0),ROW(A71))),\"\")","v":""},null,null,null,null,null,null,null,null,null,{"$f":"IFERROR(INDEX('1_入力シート【基本情報】'!FW:FW,1/LARGE(INDEX(('1_入力シート【基本情報】'!$AF$307:$AF$526={\"×要是正（既存不適格以外）\",\"△既存不適格\"})/ROW('1_入力シート【基本情報】'!$FW$307:$FW$526),0),ROW(A71))),\"\")","v":""},null,null,null,null,null,null,null,null,null,null,null,null,null,null,null,{"$f":"IFERROR(INDEX('1_入力シート【基本情報】'!BD:BD,1/LARGE(INDEX(('1_入力シート【基本情報】'!$AF$307:$AF$526={\"×要是正（既存不適格以外）\",\"△既存不適格\"})/ROW('1_入力シート【基本情報】'!$BD$307:$BD$526),0),ROW(A71))),\"\")","v":""},null,null,null,null,null,null,null,null,null,null,{"$f":"IFERROR(INDEX('1_入力シート【基本情報】'!EA:EA,1/LARGE(INDEX(('1_入力シート【基本情報】'!$AF$307:$AF$526={\"×要是正（既存不適格以外）\",\"△既存不適格\"})/ROW('1_入力シート【基本情報】'!$EA$307:$EA$526),0),ROW(A71))),\"\")","v":""}]
[null,{"$f":"IFERROR(INDEX('1_入力シート【基本情報】'!DW:DW,1/LARGE(INDEX(('1_入力シート【基本情報】'!$AF$307:$AF$526={\"×要是正（既存不適格以外）\",\"△既存不適格\"})/ROW('1_入力シート【基本情報】'!$DW$307:$DW$526),0),ROW(A72))),\"\")","v":""},null,null,{"$f":"IFERROR(INDEX('1_入力シート【基本情報】'!DR:DR,1/LARGE(INDEX(('1_入力シート【基本情報】'!$AF$307:$AF$526={\"×要是正（既存不適格以外）\",\"△既存不適格\"})/ROW('1_入力シート【基本情報】'!$DR$307:$DR$526),0),ROW(A72))),\"\")","v":""},null,null,null,null,null,null,null,null,null,{"$f":"IFERROR(INDEX('1_入力シート【基本情報】'!FW:FW,1/LARGE(INDEX(('1_入力シート【基本情報】'!$AF$307:$AF$526={\"×要是正（既存不適格以外）\",\"△既存不適格\"})/ROW('1_入力シート【基本情報】'!$FW$307:$FW$526),0),ROW(A72))),\"\")","v":""},null,null,null,null,null,null,null,null,null,null,null,null,null,null,null,{"$f":"IFERROR(INDEX('1_入力シート【基本情報】'!BD:BD,1/LARGE(INDEX(('1_入力シート【基本情報】'!$AF$307:$AF$526={\"×要是正（既存不適格以外）\",\"△既存不適格\"})/ROW('1_入力シート【基本情報】'!$BD$307:$BD$526),0),ROW(A72))),\"\")","v":""},null,null,null,null,null,null,null,null,null,null,{"$f":"IFERROR(INDEX('1_入力シート【基本情報】'!EA:EA,1/LARGE(INDEX(('1_入力シート【基本情報】'!$AF$307:$AF$526={\"×要是正（既存不適格以外）\",\"△既存不適格\"})/ROW('1_入力シート【基本情報】'!$EA$307:$EA$526),0),ROW(A72))),\"\")","v":""}]
[null,{"$f":"IFERROR(INDEX('1_入力シート【基本情報】'!DW:DW,1/LARGE(INDEX(('1_入力シート【基本情報】'!$AF$307:$AF$526={\"×要是正（既存不適格以外）\",\"△既存不適格\"})/ROW('1_入力シート【基本情報】'!$DW$307:$DW$526),0),ROW(A73))),\"\")","v":""},null,null,{"$f":"IFERROR(INDEX('1_入力シート【基本情報】'!DR:DR,1/LARGE(INDEX(('1_入力シート【基本情報】'!$AF$307:$AF$526={\"×要是正（既存不適格以外）\",\"△既存不適格\"})/ROW('1_入力シート【基本情報】'!$DR$307:$DR$526),0),ROW(A73))),\"\")","v":""},null,null,null,null,null,null,null,null,null,{"$f":"IFERROR(INDEX('1_入力シート【基本情報】'!FW:FW,1/LARGE(INDEX(('1_入力シート【基本情報】'!$AF$307:$AF$526={\"×要是正（既存不適格以外）\",\"△既存不適格\"})/ROW('1_入力シート【基本情報】'!$FW$307:$FW$526),0),ROW(A73))),\"\")","v":""},null,null,null,null,null,null,null,null,null,null,null,null,null,null,null,{"$f":"IFERROR(INDEX('1_入力シート【基本情報】'!BD:BD,1/LARGE(INDEX(('1_入力シート【基本情報】'!$AF$307:$AF$526={\"×要是正（既存不適格以外）\",\"△既存不適格\"})/ROW('1_入力シート【基本情報】'!$BD$307:$BD$526),0),ROW(A73))),\"\")","v":""},null,null,null,null,null,null,null,null,null,null,{"$f":"IFERROR(INDEX('1_入力シート【基本情報】'!EA:EA,1/LARGE(INDEX(('1_入力シート【基本情報】'!$AF$307:$AF$526={\"×要是正（既存不適格以外）\",\"△既存不適格\"})/ROW('1_入力シート【基本情報】'!$EA$307:$EA$526),0),ROW(A73))),\"\")","v":""}]
[null,{"$f":"IFERROR(INDEX('1_入力シート【基本情報】'!DW:DW,1/LARGE(INDEX(('1_入力シート【基本情報】'!$AF$307:$AF$526={\"×要是正（既存不適格以外）\",\"△既存不適格\"})/ROW('1_入力シート【基本情報】'!$DW$307:$DW$526),0),ROW(A74))),\"\")","v":""},null,null,{"$f":"IFERROR(INDEX('1_入力シート【基本情報】'!DR:DR,1/LARGE(INDEX(('1_入力シート【基本情報】'!$AF$307:$AF$526={\"×要是正（既存不適格以外）\",\"△既存不適格\"})/ROW('1_入力シート【基本情報】'!$DR$307:$DR$526),0),ROW(A74))),\"\")","v":""},null,null,null,null,null,null,null,null,null,{"$f":"IFERROR(INDEX('1_入力シート【基本情報】'!FW:FW,1/LARGE(INDEX(('1_入力シート【基本情報】'!$AF$307:$AF$526={\"×要是正（既存不適格以外）\",\"△既存不適格\"})/ROW('1_入力シート【基本情報】'!$FW$307:$FW$526),0),ROW(A74))),\"\")","v":""},null,null,null,null,null,null,null,null,null,null,null,null,null,null,null,{"$f":"IFERROR(INDEX('1_入力シート【基本情報】'!BD:BD,1/LARGE(INDEX(('1_入力シート【基本情報】'!$AF$307:$AF$526={\"×要是正（既存不適格以外）\",\"△既存不適格\"})/ROW('1_入力シート【基本情報】'!$BD$307:$BD$526),0),ROW(A74))),\"\")","v":""},null,null,null,null,null,null,null,null,null,null,{"$f":"IFERROR(INDEX('1_入力シート【基本情報】'!EA:EA,1/LARGE(INDEX(('1_入力シート【基本情報】'!$AF$307:$AF$526={\"×要是正（既存不適格以外）\",\"△既存不適格\"})/ROW('1_入力シート【基本情報】'!$EA$307:$EA$526),0),ROW(A74))),\"\")","v":""}]
[null,{"$f":"IFERROR(INDEX('1_入力シート【基本情報】'!DW:DW,1/LARGE(INDEX(('1_入力シート【基本情報】'!$AF$307:$AF$526={\"×要是正（既存不適格以外）\",\"△既存不適格\"})/ROW('1_入力シート【基本情報】'!$DW$307:$DW$526),0),ROW(A75))),\"\")","v":""},null,null,{"$f":"IFERROR(INDEX('1_入力シート【基本情報】'!DR:DR,1/LARGE(INDEX(('1_入力シート【基本情報】'!$AF$307:$AF$526={\"×要是正（既存不適格以外）\",\"△既存不適格\"})/ROW('1_入力シート【基本情報】'!$DR$307:$DR$526),0),ROW(A75))),\"\")","v":""},null,null,null,null,null,null,null,null,null,{"$f":"IFERROR(INDEX('1_入力シート【基本情報】'!FW:FW,1/LARGE(INDEX(('1_入力シート【基本情報】'!$AF$307:$AF$526={\"×要是正（既存不適格以外）\",\"△既存不適格\"})/ROW('1_入力シート【基本情報】'!$FW$307:$FW$526),0),ROW(A75))),\"\")","v":""},null,null,null,null,null,null,null,null,null,null,null,null,null,null,null,{"$f":"IFERROR(INDEX('1_入力シート【基本情報】'!BD:BD,1/LARGE(INDEX(('1_入力シート【基本情報】'!$AF$307:$AF$526={\"×要是正（既存不適格以外）\",\"△既存不適格\"})/ROW('1_入力シート【基本情報】'!$BD$307:$BD$526),0),ROW(A75))),\"\")","v":""},null,null,null,null,null,null,null,null,null,null,{"$f":"IFERROR(INDEX('1_入力シート【基本情報】'!EA:EA,1/LARGE(INDEX(('1_入力シート【基本情報】'!$AF$307:$AF$526={\"×要是正（既存不適格以外）\",\"△既存不適格\"})/ROW('1_入力シート【基本情報】'!$EA$307:$EA$526),0),ROW(A75))),\"\")","v":""}]
[]
[null,null,"（注意）"]
[null,null,"①","　この書類は、特殊建築物等ごとに作成してください。"]
[null,null,"②","　記入欄が不足する場合は、枠を拡大、行を追加して記入するか、別紙に必要な事項を記入して添えてください。"]
[null,null,"③","　「当該調査に関与した調査者」欄は、建築基準法施行規則別記第36の２様式第一面３欄に記入した調査者について記入し、「調査者番号」欄に調査者を特定できる番号、記号等を記入してください。当該建築物の調査を行った調査者が１人の場合は、その他の調査者欄は削除して構いません。"]
[null,null,"④","　該当しない調査項目がある場合は、当該項目の「番号」欄から「担当調査者番号」欄までを取消線で抹消してください。"]
[null,null,"⑤","　「調査結果」欄は、別表（い）欄に掲げる各調査項目ごとに記入してください。"]
[null,null,"⑥","　「調査結果」欄のうち「要是正」欄は、別表（い）欄に掲げる調査項目について（は）欄に掲げる判定基準に該当する場合に○印を記入してください。"]
[null,null,"⑦","　「検査結果」欄のうち「指摘なし」欄は、⑥に該当しない場合に○印を記入してください。"]
[null,null,"⑧","　「既存不適格」欄は、「要是正」欄に○印を記入した場合で、建築基準法第３条第２項の規定の適用を受けているものであることが確認されたときは、○印を記入してください。"]
[null,null,"⑨","　「担当調査者番号」欄は、「調査に関与した調査者」欄で記入した番号、記号等を記入してください。ただし、当該建築物の調査を行った調査者が１人の場合は、記入しなくても構いません。"]
[null,null,"⑩","　７「上記以外の調査項目」欄は、第１ただし書の規定により特定行政庁が調査項目を追加したときに、特定行政庁が追加した調査項目を追加し、⑤から⑧に準じて調査結果等を記入してください。なお、これらの項目がない場合は、７は削除して構いません。"]
[null,null,"⑪","「その他確認事項」は、法第12条第３項の規定による検査を要する随時閉鎖又は作動ができる防火設備の設置の有無を確認し、該当するチェックボックスに「レ」マークを入れてください。「有」の場合は、当該防火設備が設置されている階を記入してください。"]
[null,null,"⑫","　「特記事項」は、調査の結果、要是正の指摘があった場合のほか、指摘がない場合にあっても特記すべき事項がある場合に、該当する調査項目の番号、調査項目を記入し、「指摘の具体的内容等」欄に指摘又は特記すべき事項の具体的内容を記入するとともに、改善済みの場合及び改善策が明らかになっている場合は「改善策の具体的内容等」欄にその内容を記入し、改善した場合は「改善（予定）年月」欄に当該年月を記入し、改善予定年月が明らかになっている場合は「改善（予定）年月」欄に当該年月を（　）書きで記入してください。"]
[null,null,"⑬","配置図及び各階平面図を別添１の様式に従い添付し、指摘(特記すべき事項を含む）のあった箇所や撮影した写真の位置等を明記してください。"]
[null,null,"⑭","　要是正とされた調査項目（既存不適格の場合を除く。）については、要是正とされた部分を撮影した写真を別添２の様式に従い添付してください。"]

{"sheet":"リンクシート","index":7,"n_rows":1803,"n_cols":19,"rows_kept":1803,"cut":false,"hidden":true,"merged":[[7,9,7,11]]}
[null,null,null,null,"実際にCSVシートに飛ぶ"]
["事前処理","事前処理","事前処理","事前日付処理反映前",null,"項番なし0","項目番号",null,null,null,null,null,null,null,null,null,null,null,"CSVフィールド名（数式）"]
[null,"CSVリンク用","CSVリンク用","CSVリンク用","CSVリンク用","特殊"]
[null,null,null,"●●●●","●●●●","固定","0","行政所管庁(初期値固定)",null,null,null,null,null,null,null,null,null,null,{"$f":"CONCATENATE(G4,H4,I4,J4,K4,L4,M4,N4,O4,P4)","v":"0行政所管庁(初期値固定)"}]
[null,null,null,{"$f":"'1_入力シート【基本情報】'!$J$4","v":"令和"},{"$f":"'1_入力シート【基本情報】'!$J$4","v":"令和"},"固定","0","報告","-","和暦",null,null,null,null,null,null,null,null,{"$f":"CONCATENATE(G5,H5,I5,J5,K5,L5,M5,N5,O5,P5)","v":"0報告-和暦"}]
[null,null,{"$f":"ASC($D6)","v":"4"},{"$f":"'1_入力シート【基本情報】'!$M$4","v":4},{"$f":"ASC($D6)","v":"4"},null,"0","報告","-","年",null,null,null,null,null,null,null,null,"0報告-年"]
[null,null,null,{"$f":"'1_入力シート【基本情報】'!$R$4","v":"建築"},{"$f":"'1_入力シート【基本情報】'!$R$4","v":"建築"},null,"0","報告","-","報告種別",null,null,null,null,null,null,null,null,"0報告-報告種別"]
[null,null,null,{"$f":"'1_入力シート【基本情報】'!$BC$4","v":"令和"},{"$f":"'1_入力シート【基本情報】'!$BC$4","v":"令和"},"固定","0","報告日","-","令和",null,null,null,null,null,null,null,null,{"$f":"CONCATENATE(G8,H8,I8,J8,K8,L8,M8,N8,O8,P8)","v":"0報告日-令和"}]
[null,null,{"$f":"ASC($D9)","v":"0"},{"$f":"'1_入力シート【基本情報】'!$BF$4","v":0},"0",null,"0","報告日","-","年",null,null,null,null,null,null,null,null,"0報告日-年"]
[null,null,"0",{"$f":"'1_入力シート【基本情報】'!$BK$4","v":0},"0",null,"0","報告日","-","月",null,null,null,null,null,null,null,null,"0報告日-月"]
[null,null,"0",{"$f":"'1_入力シート【基本情報】'!$BP$4","v":0},"0",null,"0","報告日","-","日",null,null,null,null,null,null,null,null,"0報告日-日"]
[null,null,null,{"$f":"'1_入力シート【基本情報】'!$AB$7","v":0},{"$f":"'1_入力シート【基本情報】'!$AB$7","v":0},null,1,"報告対象建築物","-","ID","-","1",null,null,null,null,null,null,"1報告対象建築物-ID-1"]
[null,null,null,{"$f":"'1_入力シート【基本情報】'!$AK$7","v":0},{"$f":"'1_入力シート【基本情報】'!$AK$7","v":0},null,1,"報告対象建築物","-","ID","-","2",null,null,null,null,null,null,"1報告対象建築物-ID-2"]
[null,null,null,{"$f":"'1_入力シート【基本情報】'!$AT$7","v":0},{"$f":"'1_入力シート【基本情報】'!$AT$7","v":0},null,1,"報告対象建築物","-","ID","-","3",null,null,null,null,null,null,"1報告対象建築物-ID-3"]
[null,null,null,{"$f":"'1_入力シート【基本情報】'!$AB$8","v":0},{"$f":"'1_入力シート【基本情報】'!$AB$8","v":0},null,1,"報告対象建築物","-","建築名称","-","フリガナ",null,null,null,null,null,null,"1報告対象建築物-建築名称-フリガナ"]
[null,null,null,{"$f":"'1_入力シート【基本情報】'!$AB$9","v":0},{"$f":"'1_入力シート【基本情報】'!$AB$9","v":0},null,1,"報告対象建築物","-","建築名称","-","建築名称",null,null,null,null,null,null,"1報告対象建築物-建築名称-建築名称"]
[null,null,null,{"$f":"'1_入力シート【基本情報】'!$AB$10","v":0},{"$f":"'1_入力シート【基本情報】'!$AB$10","v":0},null,1,"報告対象建築物","-","建物所在地","-","都道府県",null,null,null,null,null,null,"1報告対象建築物-建物所在地-都道府県"]
[null,null,null,{"$f":"'1_入力シート【基本情報】'!$AB$11","v":0},{"$f":"'1_入力シート【基本情報】'!$AB$11","v":0},null,1,"報告対象建築物","-","建物所在地","-","市郡",null,null,null,null,null,null,"1報告対象建築物-建物所在地-市郡"]
[null,null,null,{"$f":"'1_入力シート【基本情報】'!$AB$12","v":0},{"$f":"'1_入力シート【基本情報】'!$AB$12","v":0},null,1,"報告対象建築物","-","建物所在地","-","区町村",null,null,null,null,null,null,"1報告対象建築物-建物所在地-区町村"]
[null,null,null,{"$f":"'1_入力シート【基本情報】'!$AB$13","v":0},{"$f":"'1_入力シート【基本情報】'!$AB$13","v":0},null,1,"報告対象建築物","-","建物所在地","-","大字・町名",null,null,null,null,null,null,"1報告対象建築物-建物所在地-大字・町名"]
[null,null,null,{"$f":"'1_入力シート【基本情報】'!$AB$14","v":0},{"$f":"'1_入力シート【基本情報】'!$AB$14","v":0},null,1,"報告対象建築物","-","建物所在地","-","番地など",null,null,null,null,null,null,"1報告対象建築物-建物所在地-番地など"]
[null,null,null,{"$f":"'1_入力シート【基本情報】'!$AB$17","v":0},{"$f":"'1_入力シート【基本情報】'!$AB$17","v":0},null,"2","報告内容に関する問合せ先","-","法人名","-","フリガナ",null,null,null,null,null,null,"2報告内容に関する問合せ先-法人名-フリガナ"]
[null,null,null,{"$f":"'1_入力シート【基本情報】'!$AB$18","v":0},{"$f":"'1_入力シート【基本情報】'!$AB$18","v":0},null,"2","報告内容に関する問合せ先","-","法人名","-","法人名",null,null,null,null,null,null,"2報告内容に関する問合せ先-法人名-法人名"]
[null,null,null,{"$f":"'1_入力シート【基本情報】'!$AB$19","v":0},{"$f":"'1_入力シート【基本情報】'!$AB$19","v":0},null,"2","報告内容に関する問合せ先","-","肩書","-","フリガナ",null,null,null,null,null,null,"2報告内容に関する問合せ先-肩書-フリガナ"]
[null,null,null,{"$f":"'1_入力シート【基本情報】'!$AB$20","v":0},{"$f":"'1_入力シート【基本情報】'!$AB$20","v":0},null,"2","報告内容に関する問合せ先","-","肩書","-","肩書",null,null,null,null,null,null,"2報告内容に関する問合せ先-肩書-肩書"]
[null,null,null,{"$f":"'1_入力シート【基本情報】'!$AB$21","v":0},{"$f":"'1_入力シート【基本情報】'!$AB$21","v":0},null,"2","報告内容に関する問合せ先","-","氏名","-","フリガナ",null,null,null,null,null,null,"2報告内容に関する問合せ先-氏名-フリガナ"]
[null,null,null,{"$f":"'1_入力シート【基本情報】'!$AB$22","v":0},{"$f":"'1_入力シート【基本情報】'!$AB$22","v":0},null,"2","報告内容に関する問合せ先","-","氏名","-","氏名",null,null,null,null,null,null,"2報告内容に関する問合せ先-氏名-氏名"]
[{"$f":"'1_入力シート【基本情報】'!$DO$23","v":1},{"$f":"CONCATENATE('1_入力シート【基本情報】'!AB23,\"-\",'1_入力シート【基本情報】'!AK23)","v":"-"},{"$f":"IF(A28=1,0,ASC(B28))","v":0},{"$f":"$C$28","v":0},{"$f":"$C$28","v":0},null,"2","報告内容に関する問合せ先","-","郵便番号",null,null,null,null,null,null,null,null,"2報告内容に関する問合せ先-郵便番号"]
[null,null,null,{"$f":"'1_入力シート【基本情報】'!$AB$24","v":0},{"$f":"'1_入力シート【基本情報】'!$AB$24","v":0},null,"2","報告内容に関する問合せ先","-","住所",null,null,null,null,null,null,null,null,"2報告内容に関する問合せ先-住所"]
[{"$f":"'1_入力シート【基本情報】'!$DO$25","v":1},{"$f":"CONCATENATE('1_入力シート【基本情報】'!AB25,\"-\",'1_入力シート【基本情報】'!AK25,\"-\",'1_入力シート【基本情報】'!AT25)","v":"--"},{"$f":"IF(A30=1,0,ASC(B30))","v":0},{"$f":"$C$30","v":0},{"$f":"$C$30","v":0},null,"2","報告内容に関する問合せ先","-","電話番号",null,null,null,null,null,null,null,null,"2報告内容に関する問合せ先-電話番号"]
[{"$f":"'1_入力シート【基本情報】'!$DO$26","v":1},{"$f":"CONCATENATE('1_入力シート【基本情報】'!AB26,\"-\",'1_入力シート【基本情報】'!AK26,\"-\",'1_入力シート【基本情報】'!AT26)","v":"--"},{"$f":"IF(A31=1,0,ASC(B31))","v":0},{"$f":"$C$31","v":0},{"$f":"$C$31","v":0},null,"2","報告内容に関する問合せ先","-","FAX番号",null,null,null,null,null,null,null,null,"2報告内容に関する問合せ先-FAX番号"]
[null,null,null,{"$f":"'1_入力シート【基本情報】'!$AB$27","v":0},{"$f":"'1_入力シート【基本情報】'!$AB$27","v":0},null,"2","報告内容に関する問合せ先","-","メールアドレス（半角）",null,null,null,null,null,null,null,null,"2報告内容に関する問合せ先-メールアドレス（半角）"]
[null,null,null,{"$f":"'1_入力シート【基本情報】'!$AB$33","v":0},{"$f":"'1_入力シート【基本情報】'!$AB$33","v":0},null,"3","所有者","-","所有者氏名","-","法人名フリガナ",null,null,null,null,null,null,"3所有者-所有者氏名-法人名フリガナ"]
[null,null,null,{"$f":"'1_入力シート【基本情報】'!$AB$34","v":0},{"$f":"'1_入力シート【基本情報】'!$AB$34","v":0},null,"3","所有者","-","所有者氏名","-","法人名",null,null,null,null,null,null,"3所有者-所有者氏名-法人名"]
[null,null,null,{"$f":"'1_入力シート【基本情報】'!$AB$35","v":0},{"$f":"'1_入力シート【基本情報】'!$AB$35","v":0},null,"3","所有者","-","所有者氏名","-","肩書フリガナ",null,null,null,null,null,null,"3所有者-所有者氏名-肩書フリガナ"]
[null,null,null,{"$f":"'1_入力シート【基本情報】'!$AB$36","v":0},{"$f":"'1_入力シート【基本情報】'!$AB$36","v":0},null,"3","所有者","-","所有者氏名","-","肩書",null,null,null,null,null,null,"3所有者-所有者氏名-肩書"]
[null,null,null,{"$f":"'1_入力シート【基本情報】'!$AB$37","v":0},{"$f":"'1_入力シート【基本情報】'!$AB$37","v":0},null,"3","所有者","-","所有者氏名","-","氏名フリガナ",null,null,null,null,null,null,"3所有者-所有者氏名-氏名フリガナ"]
[null,null,null,{"$f":"'1_入力シート【基本情報】'!$AB$38","v":0},{"$f":"'1_入力シート【基本情報】'!$AB$38","v":0},null,"3","所有者","-","所有者氏名","-","氏名",null,null,null,null,null,null,"3所有者-所有者氏名-氏名"]
[null,{"$f":"CONCATENATE('1_入力シート【基本情報】'!AB39,\"-\",'1_入力シート【基本情報】'!AK39)","v":"-"},{"$f":"IF(B39=\"-\",0,ASC(B39))","v":0},{"$f":"$C$39","v":0},{"$f":"$C$39","v":0},null,"3","所有者","-","郵便番号",null,null,null,null,null,null,null,null,"3所有者-郵便番号"]
[null,null,null,{"$f":"'1_入力シート【基本情報】'!$AB$40","v":0},{"$f":"'1_入力シート【基本情報】'!$AB$40","v":0},null,"3","所有者","-","住所",null,null,null,null,null,null,null,null,"3所有者-住所"]
[null,{"$f":"CONCATENATE('1_入力シート【基本情報】'!AB41,\"-\",'1_入力シート【基本情報】'!AK41,\"-\",'1_入力シート【基本情報】'!AT41)","v":"--"},{"$f":"IF(B41=\"--\",0,ASC(B41))","v":0},{"$f":"$C$41","v":0},{"$f":"$C$41","v":0},null,"3","所有者","-","電話番号",null,null,null,null,null,null,null,null,"3所有者-電話番号"]
[null,null,null,{"$f":"'1_入力シート【基本情報】'!$DS$46","v":false},{"$f":"'1_入力シート【基本情報】'!$DS$46","v":false},null,"4","管理者","-","所有者同一と同一チェック",null,null,null,null,null,null,null,null,"4管理者-所有者同一と同一チェック"]
[null,null,null,{"$f":"'1_入力シート【基本情報】'!$AB$47","v":0},{"$f":"'1_入力シート【基本情報】'!$AB$47","v":0},null,"4","管理者","-","管理者氏名","-","法人名フリガナ",null,null,null,null,null,null,"4管理者-管理者氏名-法人名フリガナ"]
[null,null,null,{"$f":"'1_入力シート【基本情報】'!$AB$48","v":0},{"$f":"'1_入力シート【基本情報】'!$AB$48","v":0},null,"4","管理者","-","管理者氏名","-","法人名",null,null,null,null,null,null,"4管理者-管理者氏名-法人名"]
[null,null,null,{"$f":"'1_入力シート【基本情報】'!$AB$49","v":0},{"$f":"'1_入力シート【基本情報】'!$AB$49","v":0},null,"4","管理者","-","管理者氏名","-","肩書フリガナ",null,null,null,null,null,null,"4管理者-管理者氏名-肩書フリガナ"]
[null,null,null,{"$f":"'1_入力シート【基本情報】'!$AB$50","v":0},{"$f":"'1_入力シート【基本情報】'!$AB$50","v":0},null,"4","管理者","-","管理者氏名","-","肩書",null,null,null,null,null,null,"4管理者-管理者氏名-肩書"]
[null,null,null,{"$f":"'1_入力シート【基本情報】'!$AB$51","v":0},{"$f":"'1_入力シート【基本情報】'!$AB$51","v":0},null,"4","管理者","-","管理者氏名","-","氏名フリガナ",null,null,null,null,null,null,"4管理者-管理者氏名-氏名フリガナ"]
[null,null,null,{"$f":"'1_入力シート【基本情報】'!$AB$52","v":0},{"$f":"'1_入力シート【基本情報】'!$AB$52","v":0},null,"4","管理者","-","管理者氏名","-","氏名",null,null,null,null,null,null,"4管理者-管理者氏名-氏名"]
[null,{"$f":"CONCATENATE('1_入力シート【基本情報】'!AB53,\"-\",'1_入力シート【基本情報】'!AK53)","v":"-"},{"$f":"IF(B49=\"-\",0,ASC(B49))","v":0},{"$f":"$C$49","v":0},{"$f":"$C$49","v":0},null,"4","管理者","-","郵便番号",null,null,null,null,null,null,null,null,"4管理者-郵便番号"]
[null,null,null,{"$f":"'1_入力シート【基本情報】'!$AB$54","v":0},{"$f":"'1_入力シート【基本情報】'!$AB$54","v":0},null,"4","管理者","-","住所",null,null,null,null,null,null,null,null,"4管理者-住所"]
[null,{"$f":"CONCATENATE('1_入力シート【基本情報】'!AB55,\"-\",'1_入力シート【基本情報】'!AK55,\"-\",'1_入力シート【基本情報】'!AT55)","v":"--"},{"$f":"IF(B51=\"--\",0,ASC(B51))","v":0},{"$f":"$C$51","v":0},{"$f":"$C$51","v":0},null,"4","管理者","-","電話番号",null,null,null,null,null,null,null,null,"4管理者-電話番号"]
[null,null,null,{"$f":"'1_入力シート【基本情報】'!$AB$61","v":0},{"$f":"'1_入力シート【基本情報】'!$AB$61","v":0},null,"5","代表となる調査者","-","資格","-","資格名称",null,null,null,null,null,null,"5代表となる調査者-資格-資格名称"]
[null,null,null,{"$f":"'1_入力シート【基本情報】'!$AB$62","v":0},{"$f":"'1_入力シート【基本情報】'!$AB$62","v":0},null,"5","代表となる調査者","-","資格","-","建築士","-","登録",null,null,null,null,"5代表となる調査者-資格-建築士-登録"]
[null,null,null,{"$f":"'1_入力シート【基本情報】'!$AB$63","v":0},{"$f":"'1_入力シート【基本情報】'!$AB$63","v":0},null,"5","代表となる調査者","-","資格","-","建築士","-","号",null,null,null,null,"5代表となる調査者-資格-建築士-号"]
[null,null,null,{"$f":"'1_入力シート【基本情報】'!$AB$64","v":0},{"$f":"'1_入力シート【基本情報】'!$AB$64","v":0},null,"5","代表となる調査者","-","資格","-","特定建築物調査員","-","号",null,null,null,null,"5代表となる調査者-資格-特定建築物調査員-号"]
[null,null,null,{"$f":"'1_入力シート【基本情報】'!$AB$65","v":0},{"$f":"'1_入力シート【基本情報】'!$AB$65","v":0},null,"5","代表となる調査者","-","氏名","-","フリガナ",null,null,null,null,null,null,"5代表となる調査者-氏名-フリガナ"]
[null,null,null,{"$f":"'1_入力シート【基本情報】'!$AB$66","v":0},{"$f":"'1_入力シート【基本情報】'!$AB$66","v":0},null,"5","代表となる調査者","-","氏名","-","氏名",null,null,null,null,null,null,"5代表となる調査者-氏名-氏名"]
[null,null,null,{"$f":"'1_入力シート【基本情報】'!$AB$67","v":0},{"$f":"'1_入力シート【基本情報】'!$AB$67","v":0},null,"5","代表となる調査者","-","勤務先","-","名称",null,null,null,null,null,null,"5代表となる調査者-勤務先-名称"]
[null,null,null,{"$f":"'1_入力シート【基本情報】'!$AB$68","v":0},{"$f":"'1_入力シート【基本情報】'!$AB$68","v":0},null,"5","代表となる調査者","-","勤務先","-","事務所登録","-","建築士事務所",null,null,null,null,"5代表となる調査者-勤務先-事務所登録-建築士事務所"]
[null,null,null,{"$f":"'1_入力シート【基本情報】'!$AB$69","v":0},{"$f":"'1_入力シート【基本情報】'!$AB$69","v":0},null,"5","代表となる調査者","-","勤務先","-","事務所登録","-","知事登録",null,null,null,null,"5代表となる調査者-勤務先-事務所登録-知事登録"]
[null,null,null,{"$f":"'1_入力シート【基本情報】'!$AB$70","v":0},{"$f":"'1_入力シート【基本情報】'!$AB$70","v":0},null,"5","代表となる調査者","-","勤務先","-","事務所登録","-","号",null,null,null,null,"5代表となる調査者-勤務先-事務所登録-号"]
[null,{"$f":"CONCATENATE('1_入力シート【基本情報】'!AB71,\"-\",'1_入力シート【基本情報】'!AK71)","v":"-"},{"$f":"IF(B62=\"-\",0,ASC(B62))","v":0},{"$f":"$E$62","v":0},{"$f":"$C$62","v":0},null,"5","代表となる調査者","-","勤務先",null,"郵便番号",null,null,null,null,null,null,"5代表となる調査者-勤務先郵便番号"]
[null,null,null,{"$f":"'1_入力シート【基本情報】'!$AB$72","v":0},{"$f":"'1_入力シート【基本情報】'!$AB$72","v":0},null,"5","代表となる調査者","-","勤務先","-","所在地",null,null,null,null,null,null,"5代表となる調査者-勤務先-所在地"]
[null,{"$f":"CONCATENATE('1_入力シート【基本情報】'!AB73,\"-\",'1_入力シート【基本情報】'!AK73,\"-\",'1_入力シート【基本情報】'!AT73)","v":"--"},{"$f":"IF(B64=\"--\",0,ASC(B64))","v":0},{"$f":"$C$64","v":0},{"$f":"$C$64","v":0},null,"5","代表となる調査者","-","勤務先","-","電話番号",null,null,null,null,null,null,"5代表となる調査者-勤務先-電話番号"]
[null,null,null,{"$f":"'1_入力シート【基本情報】'!$DS$78","v":false},{"$f":"'1_入力シート【基本情報】'!$DS$78","v":false},null,"6","その他の調査者1","-","代表となる調査者と勤務先が同じ1","-",null,null,null,null,null,null,null,"6その他の調査者1-代表となる調査者と勤務先が同じ1-"]
[null,null,null,{"$f":"'1_入力シート【基本情報】'!$AB$79","v":0},{"$f":"'1_入力シート【基本情報】'!$AB$79","v":0},null,"6","その他の調査者1","-","資格","-","資格名称",null,null,null,null,null,null,"6その他の調査者1-資格-資格名称"]
[null,null,null,{"$f":"'1_入力シート【基本情報】'!$DS$80","v":""},{"$f":"$D$67","v":""},null,"6","その他の調査者1","-","資格","-","建築士","-","登録",null,null,null,null,"6その他の調査者1-資格-建築士-登録"]
[null,null,null,{"$f":"'1_入力シート【基本情報】'!$AB$81","v":0},{"$f":"'1_入力シート【基本情報】'!$AB$81","v":0},null,"6","その他の調査者1","-","資格","-","建築士","-","号",null,null,null,null,"6その他の調査者1-資格-建築士-号"]
[null,null,null,{"$f":"'1_入力シート【基本情報】'!$AB$82","v":0},{"$f":"'1_入力シート【基本情報】'!$AB$82","v":0},null,"6","その他の調査者1","-","資格","-","特定建築物調査員",null,null,null,null,null,null,"6その他の調査者1-資格-特定建築物調査員"]
[null,null,null,{"$f":"'1_入力シート【基本情報】'!$AB$83","v":0},{"$f":"'1_入力シート【基本情報】'!$AB$83","v":0},null,"6","その他の調査者1","-","氏名","-","フリガナ",null,null,null,null,null,null,"6その他の調査者1-氏名-フリガナ"]
[null,null,null,{"$f":"'1_入力シート【基本情報】'!$AB$84","v":0},{"$f":"'1_入力シート【基本情報】'!$AB$84","v":0},null,"6","その他の調査者1","-","氏名","-","氏名",null,null,null,null,null,null,"6その他の調査者1-氏名-氏名"]
[null,null,null,{"$f":"'1_入力シート【基本情報】'!$AB$85","v":0},{"$f":"'1_入力シート【基本情報】'!$AB$85","v":0},null,"6","その他の調査者1","-","勤務先","-","名称",null,null,null,null,null,null,{"$f":"CONCATENATE(G72,H72,I72,J72,K72,L72,M72,N72,O72,P72)","v":"6その他の調査者1-勤務先-名称"}]
[null,null,null,{"$f":"'1_入力シート【基本情報】'!$AB$86","v":0},{"$f":"'1_入力シート【基本情報】'!$AB$86","v":0},null,"6","その他の調査者1","-","勤務先","-","事務所登録","-","建築士事務所",null,null,null,null,"6その他の調査者1-勤務先-事務所登録-建築士事務所"]
[null,null,null,{"$f":"'1_入力シート【基本情報】'!$AB$87","v":0},{"$f":"'1_入力シート【基本情報】'!$AB$87","v":0},null,"6","その他の調査者1","-","勤務先","-","事務所登録","-","知事登録",null,null,null,null,"6その他の調査者1-勤務先-事務所登録-知事登録"]
[null,null,null,{"$f":"'1_入力シート【基本情報】'!$AB$88","v":0},{"$f":"'1_入力シート【基本情報】'!$AB$88","v":0},null,"6","その他の調査者1","-","勤務先","-","事務所登録","-","号",null,null,null,null,"6その他の調査者1-勤務先-事務所登録-号"]
[null,{"$f":"CONCATENATE('1_入力シート【基本情報】'!AB89,\"-\",'1_入力シート【基本情報】'!AK89)","v":"-"},{"$f":"IF(B76=\"-\",0,ASC(B76))","v":0},{"$f":"$C$76","v":0},{"$f":"$C$76","v":0},null,"6","その他の調査者1","-","勤務先","-","郵便番号",null,null,null,null,null,null,"6その他の調査者1-勤務先-郵便番号"]
[null,null,null,{"$f":"'1_入力シート【基本情報】'!$AB$90","v":0},{"$f":"'1_入力シート【基本情報】'!$AB$90","v":0},null,"6","その他の調査者1","-","勤務先","-","所在地",null,null,null,null,null,null,"6その他の調査者1-勤務先-所在地"]
[null,{"$f":"CONCATENATE('1_入力シート【基本情報】'!AB91,\"-\",'1_入力シート【基本情報】'!AK91,\"-\",'1_入力シート【基本情報】'!AT91)","v":"--"},{"$f":"IF(B78=\"--\",0,ASC(B78))","v":0},{"$f":"$C$78","v":0},{"$f":"$C$78","v":0},null,"6","その他の調査者1","-","勤務先","-","電話番号",null,null,null,null,null,null,"6その他の調査者1-勤務先-電話番号"]
[null,null,null,{"$f":"'1_入力シート【基本情報】'!$DS$96","v":false},{"$f":"'1_入力シート【基本情報】'!$DS$96","v":false},null,"7","その他の調査者2","-","代表となる調査者と勤務先が同じ",null,null,null,null,null,null,null,null,"7その他の調査者2-代表となる調査者と勤務先が同じ"]
[null,null,null,{"$f":"'1_入力シート【基本情報】'!$AB$97","v":0},{"$f":"'1_入力シート【基本情報】'!$AB$97","v":0},null,"7","その他の調査者2","-","資格","-","資格名称",null,null,null,null,null,null,"7その他の調査者2-資格-資格名称"]
[null,null,null,{"$f":"'1_入力シート【基本情報】'!$AB$98","v":0},{"$f":"'1_入力シート【基本情報】'!$AB$98","v":0},null,"7","その他の調査者2","-","資格","-","建築士","-","登録",null,null,null,null,"7その他の調査者2-資格-建築士-登録"]
[null,null,null,{"$f":"'1_入力シート【基本情報】'!$AB$99","v":0},{"$f":"'1_入力シート【基本情報】'!$AB$99","v":0},null,"7","その他の調査者2","-","資格","-","建築士","-","号",null,null,null,null,"7その他の調査者2-資格-建築士-号"]
[null,null,null,{"$f":"'1_入力シート【基本情報】'!$AB$100","v":0},{"$f":"'1_入力シート【基本情報】'!$AB$100","v":0},null,"7","その他の調査者2","-","資格","-","特定建築物調査員","-","号",null,null,null,null,"7その他の調査者2-資格-特定建築物調査員-号"]
[null,null,null,{"$f":"'1_入力シート【基本情報】'!$AB$101","v":0},{"$f":"'1_入力シート【基本情報】'!$AB$101","v":0},null,"7","その他の調査者2","-","氏名","-","フリガナ",null,null,null,null,null,null,"7その他の調査者2-氏名-フリガナ"]
[null,null,null,{"$f":"'1_入力シート【基本情報】'!$AB$102","v":0},{"$f":"'1_入力シート【基本情報】'!$AB$102","v":0},null,"7","その他の調査者2","-","氏名","-","氏名",null,null,null,null,null,null,"7その他の調査者2-氏名-氏名"]
[null,null,null,{"$f":"'1_入力シート【基本情報】'!$AB$103","v":0},{"$f":"'1_入力シート【基本情報】'!$AB$103","v":0},null,"7","その他の調査者2","-","名称",null,null,null,null,null,null,null,null,"7その他の調査者2-名称"]
[null,null,null,{"$f":"'1_入力シート【基本情報】'!$AB$104","v":0},{"$f":"'1_入力シート【基本情報】'!$AB$104","v":0},null,"7","その他の調査者2","-","事務所登録","-",null,null,null,null,null,null,null,"7その他の調査者2-事務所登録-"]
[null,null,null,{"$f":"'1_入力シート【基本情報】'!$AB$105","v":0},{"$f":"'1_入力シート【基本情報】'!$AB$105","v":0},null,"7","その他の調査者2","-","事務所登録","-","知事登録",null,null,null,null,null,null,"7その他の調査者2-事務所登録-知事登録"]
[null,null,null,{"$f":"'1_入力シート【基本情報】'!$AB$106","v":0},{"$f":"'1_入力シート【基本情報】'!$AB$106","v":0},null,"7","その他の調査者2","-","事務所登録","-","号",null,null,null,null,null,null,"7その他の調査者2-事務所登録-号"]
[null,{"$f":"CONCATENATE('1_入力シート【基本情報】'!AB107,\"-\",'1_入力シート【基本情報】'!AK107)","v":"-"},{"$f":"IF(B90=\"-\",0,ASC(B90))","v":0},{"$f":"$C$90","v":0},{"$f":"$C$90","v":0},null,"7","その他の調査者2","-","郵便番号",null,null,null,null,null,null,null,null,"7その他の調査者2-郵便番号"]
[null,null,null,{"$f":"'1_入力シート【基本情報】'!$AB$108","v":0},{"$f":"'1_入力シート【基本情報】'!$AB$108","v":0},null,"7","その他の調査者2","-","所在地",null,null,null,null,null,null,null,null,"7その他の調査者2-所在地"]
[null,{"$f":"CONCATENATE('1_入力シート【基本情報】'!AB109,\"-\",'1_入力シート【基本情報】'!AK109,\"-\",'1_入力シート【基本情報】'!AT109)","v":"--"},{"$f":"IF(B92=\"--\",0,ASC(B92))","v":0},{"$f":"$C$92","v":0},{"$f":"$C$92","v":0},null,"7","その他の調査者2","-","電話番号",null,null,null,null,null,null,null,null,"7その他の調査者2-電話番号"]
[null,null,null,{"$f":"'1_入力シート【基本情報】'!$AB$115","v":0},{"$f":"'1_入力シート【基本情報】'!$AB$115","v":0},null,"8","敷地の位置","-","防火地域等","-","防火地域等 1",null,null,null,null,null,null,"8敷地の位置-防火地域等-防火地域等 1"]
[null,null,null,{"$f":"'1_入力シート【基本情報】'!$AB$116","v":0},{"$f":"'1_入力シート【基本情報】'!$AB$116","v":0},null,"8","敷地の位置","-","防火地域等","-","防火地域等 2",null,null,null,null,null,null,"8敷地の位置-防火地域等-防火地域等 2"]
[null,null,null,{"$f":"'1_入力シート【基本情報】'!$AB$117","v":0},{"$f":"'1_入力シート【基本情報】'!$AB$117","v":0},null,"8","敷地の位置","-","防火地域等","-","防火地域等 3",null,null,null,null,null,null,"8敷地の位置-防火地域等-防火地域等 3"]
[null,null,null,{"$f":"'1_入力シート【基本情報】'!$AB$118","v":0},{"$f":"'1_入力シート【基本情報】'!$AB$118","v":0},null,"8","敷地の位置","-","防火地域等","-","その他",null,null,null,null,null,null,"8敷地の位置-防火地域等-その他"]
[null,null,null,{"$f":"'1_入力シート【基本情報】'!$AB$119","v":0},{"$f":"'1_入力シート【基本情報】'!$AB$119","v":0},null,"8","敷地の位置","-","用途地域","-","用途地域 1",null,null,null,null,null,null,"8敷地の位置-用途地域-用途地域 1"]
[null,null,null,{"$f":"'1_入力シート【基本情報】'!$AB$120","v":0},{"$f":"'1_入力シート【基本情報】'!$AB$120","v":0},null,"8","敷地の位置","-","用途地域","-","用途地域 2",null,null,null,null,null,null,"8敷地の位置-用途地域-用途地域 2"]
[null,null,null,{"$f":"'1_入力シート【基本情報】'!$AB$121","v":0},{"$f":"'1_入力シート【基本情報】'!$AB$121","v":0},null,"8","敷地の位置","-","用途地域","-","用途地域 3",null,null,null,null,null,null,"8敷地の位置-用途地域-用途地域 3"]
[null,null,null,{"$f":"'1_入力シート【基本情報】'!$AB$127","v":0},{"$f":"'1_入力シート【基本情報】'!$AB$127","v":0},null,"9","建物及びその敷地の概要","-","構造","-","構造 1",null,null,null,null,null,null,"9建物及びその敷地の概要-構造-構造 1"]
[null,null,null,{"$f":"'1_入力シート【基本情報】'!$AB$128","v":0},{"$f":"'1_入力シート【基本情報】'!$AB$128","v":0},null,"9","建物及びその敷地の概要","-","構造","-","構造 2",null,null,null,null,null,null,"9建物及びその敷地の概要-構造-構造 2"]
[null,null,null,{"$f":"'1_入力シート【基本情報】'!$AB$129","v":0},{"$f":"'1_入力シート【基本情報】'!$AB$129","v":0},null,"9","建物及びその敷地の概要","-","構造","-","構造 3",null,null,null,null,null,null,"9建物及びその敷地の概要-構造-構造 3"]
[null,null,null,{"$f":"'1_入力シート【基本情報】'!$AB$130","v":0},{"$f":"'1_入力シート【基本情報】'!$AB$130","v":0},null,"9","建物及びその敷地の概要","-","構造","-","その他",null,null,null,null,null,null,"9建物及びその敷地の概要-構造-その他"]
[null,null,null,{"$f":"'1_入力シート【基本情報】'!$AB$131","v":0},{"$f":"'1_入力シート【基本情報】'!$AB$131","v":0},null,"9","建物及びその敷地の概要","-","階数","-","地上","-","階",null,null,null,null,"9建物及びその敷地の概要-階数-地上-階"]
[null,null,null,{"$f":"'1_入力シート【基本情報】'!$AB$132","v":0},{"$f":"'1_入力シート【基本情報】'!$AB$132","v":0},null,"9","建物及びその敷地の概要","-","階数","-","地下","-","階",null,null,null,null,"9建物及びその敷地の概要-階数-地下-階"]
[null,null,null,{"$f":"'1_入力シート【基本情報】'!$AB$133","v":0},{"$f":"'1_入力シート【基本情報】'!$AB$133","v":0},null,"9","建物及びその敷地の概要","-","敷地面積",null,null,"-","㎡",null,null,null,null,"9建物及びその敷地の概要-敷地面積-㎡"]
[null,null,null,{"$f":"'1_入力シート【基本情報】'!$AB$134","v":0},{"$f":"'1_入力シート【基本情報】'!$AB$134","v":0},null,"9","建物及びその敷地の概要","-","建築面積",null,null,"-","㎡",null,null,null,null,"9建物及びその敷地の概要-建築面積-㎡"]
[null,null,null,{"$f":"'1_入力シート【基本情報】'!$AB$140","v":0},{"$f":"'1_入力シート【基本情報】'!$AB$140","v":0},null,"10","性能検証法等の適用","-","耐火性能検証法",null,null,null,null,null,null,null,null,"10性能検証法等の適用-耐火性能検証法"]
[null,null,null,{"$f":"'1_入力シート【基本情報】'!$AB$141","v":0},{"$f":"'1_入力シート【基本情報】'!$AB$141","v":0},null,"10","性能検証法等の適用","-","防火区画検証法",null,null,null,null,null,null,null,null,"10性能検証法等の適用-防火区画検証法"]
[null,null,null,{"$f":"'1_入力シート【基本情報】'!$AB$142","v":0},{"$f":"'1_入力シート【基本情報】'!$AB$142","v":0},null,"10","性能検証法等の適用","-","区画避難安全検証法",null,null,null,null,null,null,null,null,"10性能検証法等の適用-区画避難安全検証法"]
[null,null,null,{"$f":"'1_入力シート【基本情報】'!$AF$142","v":0},{"$f":"'1_入力シート【基本情報】'!$AF$142","v":0},null,"10","性能検証法等の適用","-","区画避難安全検証法","-","階",null,null,null,null,null,null,"10性能検証法等の適用-区画避難安全検証法-階"]
[null,null,null,{"$f":"'1_入力シート【基本情報】'!$AB$143","v":0},{"$f":"'1_入力シート【基本情報】'!$AB$143","v":0},null,"10","性能検証法等の適用","-","階避難安全検証法",null,null,null,null,null,null,null,null,"10性能検証法等の適用-階避難安全検証法"]
[null,null,null,{"$f":"'1_入力シート【基本情報】'!$AF$143","v":0},{"$f":"'1_入力シート【基本情報】'!$AF$143","v":0},null,"10","性能検証法等の適用","-","階避難安全検証法","-","階",null,null,null,null,null,null,"10性能検証法等の適用-階避難安全検証法-階"]
[null,null,null,{"$f":"'1_入力シート【基本情報】'!$AB$144","v":0},{"$f":"'1_入力シート【基本情報】'!$AB$144","v":0},null,"10","性能検証法等の適用","-","全館避難安全検証法",null,null,null,null,null,null,null,null,"10性能検証法等の適用-全館避難安全検証法"]
[null,null,null,{"$f":"'1_入力シート【基本情報】'!$AB$145","v":0},{"$f":"'1_入力シート【基本情報】'!$AB$145","v":0},null,"10","性能検証法等の適用","-","その他",null,null,null,null,null,null,null,null,"10性能検証法等の適用-その他"]
[null,null,null,{"$f":"'1_入力シート【基本情報】'!$AF$145","v":0},{"$f":"'1_入力シート【基本情報】'!$AF$145","v":0},null,"10","性能検証法等の適用","-","その他","-","詳細",null,null,null,null,null,null,"10性能検証法等の適用-その他-詳細"]
[null,null,null,{"$f":"'1_入力シート【基本情報】'!$AB$151","v":0},{"$f":"'1_入力シート【基本情報】'!$AB$151","v":0},null,"11","増築、改築、用途変更等の経過","-","年月日","-","元号","_",1,null,null,null,null,"11増築、改築、用途変更等の経過-年月日-元号_1"]
[null,null,{"$f":"ASC($D118)","v":"0"},{"$f":"'1_入力シート【基本情報】'!$AE$151","v":0},"0",null,"11","増築、改築、用途変更等の経過","-","年月日","-","年",null,1,null,null,null,null,"11増築、改築、用途変更等の経過-年月日-年1"]
[null,null,"0",{"$f":"'1_入力シート【基本情報】'!$AJ$151","v":0},"0",null,"11","増築、改築、用途変更等の経過","-","年月日","-","月",null,1,null,null,null,null,"11増築、改築、用途変更等の経過-年月日-月1"]
[null,null,"0",{"$f":"'1_入力シート【基本情報】'!$AO$151","v":0},"0",null,"11","増築、改築、用途変更等の経過","-","年月日","-","日",null,1,null,null,null,null,"11増築、改築、用途変更等の経過-年月日-日1"]
[null,null,null,{"$f":"'1_入力シート【基本情報】'!$AB$152","v":0},{"$f":"'1_入力シート【基本情報】'!$AB$152","v":0},null,"11","増築、改築、用途変更等の経過","-","工事種別",null,1,null,null,null,null,null,null,"11増築、改築、用途変更等の経過-工事種別1"]
[null,null,null,{"$f":"'1_入力シート【基本情報】'!$AB$153","v":0},{"$f":"'1_入力シート【基本情報】'!$AB$153","v":0},null,"11","増築、改築、用途変更等の経過","-","概要",null,1,null,null,null,null,null,null,"11増築、改築、用途変更等の経過-概要1"]
[null,null,null,{"$f":"'1_入力シート【基本情報】'!$AB$154","v":0},{"$f":"'1_入力シート【基本情報】'!$AB$154","v":0},null,"11","増築、改築、用途変更等の経過","-","年月日","-","元号","_",2,null,null,null,null,"11増築、改築、用途変更等の経過-年月日-元号_2"]
[null,null,{"$f":"ASC($D124)","v":"0"},{"$f":"'1_入力シート【基本情報】'!$AE$154","v":0},"0",null,"11","増築、改築、用途変更等の経過","-","年月日","-","年",null,2,null,null,null,null,"11増築、改築、用途変更等の経過-年月日-年2"]
[null,null,"0",{"$f":"'1_入力シート【基本情報】'!$AJ$154","v":0},"0",null,"11","増築、改築、用途変更等の経過","-","年月日","-","月",null,2,null,null,null,null,"11増築、改築、用途変更等の経過-年月日-月2"]
[null,null,"0",{"$f":"'1_入力シート【基本情報】'!$AO$154","v":0},"0",null,"11","増築、改築、用途変更等の経過","-","年月日","-","日",null,2,null,null,null,null,"11増築、改築、用途変更等の経過-年月日-日2"]
[null,null,null,{"$f":"'1_入力シート【基本情報】'!$AB$155","v":0},{"$f":"'1_入力シート【基本情報】'!$AB$155","v":0},null,"11","増築、改築、用途変更等の経過","-","工事種別",null,2,null,null,null,null,null,null,"11増築、改築、用途変更等の経過-工事種別2"]
[null,null,null,{"$f":"'1_入力シート【基本情報】'!$AB$156","v":0},{"$f":"'1_入力シート【基本情報】'!$AB$156","v":0},null,"11","増築、改築、用途変更等の経過","-","概要",null,2,null,null,null,null,null,null,"11増築、改築、用途変更等の経過-概要2"]
[null,null,null,{"$f":"'1_入力シート【基本情報】'!$AB$157","v":0},{"$f":"'1_入力シート【基本情報】'!$AB$157","v":0},null,"11","増築、改築、用途変更等の経過","-","年月日","-","元号","_",3,null,null,null,null,"11増築、改築、用途変更等の経過-年月日-元号_3"]
[null,null,{"$f":"ASC($D130)","v":"0"},{"$f":"'1_入力シート【基本情報】'!$AE$157","v":0},"0",null,"11","増築、改築、用途変更等の経過","-","年月日","-","年",null,3,null,null,null,null,"11増築、改築、用途変更等の経過-年月日-年3"]
[null,null,"0",{"$f":"'1_入力シート【基本情報】'!$AJ$157","v":0},"0",null,"11","増築、改築、用途変更等の経過","-","年月日","-","月",null,3,null,null,null,null,"11増築、改築、用途変更等の経過-年月日-月3"]
[null,null,"0",{"$f":"'1_入力シート【基本情報】'!$AO$157","v":0},"0",null,"11","増築、改築、用途変更等の経過","-","年月日","-","日",null,3,null,null,null,null,"11増築、改築、用途変更等の経過-年月日-日3"]
[null,null,null,{"$f":"'1_入力シート【基本情報】'!$AB$158","v":0},{"$f":"'1_入力シート【基本情報】'!$AB$158","v":0},null,"11","増築、改築、用途変更等の経過","-","工事種別",null,3,null,null,null,null,null,null,"11増築、改築、用途変更等の経過-工事種別3"]
[null,null,null,{"$f":"'1_入力シート【基本情報】'!$AB$159","v":0},{"$f":"'1_入力シート【基本情報】'!$AB$159","v":0},null,"11","増築、改築、用途変更等の経過","-","概要",null,3,null,null,null,null,null,null,"11増築、改築、用途変更等の経過-概要3"]
[null,null,null,{"$f":"'1_入力シート【基本情報】'!$AB$160","v":0},{"$f":"'1_入力シート【基本情報】'!$AB$160","v":0},null,"11","増築、改築、用途変更等の経過","-","年月日","-","元号","_",4,null,null,null,null,"11増築、改築、用途変更等の経過-年月日-元号_4"]
[null,null,{"$f":"ASC($D136)","v":"0"},{"$f":"'1_入力シート【基本情報】'!$AE$160","v":0},"0",null,"11","増築、改築、用途変更等の経過","-","年月日","-","年",null,4,null,null,null,null,{"$f":"CONCATENATE(G136,H136,I136,J136,K136,L136,M136,N136,O136,P136)","v":"11増築、改築、用途変更等の経過-年月日-年4"}]
[null,null,"0",{"$f":"'1_入力シート【基本情報】'!$AJ$160","v":0},"0",null,"11","増築、改築、用途変更等の経過","-","年月日","-","月",null,4,null,null,null,null,"11増築、改築、用途変更等の経過-年月日-月4"]
[null,null,"0",{"$f":"'1_入力シート【基本情報】'!$AO$160","v":0},"0",null,"11","増築、改築、用途変更等の経過","-","年月日","-","日",null,4,null,null,null,null,"11増築、改築、用途変更等の経過-年月日-日4"]
[null,null,null,{"$f":"'1_入力シート【基本情報】'!$AB$161","v":0},{"$f":"'1_入力シート【基本情報】'!$AB$161","v":0},null,"11","増築、改築、用途変更等の経過","-","工事種別",null,4,null,null,null,null,null,null,"11増築、改築、用途変更等の経過-工事種別4"]
[null,null,null,{"$f":"'1_入力シート【基本情報】'!$AB$162","v":0},{"$f":"'1_入力シート【基本情報】'!$AB$162","v":0},null,"11","増築、改築、用途変更等の経過","-","概要",null,4,null,null,null,null,null,null,"11増築、改築、用途変更等の経過-概要4"]
[null,null,null,{"$f":"'1_入力シート【基本情報】'!$AB$169","v":0},{"$f":"'1_入力シート【基本情報】'!$AB$169","v":0},null,"12","関連図書の整備","-","直近の確認申請","-","確認に要した図書",null,null,null,null,null,null,"12関連図書の整備-直近の確認申請-確認に要した図書"]
[null,null,null,{"$f":"'1_入力シート【基本情報】'!$AB$170","v":0},{"$f":"'1_入力シート【基本情報】'!$AB$170","v":0},null,"12","関連図書の整備","-","直近の確認申請","-","確認","-","確認済証の有無",null,null,null,null,"12関連図書の整備-直近の確認申請-確認-確認済証の有無"]
[null,null,null,{"$f":"'1_入力シート【基本情報】'!$AB$171","v":0},{"$f":"'1_入力シート【基本情報】'!$AB$171","v":0},null,"12","関連図書の整備","-","直近の確認申請","-","確認","-","工事種別",null,null,null,null,"12関連図書の整備-直近の確認申請-確認-工事種別"]
[null,null,null,{"$f":"'1_入力シート【基本情報】'!$AB$172","v":0},{"$f":"'1_入力シート【基本情報】'!$AB$172","v":0},null,"12","関連図書の整備","-","直近の確認申請","-","確認","-","交付年月日","-","元号",null,null,"12関連図書の整備-直近の確認申請-確認-交付年月日-元号"]
[null,null,{"$f":"ASC($D145)","v":"0"},{"$f":"'1_入力シート【基本情報】'!$AE$172","v":0},"0",null,"12","関連図書の整備","-","直近の確認申請","-","確認","-","交付年月日","-","年",null,null,"12関連図書の整備-直近の確認申請-確認-交付年月日-年"]
[null,null,"0",{"$f":"'1_入力シート【基本情報】'!$AJ$172","v":0},"0",null,"12","関連図書の整備","-","直近の確認申請","-","確認","-","交付年月日","-","月",null,null,"12関連図書の整備-直近の確認申請-確認-交付年月日-月"]
[null,null,"0",{"$f":"'1_入力シート【基本情報】'!$AO$172","v":0},"0",null,"12","関連図書の整備","-","直近の確認申請","-","確認","-","交付年月日","-","日",null,null,"12関連図書の整備-直近の確認申請-確認-交付年月日-日"]
[null,null,"0",{"$f":"'1_入力シート【基本情報】'!$AB$173","v":0},"0",null,"12","関連図書の整備","-","直近の確認申請","-","確認","-","交付番号","-","号",null,null,"12関連図書の整備-直近の確認申請-確認-交付番号-号"]
[null,null,null,{"$f":"'1_入力シート【基本情報】'!$AB$174","v":0},{"$f":"'1_入力シート【基本情報】'!$AB$174","v":0},null,"12","関連図書の整備","-","直近の確認申請","-","確認","-","交付者",null,null,null,null,"12関連図書の整備-直近の確認申請-確認-交付者"]
[null,null,null,{"$f":"'1_入力シート【基本情報】'!$AB$175","v":0},{"$f":"'1_入力シート【基本情報】'!$AB$175","v":0},null,"12","関連図書の整備","-","直近の確認申請","-","確認","-","検査機関",null,null,null,null,"12関連図書の整備-直近の確認申請-確認-検査機関"]
[null,null,null,{"$f":"'1_入力シート【基本情報】'!$AB$176","v":0},{"$f":"'1_入力シート【基本情報】'!$AB$176","v":0},null,"12","関連図書の整備","-","直近の確認申請","-","完了検査に要した図書",null,null,null,null,null,null,"12関連図書の整備-直近の確認申請-完了検査に要した図書"]
[null,null,null,{"$f":"'1_入力シート【基本情報】'!$AB$177","v":0},{"$f":"'1_入力シート【基本情報】'!$AB$177","v":0},null,"12","関連図書の整備","-","直近の確認申請","-","完了","-","検査済証の有無",null,null,null,null,"12関連図書の整備-直近の確認申請-完了-検査済証の有無"]
[null,null,null,{"$f":"'1_入力シート【基本情報】'!$AB$178","v":0},{"$f":"'1_入力シート【基本情報】'!$AB$178","v":0},null,"12","関連図書の整備","-","直近の確認申請","-","完了","-","交付年月日","-","元号",null,null,"12関連図書の整備-直近の確認申請-完了-交付年月日-元号"]
[null,null,{"$f":"ASC($D154)","v":"0"},{"$f":"'1_入力シート【基本情報】'!$AE$178","v":0},"0",null,"12","関連図書の整備","-","直近の確認申請","-","完了","-","交付年月日","-","年",null,null,"12関連図書の整備-直近の確認申請-完了-交付年月日-年"]
[null,null,"0",{"$f":"'1_入力シート【基本情報】'!$AJ$178","v":0},"0",null,"12","関連図書の整備","-","直近の確認申請","-","完了","-","交付年月日","-","月",null,null,"12関連図書の整備-直近の確認申請-完了-交付年月日-月"]
[null,null,"0",{"$f":"'1_入力シート【基本情報】'!$AO$178","v":0},"0",null,"12","関連図書の整備","-","直近の確認申請","-","完了","-","交付年月日","-","日",null,null,"12関連図書の整備-直近の確認申請-完了-交付年月日-日"]
[null,null,"0",{"$f":"'1_入力シート【基本情報】'!$AB$179","v":0},"0",null,"12","関連図書の整備","-","直近の確認申請","-","完了","-","交付番号","-","号",null,null,"12関連図書の整備-直近の確認申請-完了-交付番号-号"]
[null,null,null,{"$f":"'1_入力シート【基本情報】'!$AB$180","v":0},{"$f":"'1_入力シート【基本情報】'!$AB$180","v":0},null,"12","関連図書の整備","-","直近の確認申請","-","完了","-","交付者",null,null,null,null,"12関連図書の整備-直近の確認申請-完了-交付者"]
[null,null,null,{"$f":"'1_入力シート【基本情報】'!$AB$181","v":0},{"$f":"'1_入力シート【基本情報】'!$AB$181","v":0},null,"12","関連図書の整備","-","直近の確認申請","-","完了","-","検査機関",null,null,null,null,"12関連図書の整備-直近の確認申請-完了-検査機関"]
[null,null,null,{"$f":"'1_入力シート【基本情報】'!$DN$182","v":false},{"$f":"'1_入力シート【基本情報】'!$DN$182","v":false},null,"12","関連図書の整備","-","新築時の確認申請","-","直近と記載の確認と同一","-",null,null,null,null,null,"12関連図書の整備-新築時の確認申請-直近と記載の確認と同一-"]
[null,null,null,{"$f":"'1_入力シート【基本情報】'!$AB$183","v":0},{"$f":"'1_入力シート【基本情報】'!$AB$183","v":0},null,"12","関連図書の整備","-","新築時の確認申請","-","確認に要した図書","-",null,null,null,null,null,"12関連図書の整備-新築時の確認申請-確認に要した図書-"]
[null,null,null,{"$f":"'1_入力シート【基本情報】'!$AB$184","v":0},{"$f":"'1_入力シート【基本情報】'!$AB$184","v":0},null,"12","関連図書の整備","-","新築時の確認申請","-","確認","-","確認済証の有無",null,null,null,null,"12関連図書の整備-新築時の確認申請-確認-確認済証の有無"]
[null,null,null,{"$f":"'1_入力シート【基本情報】'!$AB$185","v":0},{"$f":"'1_入力シート【基本情報】'!$AB$185","v":0},null,"12","関連図書の整備","-","新築時の確認申請","-","確認","-","工事種別",null,null,null,null,"12関連図書の整備-新築時の確認申請-確認-工事種別"]
[null,null,null,{"$f":"'1_入力シート【基本情報】'!$AB$186","v":0},{"$f":"'1_入力シート【基本情報】'!$AB$186","v":0},null,"12","関連図書の整備","-","新築時の確認申請","-","確認","-","交付年月日","-","元号",null,null,"12関連図書の整備-新築時の確認申請-確認-交付年月日-元号"]
[null,null,{"$f":"ASC($D165)","v":"0"},{"$f":"'1_入力シート【基本情報】'!$AE$186","v":0},"0",null,"12","関連図書の整備","-","新築時の確認申請","-","確認","-","交付年月日","-","年",null,null,"12関連図書の整備-新築時の確認申請-確認-交付年月日-年"]
[null,null,"0",{"$f":"'1_入力シート【基本情報】'!$AJ$186","v":0},"0",null,"12","関連図書の整備","-","新築時の確認申請","-","確認","-","交付年月日","-","月",null,null,"12関連図書の整備-新築時の確認申請-確認-交付年月日-月"]
[null,null,"0",{"$f":"'1_入力シート【基本情報】'!$AO$186","v":0},"0",null,"12","関連図書の整備","-","新築時の確認申請","-","確認","-","交付年月日","-","日",null,null,"12関連図書の整備-新築時の確認申請-確認-交付年月日-日"]
[null,null,"0",{"$f":"'1_入力シート【基本情報】'!$AB$187","v":0},"0",null,"12","関連図書の整備","-","新築時の確認申請","-","確認","-","交付番号","-","号",null,null,"12関連図書の整備-新築時の確認申請-確認-交付番号-号"]
[null,null,null,{"$f":"'1_入力シート【基本情報】'!$AB$188","v":0},{"$f":"'1_入力シート【基本情報】'!$AB$188","v":0},null,"12","関連図書の整備","-","新築時の確認申請","-","確認","-","交付者",null,null,null,null,"12関連図書の整備-新築時の確認申請-確認-交付者"]
[null,null,null,{"$f":"'1_入力シート【基本情報】'!$AB$189","v":0},{"$f":"'1_入力シート【基本情報】'!$AB$189","v":0},null,"12","関連図書の整備","-","新築時の確認申請","-","確認","-","検査機関",null,null,null,null,"12関連図書の整備-新築時の確認申請-確認-検査機関"]
[null,null,null,{"$f":"'1_入力シート【基本情報】'!$AB$190","v":0},{"$f":"'1_入力シート【基本情報】'!$AB$190","v":0},null,"12","関連図書の整備","-","新築時の確認申請","-","完了検査に要した図書","-",null,null,null,null,null,"12関連図書の整備-新築時の確認申請-完了検査に要した図書-"]
[null,null,null,{"$f":"'1_入力シート【基本情報】'!$AB$191","v":0},{"$f":"'1_入力シート【基本情報】'!$AB$191","v":0},null,"12","関連図書の整備","-","新築時の確認申請","-","完了","-","検査済証の有無",null,null,null,null,"12関連図書の整備-新築時の確認申請-完了-検査済証の有無"]
[null,null,null,{"$f":"'1_入力シート【基本情報】'!$AB$192","v":0},{"$f":"'1_入力シート【基本情報】'!$AB$192","v":0},null,"12","関連図書の整備","-","新築時の確認申請","-","完了","-","交付年月日","-","元号",null,null,"12関連図書の整備-新築時の確認申請-完了-交付年月日-元号"]
[null,null,{"$f":"ASC($D174)","v":"0"},{"$f":"'1_入力シート【基本情報】'!$AE$192","v":0},"0",null,"12","関連図書の整備","-","新築時の確認申請","-","完了","-","交付年月日","-","年",null,null,"12関連図書の整備-新築時の確認申請-完了-交付年月日-年"]
[null,null,"0",{"$f":"'1_入力シート【基本情報】'!$AJ$192","v":0},"0",null,"12","関連図書の整備","-","新築時の確認申請","-","完了","-","交付年月日","-","月",null,null,"12関連図書の整備-新築時の確認申請-完了-交付年月日-月"]
[null,null,"0",{"$f":"'1_入力シート【基本情報】'!$AO$192","v":0},"0",null,"12","関連図書の整備","-","新築時の確認申請","-","完了","-","交付年月日","-","日",null,null,"12関連図書の整備-新築時の確認申請-完了-交付年月日-日"]
[null,null,"0",{"$f":"'1_入力シート【基本情報】'!$AB$193","v":0},"0",null,"12","関連図書の整備","-","新築時の確認申請","-","完了","-","交付番号","-","号",null,null,"12関連図書の整備-新築時の確認申請-完了-交付番号-号"]
[null,null,null,{"$f":"'1_入力シート【基本情報】'!$AB$194","v":0},{"$f":"'1_入力シート【基本情報】'!$AB$194","v":0},null,"12","関連図書の整備","-","新築時の確認申請","-","完了","-","交付者",null,null,null,null,"12関連図書の整備-新築時の確認申請-完了-交付者"]
[null,null,null,{"$f":"'1_入力シート【基本情報】'!$AB$195","v":0},{"$f":"'1_入力シート【基本情報】'!$AB$195","v":0},null,"12","関連図書の整備","-","新築時の確認申請","-","完了","-","検査機関",null,null,null,null,"12関連図書の整備-新築時の確認申請-完了-検査機関"]
[null,null,null,{"$f":"'1_入力シート【基本情報】'!$AB$196","v":0},{"$f":"'1_入力シート【基本情報】'!$AB$196","v":0},null,"12","関連図書の整備","-","維持管理保全に関する準則又は計画",null,null,null,null,null,null,null,null,"12関連図書の整備-維持管理保全に関する準則又は計画"]
[null,null,null,{"$f":"'1_入力シート【基本情報】'!$AB$197","v":0},{"$f":"'1_入力シート【基本情報】'!$AB$197","v":0},null,"12","関連図書の整備","-","前回の調査に関する書類の写し",null,null,null,null,null,null,null,null,"12関連図書の整備-前回の調査に関する書類の写し"]
[null,null,null,{"$f":"'1_入力シート【基本情報】'!$AB$200","v":0},{"$f":"'1_入力シート【基本情報】'!$AB$200","v":0},null,"13","備考","-","備考（第二面）",null,null,null,null,null,null,null,null,"13備考-備考（第二面）"]
[null,null,null,{"$f":"'＜入力不要＞報告書'!$S$385","v":""},{"$f":"'＜入力不要＞報告書'!$S$385","v":""},null,"14","調査及び検査の状況","-","今回の調査　実施日","-","令和",null,null,null,null,null,null,"14調査及び検査の状況-今回の調査　実施日-令和"]
[null,null,{"$f":"ASC($D184)","v":"0"},{"$f":"'1_入力シート【基本情報】'!$AE$209","v":0},"0",null,"14","調査及び検査の状況","-","今回の調査　実施日","-","年",null,null,null,null,null,null,"14調査及び検査の状況-今回の調査　実施日-年"]
[null,null,"0",{"$f":"'1_入力シート【基本情報】'!$AJ$209","v":0},"0",null,"14","調査及び検査の状況","-","今回の調査　実施日","-","月",null,null,null,null,null,null,"14調査及び検査の状況-今回の調査　実施日-月"]
[null,null,"0",{"$f":"'1_入力シート【基本情報】'!$AO$209","v":0},"0",null,"14","調査及び検査の状況","-","今回の調査　実施日","-","日",null,null,null,null,null,null,"14調査及び検査の状況-今回の調査　実施日-日"]
[null,null,null,{"$f":"'1_入力シート【基本情報】'!$AB$210","v":0},{"$f":"'1_入力シート【基本情報】'!$AB$210","v":0},null,"14","調査及び検査の状況","-","前回の調査","-","有無",null,null,null,null,null,null,"14調査及び検査の状況-前回の調査-有無"]
[null,null,null,{"$f":"'1_入力シート【基本情報】'!$AB$211","v":0},{"$f":"'1_入力シート【基本情報】'!$AB$211","v":0},null,"14","調査及び検査の状況","-","前回の調査","-","実施日","-","元号",null,null,null,null,"14調査及び検査の状況-前回の調査-実施日-元号"]
[null,null,{"$f":"ASC($D189)","v":"0"},{"$f":"'1_入力シート【基本情報】'!$AE$211","v":0},"0",null,"14","調査及び検査の状況","-","前回の調査","-","実施日","-","年",null,null,null,null,"14調査及び検査の状況-前回の調査-実施日-年"]
[null,null,"0",{"$f":"'1_入力シート【基本情報】'!$AJ$211","v":0},"0",null,"14","調査及び検査の状況","-","前回の調査","-","実施日","-","月",null,null,null,null,"14調査及び検査の状況-前回の調査-実施日-月"]
[null,null,"0",{"$f":"'1_入力シート【基本情報】'!$AO$211","v":0},"0",null,"14","調査及び検査の状況","-","前回の調査","-","実施日","-","日",null,null,null,null,"14調査及び検査の状況-前回の調査-実施日-日"]
[null,null,null,{"$f":"'1_入力シート【基本情報】'!$AB$212","v":0},{"$f":"'1_入力シート【基本情報】'!$AB$212","v":0},null,"14","調査及び検査の状況","-","建築設備の検査","-","有無",null,null,null,null,null,null,"14調査及び検査の状況-建築設備の検査-有無"]
[null,null,null,{"$f":"'1_入力シート【基本情報】'!$AB$213","v":0},{"$f":"'1_入力シート【基本情報】'!$AB$213","v":0},null,"14","調査及び検査の状況","-","建築設備の検査","-","実施日","-","元号",null,null,null,null,"14調査及び検査の状況-建築設備の検査-実施日-元号"]
[null,null,{"$f":"ASC($D194)","v":"0"},{"$f":"'1_入力シート【基本情報】'!$AE$213","v":0},"0",null,"14","調査及び検査の状況","-","建築設備の検査","-","実施日","-","年",null,null,null,null,"14調査及び検査の状況-建築設備の検査-実施日-年"]
[null,null,"0",{"$f":"'1_入力シート【基本情報】'!$AJ$213","v":0},"0",null,"14","調査及び検査の状況","-","建築設備の検査","-","実施日","-","月",null,null,null,null,"14調査及び検査の状況-建築設備の検査-実施日-月"]
[null,null,"0",{"$f":"'1_入力シート【基本情報】'!$AO$213","v":0},"0",null,"14","調査及び検査の状況","-","建築設備の検査","-","実施日","-","日",null,null,null,null,"14調査及び検査の状況-建築設備の検査-実施日-日"]
[null,null,null,{"$f":"'1_入力シート【基本情報】'!$AB$214","v":0},{"$f":"'1_入力シート【基本情報】'!$AB$214","v":0},null,"14","調査及び検査の状況","-","昇降機等の検査","-","有無",null,null,null,null,null,null,"14調査及び検査の状況-昇降機等の検査-有無"]
[null,null,null,{"$f":"'1_入力シート【基本情報】'!$AB$215","v":0},{"$f":"'1_入力シート【基本情報】'!$AB$215","v":0},null,"14","調査及び検査の状況","-","昇降機等の検査","-","実施日","-","元号",null,null,null,null,"14調査及び検査の状況-昇降機等の検査-実施日-元号"]
[null,null,{"$f":"ASC($D199)","v":"0"},{"$f":"'1_入力シート【基本情報】'!$AE$215","v":0},"0",null,"14","調査及び検査の状況","-","昇降機等の検査","-","実施日","-","年",null,null,null,null,"14調査及び検査の状況-昇降機等の検査-実施日-年"]
[null,null,"0",{"$f":"'1_入力シート【基本情報】'!$AJ$215","v":0},"0",null,"14","調査及び検査の状況","-","昇降機等の検査","-","実施日","-","月",null,null,null,null,{"$f":"CONCATENATE(G200,H200,I200,J200,K200,L200,M200,N200,O200,P200)","v":"14調査及び検査の状況-昇降機等の検査-実施日-月"}]
[null,null,"0",{"$f":"'1_入力シート【基本情報】'!$AO$215","v":0},"0",null,"14","調査及び検査の状況","-","昇降機等の検査","-","実施日","-","日",null,null,null,null,"14調査及び検査の状況-昇降機等の検査-実施日-日"]
[null,null,null,{"$f":"'1_入力シート【基本情報】'!$AB$216","v":0},{"$f":"'1_入力シート【基本情報】'!$AB$216","v":0},null,"14","調査及び検査の状況","-","防火設備の検査","-","有無",null,null,null,null,null,null,"14調査及び検査の状況-防火設備の検査-有無"]
[null,null,null,{"$f":"'1_入力シート【基本情報】'!$AB$217","v":0},{"$f":"'1_入力シート【基本情報】'!$AB$217","v":0},null,"14","調査及び検査の状況","-","防火設備の検査","-","実施日","-","元号",null,null,null,null,"14調査及び検査の状況-防火設備の検査-実施日-元号"]
[null,null,{"$f":"ASC($D204)","v":"0"},{"$f":"'1_入力シート【基本情報】'!$AE$217","v":0},"0",null,"14","調査及び検査の状況","-","防火設備の検査","-","実施日","-","年",null,null,null,null,"14調査及び検査の状況-防火設備の検査-実施日-年"]
[null,null,"0",{"$f":"'1_入力シート【基本情報】'!$AJ$217","v":0},"0",null,"14","調査及び検査の状況","-","防火設備の検査","-","実施日","-","月",null,null,null,null,"14調査及び検査の状況-防火設備の検査-実施日-月"]
[null,null,"0",{"$f":"'1_入力シート【基本情報】'!$AO$217","v":0},"0",null,"14","調査及び検査の状況","-","防火設備の検査","-","実施日","-","日",null,null,null,null,"14調査及び検査の状況-防火設備の検査-実施日-日"]
[null,null,null,{"$f":"'1_入力シート【基本情報】'!$AB$223","v":0},{"$f":"'1_入力シート【基本情報】'!$AB$223","v":0},null,"15","石綿を添加した建築材料の調査状況","-","該当建築材料","-","有無",null,null,null,null,null,null,"15石綿を添加した建築材料の調査状況-該当建築材料-有無"]
[null,null,null,{"$f":"'1_入力シート【基本情報】'!$AB$224","v":0},{"$f":"'1_入力シート【基本情報】'!$AB$224","v":0},null,"15","石綿を添加した建築材料の調査状況","-","該当建築材料","-","該当する室",null,null,null,null,null,null,"15石綿を添加した建築材料の調査状況-該当建築材料-該当する室"]
[null,null,null,{"$f":"'1_入力シート【基本情報】'!$AB$225","v":0},{"$f":"'1_入力シート【基本情報】'!$AB$225","v":0},null,"15","石綿を添加した建築材料の調査状況","-","措置予定","-","有無",null,null,null,null,null,null,"15石綿を添加した建築材料の調査状況-措置予定-有無"]
[null,null,{"$f":"IF(D210=\"\",0,D210)","v":0},{"$f":"'＜入力不要＞報告書'!$T$429","v":""},{"$f":"$C$210","v":0},null,"15","石綿を添加した建築材料の調査状況","-","措置予定","-","改善予定年月","-","令和",null,null,null,null,"15石綿を添加した建築材料の調査状況-措置予定-改善予定年月-令和"]
[null,null,{"$f":"ASC($D211)","v":"0"},{"$f":"'1_入力シート【基本情報】'!$AE$226","v":0},"0",null,"15","石綿を添加した建築材料の調査状況","-","措置予定","-","改善予定年月","-","年",null,null,null,null,"15石綿を添加した建築材料の調査状況-措置予定-改善予定年月-年"]
[null,null,"0",{"$f":"'1_入力シート【基本情報】'!$AJ$226","v":0},"0",null,"15","石綿を添加した建築材料の調査状況","-","措置予定","-","改善予定年月","-","月実施予定",null,null,null,null,"15石綿を添加した建築材料の調査状況-措置予定-改善予定年月-月実施予定"]
[null,null,null,{"$f":"'1_入力シート【基本情報】'!$AB$232","v":0},{"$f":"'1_入力シート【基本情報】'!$AB$232","v":0},null,"16","耐震診断及び耐震改修の調査状況","-","耐震診断","-","有無",null,null,null,null,null,null,"16耐震診断及び耐震改修の調査状況-耐震診断-有無"]
[null,null,{"$f":"IF(D214=\"\",0,D214)","v":0},{"$f":"'＜入力不要＞報告書'!X447","v":""},{"$f":"$C$214","v":0},null,"16","耐震診断及び耐震改修の調査状況","-","耐震診断","-","実施予定年月","-","令和",null,null,null,null,"16耐震診断及び耐震改修の調査状況-耐震診断-実施予定年月-令和"]
[null,null,{"$f":"ASC($D215)","v":"0"},{"$f":"'1_入力シート【基本情報】'!$AE$233","v":0},"0",null,"16","耐震診断及び耐震改修の調査状況","-","耐震診断","-","実施予定年月","-","年",null,null,null,null,"16耐震診断及び耐震改修の調査状況-耐震診断-実施予定年月-年"]
[null,null,"0",{"$f":"'1_入力シート【基本情報】'!$AJ$233","v":0},"0",null,"16","耐震診断及び耐震改修の調査状況","-","耐震診断","-","実施予定年月","-","月実施予定",null,null,null,null,"16耐震診断及び耐震改修の調査状況-耐震診断-実施予定年月-月実施予定"]
[null,null,null,{"$f":"'1_入力シート【基本情報】'!$AB$234","v":0},{"$f":"'1_入力シート【基本情報】'!$AB$234","v":0},null,"16","耐震診断及び耐震改修の調査状況","-","耐震改修","-","有無",null,null,null,null,null,null,"16耐震診断及び耐震改修の調査状況-耐震改修-有無"]
[null,null,{"$f":"IF(D218=\"\",0,D218)","v":0},{"$f":"'＜入力不要＞報告書'!$X$448","v":""},{"$f":"$C$218","v":0},null,"16","耐震診断及び耐震改修の調査状況","-","耐震改修","-","実施予定年月","-","令和",null,null,null,null,"16耐震診断及び耐震改修の調査状況-耐震改修-実施予定年月-令和"]
[null,null,{"$f":"ASC($D219)","v":"0"},{"$f":"'1_入力シート【基本情報】'!$AE$235","v":0},"0",null,"16","耐震診断及び耐震改修の調査状況","-","耐震改修","-","実施予定年月","-","年",null,null,null,null,"16耐震診断及び耐震改修の調査状況-耐震改修-実施予定年月-年"]
[null,null,"0",{"$f":"'1_入力シート【基本情報】'!$AJ$235","v":0},"0",null,"16","耐震診断及び耐震改修の調査状況","-","耐震改修","-","実施予定年月","-","月実施予定",null,null,null,null,"16耐震診断及び耐震改修の調査状況-耐震改修-実施予定年月-月実施予定"]
[null,null,null,{"$f":"'1_入力シート【基本情報】'!$AB$241","v":0},{"$f":"'1_入力シート【基本情報】'!$AB$241","v":0},null,"17","建築物等に係る不具合等の状況","-","不具合等",null,null,null,null,null,null,null,null,"17建築物等に係る不具合等の状況-不具合等"]
[null,null,null,{"$f":"'1_入力シート【基本情報】'!$AB$242","v":0},{"$f":"'1_入力シート【基本情報】'!$AB$242","v":0},null,"17","建築物等に係る不具合等の状況","-","不具合等の記録",null,null,null,null,null,null,null,null,"17建築物等に係る不具合等の状況-不具合等の記録"]
[null,null,null,{"$f":"'1_入力シート【基本情報】'!$M$245","v":0},{"$f":"'1_入力シート【基本情報】'!$M$245","v":0},null,"17","建築物等に係る不具合等の状況","-","不具合等を把握した年月","-","元号","_",1,null,null,null,null,"17建築物等に係る不具合等の状況-不具合等を把握した年月-元号_1"]
[null,null,{"$f":"ASC($D224)","v":"0"},{"$f":"'1_入力シート【基本情報】'!$P$245","v":0},"0",null,"17","建築物等に係る不具合等の状況","-","不具合等を把握した年月","-","年","_",1,null,null,null,null,"17建築物等に係る不具合等の状況-不具合等を把握した年月-年_1"]
[null,null,"0",{"$f":"'1_入力シート【基本情報】'!$S$245","v":0},"0",null,"17","建築物等に係る不具合等の状況","-","不具合等を把握した年月","-","月","_",1,null,null,null,null,"17建築物等に係る不具合等の状況-不具合等を把握した年月-月_1"]
[null,null,null,{"$f":"'1_入力シート【基本情報】'!$V$245","v":0},{"$f":"'1_入力シート【基本情報】'!$V$245","v":0},null,"17","建築物等に係る不具合等の状況","-","不具合等の概要","_",1,null,null,null,null,null,null,"17建築物等に係る不具合等の状況-不具合等の概要_1"]
[null,null,null,{"$f":"'1_入力シート【基本情報】'!$AH$245","v":0},{"$f":"'1_入力シート【基本情報】'!$AH$245","v":0},null,"17","建築物等に係る不具合等の状況","-","考えられる要因","_",1,null,null,null,null,null,null,"17建築物等に係る不具合等の状況-考えられる要因_1"]
[null,null,null,{"$f":"'1_入力シート【基本情報】'!$AT$245","v":0},{"$f":"'1_入力シート【基本情報】'!$AT$245","v":0},null,"17","建築物等に係る不具合等の状況","-","改善の状況","_",1,null,null,null,null,null,null,"17建築物等に係る不具合等の状況-改善の状況_1"]
[null,null,{"$f":"ASC($D229)","v":"0"},{"$f":"'1_入力シート【基本情報】'!$AZ$245","v":0},"0",null,"17","建築物等に係る不具合等の状況","-","改善（予定）年月","-","年（令和）","_",1,null,null,null,null,"17建築物等に係る不具合等の状況-改善（予定）年月-年（令和）_1"]
[null,null,"0",{"$f":"'1_入力シート【基本情報】'!$BC$245","v":0},"0",null,"17","建築物等に係る不具合等の状況","-","改善（予定）年月","-","月","_",1,null,null,null,null,"17建築物等に係る不具合等の状況-改善（予定）年月-月_1"]
[null,null,null,{"$f":"'1_入力シート【基本情報】'!$BF$245","v":0},{"$f":"'1_入力シート【基本情報】'!$BF$245","v":0},null,"17","建築物等に係る不具合等の状況","-","改善措置の概要等又は改善の予定がない場合は理由","_",1,null,null,null,null,null,null,"17建築物等に係る不具合等の状況-改善措置の概要等又は改善の予定がない場合は理由_1"]
[null,null,null,{"$f":"'1_入力シート【基本情報】'!$M$246","v":0},{"$f":"'1_入力シート【基本情報】'!$M$246","v":0},null,"17","建築物等に係る不具合等の状況","-","不具合等を把握した年月","-","元号","_",2,null,null,null,null,"17建築物等に係る不具合等の状況-不具合等を把握した年月-元号_2"]
[null,null,{"$f":"ASC($D233)","v":"0"},{"$f":"'1_入力シート【基本情報】'!$P$246","v":0},"0",null,"17","建築物等に係る不具合等の状況","-","不具合等を把握した年月","-","年","_",2,null,null,null,null,"17建築物等に係る不具合等の状況-不具合等を把握した年月-年_2"]
[null,null,"0",{"$f":"'1_入力シート【基本情報】'!$S$246","v":0},"0",null,"17","建築物等に係る不具合等の状況","-","不具合等を把握した年月","-","月","_",2,null,null,null,null,"17建築物等に係る不具合等の状況-不具合等を把握した年月-月_2"]
[null,null,null,{"$f":"'1_入力シート【基本情報】'!$V$246","v":0},{"$f":"'1_入力シート【基本情報】'!$V$246","v":0},null,"17","建築物等に係る不具合等の状況","-","不具合等の概要","_",2,null,null,null,null,null,null,"17建築物等に係る不具合等の状況-不具合等の概要_2"]
[null,null,null,{"$f":"'1_入力シート【基本情報】'!$AH$246","v":0},{"$f":"'1_入力シート【基本情報】'!$AH$246","v":0},null,"17","建築物等に係る不具合等の状況","-","考えられる要因","_",2,null,null,null,null,null,null,"17建築物等に係る不具合等の状況-考えられる要因_2"]
[null,null,null,{"$f":"'1_入力シート【基本情報】'!$AT$246","v":0},{"$f":"'1_入力シート【基本情報】'!$AT$246","v":0},null,"17","建築物等に係る不具合等の状況","-","改善の状況","_",2,null,null,null,null,null,null,"17建築物等に係る不具合等の状況-改善の状況_2"]
[null,null,{"$f":"ASC($D238)","v":"0"},{"$f":"'1_入力シート【基本情報】'!$AZ$246","v":0},"0",null,"17","建築物等に係る不具合等の状況","-","改善（予定）年月","-","年（令和）","_",2,null,null,null,null,"17建築物等に係る不具合等の状況-改善（予定）年月-年（令和）_2"]
[null,null,"0",{"$f":"'1_入力シート【基本情報】'!$BC$246","v":0},"0",null,"17","建築物等に係る不具合等の状況","-","改善（予定）年月","-","月","_",2,null,null,null,null,"17建築物等に係る不具合等の状況-改善（予定）年月-月_2"]
[null,null,null,{"$f":"'1_入力シート【基本情報】'!$BF$246","v":0},{"$f":"'1_入力シート【基本情報】'!$BF$246","v":0},null,"17","建築物等に係る不具合等の状況","-","改善措置の概要等又は改善の予定がない場合は理由","_",2,null,null,null,null,null,null,"17建築物等に係る不具合等の状況-改善措置の概要等又は改善の予定がない場合は理由_2"]
[null,null,null,{"$f":"'1_入力シート【基本情報】'!$M$247","v":0},{"$f":"'1_入力シート【基本情報】'!$M$247","v":0},null,"17","建築物等に係る不具合等の状況","-","不具合等を把握した年月","-","元号","_",3,null,null,null,null,"17建築物等に係る不具合等の状況-不具合等を把握した年月-元号_3"]
[null,null,{"$f":"ASC($D242)","v":"0"},{"$f":"'1_入力シート【基本情報】'!$P$247","v":0},"0",null,"17","建築物等に係る不具合等の状況","-","不具合等を把握した年月","-","年","_",3,null,null,null,null,"17建築物等に係る不具合等の状況-不具合等を把握した年月-年_3"]
[null,null,"0",{"$f":"'1_入力シート【基本情報】'!$S$247","v":0},"0",null,"17","建築物等に係る不具合等の状況","-","不具合等を把握した年月","-","月","_",3,null,null,null,null,"17建築物等に係る不具合等の状況-不具合等を把握した年月-月_3"]
[null,null,null,{"$f":"'1_入力シート【基本情報】'!$V$247","v":0},{"$f":"'1_入力シート【基本情報】'!$V$247","v":0},null,"17","建築物等に係る不具合等の状況","-","不具合等の概要","_",3,null,null,null,null,null,null,"17建築物等に係る不具合等の状況-不具合等の概要_3"]
[null,null,null,{"$f":"'1_入力シート【基本情報】'!$AH$247","v":0},{"$f":"'1_入力シート【基本情報】'!$AH$247","v":0},null,"17","建築物等に係る不具合等の状況","-","考えられる要因","_",3,null,null,null,null,null,null,"17建築物等に係る不具合等の状況-考えられる要因_3"]
[null,null,null,{"$f":"'1_入力シート【基本情報】'!$AT$247","v":0},{"$f":"'1_入力シート【基本情報】'!$AT$247","v":0},null,"17","建築物等に係る不具合等の状況","-","改善の状況","_",3,null,null,null,null,null,null,"17建築物等に係る不具合等の状況-改善の状況_3"]
[null,null,{"$f":"ASC($D247)","v":"0"},{"$f":"'1_入力シート【基本情報】'!$AZ$247","v":0},"0",null,"17","建築物等に係る不具合等の状況","-","改善（予定）年月","-","年（令和）","_",3,null,null,null,null,"17建築物等に係る不具合等の状況-改善（予定）年月-年（令和）_3"]
[null,null,"0",{"$f":"'1_入力シート【基本情報】'!$BC$247","v":0},"0",null,"17","建築物等に係る不具合等の状況","-","改善（予定）年月","-","月","_",3,null,null,null,null,"17建築物等に係る不具合等の状況-改善（予定）年月-月_3"]
[null,null,null,{"$f":"'1_入力シート【基本情報】'!$BF$247","v":0},{"$f":"'1_入力シート【基本情報】'!$BF$247","v":0},null,"17","建築物等に係る不具合等の状況","-","改善措置の概要等又は改善の予定がない場合は理由","_",3,null,null,null,null,null,null,"17建築物等に係る不具合等の状況-改善措置の概要等又は改善の予定がない場合は理由_3"]
[null,null,null,{"$f":"'1_入力シート【基本情報】'!$M$248","v":0},{"$f":"'1_入力シート【基本情報】'!$M$248","v":0},null,"17","建築物等に係る不具合等の状況","-","不具合等を把握した年月","-","元号","_",4,null,null,null,null,"17建築物等に係る不具合等の状況-不具合等を把握した年月-元号_4"]
[null,null,{"$f":"ASC($D251)","v":"0"},{"$f":"'1_入力シート【基本情報】'!$P$248","v":0},"0",null,"17","建築物等に係る不具合等の状況","-","不具合等を把握した年月","-","年","_",4,null,null,null,null,"17建築物等に係る不具合等の状況-不具合等を把握した年月-年_4"]
[null,null,"0",{"$f":"'1_入力シート【基本情報】'!$S$248","v":0},"0",null,"17","建築物等に係る不具合等の状況","-","不具合等を把握した年月","-","月","_",4,null,null,null,null,"17建築物等に係る不具合等の状況-不具合等を把握した年月-月_4"]
[null,null,null,{"$f":"'1_入力シート【基本情報】'!$V$248","v":0},{"$f":"'1_入力シート【基本情報】'!$V$248","v":0},null,"17","建築物等に係る不具合等の状況","-","不具合等の概要","_",4,null,null,null,null,null,null,"17建築物等に係る不具合等の状況-不具合等の概要_4"]
[null,null,null,{"$f":"'1_入力シート【基本情報】'!$AH$248","v":0},{"$f":"'1_入力シート【基本情報】'!$AH$248","v":0},null,"17","建築物等に係る不具合等の状況","-","考えられる要因","_",4,null,null,null,null,null,null,"17建築物等に係る不具合等の状況-考えられる要因_4"]
[null,null,null,{"$f":"'1_入力シート【基本情報】'!$AT$248","v":0},{"$f":"'1_入力シート【基本情報】'!$AT$248","v":0},null,"17","建築物等に係る不具合等の状況","-","改善の状況","_",4,null,null,null,null,null,null,"17建築物等に係る不具合等の状況-改善の状況_4"]
[null,null,{"$f":"ASC($D256)","v":"0"},{"$f":"'1_入力シート【基本情報】'!$AZ$248","v":0},"0",null,"17","建築物等に係る不具合等の状況","-","改善（予定）年月","-","年（令和）","_",4,null,null,null,null,"17建築物等に係る不具合等の状況-改善（予定）年月-年（令和）_4"]
[null,null,"0",{"$f":"'1_入力シート【基本情報】'!$BC$248","v":0},"0",null,"17","建築物等に係る不具合等の状況","-","改善（予定）年月","-","月","_",4,null,null,null,null,"17建築物等に係る不具合等の状況-改善（予定）年月-月_4"]
[null,null,null,{"$f":"'1_入力シート【基本情報】'!$BF$248","v":0},{"$f":"'1_入力シート【基本情報】'!$BF$248","v":0},null,"17","建築物等に係る不具合等の状況","-","改善措置の概要等又は改善の予定がない場合は理由","_",4,null,null,null,null,null,null,"17建築物等に係る不具合等の状況-改善措置の概要等又は改善の予定がない場合は理由_4"]
[null,null,null,{"$f":"'1_入力シート【基本情報】'!$M$249","v":0},{"$f":"'1_入力シート【基本情報】'!$M$249","v":0},null,"17","建築物等に係る不具合等の状況","-","不具合等を把握した年月","-","元号","_",5,null,null,null,null,"17建築物等に係る不具合等の状況-不具合等を把握した年月-元号_5"]
[null,null,{"$f":"ASC($D260)","v":"0"},{"$f":"'1_入力シート【基本情報】'!$P$249","v":0},"0",null,"17","建築物等に係る不具合等の状況","-","不具合等を把握した年月","-","年","_",5,null,null,null,null,"17建築物等に係る不具合等の状況-不具合等を把握した年月-年_5"]
[null,null,"0",{"$f":"'1_入力シート【基本情報】'!$S$249","v":0},"0",null,"17","建築物等に係る不具合等の状況","-","不具合等を把握した年月","-","月","_",5,null,null,null,null,"17建築物等に係る不具合等の状況-不具合等を把握した年月-月_5"]
[null,null,null,{"$f":"'1_入力シート【基本情報】'!$V$249","v":0},{"$f":"'1_入力シート【基本情報】'!$V$249","v":0},null,"17","建築物等に係る不具合等の状況","-","不具合等の概要","_",5,null,null,null,null,null,null,"17建築物等に係る不具合等の状況-不具合等の概要_5"]
[null,null,null,{"$f":"'1_入力シート【基本情報】'!$AH$249","v":0},{"$f":"'1_入力シート【基本情報】'!$AH$249","v":0},null,"17","建築物等に係る不具合等の状況","-","考えられる要因","_",5,null,null,null,null,null,null,"17建築物等に係る不具合等の状況-考えられる要因_5"]
[null,null,null,{"$f":"'1_入力シート【基本情報】'!$AT$249","v":0},{"$f":"'1_入力シート【基本情報】'!$AT$249","v":0},null,"17","建築物等に係る不具合等の状況","-","改善の状況","_",5,null,null,null,null,null,null,{"$f":"CONCATENATE(G264,H264,I264,J264,K264,L264,M264,N264,O264,P264)","v":"17建築物等に係る不具合等の状況-改善の状況_5"}]
[null,null,{"$f":"ASC($D265)","v":"0"},{"$f":"'1_入力シート【基本情報】'!$AZ$249","v":0},"0",null,"17","建築物等に係る不具合等の状況","-","改善（予定）年月","-","年（令和）","_",5,null,null,null,null,"17建築物等に係る不具合等の状況-改善（予定）年月-年（令和）_5"]
[null,null,"0",{"$f":"'1_入力シート【基本情報】'!$BC$249","v":0},"0",null,"17","建築物等に係る不具合等の状況","-","改善（予定）年月","-","月","_",5,null,null,null,null,"17建築物等に係る不具合等の状況-改善（予定）年月-月_5"]
[null,null,null,{"$f":"'1_入力シート【基本情報】'!$BF$249","v":0},{"$f":"'1_入力シート【基本情報】'!$BF$249","v":0},null,"17","建築物等に係る不具合等の状況","-","改善措置の概要等又は改善の予定がない場合は理由","_",5,null,null,null,null,null,null,"17建築物等に係る不具合等の状況-改善措置の概要等又は改善の予定がない場合は理由_5"]
[null,null,null,{"$f":"'1_入力シート【基本情報】'!$AB$255","v":0},{"$f":"'1_入力シート【基本情報】'!$AB$255","v":0},null,"18","備考","-","備考（3）",null,null,null,null,null,null,null,null,"18備考-備考（3）"]
[null,null,null,{"$f":"'1_入力シート【基本情報】'!$AB$261","v":0},{"$f":"'1_入力シート【基本情報】'!$AB$261","v":0},null,"19","外装仕上げ材等について","-","外装仕上材のタイル・石貼り等、モルタル塗り等の仕様",null,null,null,null,null,null,null,null,"19外装仕上げ材等について-外装仕上材のタイル・石貼り等、モルタル塗り等の仕様"]
[null,null,null,{"$f":"'1_入力シート【基本情報】'!$AB$262","v":0},{"$f":"'1_入力シート【基本情報】'!$AB$262","v":0},null,"19","外装仕上げ材等について",null,"前面打診等の実施状況",null,null,null,null,null,null,null,null,"19外装仕上げ材等について前面打診等の実施状況"]
[null,null,null,{"$f":"'1_入力シート【基本情報】'!$AH$263","v":0},{"$f":"'1_入力シート【基本情報】'!$AH$263","v":0},null,"19","外装仕上げ材等について","-","前面打診等の実施状況","-","時期：","-","元号",null,null,null,null,"19外装仕上げ材等について-前面打診等の実施状況-時期：-元号"]
[null,null,{"$f":"ASC($D272)","v":"0"},{"$f":"'1_入力シート【基本情報】'!$AK$263","v":0},"0",null,"19","外装仕上げ材等について","-","防火設備の検査","-","時期：","-","年",null,null,null,null,"19外装仕上げ材等について-防火設備の検査-時期：-年"]
[null,null,"0",{"$f":"'1_入力シート【基本情報】'!$AP$263","v":0},"0",null,"19","外装仕上げ材等について","-","防火設備の検査","-","時期：","-","月に",null,null,null,null,"19外装仕上げ材等について-防火設備の検査-時期：-月に"]
[null,null,null,{"$f":"'1_入力シート【基本情報】'!$AH$264","v":0},{"$f":"'1_入力シート【基本情報】'!$AH$264","v":0},null,"19","外装仕上げ材等について","-","防火設備の検査","-","理由：",null,null,null,null,null,null,"19外装仕上げ材等について-防火設備の検査-理由："]
[null,null,null,{"$f":"'1_入力シート【基本情報】'!$AB$270","v":0},{"$f":"'1_入力シート【基本情報】'!$AB$270","v":0},null,"20","設備（法第12条第三項関係など）","-","建築設備","-","有無","-","機械換気設備",null,null,null,null,"20設備（法第12条第三項関係など）-建築設備-有無-機械換気設備"]
[null,null,null,{"$f":"'1_入力シート【基本情報】'!$AB$271","v":0},{"$f":"'1_入力シート【基本情報】'!$AB$271","v":0},null,"20","設備（法第12条第三項関係など）","-","建築設備","-","有無","-","機械排煙設備",null,null,null,null,"20設備（法第12条第三項関係など）-建築設備-有無-機械排煙設備"]
[null,null,null,{"$f":"'1_入力シート【基本情報】'!$AB$272","v":0},{"$f":"'1_入力シート【基本情報】'!$AB$272","v":0},null,"20","設備（法第12条第三項関係など）","-","建築設備","-","有無","-","非常用の照明装置",null,null,null,null,"20設備（法第12条第三項関係など）-建築設備-有無-非常用の照明装置"]
[null,null,null,{"$f":"'1_入力シート【基本情報】'!$AB$273","v":0},{"$f":"'1_入力シート【基本情報】'!$AB$273","v":0},null,"20","設備（法第12条第三項関係など）","-","建築設備","-","有無","-","給水設備及び排水設備",null,null,null,null,"20設備（法第12条第三項関係など）-建築設備-有無-給水設備及び排水設備"]
[null,null,null,{"$f":"'1_入力シート【基本情報】'!$AB$274","v":0},{"$f":"'1_入力シート【基本情報】'!$AB$274","v":0},null,"20","設備（法第12条第三項関係など）","-","建築設備","-","定期報告対象",null,null,null,null,null,null,"20設備（法第12条第三項関係など）-建築設備-定期報告対象"]
[null,null,null,{"$f":"'1_入力シート【基本情報】'!$AB$275","v":0},{"$f":"'1_入力シート【基本情報】'!$AB$275","v":0},null,"20","設備（法第12条第三項関係など）","-","防火設備","-","有無",null,null,null,null,null,null,"20設備（法第12条第三項関係など）-防火設備-有無"]
[null,null,null,{"$f":"'1_入力シート【基本情報】'!$AB$276","v":0},{"$f":"'1_入力シート【基本情報】'!$AB$276","v":0},null,"20","設備（法第12条第三項関係など）","-","防火設備","-","設置されている階","-","階",null,null,null,null,"20設備（法第12条第三項関係など）-防火設備-設置されている階-階"]
[null,null,null,{"$f":"'1_入力シート【基本情報】'!$AB$277","v":0},{"$f":"'1_入力シート【基本情報】'!$AB$277","v":0},null,"20","設備（法第12条第三項関係など）","-","防火設備","-","定期報告対象",null,null,null,null,null,null,"20設備（法第12条第三項関係など）-防火設備-定期報告対象"]
[null,null,null,{"$f":"'1_入力シート【基本情報】'!$AB$278","v":0},{"$f":"'1_入力シート【基本情報】'!$AB$278","v":0},null,"20","設備（法第12条第三項関係など）","-","小荷物専用昇降機の有無","-","有無",null,null,null,null,null,null,"20設備（法第12条第三項関係など）-小荷物専用昇降機の有無-有無"]
[null,null,null,{"$f":"'1_入力シート【基本情報】'!$AB$279","v":0},{"$f":"'1_入力シート【基本情報】'!$AB$279","v":0},null,"20","設備（法第12条第三項関係など）","-","小荷物専用昇降機の有無","-","定期報告対象",null,null,null,null,null,null,"20設備（法第12条第三項関係など）-小荷物専用昇降機の有無-定期報告対象"]
[null,null,null,{"$f":"'1_入力シート【基本情報】'!$AB$280","v":0},{"$f":"'1_入力シート【基本情報】'!$AB$280","v":0},null,"20","設備（法第12条第三項関係など）","-","自動消火設備","-","有無","-","自動消火設備",null,null,null,null,"20設備（法第12条第三項関係など）-自動消火設備-有無-自動消火設備"]
[null,null,null,{"$f":"'1_入力シート【基本情報】'!$AB$281","v":0},{"$f":"'1_入力シート【基本情報】'!$AB$281","v":0},null,"20","設備（法第12条第三項関係など）","-","自動消火設備","-","設置されている階","-","階",null,null,null,null,"20設備（法第12条第三項関係など）-自動消火設備-設置されている階-階"]
[null,null,null,{"$f":"'1_入力シート【基本情報】'!$AB$287","v":0},{"$f":"'1_入力シート【基本情報】'!$AB$287","v":0},null,"21","自由記入欄","-","自由記入欄",null,null,null,null,null,null,null,null,"21自由記入欄-自由記入欄"]
[null,null,null,{"$f":"'1_入力シート【基本情報】'!AB290","v":0},{"$f":"'1_入力シート【基本情報】'!$AB$290","v":0},null,"21","自由記入欄","-","その他特記事項",null,null,null,null,null,null,null,null,"21自由記入欄-その他特記事項"]
[null,{"$f":"'1_入力シート【基本情報】'!$U$301","v":0},{"$f":"MID(B289,2,14)","v":""},{"$f":"'1_入力シート【基本情報】'!$U$301","v":0},{"$f":"'1_入力シート【基本情報】'!$U$301","v":0},null,"22","調査結果","-","調査者番号","-",1,null,null,null,null,null,null,"22調査結果-調査者番号-1"]
[null,{"$f":"'1_入力シート【基本情報】'!$AW$301","v":0},{"$f":"MID(B290,2,14)","v":""},{"$f":"'1_入力シート【基本情報】'!$AW$301","v":0},{"$f":"'1_入力シート【基本情報】'!$AW$301","v":0},null,"22","調査結果","-","調査者番号","-",2,null,null,null,null,null,null,"22調査結果-調査者番号-2"]
[null,{"$f":"'1_入力シート【基本情報】'!$BY$301","v":0},"",{"$f":"'1_入力シート【基本情報】'!$BY$301","v":0},{"$f":"'1_入力シート【基本情報】'!$BY$301","v":0},null,"22","調査結果","-","調査者番号","-",3,null,null,null,null,null,null,"22調査結果-調査者番号-3"]
[null,{"$f":"'1_入力シート【基本情報】'!$AF$307","v":0},"",{"$f":"IF(C292=\"\",0,C292)","v":0},{"$f":"D292","v":0},null,"22","調査結果","-","敷地及び地盤","-","1（1）","-","調査結果",null,null,null,null,"22調査結果-敷地及び地盤-1（1）-調査結果"]
[null,{"$f":"'1_入力シート【基本情報】'!$AR$307","v":0},"",{"$f":"'1_入力シート【基本情報】'!$AR$307","v":0},{"$f":"'1_入力シート【基本情報】'!$AR$307","v":0},null,"22","調査結果","-","敷地及び地盤","-","1（1）","-","調査者番号",null,null,null,null,"22調査結果-敷地及び地盤-1（1）-調査者番号"]
[null,{"$f":"'1_入力シート【基本情報】'!$AT$307","v":0},"",{"$f":"'1_入力シート【基本情報】'!$AT$307","v":0},{"$f":"'1_入力シート【基本情報】'!$AT$307","v":0},null,"22","調査結果","-","敷地及び地盤","-","1（1）","-","指摘の具体的内容等",null,null,null,null,"22調査結果-敷地及び地盤-1（1）-指摘の具体的内容等"]
[null,{"$f":"'1_入力シート【基本情報】'!$BD$307","v":0},"",{"$f":"'1_入力シート【基本情報】'!$BD$307","v":0},{"$f":"'1_入力シート【基本情報】'!$BD$307","v":0},null,"22","調査結果","-","敷地及び地盤","-","1（1）","-","改善策の具体的内容等",null,null,null,null,"22調査結果-敷地及び地盤-1（1）-改善策の具体的内容等"]
[null,{"$f":"'1_入力シート【基本情報】'!$BS$307","v":0},{"$f":"ASC($D296)","v":"0"},{"$f":"'1_入力シート【基本情報】'!$BS$307","v":0},"0",null,"22","調査結果","-","敷地及び地盤","-","1（1）","-","改善（予定）年月","-","年（令和）",null,null,"22調査結果-敷地及び地盤-1（1）-改善（予定）年月-年（令和）"]
[null,{"$f":"'1_入力シート【基本情報】'!$BV$307","v":0},"0",{"$f":"'1_入力シート【基本情報】'!$BV$307","v":0},"0",null,"22","調査結果","-","敷地及び地盤","-","1（1）","-","改善（予定）年月","-","月",null,null,"22調査結果-敷地及び地盤-1（1）-改善（予定）年月-月"]
[null,{"$f":"'1_入力シート【基本情報】'!$BY$307","v":0},"",{"$f":"'1_入力シート【基本情報】'!$BY$307","v":0},{"$f":"'1_入力シート【基本情報】'!$BY$307","v":0},null,"22","調査結果","-","敷地及び地盤","-","1（1）","-","改善（予定）年月","-","未定",null,null,"22調査結果-敷地及び地盤-1（1）-改善（予定）年月-未定"]
[null,{"$f":"'1_入力シート【基本情報】'!$AF$308","v":0},"",{"$f":"IF(C299=\"\",0,C299)","v":0},{"$f":"D299","v":0},null,"22","調査結果","-","敷地及び地盤","-","1（2）","-","調査結果",null,null,null,null,"22調査結果-敷地及び地盤-1（2）-調査結果"]
[null,{"$f":"'1_入力シート【基本情報】'!$AR$308","v":0},"",{"$f":"'1_入力シート【基本情報】'!$AR$308","v":0},{"$f":"'1_入力シート【基本情報】'!$AR$308","v":0},null,"22","調査結果","-","敷地及び地盤","-","1（2）","-","調査者番号",null,null,null,null,"22調査結果-敷地及び地盤-1（2）-調査者番号"]
[null,{"$f":"'1_入力シート【基本情報】'!$AT$308","v":0},"",{"$f":"'1_入力シート【基本情報】'!$AT$308","v":0},{"$f":"'1_入力シート【基本情報】'!$AT$308","v":0},null,"22","調査結果","-","敷地及び地盤","-","1（2）","-","指摘の具体的内容等",null,null,null,null,"22調査結果-敷地及び地盤-1（2）-指摘の具体的内容等"]
[null,{"$f":"'1_入力シート【基本情報】'!$BD$308","v":0},"",{"$f":"'1_入力シート【基本情報】'!$BD$308","v":0},{"$f":"'1_入力シート【基本情報】'!$BD$308","v":0},null,"22","調査結果","-","敷地及び地盤","-","1（2）","-","改善策の具体的内容等",null,null,null,null,"22調査結果-敷地及び地盤-1（2）-改善策の具体的内容等"]
[null,{"$f":"'1_入力シート【基本情報】'!$BS$308","v":0},{"$f":"ASC($D303)","v":"0"},{"$f":"'1_入力シート【基本情報】'!$BS$308","v":0},"0",null,"22","調査結果","-","敷地及び地盤","-","1（2）","-","改善（予定）年月","-","年（令和）",null,null,"22調査結果-敷地及び地盤-1（2）-改善（予定）年月-年（令和）"]
[null,{"$f":"'1_入力シート【基本情報】'!$BV$308","v":0},"0",{"$f":"'1_入力シート【基本情報】'!$BV$308","v":0},"0",null,"22","調査結果","-","敷地及び地盤","-","1（2）","-","改善（予定）年月","-","月",null,null,"22調査結果-敷地及び地盤-1（2）-改善（予定）年月-月"]
[null,{"$f":"'1_入力シート【基本情報】'!$BY$308","v":0},"",{"$f":"'1_入力シート【基本情報】'!$BY$308","v":0},{"$f":"'1_入力シート【基本情報】'!$BY$308","v":0},null,"22","調査結果","-","敷地及び地盤","-","1（2）","-","改善（予定）年月","-","未定",null,null,"22調査結果-敷地及び地盤-1（2）-改善（予定）年月-未定"]
[null,{"$f":"'1_入力シート【基本情報】'!$AF$309","v":0},"",{"$f":"IF(C306=\"\",0,C306)","v":0},{"$f":"D306","v":0},null,"22","調査結果","-","敷地及び地盤","-","1（3）","-","調査結果",null,null,null,null,"22調査結果-敷地及び地盤-1（3）-調査結果"]
[null,{"$f":"'1_入力シート【基本情報】'!$AR$309","v":0},"",{"$f":"'1_入力シート【基本情報】'!$AR$309","v":0},{"$f":"'1_入力シート【基本情報】'!$AR$309","v":0},null,"22","調査結果","-","敷地及び地盤","-","1（3）","-","調査者番号",null,null,null,null,"22調査結果-敷地及び地盤-1（3）-調査者番号"]
[null,{"$f":"'1_入力シート【基本情報】'!$AT$309","v":0},"",{"$f":"'1_入力シート【基本情報】'!$AT$309","v":0},{"$f":"'1_入力シート【基本情報】'!$AT$309","v":0},null,"22","調査結果","-","敷地及び地盤","-","1（3）","-","指摘の具体的内容等",null,null,null,null,"22調査結果-敷地及び地盤-1（3）-指摘の具体的内容等"]
[null,{"$f":"'1_入力シート【基本情報】'!$BD$309","v":0},"",{"$f":"'1_入力シート【基本情報】'!$BD$309","v":0},{"$f":"'1_入力シート【基本情報】'!$BD$309","v":0},null,"22","調査結果","-","敷地及び地盤","-","1（3）","-","改善策の具体的内容等",null,null,null,null,"22調査結果-敷地及び地盤-1（3）-改善策の具体的内容等"]
[null,{"$f":"'1_入力シート【基本情報】'!$BS$309","v":0},{"$f":"ASC($D310)","v":"0"},{"$f":"'1_入力シート【基本情報】'!$BS$309","v":0},"0",null,"22","調査結果","-","敷地及び地盤","-","1（3）","-","改善（予定）年月","-","年（令和）",null,null,"22調査結果-敷地及び地盤-1（3）-改善（予定）年月-年（令和）"]
[null,{"$f":"'1_入力シート【基本情報】'!$BV$309","v":0},"0",{"$f":"'1_入力シート【基本情報】'!$BV$309","v":0},"0",null,"22","調査結果","-","敷地及び地盤","-","1（3）","-","改善（予定）年月","-","月",null,null,"22調査結果-敷地及び地盤-1（3）-改善（予定）年月-月"]
[null,{"$f":"'1_入力シート【基本情報】'!$BY$309","v":0},"",{"$f":"'1_入力シート【基本情報】'!$BY$309","v":0},{"$f":"'1_入力シート【基本情報】'!$BY$309","v":0},null,"22","調査結果","-","敷地及び地盤","-","1（3）","-","改善（予定）年月","-","未定",null,null,"22調査結果-敷地及び地盤-1（3）-改善（予定）年月-未定"]
[null,{"$f":"'1_入力シート【基本情報】'!$AF$310","v":0},"",{"$f":"IF(C313=\"\",0,C313)","v":0},{"$f":"D313","v":0},null,"22","調査結果","-","敷地及び地盤","-","1（4）","-","調査結果",null,null,null,null,"22調査結果-敷地及び地盤-1（4）-調査結果"]
[null,{"$f":"'1_入力シート【基本情報】'!$AR$310","v":0},"",{"$f":"'1_入力シート【基本情報】'!$AR$310","v":0},{"$f":"'1_入力シート【基本情報】'!$AR$310","v":0},null,"22","調査結果","-","敷地及び地盤","-","1（4）","-","調査者番号",null,null,null,null,"22調査結果-敷地及び地盤-1（4）-調査者番号"]
[null,{"$f":"'1_入力シート【基本情報】'!$AT$310","v":0},"",{"$f":"'1_入力シート【基本情報】'!$AT$310","v":0},{"$f":"'1_入力シート【基本情報】'!$AT$310","v":0},null,"22","調査結果","-","敷地及び地盤","-","1（4）","-","指摘の具体的内容等",null,null,null,null,"22調査結果-敷地及び地盤-1（4）-指摘の具体的内容等"]
[null,{"$f":"'1_入力シート【基本情報】'!$BD$310","v":0},"",{"$f":"'1_入力シート【基本情報】'!$BD$310","v":0},{"$f":"'1_入力シート【基本情報】'!$BD$310","v":0},null,"22","調査結果","-","敷地及び地盤","-","1（4）","-","改善策の具体的内容等",null,null,null,null,"22調査結果-敷地及び地盤-1（4）-改善策の具体的内容等"]
[null,{"$f":"'1_入力シート【基本情報】'!$BS$310","v":0},{"$f":"ASC($D317)","v":"0"},{"$f":"'1_入力シート【基本情報】'!$BS$310","v":0},"0",null,"22","調査結果","-","敷地及び地盤","-","1（4）","-","改善（予定）年月","-","年（令和）",null,null,"22調査結果-敷地及び地盤-1（4）-改善（予定）年月-年（令和）"]
[null,{"$f":"'1_入力シート【基本情報】'!$BV$310","v":0},"0",{"$f":"'1_入力シート【基本情報】'!$BV$310","v":0},"0",null,"22","調査結果","-","敷地及び地盤","-","1（4）","-","改善（予定）年月","-","月",null,null,"22調査結果-敷地及び地盤-1（4）-改善（予定）年月-月"]
[null,{"$f":"'1_入力シート【基本情報】'!$BY$310","v":0},"",{"$f":"'1_入力シート【基本情報】'!$BY$310","v":0},{"$f":"'1_入力シート【基本情報】'!$BY$310","v":0},null,"22","調査結果","-","敷地及び地盤","-","1（4）","-","改善（予定）年月","-","未定",null,null,"22調査結果-敷地及び地盤-1（4）-改善（予定）年月-未定"]
[null,{"$f":"'1_入力シート【基本情報】'!$AF$311","v":0},"",{"$f":"IF(C320=\"\",0,C320)","v":0},{"$f":"D320","v":0},null,"22","調査結果","-","敷地及び地盤","-","1（5）","-","調査結果",null,null,null,null,"22調査結果-敷地及び地盤-1（5）-調査結果"]
[null,{"$f":"'1_入力シート【基本情報】'!$AR$311","v":0},"",{"$f":"'1_入力シート【基本情報】'!$AR$311","v":0},{"$f":"'1_入力シート【基本情報】'!$AR$311","v":0},null,"22","調査結果","-","敷地及び地盤","-","1（5）","-","調査者番号",null,null,null,null,"22調査結果-敷地及び地盤-1（5）-調査者番号"]
[null,{"$f":"'1_入力シート【基本情報】'!$AT$311","v":"00:00:00"},"",{"$f":"'1_入力シート【基本情報】'!$AT$311","v":0},{"$f":"'1_入力シート【基本情報】'!$AT$311","v":0},null,"22","調査結果","-","敷地及び地盤","-","1（5）","-","指摘の具体的内容等",null,null,null,null,"22調査結果-敷地及び地盤-1（5）-指摘の具体的内容等"]
[null,{"$f":"'1_入力シート【基本情報】'!$BD$311","v":0},"",{"$f":"'1_入力シート【基本情報】'!$BD$311","v":0},{"$f":"'1_入力シート【基本情報】'!$BD$311","v":0},null,"22","調査結果","-","敷地及び地盤","-","1（5）","-","改善策の具体的内容等",null,null,null,null,"22調査結果-敷地及び地盤-1（5）-改善策の具体的内容等"]
[null,{"$f":"'1_入力シート【基本情報】'!$BS$311","v":0},{"$f":"ASC($D324)","v":"0"},{"$f":"'1_入力シート【基本情報】'!$BS$311","v":0},"0",null,"22","調査結果","-","敷地及び地盤","-","1（5）","-","改善（予定）年月","-","年（令和）",null,null,"22調査結果-敷地及び地盤-1（5）-改善（予定）年月-年（令和）"]
[null,{"$f":"'1_入力シート【基本情報】'!$BV$311","v":0},"0",{"$f":"'1_入力シート【基本情報】'!$BV$311","v":0},"0",null,"22","調査結果","-","敷地及び地盤","-","1（5）","-","改善（予定）年月","-","月",null,null,"22調査結果-敷地及び地盤-1（5）-改善（予定）年月-月"]
[null,{"$f":"'1_入力シート【基本情報】'!$BY$311","v":0},null,{"$f":"'1_入力シート【基本情報】'!$BY$311","v":0},{"$f":"'1_入力シート【基本情報】'!$BY$311","v":0},null,"22","調査結果","-","敷地及び地盤","-","1（5）","-","改善（予定）年月","-","未定",null,null,"22調査結果-敷地及び地盤-1（5）-改善（予定）年月-未定"]
[null,{"$f":"'1_入力シート【基本情報】'!$AF$312","v":0},"",{"$f":"IF(C327=\"\",0,C327)","v":0},{"$f":"D327","v":0},null,"22","調査結果","-","敷地及び地盤","-","1（6）","-","調査結果",null,null,null,null,"22調査結果-敷地及び地盤-1（6）-調査結果"]
[null,{"$f":"'1_入力シート【基本情報】'!$AR$312","v":0},"",{"$f":"'1_入力シート【基本情報】'!$AR$312","v":0},{"$f":"'1_入力シート【基本情報】'!$AR$312","v":0},null,"22","調査結果","-","敷地及び地盤","-","1（6）","-","調査者番号",null,null,null,null,"22調査結果-敷地及び地盤-1（6）-調査者番号"]
[null,{"$f":"'1_入力シート【基本情報】'!$AT$312","v":"00:00:00"},"",{"$f":"'1_入力シート【基本情報】'!$AT$312","v":0},{"$f":"'1_入力シート【基本情報】'!$AT$312","v":0},null,"22","調査結果","-","敷地及び地盤","-","1（6）","-","指摘の具体的内容等",null,null,null,null,{"$f":"CONCATENATE(G329,H329,I329,J329,K329,L329,M329,N329,O329,P329)","v":"22調査結果-敷地及び地盤-1（6）-指摘の具体的内容等"}]
[null,{"$f":"'1_入力シート【基本情報】'!$BD$312","v":0},"",{"$f":"'1_入力シート【基本情報】'!$BD$312","v":0},{"$f":"'1_入力シート【基本情報】'!$BD$312","v":0},null,"22","調査結果","-","敷地及び地盤","-","1（6）","-","改善策の具体的内容等",null,null,null,null,"22調査結果-敷地及び地盤-1（6）-改善策の具体的内容等"]
[null,{"$f":"'1_入力シート【基本情報】'!$BS$312","v":0},{"$f":"ASC($D331)","v":"0"},{"$f":"'1_入力シート【基本情報】'!$BS$312","v":0},"0",null,"22","調査結果","-","敷地及び地盤","-","1（6）","-","改善（予定）年月","-","年（令和）",null,null,"22調査結果-敷地及び地盤-1（6）-改善（予定）年月-年（令和）"]
[null,{"$f":"'1_入力シート【基本情報】'!$BV$312","v":0},"0",{"$f":"'1_入力シート【基本情報】'!$BV$312","v":0},"0",null,"22","調査結果","-","敷地及び地盤","-","1（6）","-","改善（予定）年月","-","月",null,null,"22調査結果-敷地及び地盤-1（6）-改善（予定）年月-月"]
[null,{"$f":"'1_入力シート【基本情報】'!$BY$312","v":0},"",{"$f":"'1_入力シート【基本情報】'!$BY$312","v":0},{"$f":"'1_入力シート【基本情報】'!$BY$312","v":0},null,"22","調査結果","-","敷地及び地盤","-","1（6）","-","改善（予定）年月","-","未定",null,null,"22調査結果-敷地及び地盤-1（6）-改善（予定）年月-未定"]
[null,{"$f":"'1_入力シート【基本情報】'!$AF$313","v":0},"",{"$f":"IF(C334=\"\",0,C334)","v":0},{"$f":"D334","v":0},null,"22","調査結果","-","敷地及び地盤","-","1（7）","-","調査結果",null,null,null,null,"22調査結果-敷地及び地盤-1（7）-調査結果"]
[null,{"$f":"'1_入力シート【基本情報】'!$AR$313","v":0},"",{"$f":"'1_入力シート【基本情報】'!$AR$313","v":0},{"$f":"'1_入力シート【基本情報】'!$AR$313","v":0},null,"22","調査結果","-","敷地及び地盤","-","1（7）","-","調査者番号",null,null,null,null,"22調査結果-敷地及び地盤-1（7）-調査者番号"]
[null,{"$f":"'1_入力シート【基本情報】'!$AT$313","v":0},"",{"$f":"'1_入力シート【基本情報】'!$AT$313","v":0},{"$f":"'1_入力シート【基本情報】'!$AT$313","v":0},null,"22","調査結果","-","敷地及び地盤","-","1（7）","-","指摘の具体的内容等",null,null,null,null,"22調査結果-敷地及び地盤-1（7）-指摘の具体的内容等"]
[null,{"$f":"'1_入力シート【基本情報】'!$BD$313","v":0},"",{"$f":"'1_入力シート【基本情報】'!$BD$313","v":0},{"$f":"'1_入力シート【基本情報】'!$BD$313","v":0},null,"22","調査結果","-","敷地及び地盤","-","1（7）","-","改善策の具体的内容等",null,null,null,null,"22調査結果-敷地及び地盤-1（7）-改善策の具体的内容等"]
[null,{"$f":"'1_入力シート【基本情報】'!$BS$313","v":0},{"$f":"ASC($D338)","v":"0"},{"$f":"'1_入力シート【基本情報】'!$BS$313","v":0},"0",null,"22","調査結果","-","敷地及び地盤","-","1（7）","-","改善（予定）年月","-","年（令和）",null,null,"22調査結果-敷地及び地盤-1（7）-改善（予定）年月-年（令和）"]
[null,{"$f":"'1_入力シート【基本情報】'!$BV$313","v":0},"0",{"$f":"'1_入力シート【基本情報】'!$BV$313","v":0},"0",null,"22","調査結果","-","敷地及び地盤","-","1（7）","-","改善（予定）年月","-","月",null,null,"22調査結果-敷地及び地盤-1（7）-改善（予定）年月-月"]
[null,{"$f":"'1_入力シート【基本情報】'!$BY$313","v":0},"",{"$f":"'1_入力シート【基本情報】'!$BY$313","v":0},{"$f":"'1_入力シート【基本情報】'!$BY$313","v":0},null,"22","調査結果","-","敷地及び地盤","-","1（7）","-","改善（予定）年月","-","未定",null,null,"22調査結果-敷地及び地盤-1（7）-改善（予定）年月-未定"]
[null,{"$f":"'1_入力シート【基本情報】'!$AF$314","v":0},"",{"$f":"IF(C341=\"\",0,C341)","v":0},{"$f":"D341","v":0},null,"22","調査結果","-","敷地及び地盤","-","1（8）","-","調査結果",null,null,null,null,"22調査結果-敷地及び地盤-1（8）-調査結果"]
[null,{"$f":"'1_入力シート【基本情報】'!$AR$314","v":0},"",{"$f":"'1_入力シート【基本情報】'!$AR$314","v":0},{"$f":"'1_入力シート【基本情報】'!$AR$314","v":0},null,"22","調査結果","-","敷地及び地盤","-","1（8）","-","調査者番号",null,null,null,null,"22調査結果-敷地及び地盤-1（8）-調査者番号"]
[null,{"$f":"'1_入力シート【基本情報】'!$AT$314","v":0},"",{"$f":"'1_入力シート【基本情報】'!$AT$314","v":0},{"$f":"'1_入力シート【基本情報】'!$AT$314","v":0},null,"22","調査結果","-","敷地及び地盤","-","1（8）","-","指摘の具体的内容等",null,null,null,null,"22調査結果-敷地及び地盤-1（8）-指摘の具体的内容等"]
[null,{"$f":"'1_入力シート【基本情報】'!$BD$314","v":0},"",{"$f":"'1_入力シート【基本情報】'!$BD$314","v":0},{"$f":"'1_入力シート【基本情報】'!$BD$314","v":0},null,"22","調査結果","-","敷地及び地盤","-","1（8）","-","改善策の具体的内容等",null,null,null,null,"22調査結果-敷地及び地盤-1（8）-改善策の具体的内容等"]
[null,{"$f":"'1_入力シート【基本情報】'!$BS$314","v":0},{"$f":"ASC($D345)","v":"0"},{"$f":"'1_入力シート【基本情報】'!$BS$314","v":0},"0",null,"22","調査結果","-","敷地及び地盤","-","1（8）","-","改善（予定）年月","-","年（令和）",null,null,"22調査結果-敷地及び地盤-1（8）-改善（予定）年月-年（令和）"]
[null,{"$f":"'1_入力シート【基本情報】'!$BV$314","v":0},"0",{"$f":"'1_入力シート【基本情報】'!$BV$314","v":0},"0",null,"22","調査結果","-","敷地及び地盤","-","1（8）","-","改善（予定）年月","-","月",null,null,"22調査結果-敷地及び地盤-1（8）-改善（予定）年月-月"]
[null,{"$f":"'1_入力シート【基本情報】'!$BY$314","v":0},"",{"$f":"'1_入力シート【基本情報】'!$BY$314","v":0},{"$f":"'1_入力シート【基本情報】'!$BY$314","v":0},null,"22","調査結果","-","敷地及び地盤","-","1（8）","-","改善（予定）年月","-","未定",null,null,"22調査結果-敷地及び地盤-1（8）-改善（予定）年月-未定"]
[null,{"$f":"'1_入力シート【基本情報】'!$AF$315","v":0},"",{"$f":"IF(C348=\"\",0,C348)","v":0},{"$f":"D348","v":0},null,"22","調査結果","-","敷地及び地盤","-","1（9）","-","調査結果",null,null,null,null,"22調査結果-敷地及び地盤-1（9）-調査結果"]
[null,{"$f":"'1_入力シート【基本情報】'!$AR$315","v":0},"",{"$f":"'1_入力シート【基本情報】'!$AR$315","v":0},{"$f":"'1_入力シート【基本情報】'!$AR$315","v":0},null,"22","調査結果","-","敷地及び地盤","-","1（9）","-","調査者番号",null,null,null,null,"22調査結果-敷地及び地盤-1（9）-調査者番号"]
[null,{"$f":"'1_入力シート【基本情報】'!$AT$315","v":0},"",{"$f":"'1_入力シート【基本情報】'!$AT$315","v":0},{"$f":"'1_入力シート【基本情報】'!$AT$315","v":0},null,"22","調査結果","-","敷地及び地盤","-","1（9）","-","指摘の具体的内容等",null,null,null,null,"22調査結果-敷地及び地盤-1（9）-指摘の具体的内容等"]
[null,{"$f":"'1_入力シート【基本情報】'!$BD$315","v":0},"",{"$f":"'1_入力シート【基本情報】'!$BD$315","v":0},{"$f":"'1_入力シート【基本情報】'!$BD$315","v":0},null,"22","調査結果","-","敷地及び地盤","-","1（9）","-","改善策の具体的内容等",null,null,null,null,"22調査結果-敷地及び地盤-1（9）-改善策の具体的内容等"]
[null,{"$f":"'1_入力シート【基本情報】'!$BS$315","v":0},{"$f":"ASC($D352)","v":"0"},{"$f":"'1_入力シート【基本情報】'!$BS$315","v":0},"0",null,"22","調査結果","-","敷地及び地盤","-","1（9）","-","改善（予定）年月","-","年（令和）",null,null,"22調査結果-敷地及び地盤-1（9）-改善（予定）年月-年（令和）"]
[null,{"$f":"'1_入力シート【基本情報】'!$BV$315","v":0},"0",{"$f":"'1_入力シート【基本情報】'!$BV$315","v":0},"0",null,"22","調査結果","-","敷地及び地盤","-","1（9）","-","改善（予定）年月","-","月",null,null,"22調査結果-敷地及び地盤-1（9）-改善（予定）年月-月"]
[null,{"$f":"'1_入力シート【基本情報】'!$BY$315","v":0},{"$f":"MID(B354,2,14)","v":""},{"$f":"'1_入力シート【基本情報】'!$BY$315","v":0},{"$f":"'1_入力シート【基本情報】'!$BY$315","v":0},null,"22","調査結果","-","敷地及び地盤","-","1（9）","-","改善（予定）年月","-","未定",null,null,"22調査結果-敷地及び地盤-1（9）-改善（予定）年月-未定"]
[null,{"$f":"'1_入力シート【基本情報】'!$AF$325","v":0},"",{"$f":"IF(C355=\"\",0,C355)","v":0},{"$f":"D355","v":0},null,"22","調査結果","-","建築物の外部","-","2（1）","-","調査結果",null,null,null,null,"22調査結果-建築物の外部-2（1）-調査結果"]
[null,{"$f":"'1_入力シート【基本情報】'!$AR$325","v":0},"",{"$f":"'1_入力シート【基本情報】'!$AR$325","v":0},{"$f":"'1_入力シート【基本情報】'!$AR$325","v":0},null,"22","調査結果","-","建築物の外部","-","2（1）","-","調査者番号",null,null,null,null,"22調査結果-建築物の外部-2（1）-調査者番号"]
[null,{"$f":"'1_入力シート【基本情報】'!$AT$325","v":0},"",{"$f":"'1_入力シート【基本情報】'!$AT$325","v":0},{"$f":"'1_入力シート【基本情報】'!$AT$325","v":0},null,"22","調査結果","-","建築物の外部","-","2（1）","-","指摘の具体的内容等",null,null,null,null,"22調査結果-建築物の外部-2（1）-指摘の具体的内容等"]
[null,{"$f":"'1_入力シート【基本情報】'!$BD$325","v":0},"",{"$f":"'1_入力シート【基本情報】'!$BD$325","v":0},{"$f":"'1_入力シート【基本情報】'!$BD$325","v":0},null,"22","調査結果","-","建築物の外部","-","2（1）","-","改善策の具体的内容等",null,null,null,null,"22調査結果-建築物の外部-2（1）-改善策の具体的内容等"]
[null,{"$f":"'1_入力シート【基本情報】'!$BS$325","v":0},{"$f":"ASC($D359)","v":"0"},{"$f":"'1_入力シート【基本情報】'!$BS$325","v":0},"0",null,"22","調査結果","-","建築物の外部","-","2（1）","-","改善（予定）年月","-","年（令和）",null,null,"22調査結果-建築物の外部-2（1）-改善（予定）年月-年（令和）"]
[null,{"$f":"'1_入力シート【基本情報】'!$BV$325","v":0},"0",{"$f":"'1_入力シート【基本情報】'!$BV$325","v":0},"0",null,"22","調査結果","-","建築物の外部","-","2（1）","-","改善（予定）年月","-","月",null,null,"22調査結果-建築物の外部-2（1）-改善（予定）年月-月"]
[null,{"$f":"'1_入力シート【基本情報】'!$BY$325","v":0},"",{"$f":"'1_入力シート【基本情報】'!$BY$325","v":0},{"$f":"'1_入力シート【基本情報】'!$BY$325","v":0},null,"22","調査結果","-","建築物の外部","-","2（1）","-","改善（予定）年月","-","未定",null,null,"22調査結果-建築物の外部-2（1）-改善（予定）年月-未定"]
[null,{"$f":"'1_入力シート【基本情報】'!$AF$326","v":0},"",{"$f":"IF(C362=\"\",0,C362)","v":0},{"$f":"D362","v":0},null,"22","調査結果","-","建築物の外部","-","2（2）","-","調査結果",null,null,null,null,"22調査結果-建築物の外部-2（2）-調査結果"]
[null,{"$f":"'1_入力シート【基本情報】'!$AR$326","v":0},"",{"$f":"'1_入力シート【基本情報】'!$AR$326","v":0},{"$f":"'1_入力シート【基本情報】'!$AR$326","v":0},null,"22","調査結果","-","建築物の外部","-","2（2）","-","調査者番号",null,null,null,null,"22調査結果-建築物の外部-2（2）-調査者番号"]
[null,{"$f":"'1_入力シート【基本情報】'!$AT$326","v":0},"",{"$f":"'1_入力シート【基本情報】'!$AT$326","v":0},{"$f":"'1_入力シート【基本情報】'!$AT$326","v":0},null,"22","調査結果","-","建築物の外部","-","2（2）","-","指摘の具体的内容等",null,null,null,null,"22調査結果-建築物の外部-2（2）-指摘の具体的内容等"]
[null,{"$f":"'1_入力シート【基本情報】'!$BD$326","v":0},"",{"$f":"'1_入力シート【基本情報】'!$BD$326","v":0},{"$f":"'1_入力シート【基本情報】'!$BD$326","v":0},null,"22","調査結果","-","建築物の外部","-","2（2）","-","改善策の具体的内容等",null,null,null,null,"22調査結果-建築物の外部-2（2）-改善策の具体的内容等"]
[null,{"$f":"'1_入力シート【基本情報】'!$BS$326","v":0},{"$f":"ASC($D366)","v":"0"},{"$f":"'1_入力シート【基本情報】'!$BS$326","v":0},"0",null,"22","調査結果","-","建築物の外部","-","2（2）","-","改善（予定）年月","-","年（令和）",null,null,"22調査結果-建築物の外部-2（2）-改善（予定）年月-年（令和）"]
[null,{"$f":"'1_入力シート【基本情報】'!$BV$326","v":0},"0",{"$f":"'1_入力シート【基本情報】'!$BV$326","v":0},"0",null,"22","調査結果","-","建築物の外部","-","2（2）","-","改善（予定）年月","-","月",null,null,"22調査結果-建築物の外部-2（2）-改善（予定）年月-月"]
[null,{"$f":"'1_入力シート【基本情報】'!$BY$326","v":0},"",{"$f":"'1_入力シート【基本情報】'!$BY$326","v":0},{"$f":"'1_入力シート【基本情報】'!$BY$326","v":0},null,"22","調査結果","-","建築物の外部","-","2（2）","-","改善（予定）年月","-","未定",null,null,"22調査結果-建築物の外部-2（2）-改善（予定）年月-未定"]
[null,{"$f":"'1_入力シート【基本情報】'!$AF$327","v":0},"",{"$f":"IF(C369=\"\",0,C369)","v":0},{"$f":"D369","v":0},null,"22","調査結果","-","建築物の外部","-","2（3）","-","調査結果",null,null,null,null,"22調査結果-建築物の外部-2（3）-調査結果"]
[null,{"$f":"'1_入力シート【基本情報】'!$AR$327","v":0},"",{"$f":"'1_入力シート【基本情報】'!$AR$327","v":0},{"$f":"'1_入力シート【基本情報】'!$AR$327","v":0},null,"22","調査結果","-","建築物の外部","-","2（3）","-","調査者番号",null,null,null,null,"22調査結果-建築物の外部-2（3）-調査者番号"]
[null,{"$f":"'1_入力シート【基本情報】'!$AT$327","v":0},"",{"$f":"'1_入力シート【基本情報】'!$AT$327","v":0},{"$f":"'1_入力シート【基本情報】'!$AT$327","v":0},null,"22","調査結果","-","建築物の外部","-","2（3）","-","指摘の具体的内容等",null,null,null,null,"22調査結果-建築物の外部-2（3）-指摘の具体的内容等"]
[null,{"$f":"'1_入力シート【基本情報】'!$BD$327","v":0},"",{"$f":"'1_入力シート【基本情報】'!$BD$327","v":0},{"$f":"'1_入力シート【基本情報】'!$BD$327","v":0},null,"22","調査結果","-","建築物の外部","-","2（3）","-","改善策の具体的内容等",null,null,null,null,"22調査結果-建築物の外部-2（3）-改善策の具体的内容等"]
[null,{"$f":"'1_入力シート【基本情報】'!$BS$327","v":0},{"$f":"ASC($D373)","v":"0"},{"$f":"'1_入力シート【基本情報】'!$BS$327","v":0},"0",null,"22","調査結果","-","建築物の外部","-","2（3）","-","改善（予定）年月","-","年（令和）",null,null,"22調査結果-建築物の外部-2（3）-改善（予定）年月-年（令和）"]
[null,{"$f":"'1_入力シート【基本情報】'!$BV$327","v":0},"0",{"$f":"'1_入力シート【基本情報】'!$BV$327","v":0},"0",null,"22","調査結果","-","建築物の外部","-","2（3）","-","改善（予定）年月","-","月",null,null,"22調査結果-建築物の外部-2（3）-改善（予定）年月-月"]
[null,{"$f":"'1_入力シート【基本情報】'!$BY$327","v":0},"",{"$f":"'1_入力シート【基本情報】'!$BY$327","v":0},{"$f":"'1_入力シート【基本情報】'!$BY$327","v":0},null,"22","調査結果","-","建築物の外部","-","2（3）","-","改善（予定）年月","-","未定",null,null,"22調査結果-建築物の外部-2（3）-改善（予定）年月-未定"]
[null,{"$f":"'1_入力シート【基本情報】'!$AF$328","v":0},"",{"$f":"IF(C376=\"\",0,C376)","v":0},{"$f":"D376","v":0},null,"22","調査結果","-","建築物の外部","-","2（4）","-","調査結果",null,null,null,null,"22調査結果-建築物の外部-2（4）-調査結果"]
[null,{"$f":"'1_入力シート【基本情報】'!$AR$328","v":0},"",{"$f":"'1_入力シート【基本情報】'!$AR$328","v":0},{"$f":"'1_入力シート【基本情報】'!$AR$328","v":0},null,"22","調査結果","-","建築物の外部","-","2（4）","-","調査者番号",null,null,null,null,"22調査結果-建築物の外部-2（4）-調査者番号"]
[null,{"$f":"'1_入力シート【基本情報】'!$AT$328","v":0},"",{"$f":"'1_入力シート【基本情報】'!$AT$328","v":0},{"$f":"'1_入力シート【基本情報】'!$AT$328","v":0},null,"22","調査結果","-","建築物の外部","-","2（4）","-","指摘の具体的内容等",null,null,null,null,"22調査結果-建築物の外部-2（4）-指摘の具体的内容等"]
[null,{"$f":"'1_入力シート【基本情報】'!$BD$328","v":0},"",{"$f":"'1_入力シート【基本情報】'!$BD$328","v":0},{"$f":"'1_入力シート【基本情報】'!$BD$328","v":0},null,"22","調査結果","-","建築物の外部","-","2（4）","-","改善策の具体的内容等",null,null,null,null,"22調査結果-建築物の外部-2（4）-改善策の具体的内容等"]
[null,{"$f":"'1_入力シート【基本情報】'!$BS$328","v":0},{"$f":"ASC($D380)","v":"0"},{"$f":"'1_入力シート【基本情報】'!$BS$328","v":0},"0",null,"22","調査結果","-","建築物の外部","-","2（4）","-","改善（予定）年月","-","年（令和）",null,null,"22調査結果-建築物の外部-2（4）-改善（予定）年月-年（令和）"]
[null,{"$f":"'1_入力シート【基本情報】'!$BV$328","v":0},"0",{"$f":"'1_入力シート【基本情報】'!$BV$328","v":0},"0",null,"22","調査結果","-","建築物の外部","-","2（4）","-","改善（予定）年月","-","月",null,null,"22調査結果-建築物の外部-2（4）-改善（予定）年月-月"]
[null,{"$f":"'1_入力シート【基本情報】'!$BY$328","v":0},"",{"$f":"'1_入力シート【基本情報】'!$BY$328","v":0},{"$f":"'1_入力シート【基本情報】'!$BY$328","v":0},null,"22","調査結果","-","建築物の外部","-","2（4）","-","改善（予定）年月","-","未定",null,null,"22調査結果-建築物の外部-2（4）-改善（予定）年月-未定"]
[null,{"$f":"'1_入力シート【基本情報】'!$AF$329","v":0},"",{"$f":"IF(C383=\"\",0,C383)","v":0},{"$f":"D383","v":0},null,"22","調査結果","-","建築物の外部","-","2（5）","-","調査結果",null,null,null,null,"22調査結果-建築物の外部-2（5）-調査結果"]
[null,{"$f":"'1_入力シート【基本情報】'!$AR$329","v":0},"",{"$f":"'1_入力シート【基本情報】'!$AR$329","v":0},{"$f":"'1_入力シート【基本情報】'!$AR$329","v":0},null,"22","調査結果","-","建築物の外部","-","2（5）","-","調査者番号",null,null,null,null,"22調査結果-建築物の外部-2（5）-調査者番号"]
[null,{"$f":"'1_入力シート【基本情報】'!$AT$329","v":0},"",{"$f":"'1_入力シート【基本情報】'!$AT$329","v":0},{"$f":"'1_入力シート【基本情報】'!$AT$329","v":0},null,"22","調査結果","-","建築物の外部","-","2（5）","-","指摘の具体的内容等",null,null,null,null,"22調査結果-建築物の外部-2（5）-指摘の具体的内容等"]
[null,{"$f":"'1_入力シート【基本情報】'!$BD$329","v":0},"",{"$f":"'1_入力シート【基本情報】'!$BD$329","v":0},{"$f":"'1_入力シート【基本情報】'!$BD$329","v":0},null,"22","調査結果","-","建築物の外部","-","2（5）","-","改善策の具体的内容等",null,null,null,null,"22調査結果-建築物の外部-2（5）-改善策の具体的内容等"]
[null,{"$f":"'1_入力シート【基本情報】'!$BS$329","v":0},{"$f":"ASC($D387)","v":"0"},{"$f":"'1_入力シート【基本情報】'!$BS$329","v":0},"0",null,"22","調査結果","-","建築物の外部","-","2（5）","-","改善（予定）年月","-","年（令和）",null,null,"22調査結果-建築物の外部-2（5）-改善（予定）年月-年（令和）"]
[null,{"$f":"'1_入力シート【基本情報】'!$BV$329","v":0},"0",{"$f":"'1_入力シート【基本情報】'!$BV$329","v":0},"0",null,"22","調査結果","-","建築物の外部","-","2（5）","-","改善（予定）年月","-","月",null,null,"22調査結果-建築物の外部-2（5）-改善（予定）年月-月"]
[null,{"$f":"'1_入力シート【基本情報】'!$BY$329","v":0},"",{"$f":"'1_入力シート【基本情報】'!$BY$329","v":0},{"$f":"'1_入力シート【基本情報】'!$BY$329","v":0},null,"22","調査結果","-","建築物の外部","-","2（5）","-","改善（予定）年月","-","未定",null,null,"22調査結果-建築物の外部-2（5）-改善（予定）年月-未定"]
[null,{"$f":"'1_入力シート【基本情報】'!$AF$330","v":0},"",{"$f":"IF(C390=\"\",0,C390)","v":0},{"$f":"D390","v":0},null,"22","調査結果","-","建築物の外部","-","2（6）","-","調査結果",null,null,null,null,"22調査結果-建築物の外部-2（6）-調査結果"]
[null,{"$f":"'1_入力シート【基本情報】'!$AR$330","v":0},"",{"$f":"'1_入力シート【基本情報】'!$AR$330","v":0},{"$f":"'1_入力シート【基本情報】'!$AR$330","v":0},null,"22","調査結果","-","建築物の外部","-","2（6）","-","調査者番号",null,null,null,null,"22調査結果-建築物の外部-2（6）-調査者番号"]
[null,{"$f":"'1_入力シート【基本情報】'!$AT$330","v":0},"",{"$f":"'1_入力シート【基本情報】'!$AT$330","v":0},{"$f":"'1_入力シート【基本情報】'!$AT$330","v":0},null,"22","調査結果","-","建築物の外部","-","2（6）","-","指摘の具体的内容等",null,null,null,null,"22調査結果-建築物の外部-2（6）-指摘の具体的内容等"]
[null,{"$f":"'1_入力シート【基本情報】'!$BD$330","v":0},"",{"$f":"'1_入力シート【基本情報】'!$BD$330","v":0},{"$f":"'1_入力シート【基本情報】'!$BD$330","v":0},null,"22","調査結果","-","建築物の外部","-","2（6）","-","改善策の具体的内容等",null,null,null,null,{"$f":"CONCATENATE(G393,H393,I393,J393,K393,L393,M393,N393,O393,P393)","v":"22調査結果-建築物の外部-2（6）-改善策の具体的内容等"}]
[null,{"$f":"'1_入力シート【基本情報】'!$BS$330","v":0},{"$f":"ASC($D394)","v":"0"},{"$f":"'1_入力シート【基本情報】'!$BS$330","v":0},"0",null,"22","調査結果","-","建築物の外部","-","2（6）","-","改善（予定）年月","-","年（令和）",null,null,"22調査結果-建築物の外部-2（6）-改善（予定）年月-年（令和）"]
[null,{"$f":"'1_入力シート【基本情報】'!$BV$330","v":0},"0",{"$f":"'1_入力シート【基本情報】'!$BV$330","v":0},"0",null,"22","調査結果","-","建築物の外部","-","2（6）","-","改善（予定）年月","-","月",null,null,"22調査結果-建築物の外部-2（6）-改善（予定）年月-月"]
[null,{"$f":"'1_入力シート【基本情報】'!$BY$330","v":0},"",{"$f":"'1_入力シート【基本情報】'!$BY$330","v":0},{"$f":"'1_入力シート【基本情報】'!$BY$330","v":0},null,"22","調査結果","-","建築物の外部","-","2（6）","-","改善（予定）年月","-","未定",null,null,"22調査結果-建築物の外部-2（6）-改善（予定）年月-未定"]
[null,{"$f":"'1_入力シート【基本情報】'!$AF$331","v":0},"",{"$f":"IF(C397=\"\",0,C397)","v":0},{"$f":"D397","v":0},null,"22","調査結果","-","建築物の外部","-","2（7）","-","調査結果",null,null,null,null,"22調査結果-建築物の外部-2（7）-調査結果"]
[null,{"$f":"'1_入力シート【基本情報】'!$AR$331","v":0},"",{"$f":"'1_入力シート【基本情報】'!$AR$331","v":0},{"$f":"'1_入力シート【基本情報】'!$AR$331","v":0},null,"22","調査結果","-","建築物の外部","-","2（7）","-","調査者番号",null,null,null,null,"22調査結果-建築物の外部-2（7）-調査者番号"]
[null,{"$f":"'1_入力シート【基本情報】'!$AT$331","v":0},"",{"$f":"'1_入力シート【基本情報】'!$AT$331","v":0},{"$f":"'1_入力シート【基本情報】'!$AT$331","v":0},null,"22","調査結果","-","建築物の外部","-","2（7）","-","指摘の具体的内容等",null,null,null,null,"22調査結果-建築物の外部-2（7）-指摘の具体的内容等"]
[null,{"$f":"'1_入力シート【基本情報】'!$BD$331","v":0},"",{"$f":"'1_入力シート【基本情報】'!$BD$331","v":0},{"$f":"'1_入力シート【基本情報】'!$BD$331","v":0},null,"22","調査結果","-","建築物の外部","-","2（7）","-","改善策の具体的内容等",null,null,null,null,"22調査結果-建築物の外部-2（7）-改善策の具体的内容等"]
[null,{"$f":"'1_入力シート【基本情報】'!$BS$331","v":0},{"$f":"ASC($D401)","v":"0"},{"$f":"'1_入力シート【基本情報】'!$BS$331","v":0},"0",null,"22","調査結果","-","建築物の外部","-","2（7）","-","改善（予定）年月","-","年（令和）",null,null,"22調査結果-建築物の外部-2（7）-改善（予定）年月-年（令和）"]
[null,{"$f":"'1_入力シート【基本情報】'!$BV$331","v":0},"0",{"$f":"'1_入力シート【基本情報】'!$BV$331","v":0},"0",null,"22","調査結果","-","建築物の外部","-","2（7）","-","改善（予定）年月","-","月",null,null,"22調査結果-建築物の外部-2（7）-改善（予定）年月-月"]
[null,{"$f":"'1_入力シート【基本情報】'!$BY$331","v":0},"",{"$f":"'1_入力シート【基本情報】'!$BY$331","v":0},{"$f":"'1_入力シート【基本情報】'!$BY$331","v":0},null,"22","調査結果","-","建築物の外部","-","2（7）","-","改善（予定）年月","-","未定",null,null,"22調査結果-建築物の外部-2（7）-改善（予定）年月-未定"]
[null,{"$f":"'1_入力シート【基本情報】'!$AF$332","v":0},"",{"$f":"IF(C404=\"\",0,C404)","v":0},{"$f":"D404","v":0},null,"22","調査結果","-","建築物の外部","-","2（8）","-","調査結果",null,null,null,null,"22調査結果-建築物の外部-2（8）-調査結果"]
[null,{"$f":"'1_入力シート【基本情報】'!$AR$332","v":0},"",{"$f":"'1_入力シート【基本情報】'!$AR$332","v":0},{"$f":"'1_入力シート【基本情報】'!$AR$332","v":0},null,"22","調査結果","-","建築物の外部","-","2（8）","-","調査者番号",null,null,null,null,"22調査結果-建築物の外部-2（8）-調査者番号"]
[null,{"$f":"'1_入力シート【基本情報】'!$AT$332","v":0},"",{"$f":"'1_入力シート【基本情報】'!$AT$332","v":0},{"$f":"'1_入力シート【基本情報】'!$AT$332","v":0},null,"22","調査結果","-","建築物の外部","-","2（8）","-","指摘の具体的内容等",null,null,null,null,"22調査結果-建築物の外部-2（8）-指摘の具体的内容等"]
[null,{"$f":"'1_入力シート【基本情報】'!$BD$332","v":0},"",{"$f":"'1_入力シート【基本情報】'!$BD$332","v":0},{"$f":"'1_入力シート【基本情報】'!$BD$332","v":0},null,"22","調査結果","-","建築物の外部","-","2（8）","-","改善策の具体的内容等",null,null,null,null,"22調査結果-建築物の外部-2（8）-改善策の具体的内容等"]
[null,{"$f":"'1_入力シート【基本情報】'!$BS$332","v":0},{"$f":"ASC($D408)","v":"0"},{"$f":"'1_入力シート【基本情報】'!$BS$332","v":0},"0",null,"22","調査結果","-","建築物の外部","-","2（8）","-","改善（予定）年月","-","年（令和）",null,null,"22調査結果-建築物の外部-2（8）-改善（予定）年月-年（令和）"]
[null,{"$f":"'1_入力シート【基本情報】'!$BV$332","v":0},"0",{"$f":"'1_入力シート【基本情報】'!$BV$332","v":0},"0",null,"22","調査結果","-","建築物の外部","-","2（8）","-","改善（予定）年月","-","月",null,null,"22調査結果-建築物の外部-2（8）-改善（予定）年月-月"]
[null,{"$f":"'1_入力シート【基本情報】'!$BY$332","v":0},"",{"$f":"'1_入力シート【基本情報】'!$BY$332","v":0},{"$f":"'1_入力シート【基本情報】'!$BY$332","v":0},null,"22","調査結果","-","建築物の外部","-","2（8）","-","改善（予定）年月","-","未定",null,null,"22調査結果-建築物の外部-2（8）-改善（予定）年月-未定"]
[null,{"$f":"'1_入力シート【基本情報】'!$AF$333","v":0},"",{"$f":"IF(C411=\"\",0,C411)","v":0},{"$f":"D411","v":0},null,"22","調査結果","-","建築物の外部","-","2（9）","-","調査結果",null,null,null,null,"22調査結果-建築物の外部-2（9）-調査結果"]
[null,{"$f":"'1_入力シート【基本情報】'!$AR$333","v":0},"",{"$f":"'1_入力シート【基本情報】'!$AR$333","v":0},{"$f":"'1_入力シート【基本情報】'!$AR$333","v":0},null,"22","調査結果","-","建築物の外部","-","2（9）","-","調査者番号",null,null,null,null,"22調査結果-建築物の外部-2（9）-調査者番号"]
[null,{"$f":"'1_入力シート【基本情報】'!$AT$333","v":0},"",{"$f":"'1_入力シート【基本情報】'!$AT$333","v":0},{"$f":"'1_入力シート【基本情報】'!$AT$333","v":0},null,"22","調査結果","-","建築物の外部","-","2（9）","-","指摘の具体的内容等",null,null,null,null,"22調査結果-建築物の外部-2（9）-指摘の具体的内容等"]
[null,{"$f":"'1_入力シート【基本情報】'!$BD$333","v":0},"",{"$f":"'1_入力シート【基本情報】'!$BD$333","v":0},{"$f":"'1_入力シート【基本情報】'!$BD$333","v":0},null,"22","調査結果","-","建築物の外部","-","2（9）","-","改善策の具体的内容等",null,null,null,null,"22調査結果-建築物の外部-2（9）-改善策の具体的内容等"]
[null,{"$f":"'1_入力シート【基本情報】'!$BS$333","v":0},{"$f":"ASC($D415)","v":"0"},{"$f":"'1_入力シート【基本情報】'!$BS$333","v":0},"0",null,"22","調査結果","-","建築物の外部","-","2（9）","-","改善（予定）年月","-","年（令和）",null,null,"22調査結果-建築物の外部-2（9）-改善（予定）年月-年（令和）"]
[null,{"$f":"'1_入力シート【基本情報】'!$BV$333","v":0},"0",{"$f":"'1_入力シート【基本情報】'!$BV$333","v":0},"0",null,"22","調査結果","-","建築物の外部","-","2（9）","-","改善（予定）年月","-","月",null,null,"22調査結果-建築物の外部-2（9）-改善（予定）年月-月"]
[null,{"$f":"'1_入力シート【基本情報】'!$BY$333","v":0},"",{"$f":"'1_入力シート【基本情報】'!$BY$333","v":0},{"$f":"'1_入力シート【基本情報】'!$BY$333","v":0},null,"22","調査結果","-","建築物の外部","-","2（9）","-","改善（予定）年月","-","未定",null,null,"22調査結果-建築物の外部-2（9）-改善（予定）年月-未定"]
[null,{"$f":"'1_入力シート【基本情報】'!$AF$334","v":0},{"$f":"MID(B418,2,14)","v":""},{"$f":"IF(C418=\"\",0,C418)","v":0},{"$f":"D418","v":0},null,"22","調査結果","-","建築物の外部","-","2（10）","-","調査結果",null,null,null,null,"22調査結果-建築物の外部-2（10）-調査結果"]
[null,{"$f":"'1_入力シート【基本情報】'!$AR$334","v":0},"",{"$f":"'1_入力シート【基本情報】'!$AR$334","v":0},{"$f":"'1_入力シート【基本情報】'!$AR$334","v":0},null,"22","調査結果","-","建築物の外部","-","2（10）","-","調査者番号",null,null,null,null,"22調査結果-建築物の外部-2（10）-調査者番号"]
[null,{"$f":"'1_入力シート【基本情報】'!$AT$334","v":0},"",{"$f":"'1_入力シート【基本情報】'!$AT$334","v":0},{"$f":"'1_入力シート【基本情報】'!$AT$334","v":0},null,"22","調査結果","-","建築物の外部","-","2（10）","-","指摘の具体的内容等",null,null,null,null,"22調査結果-建築物の外部-2（10）-指摘の具体的内容等"]
[null,{"$f":"'1_入力シート【基本情報】'!$BD$334","v":0},"",{"$f":"'1_入力シート【基本情報】'!$BD$334","v":0},{"$f":"'1_入力シート【基本情報】'!$BD$334","v":0},null,"22","調査結果","-","建築物の外部","-","2（10）","-","改善策の具体的内容等",null,null,null,null,"22調査結果-建築物の外部-2（10）-改善策の具体的内容等"]
[null,{"$f":"'1_入力シート【基本情報】'!$BS$334","v":0},{"$f":"ASC($D422)","v":"0"},{"$f":"'1_入力シート【基本情報】'!$BS$334","v":0},"0",null,"22","調査結果","-","建築物の外部","-","2（10）","-","改善（予定）年月","-","年（令和）",null,null,"22調査結果-建築物の外部-2（10）-改善（予定）年月-年（令和）"]
[null,{"$f":"'1_入力シート【基本情報】'!$BV$334","v":0},"0",{"$f":"'1_入力シート【基本情報】'!$BV$334","v":0},"0",null,"22","調査結果","-","建築物の外部","-","2（10）","-","改善（予定）年月","-","月",null,null,"22調査結果-建築物の外部-2（10）-改善（予定）年月-月"]
[null,{"$f":"'1_入力シート【基本情報】'!$BY$334","v":0},"",{"$f":"'1_入力シート【基本情報】'!$BY$334","v":0},{"$f":"'1_入力シート【基本情報】'!$BY$334","v":0},null,"22","調査結果","-","建築物の外部","-","2（10）","-","改善（予定）年月","-","未定",null,null,"22調査結果-建築物の外部-2（10）-改善（予定）年月-未定"]
[null,{"$f":"'1_入力シート【基本情報】'!$AF$335","v":0},"",{"$f":"IF(C425=\"\",0,C425)","v":0},{"$f":"D425","v":0},null,"22","調査結果","-","建築物の外部","-","2（11）","-","調査結果",null,null,null,null,"22調査結果-建築物の外部-2（11）-調査結果"]
[null,{"$f":"'1_入力シート【基本情報】'!$AR$335","v":0},"",{"$f":"'1_入力シート【基本情報】'!$AR$335","v":0},{"$f":"'1_入力シート【基本情報】'!$AR$335","v":0},null,"22","調査結果","-","建築物の外部","-","2（11）","-","調査者番号",null,null,null,null,"22調査結果-建築物の外部-2（11）-調査者番号"]
[null,{"$f":"'1_入力シート【基本情報】'!$AT$335","v":0},"",{"$f":"'1_入力シート【基本情報】'!$AT$335","v":0},{"$f":"'1_入力シート【基本情報】'!$AT$335","v":0},null,"22","調査結果","-","建築物の外部","-","2（11）","-","指摘の具体的内容等",null,null,null,null,"22調査結果-建築物の外部-2（11）-指摘の具体的内容等"]
[null,{"$f":"'1_入力シート【基本情報】'!$BD$335","v":0},"",{"$f":"'1_入力シート【基本情報】'!$BD$335","v":0},{"$f":"'1_入力シート【基本情報】'!$BD$335","v":0},null,"22","調査結果","-","建築物の外部","-","2（11）","-","改善策の具体的内容等",null,null,null,null,"22調査結果-建築物の外部-2（11）-改善策の具体的内容等"]
[null,{"$f":"'1_入力シート【基本情報】'!$BS$335","v":0},{"$f":"ASC($D429)","v":"0"},{"$f":"'1_入力シート【基本情報】'!$BS$335","v":0},"0",null,"22","調査結果","-","建築物の外部","-","2（11）","-","改善（予定）年月","-","年（令和）",null,null,"22調査結果-建築物の外部-2（11）-改善（予定）年月-年（令和）"]
[null,{"$f":"'1_入力シート【基本情報】'!$BV$335","v":0},"0",{"$f":"'1_入力シート【基本情報】'!$BV$335","v":0},"0",null,"22","調査結果","-","建築物の外部","-","2（11）","-","改善（予定）年月","-","月",null,null,"22調査結果-建築物の外部-2（11）-改善（予定）年月-月"]
[null,{"$f":"'1_入力シート【基本情報】'!$BY$335","v":0},"",{"$f":"'1_入力シート【基本情報】'!$BY$335","v":0},{"$f":"'1_入力シート【基本情報】'!$BY$335","v":0},null,"22","調査結果","-","建築物の外部","-","2（11）","-","改善（予定）年月","-","未定",null,null,"22調査結果-建築物の外部-2（11）-改善（予定）年月-未定"]
[null,{"$f":"'1_入力シート【基本情報】'!$AF$336","v":0},"",{"$f":"IF(C432=\"\",0,C432)","v":0},{"$f":"D432","v":0},null,"22","調査結果","-","建築物の外部","-","2（12）","-","調査結果",null,null,null,null,"22調査結果-建築物の外部-2（12）-調査結果"]
[null,{"$f":"'1_入力シート【基本情報】'!$AR$336","v":0},"",{"$f":"'1_入力シート【基本情報】'!$AR$336","v":0},{"$f":"'1_入力シート【基本情報】'!$AR$336","v":0},null,"22","調査結果","-","建築物の外部","-","2（12）","-","調査者番号",null,null,null,null,"22調査結果-建築物の外部-2（12）-調査者番号"]
[null,{"$f":"'1_入力シート【基本情報】'!$AT$336","v":0},"",{"$f":"'1_入力シート【基本情報】'!$AT$336","v":0},{"$f":"'1_入力シート【基本情報】'!$AT$336","v":0},null,"22","調査結果","-","建築物の外部","-","2（12）","-","指摘の具体的内容等",null,null,null,null,"22調査結果-建築物の外部-2（12）-指摘の具体的内容等"]
[null,{"$f":"'1_入力シート【基本情報】'!$BD$336","v":0},"",{"$f":"'1_入力シート【基本情報】'!$BD$336","v":0},{"$f":"'1_入力シート【基本情報】'!$BD$336","v":0},null,"22","調査結果","-","建築物の外部","-","2（12）","-","改善策の具体的内容等",null,null,null,null,"22調査結果-建築物の外部-2（12）-改善策の具体的内容等"]
[null,{"$f":"'1_入力シート【基本情報】'!$BS$336","v":0},{"$f":"ASC($D436)","v":"0"},{"$f":"'1_入力シート【基本情報】'!$BS$336","v":0},"0",null,"22","調査結果","-","建築物の外部","-","2（12）","-","改善（予定）年月","-","年（令和）",null,null,"22調査結果-建築物の外部-2（12）-改善（予定）年月-年（令和）"]
[null,{"$f":"'1_入力シート【基本情報】'!$BV$336","v":0},"0",{"$f":"'1_入力シート【基本情報】'!$BV$336","v":0},"0",null,"22","調査結果","-","建築物の外部","-","2（12）","-","改善（予定）年月","-","月",null,null,"22調査結果-建築物の外部-2（12）-改善（予定）年月-月"]
[null,{"$f":"'1_入力シート【基本情報】'!$BY$336","v":0},"",{"$f":"'1_入力シート【基本情報】'!$BY$336","v":0},{"$f":"'1_入力シート【基本情報】'!$BY$336","v":0},null,"22","調査結果","-","建築物の外部","-","2（12）","-","改善（予定）年月","-","未定",null,null,"22調査結果-建築物の外部-2（12）-改善（予定）年月-未定"]
[null,{"$f":"'1_入力シート【基本情報】'!$AF$337","v":0},"",{"$f":"IF(C439=\"\",0,C439)","v":0},{"$f":"D439","v":0},null,"22","調査結果","-","建築物の外部","-","2（13）","-","調査結果",null,null,null,null,"22調査結果-建築物の外部-2（13）-調査結果"]
[null,{"$f":"'1_入力シート【基本情報】'!$AR$337","v":0},"",{"$f":"'1_入力シート【基本情報】'!$AR$337","v":0},{"$f":"'1_入力シート【基本情報】'!$AR$337","v":0},null,"22","調査結果","-","建築物の外部","-","2（13）","-","調査者番号",null,null,null,null,"22調査結果-建築物の外部-2（13）-調査者番号"]
[null,{"$f":"'1_入力シート【基本情報】'!$AT$337","v":0},"",{"$f":"'1_入力シート【基本情報】'!$AT$337","v":0},{"$f":"'1_入力シート【基本情報】'!$AT$337","v":0},null,"22","調査結果","-","建築物の外部","-","2（13）","-","指摘の具体的内容等",null,null,null,null,"22調査結果-建築物の外部-2（13）-指摘の具体的内容等"]
[null,{"$f":"'1_入力シート【基本情報】'!$BD$337","v":0},"",{"$f":"'1_入力シート【基本情報】'!$BD$337","v":0},{"$f":"'1_入力シート【基本情報】'!$BD$337","v":0},null,"22","調査結果","-","建築物の外部","-","2（13）","-","改善策の具体的内容等",null,null,null,null,"22調査結果-建築物の外部-2（13）-改善策の具体的内容等"]
[null,{"$f":"'1_入力シート【基本情報】'!$BS$337","v":0},{"$f":"ASC($D443)","v":"0"},{"$f":"'1_入力シート【基本情報】'!$BS$337","v":0},"0",null,"22","調査結果","-","建築物の外部","-","2（13）","-","改善（予定）年月","-","年（令和）",null,null,"22調査結果-建築物の外部-2（13）-改善（予定）年月-年（令和）"]
[null,{"$f":"'1_入力シート【基本情報】'!$BV$337","v":0},"0",{"$f":"'1_入力シート【基本情報】'!$BV$337","v":0},"0",null,"22","調査結果","-","建築物の外部","-","2（13）","-","改善（予定）年月","-","月",null,null,"22調査結果-建築物の外部-2（13）-改善（予定）年月-月"]
[null,{"$f":"'1_入力シート【基本情報】'!$BY$337","v":0},"",{"$f":"'1_入力シート【基本情報】'!$BY$337","v":0},{"$f":"'1_入力シート【基本情報】'!$BY$337","v":0},null,"22","調査結果","-","建築物の外部","-","2（13）","-","改善（予定）年月","-","未定",null,null,"22調査結果-建築物の外部-2（13）-改善（予定）年月-未定"]
[null,{"$f":"'1_入力シート【基本情報】'!$AF$338","v":0},"",{"$f":"IF(C446=\"\",0,C446)","v":0},{"$f":"D446","v":0},null,"22","調査結果","-","建築物の外部","-","2（14）","-","調査結果",null,null,null,null,"22調査結果-建築物の外部-2（14）-調査結果"]
[null,{"$f":"'1_入力シート【基本情報】'!$AR$338","v":0},"",{"$f":"'1_入力シート【基本情報】'!$AR$338","v":0},{"$f":"'1_入力シート【基本情報】'!$AR$338","v":0},null,"22","調査結果","-","建築物の外部","-","2（14）","-","調査者番号",null,null,null,null,"22調査結果-建築物の外部-2（14）-調査者番号"]
[null,{"$f":"'1_入力シート【基本情報】'!$AT$338","v":0},"",{"$f":"'1_入力シート【基本情報】'!$AT$338","v":0},{"$f":"'1_入力シート【基本情報】'!$AT$338","v":0},null,"22","調査結果","-","建築物の外部","-","2（14）","-","指摘の具体的内容等",null,null,null,null,"22調査結果-建築物の外部-2（14）-指摘の具体的内容等"]
[null,{"$f":"'1_入力シート【基本情報】'!$BD$338","v":0},"",{"$f":"'1_入力シート【基本情報】'!$BD$338","v":0},{"$f":"'1_入力シート【基本情報】'!$BD$338","v":0},null,"22","調査結果","-","建築物の外部","-","2（14）","-","改善策の具体的内容等",null,null,null,null,"22調査結果-建築物の外部-2（14）-改善策の具体的内容等"]
[null,{"$f":"'1_入力シート【基本情報】'!$BS$338","v":0},{"$f":"ASC($D450)","v":"0"},{"$f":"'1_入力シート【基本情報】'!$BS$338","v":0},"0",null,"22","調査結果","-","建築物の外部","-","2（14）","-","改善（予定）年月","-","年（令和）",null,null,"22調査結果-建築物の外部-2（14）-改善（予定）年月-年（令和）"]
[null,{"$f":"'1_入力シート【基本情報】'!$BV$338","v":0},"0",{"$f":"'1_入力シート【基本情報】'!$BV$338","v":0},"0",null,"22","調査結果","-","建築物の外部","-","2（14）","-","改善（予定）年月","-","月",null,null,"22調査結果-建築物の外部-2（14）-改善（予定）年月-月"]
[null,{"$f":"'1_入力シート【基本情報】'!$BY$338","v":0},"",{"$f":"'1_入力シート【基本情報】'!$BY$338","v":0},{"$f":"'1_入力シート【基本情報】'!$BY$338","v":0},null,"22","調査結果","-","建築物の外部","-","2（14）","-","改善（予定）年月","-","未定",null,null,"22調査結果-建築物の外部-2（14）-改善（予定）年月-未定"]
[null,{"$f":"'1_入力シート【基本情報】'!$AF$339","v":0},"",{"$f":"IF(C453=\"\",0,C453)","v":0},{"$f":"D453","v":0},null,"22","調査結果","-","建築物の外部","-","2（15）","-","調査結果",null,null,null,null,"22調査結果-建築物の外部-2（15）-調査結果"]
[null,{"$f":"'1_入力シート【基本情報】'!$AR$339","v":0},"",{"$f":"'1_入力シート【基本情報】'!$AR$339","v":0},{"$f":"'1_入力シート【基本情報】'!$AR$339","v":0},null,"22","調査結果","-","建築物の外部","-","2（15）","-","調査者番号",null,null,null,null,"22調査結果-建築物の外部-2（15）-調査者番号"]
[null,{"$f":"'1_入力シート【基本情報】'!$AT$339","v":0},"",{"$f":"'1_入力シート【基本情報】'!$AT$339","v":0},{"$f":"'1_入力シート【基本情報】'!$AT$339","v":0},null,"22","調査結果","-","建築物の外部","-","2（15）","-","指摘の具体的内容等",null,null,null,null,"22調査結果-建築物の外部-2（15）-指摘の具体的内容等"]
[null,{"$f":"'1_入力シート【基本情報】'!$BD$339","v":0},"",{"$f":"'1_入力シート【基本情報】'!$BD$339","v":0},{"$f":"'1_入力シート【基本情報】'!$BD$339","v":0},null,"22","調査結果","-","建築物の外部","-","2（15）","-","改善策の具体的内容等",null,null,null,null,"22調査結果-建築物の外部-2（15）-改善策の具体的内容等"]
[null,{"$f":"'1_入力シート【基本情報】'!$BS$339","v":0},{"$f":"ASC($D457)","v":"0"},{"$f":"'1_入力シート【基本情報】'!$BS$339","v":0},"0",null,"22","調査結果","-","建築物の外部","-","2（15）","-","改善（予定）年月","-","年（令和）",null,null,{"$f":"CONCATENATE(G457,H457,I457,J457,K457,L457,M457,N457,O457,P457)","v":"22調査結果-建築物の外部-2（15）-改善（予定）年月-年（令和）"}]
[null,{"$f":"'1_入力シート【基本情報】'!$BV$339","v":0},"0",{"$f":"'1_入力シート【基本情報】'!$BV$339","v":0},"0",null,"22","調査結果","-","建築物の外部","-","2（15）","-","改善（予定）年月","-","月",null,null,"22調査結果-建築物の外部-2（15）-改善（予定）年月-月"]
[null,{"$f":"'1_入力シート【基本情報】'!$BY$339","v":0},"",{"$f":"'1_入力シート【基本情報】'!$BY$339","v":0},{"$f":"'1_入力シート【基本情報】'!$BY$339","v":0},null,"22","調査結果","-","建築物の外部","-","2（15）","-","改善（予定）年月","-","未定",null,null,"22調査結果-建築物の外部-2（15）-改善（予定）年月-未定"]
[null,{"$f":"'1_入力シート【基本情報】'!$AF$340","v":0},"",{"$f":"IF(C460=\"\",0,C460)","v":0},{"$f":"D460","v":0},null,"22","調査結果","-","建築物の外部","-","2（16）","-","調査結果",null,null,null,null,"22調査結果-建築物の外部-2（16）-調査結果"]
[null,{"$f":"'1_入力シート【基本情報】'!$AR$340","v":0},"",{"$f":"'1_入力シート【基本情報】'!$AR$340","v":0},{"$f":"'1_入力シート【基本情報】'!$AR$340","v":0},null,"22","調査結果","-","建築物の外部","-","2（16）","-","調査者番号",null,null,null,null,"22調査結果-建築物の外部-2（16）-調査者番号"]
[null,{"$f":"'1_入力シート【基本情報】'!$AT$340","v":0},"",{"$f":"'1_入力シート【基本情報】'!$AT$340","v":0},{"$f":"'1_入力シート【基本情報】'!$AT$340","v":0},null,"22","調査結果","-","建築物の外部","-","2（16）","-","指摘の具体的内容等",null,null,null,null,"22調査結果-建築物の外部-2（16）-指摘の具体的内容等"]
[null,{"$f":"'1_入力シート【基本情報】'!$BD$340","v":0},"",{"$f":"'1_入力シート【基本情報】'!$BD$340","v":0},{"$f":"'1_入力シート【基本情報】'!$BD$340","v":0},null,"22","調査結果","-","建築物の外部","-","2（16）","-","改善策の具体的内容等",null,null,null,null,"22調査結果-建築物の外部-2（16）-改善策の具体的内容等"]
[null,{"$f":"'1_入力シート【基本情報】'!$BS$340","v":0},{"$f":"ASC($D464)","v":"0"},{"$f":"'1_入力シート【基本情報】'!$BS$340","v":0},"0",null,"22","調査結果","-","建築物の外部","-","2（16）","-","改善（予定）年月","-","年（令和）",null,null,"22調査結果-建築物の外部-2（16）-改善（予定）年月-年（令和）"]
[null,{"$f":"'1_入力シート【基本情報】'!$BV$340","v":0},"0",{"$f":"'1_入力シート【基本情報】'!$BV$340","v":0},"0",null,"22","調査結果","-","建築物の外部","-","2（16）","-","改善（予定）年月","-","月",null,null,"22調査結果-建築物の外部-2（16）-改善（予定）年月-月"]
[null,{"$f":"'1_入力シート【基本情報】'!$BY$340","v":0},"",{"$f":"'1_入力シート【基本情報】'!$BY$340","v":0},{"$f":"'1_入力シート【基本情報】'!$BY$340","v":0},null,"22","調査結果","-","建築物の外部","-","2（16）","-","改善（予定）年月","-","未定",null,null,"22調査結果-建築物の外部-2（16）-改善（予定）年月-未定"]
[null,{"$f":"'1_入力シート【基本情報】'!$AF$341","v":0},"",{"$f":"IF(C467=\"\",0,C467)","v":0},{"$f":"D467","v":0},null,"22","調査結果","-","建築物の外部","-","2（17）","-","調査結果",null,null,null,null,"22調査結果-建築物の外部-2（17）-調査結果"]
[null,{"$f":"'1_入力シート【基本情報】'!$AR$341","v":0},"",{"$f":"'1_入力シート【基本情報】'!$AR$341","v":0},{"$f":"'1_入力シート【基本情報】'!$AR$341","v":0},null,"22","調査結果","-","建築物の外部","-","2（17）","-","調査者番号",null,null,null,null,"22調査結果-建築物の外部-2（17）-調査者番号"]
[null,{"$f":"'1_入力シート【基本情報】'!$AT$341","v":0},"",{"$f":"'1_入力シート【基本情報】'!$AT$341","v":0},{"$f":"'1_入力シート【基本情報】'!$AT$341","v":0},null,"22","調査結果","-","建築物の外部","-","2（17）","-","指摘の具体的内容等",null,null,null,null,"22調査結果-建築物の外部-2（17）-指摘の具体的内容等"]
[null,{"$f":"'1_入力シート【基本情報】'!$BD$341","v":0},"",{"$f":"'1_入力シート【基本情報】'!$BD$341","v":0},{"$f":"'1_入力シート【基本情報】'!$BD$341","v":0},null,"22","調査結果","-","建築物の外部","-","2（17）","-","改善策の具体的内容等",null,null,null,null,"22調査結果-建築物の外部-2（17）-改善策の具体的内容等"]
[null,{"$f":"'1_入力シート【基本情報】'!$BS$341","v":0},{"$f":"ASC($D471)","v":"0"},{"$f":"'1_入力シート【基本情報】'!$BS$341","v":0},"0",null,"22","調査結果","-","建築物の外部","-","2（17）","-","改善（予定）年月","-","年（令和）",null,null,"22調査結果-建築物の外部-2（17）-改善（予定）年月-年（令和）"]
[null,{"$f":"'1_入力シート【基本情報】'!$BV$341","v":0},"0",{"$f":"'1_入力シート【基本情報】'!$BV$341","v":0},"0",null,"22","調査結果","-","建築物の外部","-","2（17）","-","改善（予定）年月","-","月",null,null,"22調査結果-建築物の外部-2（17）-改善（予定）年月-月"]
[null,{"$f":"'1_入力シート【基本情報】'!$BY$341","v":0},"",{"$f":"'1_入力シート【基本情報】'!$BY$341","v":0},{"$f":"'1_入力シート【基本情報】'!$BY$341","v":0},null,"22","調査結果","-","建築物の外部","-","2（17）","-","改善（予定）年月","-","未定",null,null,"22調査結果-建築物の外部-2（17）-改善（予定）年月-未定"]
[null,{"$f":"'1_入力シート【基本情報】'!$AF$342","v":0},"",{"$f":"IF(C474=\"\",0,C474)","v":0},{"$f":"D474","v":0},null,"22","調査結果","-","建築物の外部","-","2（18）","-","調査結果",null,null,null,null,"22調査結果-建築物の外部-2（18）-調査結果"]
[null,{"$f":"'1_入力シート【基本情報】'!$AR$342","v":0},"",{"$f":"'1_入力シート【基本情報】'!$AR$342","v":0},{"$f":"'1_入力シート【基本情報】'!$AR$342","v":0},null,"22","調査結果","-","建築物の外部","-","2（18）","-","調査者番号",null,null,null,null,"22調査結果-建築物の外部-2（18）-調査者番号"]
[null,{"$f":"'1_入力シート【基本情報】'!$AT$342","v":0},"",{"$f":"'1_入力シート【基本情報】'!$AT$342","v":0},{"$f":"'1_入力シート【基本情報】'!$AT$342","v":0},null,"22","調査結果","-","建築物の外部","-","2（18）","-","指摘の具体的内容等",null,null,null,null,"22調査結果-建築物の外部-2（18）-指摘の具体的内容等"]
[null,{"$f":"'1_入力シート【基本情報】'!$BD$342","v":0},"",{"$f":"'1_入力シート【基本情報】'!$BD$342","v":0},{"$f":"'1_入力シート【基本情報】'!$BD$342","v":0},null,"22","調査結果","-","建築物の外部","-","2（18）","-","改善策の具体的内容等",null,null,null,null,"22調査結果-建築物の外部-2（18）-改善策の具体的内容等"]
[null,{"$f":"'1_入力シート【基本情報】'!$BS$342","v":0},{"$f":"ASC($D478)","v":"0"},{"$f":"'1_入力シート【基本情報】'!$BS$342","v":0},"0",null,"22","調査結果","-","建築物の外部","-","2（18）","-","改善（予定）年月","-","年（令和）",null,null,"22調査結果-建築物の外部-2（18）-改善（予定）年月-年（令和）"]
[null,{"$f":"'1_入力シート【基本情報】'!$BV$342","v":0},"0",{"$f":"'1_入力シート【基本情報】'!$BV$342","v":0},"0",null,"22","調査結果","-","建築物の外部","-","2（18）","-","改善（予定）年月","-","月",null,null,"22調査結果-建築物の外部-2（18）-改善（予定）年月-月"]
[null,{"$f":"'1_入力シート【基本情報】'!$BY$342","v":0},"",{"$f":"'1_入力シート【基本情報】'!$BY$342","v":0},{"$f":"'1_入力シート【基本情報】'!$BY$342","v":0},null,"22","調査結果","-","建築物の外部","-","2（18）","-","改善（予定）年月","-","未定",null,null,"22調査結果-建築物の外部-2（18）-改善（予定）年月-未定"]
[null,{"$f":"'1_入力シート【基本情報】'!$AF$352","v":0},"",{"$f":"IF(C481=\"\",0,C481)","v":0},{"$f":"D481","v":0},null,"22","調査結果","-","屋上及び屋根","-","3（1）","-","調査結果",null,null,null,null,"22調査結果-屋上及び屋根-3（1）-調査結果"]
[null,{"$f":"'1_入力シート【基本情報】'!$AR$352","v":0},{"$f":"MID(B482,2,14)","v":""},{"$f":"'1_入力シート【基本情報】'!$AR$352","v":0},{"$f":"'1_入力シート【基本情報】'!$AR$352","v":0},null,"22","調査結果","-","屋上及び屋根","-","3（1）","-","調査者番号",null,null,null,null,"22調査結果-屋上及び屋根-3（1）-調査者番号"]
[null,{"$f":"'1_入力シート【基本情報】'!$AT$352","v":0},"",{"$f":"'1_入力シート【基本情報】'!$AT$352","v":0},{"$f":"'1_入力シート【基本情報】'!$AT$352","v":0},null,"22","調査結果","-","屋上及び屋根","-","3（1）","-","指摘の具体的内容等",null,null,null,null,"22調査結果-屋上及び屋根-3（1）-指摘の具体的内容等"]
[null,{"$f":"'1_入力シート【基本情報】'!$BD$352","v":0},"",{"$f":"'1_入力シート【基本情報】'!$BD$352","v":0},{"$f":"'1_入力シート【基本情報】'!$BD$352","v":0},null,"22","調査結果","-","屋上及び屋根","-","3（1）","-","改善策の具体的内容等",null,null,null,null,"22調査結果-屋上及び屋根-3（1）-改善策の具体的内容等"]
[null,{"$f":"'1_入力シート【基本情報】'!$BS$352","v":0},{"$f":"ASC($D485)","v":"0"},{"$f":"'1_入力シート【基本情報】'!$BS$352","v":0},"0",null,"22","調査結果","-","屋上及び屋根","-","3（1）","-","改善（予定）年月","-","年（令和）",null,null,"22調査結果-屋上及び屋根-3（1）-改善（予定）年月-年（令和）"]
[null,{"$f":"'1_入力シート【基本情報】'!$BV$352","v":0},"0",{"$f":"'1_入力シート【基本情報】'!$BV$352","v":0},"0",null,"22","調査結果","-","屋上及び屋根","-","3（1）","-","改善（予定）年月","-","月",null,null,"22調査結果-屋上及び屋根-3（1）-改善（予定）年月-月"]
[null,{"$f":"'1_入力シート【基本情報】'!$BY$352","v":0},"",{"$f":"'1_入力シート【基本情報】'!$BY$352","v":0},{"$f":"'1_入力シート【基本情報】'!$BY$352","v":0},null,"22","調査結果","-","屋上及び屋根","-","3（1）","-","改善（予定）年月","-","未定",null,null,"22調査結果-屋上及び屋根-3（1）-改善（予定）年月-未定"]
[null,{"$f":"'1_入力シート【基本情報】'!$AF$353","v":0},"",{"$f":"IF(C488=\"\",0,C488)","v":0},{"$f":"D488","v":0},null,"22","調査結果","-","屋上及び屋根","-","3（2）","-","調査結果",null,null,null,null,"22調査結果-屋上及び屋根-3（2）-調査結果"]
[null,{"$f":"'1_入力シート【基本情報】'!$AR$353","v":0},"",{"$f":"'1_入力シート【基本情報】'!$AR$353","v":0},{"$f":"'1_入力シート【基本情報】'!$AR$353","v":0},null,"22","調査結果","-","屋上及び屋根","-","3（2）","-","調査者番号",null,null,null,null,"22調査結果-屋上及び屋根-3（2）-調査者番号"]
[null,{"$f":"'1_入力シート【基本情報】'!$AT$353","v":0},"",{"$f":"'1_入力シート【基本情報】'!$AT$353","v":0},{"$f":"'1_入力シート【基本情報】'!$AT$353","v":0},null,"22","調査結果","-","屋上及び屋根","-","3（2）","-","指摘の具体的内容等",null,null,null,null,"22調査結果-屋上及び屋根-3（2）-指摘の具体的内容等"]
[null,{"$f":"'1_入力シート【基本情報】'!$BD$353","v":0},"",{"$f":"'1_入力シート【基本情報】'!$BD$353","v":0},{"$f":"'1_入力シート【基本情報】'!$BD$353","v":0},null,"22","調査結果","-","屋上及び屋根","-","3（2）","-","改善策の具体的内容等",null,null,null,null,"22調査結果-屋上及び屋根-3（2）-改善策の具体的内容等"]
[null,{"$f":"'1_入力シート【基本情報】'!$BS$353","v":0},{"$f":"ASC($D492)","v":"0"},{"$f":"'1_入力シート【基本情報】'!$BS$353","v":0},"0",null,"22","調査結果","-","屋上及び屋根","-","3（2）","-","改善（予定）年月","-","年（令和）",null,null,"22調査結果-屋上及び屋根-3（2）-改善（予定）年月-年（令和）"]
[null,{"$f":"'1_入力シート【基本情報】'!$BV$353","v":0},"0",{"$f":"'1_入力シート【基本情報】'!$BV$353","v":0},"0",null,"22","調査結果","-","屋上及び屋根","-","3（2）","-","改善（予定）年月","-","月",null,null,"22調査結果-屋上及び屋根-3（2）-改善（予定）年月-月"]
[null,{"$f":"'1_入力シート【基本情報】'!$BY$353","v":0},"",{"$f":"'1_入力シート【基本情報】'!$BY$353","v":0},{"$f":"'1_入力シート【基本情報】'!$BY$353","v":0},null,"22","調査結果","-","屋上及び屋根","-","3（2）","-","改善（予定）年月","-","未定",null,null,"22調査結果-屋上及び屋根-3（2）-改善（予定）年月-未定"]
[null,{"$f":"'1_入力シート【基本情報】'!$AF$354","v":0},"",{"$f":"IF(C495=\"\",0,C495)","v":0},{"$f":"D495","v":0},null,"22","調査結果","-","屋上及び屋根","-","3（3）","-","調査結果",null,null,null,null,"22調査結果-屋上及び屋根-3（3）-調査結果"]
[null,{"$f":"'1_入力シート【基本情報】'!$AR$354","v":0},"",{"$f":"'1_入力シート【基本情報】'!$AR$354","v":0},{"$f":"'1_入力シート【基本情報】'!$AR$354","v":0},null,"22","調査結果","-","屋上及び屋根","-","3（3）","-","調査者番号",null,null,null,null,"22調査結果-屋上及び屋根-3（3）-調査者番号"]
[null,{"$f":"'1_入力シート【基本情報】'!$AT$354","v":0},"",{"$f":"'1_入力シート【基本情報】'!$AT$354","v":0},{"$f":"'1_入力シート【基本情報】'!$AT$354","v":0},null,"22","調査結果","-","屋上及び屋根","-","3（3）","-","指摘の具体的内容等",null,null,null,null,"22調査結果-屋上及び屋根-3（3）-指摘の具体的内容等"]
[null,{"$f":"'1_入力シート【基本情報】'!$BD$354","v":0},"",{"$f":"'1_入力シート【基本情報】'!$BD$354","v":0},{"$f":"'1_入力シート【基本情報】'!$BD$354","v":0},null,"22","調査結果","-","屋上及び屋根","-","3（3）","-","改善策の具体的内容等",null,null,null,null,"22調査結果-屋上及び屋根-3（3）-改善策の具体的内容等"]
[null,{"$f":"'1_入力シート【基本情報】'!$BS$354","v":0},{"$f":"ASC($D499)","v":"0"},{"$f":"'1_入力シート【基本情報】'!$BS$354","v":0},"0",null,"22","調査結果","-","屋上及び屋根","-","3（3）","-","改善（予定）年月","-","年（令和）",null,null,"22調査結果-屋上及び屋根-3（3）-改善（予定）年月-年（令和）"]
[null,{"$f":"'1_入力シート【基本情報】'!$BV$354","v":0},"0",{"$f":"'1_入力シート【基本情報】'!$BV$354","v":0},"0",null,"22","調査結果","-","屋上及び屋根","-","3（3）","-","改善（予定）年月","-","月",null,null,"22調査結果-屋上及び屋根-3（3）-改善（予定）年月-月"]
[null,{"$f":"'1_入力シート【基本情報】'!$BY$354","v":0},"",{"$f":"'1_入力シート【基本情報】'!$BY$354","v":0},{"$f":"'1_入力シート【基本情報】'!$BY$354","v":0},null,"22","調査結果","-","屋上及び屋根","-","3（3）","-","改善（予定）年月","-","未定",null,null,"22調査結果-屋上及び屋根-3（3）-改善（予定）年月-未定"]
[null,{"$f":"'1_入力シート【基本情報】'!$AF$355","v":0},"",{"$f":"IF(C502=\"\",0,C502)","v":0},{"$f":"D502","v":0},null,"22","調査結果","-","屋上及び屋根","-","3（4）","-","調査結果",null,null,null,null,"22調査結果-屋上及び屋根-3（4）-調査結果"]
[null,{"$f":"'1_入力シート【基本情報】'!$AR$355","v":0},"",{"$f":"'1_入力シート【基本情報】'!$AR$355","v":0},{"$f":"'1_入力シート【基本情報】'!$AR$355","v":0},null,"22","調査結果","-","屋上及び屋根","-","3（4）","-","調査者番号",null,null,null,null,"22調査結果-屋上及び屋根-3（4）-調査者番号"]
[null,{"$f":"'1_入力シート【基本情報】'!$AT$355","v":0},"",{"$f":"'1_入力シート【基本情報】'!$AT$355","v":0},{"$f":"'1_入力シート【基本情報】'!$AT$355","v":0},null,"22","調査結果","-","屋上及び屋根","-","3（4）","-","指摘の具体的内容等",null,null,null,null,"22調査結果-屋上及び屋根-3（4）-指摘の具体的内容等"]
[null,{"$f":"'1_入力シート【基本情報】'!$BD$355","v":0},"",{"$f":"'1_入力シート【基本情報】'!$BD$355","v":0},{"$f":"'1_入力シート【基本情報】'!$BD$355","v":0},null,"22","調査結果","-","屋上及び屋根","-","3（4）","-","改善策の具体的内容等",null,null,null,null,"22調査結果-屋上及び屋根-3（4）-改善策の具体的内容等"]
[null,{"$f":"'1_入力シート【基本情報】'!$BS$355","v":0},{"$f":"ASC($D506)","v":"0"},{"$f":"'1_入力シート【基本情報】'!$BS$355","v":0},"0",null,"22","調査結果","-","屋上及び屋根","-","3（4）","-","改善（予定）年月","-","年（令和）",null,null,"22調査結果-屋上及び屋根-3（4）-改善（予定）年月-年（令和）"]
[null,{"$f":"'1_入力シート【基本情報】'!$BV$355","v":0},"0",{"$f":"'1_入力シート【基本情報】'!$BV$355","v":0},"0",null,"22","調査結果","-","屋上及び屋根","-","3（4）","-","改善（予定）年月","-","月",null,null,"22調査結果-屋上及び屋根-3（4）-改善（予定）年月-月"]
[null,{"$f":"'1_入力シート【基本情報】'!$BY$355","v":0},"",{"$f":"'1_入力シート【基本情報】'!$BY$355","v":0},{"$f":"'1_入力シート【基本情報】'!$BY$355","v":0},null,"22","調査結果","-","屋上及び屋根","-","3（4）","-","改善（予定）年月","-","未定",null,null,"22調査結果-屋上及び屋根-3（4）-改善（予定）年月-未定"]
[null,{"$f":"'1_入力シート【基本情報】'!$AF$356","v":0},"",{"$f":"IF(C509=\"\",0,C509)","v":0},{"$f":"D509","v":0},null,"22","調査結果","-","屋上及び屋根","-","3（5）","-","調査結果",null,null,null,null,"22調査結果-屋上及び屋根-3（5）-調査結果"]
[null,{"$f":"'1_入力シート【基本情報】'!$AR$356","v":0},"",{"$f":"'1_入力シート【基本情報】'!$AR$356","v":0},{"$f":"'1_入力シート【基本情報】'!$AR$356","v":0},null,"22","調査結果","-","屋上及び屋根","-","3（5）","-","調査者番号",null,null,null,null,"22調査結果-屋上及び屋根-3（5）-調査者番号"]
[null,{"$f":"'1_入力シート【基本情報】'!$AT$356","v":0},"",{"$f":"'1_入力シート【基本情報】'!$AT$356","v":0},{"$f":"'1_入力シート【基本情報】'!$AT$356","v":0},null,"22","調査結果","-","屋上及び屋根","-","3（5）","-","指摘の具体的内容等",null,null,null,null,"22調査結果-屋上及び屋根-3（5）-指摘の具体的内容等"]
[null,{"$f":"'1_入力シート【基本情報】'!$BD$356","v":0},"",{"$f":"'1_入力シート【基本情報】'!$BD$356","v":0},{"$f":"'1_入力シート【基本情報】'!$BD$356","v":0},null,"22","調査結果","-","屋上及び屋根","-","3（5）","-","改善策の具体的内容等",null,null,null,null,"22調査結果-屋上及び屋根-3（5）-改善策の具体的内容等"]
[null,{"$f":"'1_入力シート【基本情報】'!$BS$356","v":0},{"$f":"ASC($D513)","v":"0"},{"$f":"'1_入力シート【基本情報】'!$BS$356","v":0},"0",null,"22","調査結果","-","屋上及び屋根","-","3（5）","-","改善（予定）年月","-","年（令和）",null,null,"22調査結果-屋上及び屋根-3（5）-改善（予定）年月-年（令和）"]
[null,{"$f":"'1_入力シート【基本情報】'!$BV$356","v":0},"0",{"$f":"'1_入力シート【基本情報】'!$BV$356","v":0},"0",null,"22","調査結果","-","屋上及び屋根","-","3（5）","-","改善（予定）年月","-","月",null,null,"22調査結果-屋上及び屋根-3（5）-改善（予定）年月-月"]
[null,{"$f":"'1_入力シート【基本情報】'!$BY$356","v":0},"",{"$f":"'1_入力シート【基本情報】'!$BY$356","v":0},{"$f":"'1_入力シート【基本情報】'!$BY$356","v":0},null,"22","調査結果","-","屋上及び屋根","-","3（5）","-","改善（予定）年月","-","未定",null,null,"22調査結果-屋上及び屋根-3（5）-改善（予定）年月-未定"]
[null,{"$f":"'1_入力シート【基本情報】'!$AF$357","v":0},"",{"$f":"IF(C516=\"\",0,C516)","v":0},{"$f":"D516","v":0},null,"22","調査結果","-","屋上及び屋根","-","3（6）","-","調査結果",null,null,null,null,"22調査結果-屋上及び屋根-3（6）-調査結果"]
[null,{"$f":"'1_入力シート【基本情報】'!$AR$357","v":0},"",{"$f":"'1_入力シート【基本情報】'!$AR$357","v":0},{"$f":"'1_入力シート【基本情報】'!$AR$357","v":0},null,"22","調査結果","-","屋上及び屋根","-","3（6）","-","調査者番号",null,null,null,null,"22調査結果-屋上及び屋根-3（6）-調査者番号"]
[null,{"$f":"'1_入力シート【基本情報】'!$AT$357","v":0},"",{"$f":"'1_入力シート【基本情報】'!$AT$357","v":0},{"$f":"'1_入力シート【基本情報】'!$AT$357","v":0},null,"22","調査結果","-","屋上及び屋根","-","3（6）","-","指摘の具体的内容等",null,null,null,null,"22調査結果-屋上及び屋根-3（6）-指摘の具体的内容等"]
[null,{"$f":"'1_入力シート【基本情報】'!$BD$357","v":0},"",{"$f":"'1_入力シート【基本情報】'!$BD$357","v":0},{"$f":"'1_入力シート【基本情報】'!$BD$357","v":0},null,"22","調査結果","-","屋上及び屋根","-","3（6）","-","改善策の具体的内容等",null,null,null,null,"22調査結果-屋上及び屋根-3（6）-改善策の具体的内容等"]
[null,{"$f":"'1_入力シート【基本情報】'!$BS$357","v":0},{"$f":"ASC($D520)","v":"0"},{"$f":"'1_入力シート【基本情報】'!$BS$357","v":0},"0",null,"22","調査結果","-","屋上及び屋根","-","3（6）","-","改善（予定）年月","-","年（令和）",null,null,"22調査結果-屋上及び屋根-3（6）-改善（予定）年月-年（令和）"]
[null,{"$f":"'1_入力シート【基本情報】'!$BV$357","v":0},"0",{"$f":"'1_入力シート【基本情報】'!$BV$357","v":0},"0",null,"22","調査結果","-","屋上及び屋根","-","3（6）","-","改善（予定）年月","-","月",null,null,"22調査結果-屋上及び屋根-3（6）-改善（予定）年月-月"]
[null,{"$f":"'1_入力シート【基本情報】'!$BY$357","v":0},"",{"$f":"'1_入力シート【基本情報】'!$BY$357","v":0},{"$f":"'1_入力シート【基本情報】'!$BY$357","v":0},null,"22","調査結果","-","屋上及び屋根","-","3（6）","-","改善（予定）年月","-","未定",null,null,"22調査結果-屋上及び屋根-3（6）-改善（予定）年月-未定"]
[null,{"$f":"'1_入力シート【基本情報】'!$AF$358","v":0},"",{"$f":"IF(C523=\"\",0,C523)","v":0},{"$f":"D523","v":0},null,"22","調査結果","-","屋上及び屋根","-","3（7）","-","調査結果",null,null,null,null,"22調査結果-屋上及び屋根-3（7）-調査結果"]
[null,{"$f":"'1_入力シート【基本情報】'!$AR$358","v":0},"",{"$f":"'1_入力シート【基本情報】'!$AR$358","v":0},{"$f":"'1_入力シート【基本情報】'!$AR$358","v":0},null,"22","調査結果","-","屋上及び屋根","-","3（7）","-","調査者番号",null,null,null,null,"22調査結果-屋上及び屋根-3（7）-調査者番号"]
[null,{"$f":"'1_入力シート【基本情報】'!$AT$358","v":0},"",{"$f":"'1_入力シート【基本情報】'!$AT$358","v":0},{"$f":"'1_入力シート【基本情報】'!$AT$358","v":0},null,"22","調査結果","-","屋上及び屋根","-","3（7）","-","指摘の具体的内容等",null,null,null,null,"22調査結果-屋上及び屋根-3（7）-指摘の具体的内容等"]
[null,{"$f":"'1_入力シート【基本情報】'!$BD$358","v":0},"",{"$f":"'1_入力シート【基本情報】'!$BD$358","v":0},{"$f":"'1_入力シート【基本情報】'!$BD$358","v":0},null,"22","調査結果","-","屋上及び屋根","-","3（7）","-","改善策の具体的内容等",null,null,null,null,"22調査結果-屋上及び屋根-3（7）-改善策の具体的内容等"]
[null,{"$f":"'1_入力シート【基本情報】'!$BS$358","v":0},{"$f":"ASC($D527)","v":"0"},{"$f":"'1_入力シート【基本情報】'!$BS$358","v":0},"0",null,"22","調査結果","-","屋上及び屋根","-","3（7）","-","改善（予定）年月","-","年（令和）",null,null,"22調査結果-屋上及び屋根-3（7）-改善（予定）年月-年（令和）"]
[null,{"$f":"'1_入力シート【基本情報】'!$BV$358","v":0},"0",{"$f":"'1_入力シート【基本情報】'!$BV$358","v":0},"0",null,"22","調査結果","-","屋上及び屋根","-","3（7）","-","改善（予定）年月","-","月",null,null,"22調査結果-屋上及び屋根-3（7）-改善（予定）年月-月"]
[null,{"$f":"'1_入力シート【基本情報】'!$BY$358","v":0},"",{"$f":"'1_入力シート【基本情報】'!$BY$358","v":0},{"$f":"'1_入力シート【基本情報】'!$BY$358","v":0},null,"22","調査結果","-","屋上及び屋根","-","3（7）","-","改善（予定）年月","-","未定",null,null,"22調査結果-屋上及び屋根-3（7）-改善（予定）年月-未定"]
[null,{"$f":"'1_入力シート【基本情報】'!$AF$359","v":0},"",{"$f":"IF(C530=\"\",0,C530)","v":0},{"$f":"D530","v":0},null,"22","調査結果","-","屋上及び屋根","-","3（8）","-","調査結果",null,null,null,null,"22調査結果-屋上及び屋根-3（8）-調査結果"]
[null,{"$f":"'1_入力シート【基本情報】'!$AR$359","v":0},"",{"$f":"'1_入力シート【基本情報】'!$AR$359","v":0},{"$f":"'1_入力シート【基本情報】'!$AR$359","v":0},null,"22","調査結果","-","屋上及び屋根","-","3（8）","-","調査者番号",null,null,null,null,"22調査結果-屋上及び屋根-3（8）-調査者番号"]
[null,{"$f":"'1_入力シート【基本情報】'!$AT$359","v":0},"",{"$f":"'1_入力シート【基本情報】'!$AT$359","v":0},{"$f":"'1_入力シート【基本情報】'!$AT$359","v":0},null,"22","調査結果","-","屋上及び屋根","-","3（8）","-","指摘の具体的内容等",null,null,null,null,"22調査結果-屋上及び屋根-3（8）-指摘の具体的内容等"]
[null,{"$f":"'1_入力シート【基本情報】'!$BD$359","v":0},"",{"$f":"'1_入力シート【基本情報】'!$BD$359","v":0},{"$f":"'1_入力シート【基本情報】'!$BD$359","v":0},null,"22","調査結果","-","屋上及び屋根","-","3（8）","-","改善策の具体的内容等",null,null,null,null,"22調査結果-屋上及び屋根-3（8）-改善策の具体的内容等"]
[null,{"$f":"'1_入力シート【基本情報】'!$BS$359","v":0},{"$f":"ASC($D534)","v":"0"},{"$f":"'1_入力シート【基本情報】'!$BS$359","v":0},"0",null,"22","調査結果","-","屋上及び屋根","-","3（8）","-","改善（予定）年月","-","年（令和）",null,null,"22調査結果-屋上及び屋根-3（8）-改善（予定）年月-年（令和）"]
[null,{"$f":"'1_入力シート【基本情報】'!$BV$359","v":0},"0",{"$f":"'1_入力シート【基本情報】'!$BV$359","v":0},"0",null,"22","調査結果","-","屋上及び屋根","-","3（8）","-","改善（予定）年月","-","月",null,null,"22調査結果-屋上及び屋根-3（8）-改善（予定）年月-月"]
[null,{"$f":"'1_入力シート【基本情報】'!$BY$359","v":0},"",{"$f":"'1_入力シート【基本情報】'!$BY$359","v":0},{"$f":"'1_入力シート【基本情報】'!$BY$359","v":0},null,"22","調査結果","-","屋上及び屋根","-","3（8）","-","改善（予定）年月","-","未定",null,null,"22調査結果-屋上及び屋根-3（8）-改善（予定）年月-未定"]
[null,{"$f":"'1_入力シート【基本情報】'!$AF$360","v":0},"",{"$f":"IF(C537=\"\",0,C537)","v":0},{"$f":"D537","v":0},null,"22","調査結果","-","屋上及び屋根","-","3（9）","-","調査結果",null,null,null,null,"22調査結果-屋上及び屋根-3（9）-調査結果"]
[null,{"$f":"'1_入力シート【基本情報】'!$AR$360","v":0},"",{"$f":"'1_入力シート【基本情報】'!$AR$360","v":0},{"$f":"'1_入力シート【基本情報】'!$AR$360","v":0},null,"22","調査結果","-","屋上及び屋根","-","3（9）","-","調査者番号",null,null,null,null,"22調査結果-屋上及び屋根-3（9）-調査者番号"]
[null,{"$f":"'1_入力シート【基本情報】'!$AT$360","v":0},"",{"$f":"'1_入力シート【基本情報】'!$AT$360","v":0},{"$f":"'1_入力シート【基本情報】'!$AT$360","v":0},null,"22","調査結果","-","屋上及び屋根","-","3（9）","-","指摘の具体的内容等",null,null,null,null,"22調査結果-屋上及び屋根-3（9）-指摘の具体的内容等"]
[null,{"$f":"'1_入力シート【基本情報】'!$BD$360","v":0},"",{"$f":"'1_入力シート【基本情報】'!$BD$360","v":0},{"$f":"'1_入力シート【基本情報】'!$BD$360","v":0},null,"22","調査結果","-","屋上及び屋根","-","3（9）","-","改善策の具体的内容等",null,null,null,null,"22調査結果-屋上及び屋根-3（9）-改善策の具体的内容等"]
[null,{"$f":"'1_入力シート【基本情報】'!$BS$360","v":0},{"$f":"ASC($D541)","v":"0"},{"$f":"'1_入力シート【基本情報】'!$BS$360","v":0},"0",null,"22","調査結果","-","屋上及び屋根","-","3（9）","-","改善（予定）年月","-","年（令和）",null,null,"22調査結果-屋上及び屋根-3（9）-改善（予定）年月-年（令和）"]
[null,{"$f":"'1_入力シート【基本情報】'!$BV$360","v":0},"0",{"$f":"'1_入力シート【基本情報】'!$BV$360","v":0},"0",null,"22","調査結果","-","屋上及び屋根","-","3（9）","-","改善（予定）年月","-","月",null,null,"22調査結果-屋上及び屋根-3（9）-改善（予定）年月-月"]
[null,{"$f":"'1_入力シート【基本情報】'!$BY$360","v":0},"",{"$f":"'1_入力シート【基本情報】'!$BY$360","v":0},{"$f":"'1_入力シート【基本情報】'!$BY$360","v":0},null,"22","調査結果","-","屋上及び屋根","-","3（9）","-","改善（予定）年月","-","未定",null,null,"22調査結果-屋上及び屋根-3（9）-改善（予定）年月-未定"]
[null,{"$f":"'1_入力シート【基本情報】'!$AF$370","v":0},"",{"$f":"IF(C544=\"\",0,C544)","v":0},{"$f":"D544","v":0},null,"22","調査結果","-","建築物の内部","-","4（1）","-","調査結果",null,null,null,null,"22調査結果-建築物の内部-4（1）-調査結果"]
[null,{"$f":"'1_入力シート【基本情報】'!$AR$370","v":0},"",{"$f":"'1_入力シート【基本情報】'!$AR$370","v":0},{"$f":"'1_入力シート【基本情報】'!$AR$370","v":0},null,"22","調査結果","-","建築物の内部","-","4（1）","-","調査者番号",null,null,null,null,"22調査結果-建築物の内部-4（1）-調査者番号"]
[null,{"$f":"'1_入力シート【基本情報】'!$AT$370","v":0},{"$f":"MID(B546,2,14)","v":""},{"$f":"'1_入力シート【基本情報】'!$AT$370","v":0},{"$f":"'1_入力シート【基本情報】'!$AT$370","v":0},null,"22","調査結果","-","建築物の内部","-","4（1）","-","指摘の具体的内容等",null,null,null,null,"22調査結果-建築物の内部-4（1）-指摘の具体的内容等"]
[null,{"$f":"'1_入力シート【基本情報】'!$BD$370","v":0},"",{"$f":"'1_入力シート【基本情報】'!$BD$370","v":0},{"$f":"'1_入力シート【基本情報】'!$BD$370","v":0},null,"22","調査結果","-","建築物の内部","-","4（1）","-","改善策の具体的内容等",null,null,null,null,"22調査結果-建築物の内部-4（1）-改善策の具体的内容等"]
[null,{"$f":"'1_入力シート【基本情報】'!$BS$370","v":0},{"$f":"ASC($D548)","v":"0"},{"$f":"'1_入力シート【基本情報】'!$BS$370","v":0},"0",null,"22","調査結果","-","建築物の内部","-","4（1）","-","改善（予定）年月","-","年（令和）",null,null,"22調査結果-建築物の内部-4（1）-改善（予定）年月-年（令和）"]
[null,{"$f":"'1_入力シート【基本情報】'!$BV$370","v":0},"0",{"$f":"'1_入力シート【基本情報】'!$BV$370","v":0},"0",null,"22","調査結果","-","建築物の内部","-","4（1）","-","改善（予定）年月","-","月",null,null,"22調査結果-建築物の内部-4（1）-改善（予定）年月-月"]
[null,{"$f":"'1_入力シート【基本情報】'!$BY$370","v":0},"",{"$f":"'1_入力シート【基本情報】'!$BY$370","v":0},{"$f":"'1_入力シート【基本情報】'!$BY$370","v":0},null,"22","調査結果","-","建築物の内部","-","4（1）","-","改善（予定）年月","-","未定",null,null,"22調査結果-建築物の内部-4（1）-改善（予定）年月-未定"]
[null,{"$f":"'1_入力シート【基本情報】'!$AF$371","v":0},"",{"$f":"IF(C551=\"\",0,C551)","v":0},{"$f":"D551","v":0},null,"22","調査結果","-","建築物の内部","-","4（2）","-","調査結果",null,null,null,null,"22調査結果-建築物の内部-4（2）-調査結果"]
[null,{"$f":"'1_入力シート【基本情報】'!$AR$371","v":0},"",{"$f":"'1_入力シート【基本情報】'!$AR$371","v":0},{"$f":"'1_入力シート【基本情報】'!$AR$371","v":0},null,"22","調査結果","-","建築物の内部","-","4（2）","-","調査者番号",null,null,null,null,"22調査結果-建築物の内部-4（2）-調査者番号"]
[null,{"$f":"'1_入力シート【基本情報】'!$AT$371","v":0},"",{"$f":"'1_入力シート【基本情報】'!$AT$371","v":0},{"$f":"'1_入力シート【基本情報】'!$AT$371","v":0},null,"22","調査結果","-","建築物の内部","-","4（2）","-","指摘の具体的内容等",null,null,null,null,"22調査結果-建築物の内部-4（2）-指摘の具体的内容等"]
[null,{"$f":"'1_入力シート【基本情報】'!$BD$371","v":0},"",{"$f":"'1_入力シート【基本情報】'!$BD$371","v":0},{"$f":"'1_入力シート【基本情報】'!$BD$371","v":0},null,"22","調査結果","-","建築物の内部","-","4（2）","-","改善策の具体的内容等",null,null,null,null,"22調査結果-建築物の内部-4（2）-改善策の具体的内容等"]
[null,{"$f":"'1_入力シート【基本情報】'!$BS$371","v":0},{"$f":"ASC($D555)","v":"0"},{"$f":"'1_入力シート【基本情報】'!$BS$371","v":0},"0",null,"22","調査結果","-","建築物の内部","-","4（2）","-","改善（予定）年月","-","年（令和）",null,null,"22調査結果-建築物の内部-4（2）-改善（予定）年月-年（令和）"]
[null,{"$f":"'1_入力シート【基本情報】'!$BV$371","v":0},"0",{"$f":"'1_入力シート【基本情報】'!$BV$371","v":0},"0",null,"22","調査結果","-","建築物の内部","-","4（2）","-","改善（予定）年月","-","月",null,null,"22調査結果-建築物の内部-4（2）-改善（予定）年月-月"]
[null,{"$f":"'1_入力シート【基本情報】'!$BY$371","v":0},"",{"$f":"'1_入力シート【基本情報】'!$BY$371","v":0},{"$f":"'1_入力シート【基本情報】'!$BY$371","v":0},null,"22","調査結果","-","建築物の内部","-","4（2）","-","改善（予定）年月","-","未定",null,null,"22調査結果-建築物の内部-4（2）-改善（予定）年月-未定"]
[null,{"$f":"'1_入力シート【基本情報】'!$AF$372","v":0},"",{"$f":"IF(C558=\"\",0,C558)","v":0},{"$f":"D558","v":0},null,"22","調査結果","-","建築物の内部","-","4（3）","-","調査結果",null,null,null,null,"22調査結果-建築物の内部-4（3）-調査結果"]
[null,{"$f":"'1_入力シート【基本情報】'!$AR$372","v":0},"",{"$f":"'1_入力シート【基本情報】'!$AR$372","v":0},{"$f":"'1_入力シート【基本情報】'!$AR$372","v":0},null,"22","調査結果","-","建築物の内部","-","4（3）","-","調査者番号",null,null,null,null,"22調査結果-建築物の内部-4（3）-調査者番号"]
[null,{"$f":"'1_入力シート【基本情報】'!$AT$372","v":0},"",{"$f":"'1_入力シート【基本情報】'!$AT$372","v":0},{"$f":"'1_入力シート【基本情報】'!$AT$372","v":0},null,"22","調査結果","-","建築物の内部","-","4（3）","-","指摘の具体的内容等",null,null,null,null,"22調査結果-建築物の内部-4（3）-指摘の具体的内容等"]
[null,{"$f":"'1_入力シート【基本情報】'!$BD$372","v":0},"",{"$f":"'1_入力シート【基本情報】'!$BD$372","v":0},{"$f":"'1_入力シート【基本情報】'!$BD$372","v":0},null,"22","調査結果","-","建築物の内部","-","4（3）","-","改善策の具体的内容等",null,null,null,null,"22調査結果-建築物の内部-4（3）-改善策の具体的内容等"]
[null,{"$f":"'1_入力シート【基本情報】'!$BS$372","v":0},{"$f":"ASC($D562)","v":"0"},{"$f":"'1_入力シート【基本情報】'!$BS$372","v":0},"0",null,"22","調査結果","-","建築物の内部","-","4（3）","-","改善（予定）年月","-","年（令和）",null,null,"22調査結果-建築物の内部-4（3）-改善（予定）年月-年（令和）"]
[null,{"$f":"'1_入力シート【基本情報】'!$BV$372","v":0},"0",{"$f":"'1_入力シート【基本情報】'!$BV$372","v":0},"0",null,"22","調査結果","-","建築物の内部","-","4（3）","-","改善（予定）年月","-","月",null,null,"22調査結果-建築物の内部-4（3）-改善（予定）年月-月"]
[null,{"$f":"'1_入力シート【基本情報】'!$BY$372","v":0},"",{"$f":"'1_入力シート【基本情報】'!$BY$372","v":0},{"$f":"'1_入力シート【基本情報】'!$BY$372","v":0},null,"22","調査結果","-","建築物の内部","-","4（3）","-","改善（予定）年月","-","未定",null,null,"22調査結果-建築物の内部-4（3）-改善（予定）年月-未定"]
[null,{"$f":"'1_入力シート【基本情報】'!$AF$373","v":0},"",{"$f":"IF(C565=\"\",0,C565)","v":0},{"$f":"D565","v":0},null,"22","調査結果","-","建築物の内部","-","4（4）","-","調査結果",null,null,null,null,"22調査結果-建築物の内部-4（4）-調査結果"]
[null,{"$f":"'1_入力シート【基本情報】'!$AR$373","v":0},"",{"$f":"'1_入力シート【基本情報】'!$AR$373","v":0},{"$f":"'1_入力シート【基本情報】'!$AR$373","v":0},null,"22","調査結果","-","建築物の内部","-","4（4）","-","調査者番号",null,null,null,null,"22調査結果-建築物の内部-4（4）-調査者番号"]
[null,{"$f":"'1_入力シート【基本情報】'!$AT$373","v":0},"",{"$f":"'1_入力シート【基本情報】'!$AT$373","v":0},{"$f":"'1_入力シート【基本情報】'!$AT$373","v":0},null,"22","調査結果","-","建築物の内部","-","4（4）","-","指摘の具体的内容等",null,null,null,null,"22調査結果-建築物の内部-4（4）-指摘の具体的内容等"]
[null,{"$f":"'1_入力シート【基本情報】'!$BD$373","v":0},"",{"$f":"'1_入力シート【基本情報】'!$BD$373","v":0},{"$f":"'1_入力シート【基本情報】'!$BD$373","v":0},null,"22","調査結果","-","建築物の内部","-","4（4）","-","改善策の具体的内容等",null,null,null,null,"22調査結果-建築物の内部-4（4）-改善策の具体的内容等"]
[null,{"$f":"'1_入力シート【基本情報】'!$BS$373","v":0},{"$f":"ASC($D569)","v":"0"},{"$f":"'1_入力シート【基本情報】'!$BS$373","v":0},"0",null,"22","調査結果","-","建築物の内部","-","4（4）","-","改善（予定）年月","-","年（令和）",null,null,"22調査結果-建築物の内部-4（4）-改善（予定）年月-年（令和）"]
[null,{"$f":"'1_入力シート【基本情報】'!$BV$373","v":0},"0",{"$f":"'1_入力シート【基本情報】'!$BV$373","v":0},"0",null,"22","調査結果","-","建築物の内部","-","4（4）","-","改善（予定）年月","-","月",null,null,"22調査結果-建築物の内部-4（4）-改善（予定）年月-月"]
[null,{"$f":"'1_入力シート【基本情報】'!$BY$373","v":0},"",{"$f":"'1_入力シート【基本情報】'!$BY$373","v":0},{"$f":"'1_入力シート【基本情報】'!$BY$373","v":0},null,"22","調査結果","-","建築物の内部","-","4（4）","-","改善（予定）年月","-","未定",null,null,"22調査結果-建築物の内部-4（4）-改善（予定）年月-未定"]
[null,{"$f":"'1_入力シート【基本情報】'!$AF$374","v":0},"",{"$f":"IF(C572=\"\",0,C572)","v":0},{"$f":"D572","v":0},null,"22","調査結果","-","建築物の内部","-","4（5）","-","調査結果",null,null,null,null,"22調査結果-建築物の内部-4（5）-調査結果"]
[null,{"$f":"'1_入力シート【基本情報】'!$AR$374","v":0},"",{"$f":"'1_入力シート【基本情報】'!$AR$374","v":0},{"$f":"'1_入力シート【基本情報】'!$AR$374","v":0},null,"22","調査結果","-","建築物の内部","-","4（5）","-","調査者番号",null,null,null,null,"22調査結果-建築物の内部-4（5）-調査者番号"]
[null,{"$f":"'1_入力シート【基本情報】'!$AT$374","v":0},"",{"$f":"'1_入力シート【基本情報】'!$AT$374","v":0},{"$f":"'1_入力シート【基本情報】'!$AT$374","v":0},null,"22","調査結果","-","建築物の内部","-","4（5）","-","指摘の具体的内容等",null,null,null,null,"22調査結果-建築物の内部-4（5）-指摘の具体的内容等"]
[null,{"$f":"'1_入力シート【基本情報】'!$BD$374","v":0},"",{"$f":"'1_入力シート【基本情報】'!$BD$374","v":0},{"$f":"'1_入力シート【基本情報】'!$BD$374","v":0},null,"22","調査結果","-","建築物の内部","-","4（5）","-","改善策の具体的内容等",null,null,null,null,"22調査結果-建築物の内部-4（5）-改善策の具体的内容等"]
[null,{"$f":"'1_入力シート【基本情報】'!$BS$374","v":0},{"$f":"ASC($D576)","v":"0"},{"$f":"'1_入力シート【基本情報】'!$BS$374","v":0},"0",null,"22","調査結果","-","建築物の内部","-","4（5）","-","改善（予定）年月","-","年（令和）",null,null,"22調査結果-建築物の内部-4（5）-改善（予定）年月-年（令和）"]
[null,{"$f":"'1_入力シート【基本情報】'!$BV$374","v":0},"0",{"$f":"'1_入力シート【基本情報】'!$BV$374","v":0},"0",null,"22","調査結果","-","建築物の内部","-","4（5）","-","改善（予定）年月","-","月",null,null,"22調査結果-建築物の内部-4（5）-改善（予定）年月-月"]
[null,{"$f":"'1_入力シート【基本情報】'!$BY$374","v":0},"",{"$f":"'1_入力シート【基本情報】'!$BY$374","v":0},{"$f":"'1_入力シート【基本情報】'!$BY$374","v":0},null,"22","調査結果","-","建築物の内部","-","4（5）","-","改善（予定）年月","-","未定",null,null,"22調査結果-建築物の内部-4（5）-改善（予定）年月-未定"]
[null,{"$f":"'1_入力シート【基本情報】'!$AF$375","v":0},"",{"$f":"IF(C579=\"\",0,C579)","v":0},{"$f":"D579","v":0},null,"22","調査結果","-","建築物の内部","-","4（6）","-","調査結果",null,null,null,null,"22調査結果-建築物の内部-4（6）-調査結果"]
[null,{"$f":"'1_入力シート【基本情報】'!$AR$375","v":0},"",{"$f":"'1_入力シート【基本情報】'!$AR$375","v":0},{"$f":"'1_入力シート【基本情報】'!$AR$375","v":0},null,"22","調査結果","-","建築物の内部","-","4（6）","-","調査者番号",null,null,null,null,"22調査結果-建築物の内部-4（6）-調査者番号"]
[null,{"$f":"'1_入力シート【基本情報】'!$AT$375","v":0},"",{"$f":"'1_入力シート【基本情報】'!$AT$375","v":0},{"$f":"'1_入力シート【基本情報】'!$AT$375","v":0},null,"22","調査結果","-","建築物の内部","-","4（6）","-","指摘の具体的内容等",null,null,null,null,"22調査結果-建築物の内部-4（6）-指摘の具体的内容等"]
[null,{"$f":"'1_入力シート【基本情報】'!$BD$375","v":0},"",{"$f":"'1_入力シート【基本情報】'!$BD$375","v":0},{"$f":"'1_入力シート【基本情報】'!$BD$375","v":0},null,"22","調査結果","-","建築物の内部","-","4（6）","-","改善策の具体的内容等",null,null,null,null,"22調査結果-建築物の内部-4（6）-改善策の具体的内容等"]
[null,{"$f":"'1_入力シート【基本情報】'!$BS$375","v":0},{"$f":"ASC($D583)","v":"0"},{"$f":"'1_入力シート【基本情報】'!$BS$375","v":0},"0",null,"22","調査結果","-","建築物の内部","-","4（6）","-","改善（予定）年月","-","年（令和）",null,null,"22調査結果-建築物の内部-4（6）-改善（予定）年月-年（令和）"]
[null,{"$f":"'1_入力シート【基本情報】'!$BV$375","v":0},"0",{"$f":"'1_入力シート【基本情報】'!$BV$375","v":0},"0",null,"22","調査結果","-","建築物の内部","-","4（6）","-","改善（予定）年月","-","月",null,null,{"$f":"CONCATENATE(G584,H584,I584,J584,K584,L584,M584,N584,O584,P584)","v":"22調査結果-建築物の内部-4（6）-改善（予定）年月-月"}]
[null,{"$f":"'1_入力シート【基本情報】'!$BY$375","v":0},"",{"$f":"'1_入力シート【基本情報】'!$BY$375","v":0},{"$f":"'1_入力シート【基本情報】'!$BY$375","v":0},null,"22","調査結果","-","建築物の内部","-","4（6）","-","改善（予定）年月","-","未定",null,null,"22調査結果-建築物の内部-4（6）-改善（予定）年月-未定"]
[null,{"$f":"'1_入力シート【基本情報】'!$AF$376","v":0},"",{"$f":"IF(C586=\"\",0,C586)","v":0},{"$f":"D586","v":0},null,"22","調査結果","-","建築物の内部","-","4（7）","-","調査結果",null,null,null,null,"22調査結果-建築物の内部-4（7）-調査結果"]
[null,{"$f":"'1_入力シート【基本情報】'!$AR$376","v":0},"",{"$f":"'1_入力シート【基本情報】'!$AR$376","v":0},{"$f":"'1_入力シート【基本情報】'!$AR$376","v":0},null,"22","調査結果","-","建築物の内部","-","4（7）","-","調査者番号",null,null,null,null,"22調査結果-建築物の内部-4（7）-調査者番号"]
[null,{"$f":"'1_入力シート【基本情報】'!$AT$376","v":0},"",{"$f":"'1_入力シート【基本情報】'!$AT$376","v":0},{"$f":"'1_入力シート【基本情報】'!$AT$376","v":0},null,"22","調査結果","-","建築物の内部","-","4（7）","-","指摘の具体的内容等",null,null,null,null,"22調査結果-建築物の内部-4（7）-指摘の具体的内容等"]
[null,{"$f":"'1_入力シート【基本情報】'!$BD$376","v":0},"",{"$f":"'1_入力シート【基本情報】'!$BD$376","v":0},{"$f":"'1_入力シート【基本情報】'!$BD$376","v":0},null,"22","調査結果","-","建築物の内部","-","4（7）","-","改善策の具体的内容等",null,null,null,null,"22調査結果-建築物の内部-4（7）-改善策の具体的内容等"]
[null,{"$f":"'1_入力シート【基本情報】'!$BS$376","v":0},{"$f":"ASC($D590)","v":"0"},{"$f":"'1_入力シート【基本情報】'!$BS$376","v":0},"0",null,"22","調査結果","-","建築物の内部","-","4（7）","-","改善（予定）年月","-","年（令和）",null,null,"22調査結果-建築物の内部-4（7）-改善（予定）年月-年（令和）"]
[null,{"$f":"'1_入力シート【基本情報】'!$BV$376","v":0},"0",{"$f":"'1_入力シート【基本情報】'!$BV$376","v":0},"0",null,"22","調査結果","-","建築物の内部","-","4（7）","-","改善（予定）年月","-","月",null,null,"22調査結果-建築物の内部-4（7）-改善（予定）年月-月"]
[null,{"$f":"'1_入力シート【基本情報】'!$BY$376","v":0},"",{"$f":"'1_入力シート【基本情報】'!$BY$376","v":0},{"$f":"'1_入力シート【基本情報】'!$BY$376","v":0},null,"22","調査結果","-","建築物の内部","-","4（7）","-","改善（予定）年月","-","未定",null,null,"22調査結果-建築物の内部-4（7）-改善（予定）年月-未定"]
[null,{"$f":"'1_入力シート【基本情報】'!$AF$377","v":0},"",{"$f":"IF(C593=\"\",0,C593)","v":0},{"$f":"D593","v":0},null,"22","調査結果","-","建築物の内部","-","4（8）","-","調査結果",null,null,null,null,"22調査結果-建築物の内部-4（8）-調査結果"]
[null,{"$f":"'1_入力シート【基本情報】'!$AR$377","v":0},"",{"$f":"'1_入力シート【基本情報】'!$AR$377","v":0},{"$f":"'1_入力シート【基本情報】'!$AR$377","v":0},null,"22","調査結果","-","建築物の内部","-","4（8）","-","調査者番号",null,null,null,null,"22調査結果-建築物の内部-4（8）-調査者番号"]
[null,{"$f":"'1_入力シート【基本情報】'!$AT$377","v":0},"",{"$f":"'1_入力シート【基本情報】'!$AT$377","v":0},{"$f":"'1_入力シート【基本情報】'!$AT$377","v":0},null,"22","調査結果","-","建築物の内部","-","4（8）","-","指摘の具体的内容等",null,null,null,null,"22調査結果-建築物の内部-4（8）-指摘の具体的内容等"]
[null,{"$f":"'1_入力シート【基本情報】'!$BD$377","v":0},"",{"$f":"'1_入力シート【基本情報】'!$BD$377","v":0},{"$f":"'1_入力シート【基本情報】'!$BD$377","v":0},null,"22","調査結果","-","建築物の内部","-","4（8）","-","改善策の具体的内容等",null,null,null,null,"22調査結果-建築物の内部-4（8）-改善策の具体的内容等"]
[null,{"$f":"'1_入力シート【基本情報】'!$BS$377","v":0},{"$f":"ASC($D597)","v":"0"},{"$f":"'1_入力シート【基本情報】'!$BS$377","v":0},"0",null,"22","調査結果","-","建築物の内部","-","4（8）","-","改善（予定）年月","-","年（令和）",null,null,"22調査結果-建築物の内部-4（8）-改善（予定）年月-年（令和）"]
[null,{"$f":"'1_入力シート【基本情報】'!$BV$377","v":0},"0",{"$f":"'1_入力シート【基本情報】'!$BV$377","v":0},"0",null,"22","調査結果","-","建築物の内部","-","4（8）","-","改善（予定）年月","-","月",null,null,"22調査結果-建築物の内部-4（8）-改善（予定）年月-月"]
[null,{"$f":"'1_入力シート【基本情報】'!$BY$377","v":0},"",{"$f":"'1_入力シート【基本情報】'!$BY$377","v":0},{"$f":"'1_入力シート【基本情報】'!$BY$377","v":0},null,"22","調査結果","-","建築物の内部","-","4（8）","-","改善（予定）年月","-","未定",null,null,"22調査結果-建築物の内部-4（8）-改善（予定）年月-未定"]
[null,{"$f":"'1_入力シート【基本情報】'!$AF$378","v":0},"",{"$f":"IF(C600=\"\",0,C600)","v":0},{"$f":"D600","v":0},null,"22","調査結果","-","建築物の内部","-","4（9）","-","調査結果",null,null,null,null,"22調査結果-建築物の内部-4（9）-調査結果"]
[null,{"$f":"'1_入力シート【基本情報】'!$AR$378","v":0},"",{"$f":"'1_入力シート【基本情報】'!$AR$378","v":0},{"$f":"'1_入力シート【基本情報】'!$AR$378","v":0},null,"22","調査結果","-","建築物の内部","-","4（9）","-","調査者番号",null,null,null,null,"22調査結果-建築物の内部-4（9）-調査者番号"]
[null,{"$f":"'1_入力シート【基本情報】'!$AT$378","v":0},"",{"$f":"'1_入力シート【基本情報】'!$AT$378","v":0},{"$f":"'1_入力シート【基本情報】'!$AT$378","v":0},null,"22","調査結果","-","建築物の内部","-","4（9）","-","指摘の具体的内容等",null,null,null,null,"22調査結果-建築物の内部-4（9）-指摘の具体的内容等"]
[null,{"$f":"'1_入力シート【基本情報】'!$BD$378","v":0},"",{"$f":"'1_入力シート【基本情報】'!$BD$378","v":0},{"$f":"'1_入力シート【基本情報】'!$BD$378","v":0},null,"22","調査結果","-","建築物の内部","-","4（9）","-","改善策の具体的内容等",null,null,null,null,"22調査結果-建築物の内部-4（9）-改善策の具体的内容等"]
[null,{"$f":"'1_入力シート【基本情報】'!$BS$378","v":0},{"$f":"ASC($D604)","v":"0"},{"$f":"'1_入力シート【基本情報】'!$BS$378","v":0},"0",null,"22","調査結果","-","建築物の内部","-","4（9）","-","改善（予定）年月","-","年（令和）",null,null,"22調査結果-建築物の内部-4（9）-改善（予定）年月-年（令和）"]
[null,{"$f":"'1_入力シート【基本情報】'!$BV$378","v":0},"0",{"$f":"'1_入力シート【基本情報】'!$BV$378","v":0},"0",null,"22","調査結果","-","建築物の内部","-","4（9）","-","改善（予定）年月","-","月",null,null,"22調査結果-建築物の内部-4（9）-改善（予定）年月-月"]
[null,{"$f":"'1_入力シート【基本情報】'!$BY$378","v":0},"",{"$f":"'1_入力シート【基本情報】'!$BY$378","v":0},{"$f":"'1_入力シート【基本情報】'!$BY$378","v":0},null,"22","調査結果","-","建築物の内部","-","4（9）","-","改善（予定）年月","-","未定",null,null,"22調査結果-建築物の内部-4（9）-改善（予定）年月-未定"]
[null,{"$f":"'1_入力シート【基本情報】'!$AF$379","v":0},"",{"$f":"IF(C607=\"\",0,C607)","v":0},{"$f":"D607","v":0},null,"22","調査結果","-","建築物の内部","-","4（10）","-","調査結果",null,null,null,null,"22調査結果-建築物の内部-4（10）-調査結果"]
[null,{"$f":"'1_入力シート【基本情報】'!$AR$379","v":0},"",{"$f":"'1_入力シート【基本情報】'!$AR$379","v":0},{"$f":"'1_入力シート【基本情報】'!$AR$379","v":0},null,"22","調査結果","-","建築物の内部","-","4（10）","-","調査者番号",null,null,null,null,"22調査結果-建築物の内部-4（10）-調査者番号"]
[null,{"$f":"'1_入力シート【基本情報】'!$AT$379","v":0},"",{"$f":"'1_入力シート【基本情報】'!$AT$379","v":0},{"$f":"'1_入力シート【基本情報】'!$AT$379","v":0},null,"22","調査結果","-","建築物の内部","-","4（10）","-","指摘の具体的内容等",null,null,null,null,"22調査結果-建築物の内部-4（10）-指摘の具体的内容等"]
[null,{"$f":"'1_入力シート【基本情報】'!$BD$379","v":0},{"$f":"MID(B610,2,14)","v":""},{"$f":"'1_入力シート【基本情報】'!$BD$379","v":0},{"$f":"'1_入力シート【基本情報】'!$BD$379","v":0},null,"22","調査結果","-","建築物の内部","-","4（10）","-","改善策の具体的内容等",null,null,null,null,"22調査結果-建築物の内部-4（10）-改善策の具体的内容等"]
[null,{"$f":"'1_入力シート【基本情報】'!$BS$379","v":0},{"$f":"ASC($D611)","v":"0"},{"$f":"'1_入力シート【基本情報】'!$BS$379","v":0},"0",null,"22","調査結果","-","建築物の内部","-","4（10）","-","改善（予定）年月","-","年（令和）",null,null,"22調査結果-建築物の内部-4（10）-改善（予定）年月-年（令和）"]
[null,{"$f":"'1_入力シート【基本情報】'!$BV$379","v":0},"0",{"$f":"'1_入力シート【基本情報】'!$BV$379","v":0},"0",null,"22","調査結果","-","建築物の内部","-","4（10）","-","改善（予定）年月","-","月",null,null,"22調査結果-建築物の内部-4（10）-改善（予定）年月-月"]
[null,{"$f":"'1_入力シート【基本情報】'!$BY$379","v":0},"",{"$f":"'1_入力シート【基本情報】'!$BY$379","v":0},{"$f":"'1_入力シート【基本情報】'!$BY$379","v":0},null,"22","調査結果","-","建築物の内部","-","4（10）","-","改善（予定）年月","-","未定",null,null,"22調査結果-建築物の内部-4（10）-改善（予定）年月-未定"]
[null,{"$f":"'1_入力シート【基本情報】'!$AF$380","v":0},"",{"$f":"IF(C614=\"\",0,C614)","v":0},{"$f":"D614","v":0},null,"22","調査結果","-","建築物の内部","-","4（11）","-","調査結果",null,null,null,null,"22調査結果-建築物の内部-4（11）-調査結果"]
[null,{"$f":"'1_入力シート【基本情報】'!$AR$380","v":0},"",{"$f":"'1_入力シート【基本情報】'!$AR$380","v":0},{"$f":"'1_入力シート【基本情報】'!$AR$380","v":0},null,"22","調査結果","-","建築物の内部","-","4（11）","-","調査者番号",null,null,null,null,"22調査結果-建築物の内部-4（11）-調査者番号"]
[null,{"$f":"'1_入力シート【基本情報】'!$AT$380","v":0},"",{"$f":"'1_入力シート【基本情報】'!$AT$380","v":0},{"$f":"'1_入力シート【基本情報】'!$AT$380","v":0},null,"22","調査結果","-","建築物の内部","-","4（11）","-","指摘の具体的内容等",null,null,null,null,"22調査結果-建築物の内部-4（11）-指摘の具体的内容等"]
[null,{"$f":"'1_入力シート【基本情報】'!$BD$380","v":0},"",{"$f":"'1_入力シート【基本情報】'!$BD$380","v":0},{"$f":"'1_入力シート【基本情報】'!$BD$380","v":0},null,"22","調査結果","-","建築物の内部","-","4（11）","-","改善策の具体的内容等",null,null,null,null,"22調査結果-建築物の内部-4（11）-改善策の具体的内容等"]
[null,{"$f":"'1_入力シート【基本情報】'!$BS$380","v":0},{"$f":"ASC($D618)","v":"0"},{"$f":"'1_入力シート【基本情報】'!$BS$380","v":0},"0",null,"22","調査結果","-","建築物の内部","-","4（11）","-","改善（予定）年月","-","年（令和）",null,null,"22調査結果-建築物の内部-4（11）-改善（予定）年月-年（令和）"]
[null,{"$f":"'1_入力シート【基本情報】'!$BV$380","v":0},"0",{"$f":"'1_入力シート【基本情報】'!$BV$380","v":0},"0",null,"22","調査結果","-","建築物の内部","-","4（11）","-","改善（予定）年月","-","月",null,null,"22調査結果-建築物の内部-4（11）-改善（予定）年月-月"]
[null,{"$f":"'1_入力シート【基本情報】'!$BY$380","v":0},"",{"$f":"'1_入力シート【基本情報】'!$BY$380","v":0},{"$f":"'1_入力シート【基本情報】'!$BY$380","v":0},null,"22","調査結果","-","建築物の内部","-","4（11）","-","改善（予定）年月","-","未定",null,null,"22調査結果-建築物の内部-4（11）-改善（予定）年月-未定"]
[null,{"$f":"'1_入力シート【基本情報】'!$AF$381","v":0},"",{"$f":"IF(C621=\"\",0,C621)","v":0},{"$f":"D621","v":0},null,"22","調査結果","-","建築物の内部","-","4（12）","-","調査結果",null,null,null,null,"22調査結果-建築物の内部-4（12）-調査結果"]
[null,{"$f":"'1_入力シート【基本情報】'!$AR$381","v":0},"",{"$f":"'1_入力シート【基本情報】'!$AR$381","v":0},{"$f":"'1_入力シート【基本情報】'!$AR$381","v":0},null,"22","調査結果","-","建築物の内部","-","4（12）","-","調査者番号",null,null,null,null,"22調査結果-建築物の内部-4（12）-調査者番号"]
[null,{"$f":"'1_入力シート【基本情報】'!$AT$381","v":0},"",{"$f":"'1_入力シート【基本情報】'!$AT$381","v":0},{"$f":"'1_入力シート【基本情報】'!$AT$381","v":0},null,"22","調査結果","-","建築物の内部","-","4（12）","-","指摘の具体的内容等",null,null,null,null,"22調査結果-建築物の内部-4（12）-指摘の具体的内容等"]
[null,{"$f":"'1_入力シート【基本情報】'!$BD$381","v":0},"",{"$f":"'1_入力シート【基本情報】'!$BD$381","v":0},{"$f":"'1_入力シート【基本情報】'!$BD$381","v":0},null,"22","調査結果","-","建築物の内部","-","4（12）","-","改善策の具体的内容等",null,null,null,null,"22調査結果-建築物の内部-4（12）-改善策の具体的内容等"]
[null,{"$f":"'1_入力シート【基本情報】'!$BS$381","v":0},{"$f":"ASC($D625)","v":"0"},{"$f":"'1_入力シート【基本情報】'!$BS$381","v":0},"0",null,"22","調査結果","-","建築物の内部","-","4（12）","-","改善（予定）年月","-","年（令和）",null,null,"22調査結果-建築物の内部-4（12）-改善（予定）年月-年（令和）"]
[null,{"$f":"'1_入力シート【基本情報】'!$BV$381","v":0},"0",{"$f":"'1_入力シート【基本情報】'!$BV$381","v":0},"0",null,"22","調査結果","-","建築物の内部","-","4（12）","-","改善（予定）年月","-","月",null,null,"22調査結果-建築物の内部-4（12）-改善（予定）年月-月"]
[null,{"$f":"'1_入力シート【基本情報】'!$BY$381","v":0},"",{"$f":"'1_入力シート【基本情報】'!$BY$381","v":0},{"$f":"'1_入力シート【基本情報】'!$BY$381","v":0},null,"22","調査結果","-","建築物の内部","-","4（12）","-","改善（予定）年月","-","未定",null,null,"22調査結果-建築物の内部-4（12）-改善（予定）年月-未定"]
[null,{"$f":"'1_入力シート【基本情報】'!$AF$382","v":0},"",{"$f":"IF(C628=\"\",0,C628)","v":0},{"$f":"D628","v":0},null,"22","調査結果","-","建築物の内部","-","4（13）","-","調査結果",null,null,null,null,"22調査結果-建築物の内部-4（13）-調査結果"]
[null,{"$f":"'1_入力シート【基本情報】'!$AR$382","v":0},"",{"$f":"'1_入力シート【基本情報】'!$AR$382","v":0},{"$f":"'1_入力シート【基本情報】'!$AR$382","v":0},null,"22","調査結果","-","建築物の内部","-","4（13）","-","調査者番号",null,null,null,null,"22調査結果-建築物の内部-4（13）-調査者番号"]
[null,{"$f":"'1_入力シート【基本情報】'!$AT$382","v":0},"",{"$f":"'1_入力シート【基本情報】'!$AT$382","v":0},{"$f":"'1_入力シート【基本情報】'!$AT$382","v":0},null,"22","調査結果","-","建築物の内部","-","4（13）","-","指摘の具体的内容等",null,null,null,null,"22調査結果-建築物の内部-4（13）-指摘の具体的内容等"]
[null,{"$f":"'1_入力シート【基本情報】'!$BD$382","v":0},"",{"$f":"'1_入力シート【基本情報】'!$BD$382","v":0},{"$f":"'1_入力シート【基本情報】'!$BD$382","v":0},null,"22","調査結果","-","建築物の内部","-","4（13）","-","改善策の具体的内容等",null,null,null,null,"22調査結果-建築物の内部-4（13）-改善策の具体的内容等"]
[null,{"$f":"'1_入力シート【基本情報】'!$BS$382","v":0},{"$f":"ASC($D632)","v":"0"},{"$f":"'1_入力シート【基本情報】'!$BS$382","v":0},"0",null,"22","調査結果","-","建築物の内部","-","4（13）","-","改善（予定）年月","-","年（令和）",null,null,"22調査結果-建築物の内部-4（13）-改善（予定）年月-年（令和）"]
[null,{"$f":"'1_入力シート【基本情報】'!$BV$382","v":0},"0",{"$f":"'1_入力シート【基本情報】'!$BV$382","v":0},"0",null,"22","調査結果","-","建築物の内部","-","4（13）","-","改善（予定）年月","-","月",null,null,"22調査結果-建築物の内部-4（13）-改善（予定）年月-月"]
[null,{"$f":"'1_入力シート【基本情報】'!$BY$382","v":0},"",{"$f":"'1_入力シート【基本情報】'!$BY$382","v":0},{"$f":"'1_入力シート【基本情報】'!$BY$382","v":0},null,"22","調査結果","-","建築物の内部","-","4（13）","-","改善（予定）年月","-","未定",null,null,"22調査結果-建築物の内部-4（13）-改善（予定）年月-未定"]
[null,{"$f":"'1_入力シート【基本情報】'!$AF$383","v":0},"",{"$f":"IF(C635=\"\",0,C635)","v":0},{"$f":"D635","v":0},null,"22","調査結果","-","建築物の内部","-","4（14）","-","調査結果",null,null,null,null,"22調査結果-建築物の内部-4（14）-調査結果"]
[null,{"$f":"'1_入力シート【基本情報】'!$AR$383","v":0},"",{"$f":"'1_入力シート【基本情報】'!$AR$383","v":0},{"$f":"'1_入力シート【基本情報】'!$AR$383","v":0},null,"22","調査結果","-","建築物の内部","-","4（14）","-","調査者番号",null,null,null,null,"22調査結果-建築物の内部-4（14）-調査者番号"]
[null,{"$f":"'1_入力シート【基本情報】'!$AT$383","v":0},"",{"$f":"'1_入力シート【基本情報】'!$AT$383","v":0},{"$f":"'1_入力シート【基本情報】'!$AT$383","v":0},null,"22","調査結果","-","建築物の内部","-","4（14）","-","指摘の具体的内容等",null,null,null,null,"22調査結果-建築物の内部-4（14）-指摘の具体的内容等"]
[null,{"$f":"'1_入力シート【基本情報】'!$BD$383","v":0},"",{"$f":"'1_入力シート【基本情報】'!$BD$383","v":0},{"$f":"'1_入力シート【基本情報】'!$BD$383","v":0},null,"22","調査結果","-","建築物の内部","-","4（14）","-","改善策の具体的内容等",null,null,null,null,"22調査結果-建築物の内部-4（14）-改善策の具体的内容等"]
[null,{"$f":"'1_入力シート【基本情報】'!$BS$383","v":0},{"$f":"ASC($D639)","v":"0"},{"$f":"'1_入力シート【基本情報】'!$BS$383","v":0},"0",null,"22","調査結果","-","建築物の内部","-","4（14）","-","改善（予定）年月","-","年（令和）",null,null,"22調査結果-建築物の内部-4（14）-改善（予定）年月-年（令和）"]
[null,{"$f":"'1_入力シート【基本情報】'!$BV$383","v":0},"0",{"$f":"'1_入力シート【基本情報】'!$BV$383","v":0},"0",null,"22","調査結果","-","建築物の内部","-","4（14）","-","改善（予定）年月","-","月",null,null,"22調査結果-建築物の内部-4（14）-改善（予定）年月-月"]
[null,{"$f":"'1_入力シート【基本情報】'!$BY$383","v":0},"",{"$f":"'1_入力シート【基本情報】'!$BY$383","v":0},{"$f":"'1_入力シート【基本情報】'!$BY$383","v":0},null,"22","調査結果","-","建築物の内部","-","4（14）","-","改善（予定）年月","-","未定",null,null,"22調査結果-建築物の内部-4（14）-改善（予定）年月-未定"]
[null,{"$f":"'1_入力シート【基本情報】'!$AF$384","v":0},"",{"$f":"IF(C642=\"\",0,C642)","v":0},{"$f":"D642","v":0},null,"22","調査結果","-","建築物の内部","-","4（15）","-","調査結果",null,null,null,null,"22調査結果-建築物の内部-4（15）-調査結果"]
[null,{"$f":"'1_入力シート【基本情報】'!$AR$384","v":0},"",{"$f":"'1_入力シート【基本情報】'!$AR$384","v":0},{"$f":"'1_入力シート【基本情報】'!$AR$384","v":0},null,"22","調査結果","-","建築物の内部","-","4（15）","-","調査者番号",null,null,null,null,"22調査結果-建築物の内部-4（15）-調査者番号"]
[null,{"$f":"'1_入力シート【基本情報】'!$AT$384","v":0},"",{"$f":"'1_入力シート【基本情報】'!$AT$384","v":0},{"$f":"'1_入力シート【基本情報】'!$AT$384","v":0},null,"22","調査結果","-","建築物の内部","-","4（15）","-","指摘の具体的内容等",null,null,null,null,"22調査結果-建築物の内部-4（15）-指摘の具体的内容等"]
[null,{"$f":"'1_入力シート【基本情報】'!$BD$384","v":0},"",{"$f":"'1_入力シート【基本情報】'!$BD$384","v":0},{"$f":"'1_入力シート【基本情報】'!$BD$384","v":0},null,"22","調査結果","-","建築物の内部","-","4（15）","-","改善策の具体的内容等",null,null,null,null,"22調査結果-建築物の内部-4（15）-改善策の具体的内容等"]
[null,{"$f":"'1_入力シート【基本情報】'!$BS$384","v":0},{"$f":"ASC($D646)","v":"0"},{"$f":"'1_入力シート【基本情報】'!$BS$384","v":0},"0",null,"22","調査結果","-","建築物の内部","-","4（15）","-","改善（予定）年月","-","年（令和）",null,null,"22調査結果-建築物の内部-4（15）-改善（予定）年月-年（令和）"]
[null,{"$f":"'1_入力シート【基本情報】'!$BV$384","v":0},"0",{"$f":"'1_入力シート【基本情報】'!$BV$384","v":0},"0",null,"22","調査結果","-","建築物の内部","-","4（15）","-","改善（予定）年月","-","月",null,null,"22調査結果-建築物の内部-4（15）-改善（予定）年月-月"]
[null,{"$f":"'1_入力シート【基本情報】'!$BY$384","v":0},"",{"$f":"'1_入力シート【基本情報】'!$BY$384","v":0},{"$f":"'1_入力シート【基本情報】'!$BY$384","v":0},null,"22","調査結果","-","建築物の内部","-","4（15）","-","改善（予定）年月","-","未定",null,null,{"$f":"CONCATENATE(G648,H648,I648,J648,K648,L648,M648,N648,O648,P648)","v":"22調査結果-建築物の内部-4（15）-改善（予定）年月-未定"}]
[null,{"$f":"'1_入力シート【基本情報】'!$AF$385","v":0},"",{"$f":"IF(C649=\"\",0,C649)","v":0},{"$f":"D649","v":0},null,"22","調査結果","-","建築物の内部","-","4（16）","-","調査結果",null,null,null,null,"22調査結果-建築物の内部-4（16）-調査結果"]
[null,{"$f":"'1_入力シート【基本情報】'!$AR$385","v":0},"",{"$f":"'1_入力シート【基本情報】'!$AR$385","v":0},{"$f":"'1_入力シート【基本情報】'!$AR$385","v":0},null,"22","調査結果","-","建築物の内部","-","4（16）","-","調査者番号",null,null,null,null,"22調査結果-建築物の内部-4（16）-調査者番号"]
[null,{"$f":"'1_入力シート【基本情報】'!$AT$385","v":0},"",{"$f":"'1_入力シート【基本情報】'!$AT$385","v":0},{"$f":"'1_入力シート【基本情報】'!$AT$385","v":0},null,"22","調査結果","-","建築物の内部","-","4（16）","-","指摘の具体的内容等",null,null,null,null,"22調査結果-建築物の内部-4（16）-指摘の具体的内容等"]
[null,{"$f":"'1_入力シート【基本情報】'!$BD$385","v":0},"",{"$f":"'1_入力シート【基本情報】'!$BD$385","v":0},{"$f":"'1_入力シート【基本情報】'!$BD$385","v":0},null,"22","調査結果","-","建築物の内部","-","4（16）","-","改善策の具体的内容等",null,null,null,null,"22調査結果-建築物の内部-4（16）-改善策の具体的内容等"]
[null,{"$f":"'1_入力シート【基本情報】'!$BS$385","v":0},{"$f":"ASC($D653)","v":"0"},{"$f":"'1_入力シート【基本情報】'!$BS$385","v":0},"0",null,"22","調査結果","-","建築物の内部","-","4（16）","-","改善（予定）年月","-","年（令和）",null,null,"22調査結果-建築物の内部-4（16）-改善（予定）年月-年（令和）"]
[null,{"$f":"'1_入力シート【基本情報】'!$BV$385","v":0},"0",{"$f":"'1_入力シート【基本情報】'!$BV$385","v":0},"0",null,"22","調査結果","-","建築物の内部","-","4（16）","-","改善（予定）年月","-","月",null,null,"22調査結果-建築物の内部-4（16）-改善（予定）年月-月"]
[null,{"$f":"'1_入力シート【基本情報】'!$BY$385","v":0},"",{"$f":"'1_入力シート【基本情報】'!$BY$385","v":0},{"$f":"'1_入力シート【基本情報】'!$BY$385","v":0},null,"22","調査結果","-","建築物の内部","-","4（16）","-","改善（予定）年月","-","未定",null,null,"22調査結果-建築物の内部-4（16）-改善（予定）年月-未定"]
[null,{"$f":"'1_入力シート【基本情報】'!$AF$386","v":0},"",{"$f":"IF(C656=\"\",0,C656)","v":0},{"$f":"D656","v":0},null,"22","調査結果","-","建築物の内部","-","4（17）","-","調査結果",null,null,null,null,"22調査結果-建築物の内部-4（17）-調査結果"]
[null,{"$f":"'1_入力シート【基本情報】'!$AR$386","v":0},"",{"$f":"'1_入力シート【基本情報】'!$AR$386","v":0},{"$f":"'1_入力シート【基本情報】'!$AR$386","v":0},null,"22","調査結果","-","建築物の内部","-","4（17）","-","調査者番号",null,null,null,null,"22調査結果-建築物の内部-4（17）-調査者番号"]
[null,{"$f":"'1_入力シート【基本情報】'!$AT$386","v":0},"",{"$f":"'1_入力シート【基本情報】'!$AT$386","v":0},{"$f":"'1_入力シート【基本情報】'!$AT$386","v":0},null,"22","調査結果","-","建築物の内部","-","4（17）","-","指摘の具体的内容等",null,null,null,null,"22調査結果-建築物の内部-4（17）-指摘の具体的内容等"]
[null,{"$f":"'1_入力シート【基本情報】'!$BD$386","v":0},"",{"$f":"'1_入力シート【基本情報】'!$BD$386","v":0},{"$f":"'1_入力シート【基本情報】'!$BD$386","v":0},null,"22","調査結果","-","建築物の内部","-","4（17）","-","改善策の具体的内容等",null,null,null,null,"22調査結果-建築物の内部-4（17）-改善策の具体的内容等"]
[null,{"$f":"'1_入力シート【基本情報】'!$BS$386","v":0},{"$f":"ASC($D660)","v":"0"},{"$f":"'1_入力シート【基本情報】'!$BS$386","v":0},"0",null,"22","調査結果","-","建築物の内部","-","4（17）","-","改善（予定）年月","-","年（令和）",null,null,"22調査結果-建築物の内部-4（17）-改善（予定）年月-年（令和）"]
[null,{"$f":"'1_入力シート【基本情報】'!$BV$386","v":0},"0",{"$f":"'1_入力シート【基本情報】'!$BV$386","v":0},"0",null,"22","調査結果","-","建築物の内部","-","4（17）","-","改善（予定）年月","-","月",null,null,"22調査結果-建築物の内部-4（17）-改善（予定）年月-月"]
[null,{"$f":"'1_入力シート【基本情報】'!$BY$386","v":0},"",{"$f":"'1_入力シート【基本情報】'!$BY$386","v":0},{"$f":"'1_入力シート【基本情報】'!$BY$386","v":0},null,"22","調査結果","-","建築物の内部","-","4（17）","-","改善（予定）年月","-","未定",null,null,"22調査結果-建築物の内部-4（17）-改善（予定）年月-未定"]
[null,{"$f":"'1_入力シート【基本情報】'!$AF$387","v":0},"",{"$f":"IF(C663=\"\",0,C663)","v":0},{"$f":"D663","v":0},null,"22","調査結果","-","建築物の内部","-","4（18）","-","調査結果",null,null,null,null,"22調査結果-建築物の内部-4（18）-調査結果"]
[null,{"$f":"'1_入力シート【基本情報】'!$AR$387","v":0},"",{"$f":"'1_入力シート【基本情報】'!$AR$387","v":0},{"$f":"'1_入力シート【基本情報】'!$AR$387","v":0},null,"22","調査結果","-","建築物の内部","-","4（18）","-","調査者番号",null,null,null,null,"22調査結果-建築物の内部-4（18）-調査者番号"]
[null,{"$f":"'1_入力シート【基本情報】'!$AT$387","v":0},"",{"$f":"'1_入力シート【基本情報】'!$AT$387","v":0},{"$f":"'1_入力シート【基本情報】'!$AT$387","v":0},null,"22","調査結果","-","建築物の内部","-","4（18）","-","指摘の具体的内容等",null,null,null,null,"22調査結果-建築物の内部-4（18）-指摘の具体的内容等"]
[null,{"$f":"'1_入力シート【基本情報】'!$BD$387","v":0},"",{"$f":"'1_入力シート【基本情報】'!$BD$387","v":0},{"$f":"'1_入力シート【基本情報】'!$BD$387","v":0},null,"22","調査結果","-","建築物の内部","-","4（18）","-","改善策の具体的内容等",null,null,null,null,"22調査結果-建築物の内部-4（18）-改善策の具体的内容等"]
[null,{"$f":"'1_入力シート【基本情報】'!$BS$387","v":0},{"$f":"ASC($D667)","v":"0"},{"$f":"'1_入力シート【基本情報】'!$BS$387","v":0},"0",null,"22","調査結果","-","建築物の内部","-","4（18）","-","改善（予定）年月","-","年（令和）",null,null,"22調査結果-建築物の内部-4（18）-改善（予定）年月-年（令和）"]
[null,{"$f":"'1_入力シート【基本情報】'!$BV$387","v":0},"0",{"$f":"'1_入力シート【基本情報】'!$BV$387","v":0},"0",null,"22","調査結果","-","建築物の内部","-","4（18）","-","改善（予定）年月","-","月",null,null,"22調査結果-建築物の内部-4（18）-改善（予定）年月-月"]
[null,{"$f":"'1_入力シート【基本情報】'!$BY$387","v":0},"",{"$f":"'1_入力シート【基本情報】'!$BY$387","v":0},{"$f":"'1_入力シート【基本情報】'!$BY$387","v":0},null,"22","調査結果","-","建築物の内部","-","4（18）","-","改善（予定）年月","-","未定",null,null,"22調査結果-建築物の内部-4（18）-改善（予定）年月-未定"]
[null,{"$f":"'1_入力シート【基本情報】'!$AF$388","v":0},"",{"$f":"IF(C670=\"\",0,C670)","v":0},{"$f":"D670","v":0},null,"22","調査結果","-","建築物の内部","-","4（19）","-","調査結果",null,null,null,null,"22調査結果-建築物の内部-4（19）-調査結果"]
[null,{"$f":"'1_入力シート【基本情報】'!$AR$388","v":0},"",{"$f":"'1_入力シート【基本情報】'!$AR$388","v":0},{"$f":"'1_入力シート【基本情報】'!$AR$388","v":0},null,"22","調査結果","-","建築物の内部","-","4（19）","-","調査者番号",null,null,null,null,"22調査結果-建築物の内部-4（19）-調査者番号"]
[null,{"$f":"'1_入力シート【基本情報】'!$AT$388","v":0},"",{"$f":"'1_入力シート【基本情報】'!$AT$388","v":0},{"$f":"'1_入力シート【基本情報】'!$AT$388","v":0},null,"22","調査結果","-","建築物の内部","-","4（19）","-","指摘の具体的内容等",null,null,null,null,"22調査結果-建築物の内部-4（19）-指摘の具体的内容等"]
[null,{"$f":"'1_入力シート【基本情報】'!$BD$388","v":0},"",{"$f":"'1_入力シート【基本情報】'!$BD$388","v":0},{"$f":"'1_入力シート【基本情報】'!$BD$388","v":0},null,"22","調査結果","-","建築物の内部","-","4（19）","-","改善策の具体的内容等",null,null,null,null,"22調査結果-建築物の内部-4（19）-改善策の具体的内容等"]
[null,{"$f":"'1_入力シート【基本情報】'!$BS$388","v":0},{"$f":"ASC($D674)","v":"0"},{"$f":"'1_入力シート【基本情報】'!$BS$388","v":0},"0",null,"22","調査結果","-","建築物の内部","-","4（19）","-","改善（予定）年月","-","年（令和）",null,null,"22調査結果-建築物の内部-4（19）-改善（予定）年月-年（令和）"]
[null,{"$f":"'1_入力シート【基本情報】'!$BV$388","v":0},"0",{"$f":"'1_入力シート【基本情報】'!$BV$388","v":0},"0",null,"22","調査結果","-","建築物の内部","-","4（19）","-","改善（予定）年月","-","月",null,null,"22調査結果-建築物の内部-4（19）-改善（予定）年月-月"]
[null,{"$f":"'1_入力シート【基本情報】'!$BY$388","v":0},{"$f":"MID(B676,2,14)","v":""},{"$f":"'1_入力シート【基本情報】'!$BY$388","v":0},{"$f":"'1_入力シート【基本情報】'!$BY$388","v":0},null,"22","調査結果","-","建築物の内部","-","4（19）","-","改善（予定）年月","-","未定",null,null,"22調査結果-建築物の内部-4（19）-改善（予定）年月-未定"]
[null,{"$f":"'1_入力シート【基本情報】'!$AF$389","v":0},"",{"$f":"IF(C677=\"\",0,C677)","v":0},{"$f":"D677","v":0},null,"22","調査結果","-","建築物の内部","-","4（20）","-","調査結果",null,null,null,null,"22調査結果-建築物の内部-4（20）-調査結果"]
[null,{"$f":"'1_入力シート【基本情報】'!$AR$389","v":0},"",{"$f":"'1_入力シート【基本情報】'!$AR$389","v":0},{"$f":"'1_入力シート【基本情報】'!$AR$389","v":0},null,"22","調査結果","-","建築物の内部","-","4（20）","-","調査者番号",null,null,null,null,"22調査結果-建築物の内部-4（20）-調査者番号"]
[null,{"$f":"'1_入力シート【基本情報】'!$AT$389","v":0},"",{"$f":"'1_入力シート【基本情報】'!$AT$389","v":0},{"$f":"'1_入力シート【基本情報】'!$AT$389","v":0},null,"22","調査結果","-","建築物の内部","-","4（20）","-","指摘の具体的内容等",null,null,null,null,"22調査結果-建築物の内部-4（20）-指摘の具体的内容等"]
[null,{"$f":"'1_入力シート【基本情報】'!$BD$389","v":0},"",{"$f":"'1_入力シート【基本情報】'!$BD$389","v":0},{"$f":"'1_入力シート【基本情報】'!$BD$389","v":0},null,"22","調査結果","-","建築物の内部","-","4（20）","-","改善策の具体的内容等",null,null,null,null,"22調査結果-建築物の内部-4（20）-改善策の具体的内容等"]
[null,{"$f":"'1_入力シート【基本情報】'!$BS$389","v":0},{"$f":"ASC($D681)","v":"0"},{"$f":"'1_入力シート【基本情報】'!$BS$389","v":0},"0",null,"22","調査結果","-","建築物の内部","-","4（20）","-","改善（予定）年月","-","年（令和）",null,null,"22調査結果-建築物の内部-4（20）-改善（予定）年月-年（令和）"]
[null,{"$f":"'1_入力シート【基本情報】'!$BV$389","v":0},"0",{"$f":"'1_入力シート【基本情報】'!$BV$389","v":0},"0",null,"22","調査結果","-","建築物の内部","-","4（20）","-","改善（予定）年月","-","月",null,null,"22調査結果-建築物の内部-4（20）-改善（予定）年月-月"]
[null,{"$f":"'1_入力シート【基本情報】'!$BY$389","v":0},"",{"$f":"'1_入力シート【基本情報】'!$BY$389","v":0},{"$f":"'1_入力シート【基本情報】'!$BY$389","v":0},null,"22","調査結果","-","建築物の内部","-","4（20）","-","改善（予定）年月","-","未定",null,null,"22調査結果-建築物の内部-4（20）-改善（予定）年月-未定"]
[null,{"$f":"'1_入力シート【基本情報】'!$AF$390","v":0},"",{"$f":"IF(C684=\"\",0,C684)","v":0},{"$f":"D684","v":0},null,"22","調査結果","-","建築物の内部","-","4（21）","-","調査結果",null,null,null,null,"22調査結果-建築物の内部-4（21）-調査結果"]
[null,{"$f":"'1_入力シート【基本情報】'!$AR$390","v":0},"",{"$f":"'1_入力シート【基本情報】'!$AR$390","v":0},{"$f":"'1_入力シート【基本情報】'!$AR$390","v":0},null,"22","調査結果","-","建築物の内部","-","4（21）","-","調査者番号",null,null,null,null,"22調査結果-建築物の内部-4（21）-調査者番号"]
[null,{"$f":"'1_入力シート【基本情報】'!$AT$390","v":0},"",{"$f":"'1_入力シート【基本情報】'!$AT$390","v":0},{"$f":"'1_入力シート【基本情報】'!$AT$390","v":0},null,"22","調査結果","-","建築物の内部","-","4（21）","-","指摘の具体的内容等",null,null,null,null,"22調査結果-建築物の内部-4（21）-指摘の具体的内容等"]
[null,{"$f":"'1_入力シート【基本情報】'!$BD$390","v":0},"",{"$f":"'1_入力シート【基本情報】'!$BD$390","v":0},{"$f":"'1_入力シート【基本情報】'!$BD$390","v":0},null,"22","調査結果","-","建築物の内部","-","4（21）","-","改善策の具体的内容等",null,null,null,null,"22調査結果-建築物の内部-4（21）-改善策の具体的内容等"]
[null,{"$f":"'1_入力シート【基本情報】'!$BS$390","v":0},{"$f":"ASC($D688)","v":"0"},{"$f":"'1_入力シート【基本情報】'!$BS$390","v":0},"0",null,"22","調査結果","-","建築物の内部","-","4（21）","-","改善（予定）年月","-","年（令和）",null,null,"22調査結果-建築物の内部-4（21）-改善（予定）年月-年（令和）"]
[null,{"$f":"'1_入力シート【基本情報】'!$BV$390","v":0},"0",{"$f":"'1_入力シート【基本情報】'!$BV$390","v":0},"0",null,"22","調査結果","-","建築物の内部","-","4（21）","-","改善（予定）年月","-","月",null,null,"22調査結果-建築物の内部-4（21）-改善（予定）年月-月"]
[null,{"$f":"'1_入力シート【基本情報】'!$BY$390","v":0},"",{"$f":"'1_入力シート【基本情報】'!$BY$390","v":0},{"$f":"'1_入力シート【基本情報】'!$BY$390","v":0},null,"22","調査結果","-","建築物の内部","-","4（21）","-","改善（予定）年月","-","未定",null,null,"22調査結果-建築物の内部-4（21）-改善（予定）年月-未定"]
[null,{"$f":"'1_入力シート【基本情報】'!$AF$391","v":0},"",{"$f":"IF(C691=\"\",0,C691)","v":0},{"$f":"D691","v":0},null,"22","調査結果","-","建築物の内部","-","4（22）","-","調査結果",null,null,null,null,"22調査結果-建築物の内部-4（22）-調査結果"]
[null,{"$f":"'1_入力シート【基本情報】'!$AR$391","v":0},"",{"$f":"'1_入力シート【基本情報】'!$AR$391","v":0},{"$f":"'1_入力シート【基本情報】'!$AR$391","v":0},null,"22","調査結果","-","建築物の内部","-","4（22）","-","調査者番号",null,null,null,null,"22調査結果-建築物の内部-4（22）-調査者番号"]
[null,{"$f":"'1_入力シート【基本情報】'!$AT$391","v":0},"",{"$f":"'1_入力シート【基本情報】'!$AT$391","v":0},{"$f":"'1_入力シート【基本情報】'!$AT$391","v":0},null,"22","調査結果","-","建築物の内部","-","4（22）","-","指摘の具体的内容等",null,null,null,null,"22調査結果-建築物の内部-4（22）-指摘の具体的内容等"]
[null,{"$f":"'1_入力シート【基本情報】'!$BD$391","v":0},"",{"$f":"'1_入力シート【基本情報】'!$BD$391","v":0},{"$f":"'1_入力シート【基本情報】'!$BD$391","v":0},null,"22","調査結果","-","建築物の内部","-","4（22）","-","改善策の具体的内容等",null,null,null,null,"22調査結果-建築物の内部-4（22）-改善策の具体的内容等"]
[null,{"$f":"'1_入力シート【基本情報】'!$BS$391","v":0},{"$f":"ASC($D695)","v":"0"},{"$f":"'1_入力シート【基本情報】'!$BS$391","v":0},"0",null,"22","調査結果","-","建築物の内部","-","4（22）","-","改善（予定）年月","-","年（令和）",null,null,"22調査結果-建築物の内部-4（22）-改善（予定）年月-年（令和）"]
[null,{"$f":"'1_入力シート【基本情報】'!$BV$391","v":0},"0",{"$f":"'1_入力シート【基本情報】'!$BV$391","v":0},"0",null,"22","調査結果","-","建築物の内部","-","4（22）","-","改善（予定）年月","-","月",null,null,"22調査結果-建築物の内部-4（22）-改善（予定）年月-月"]
[null,{"$f":"'1_入力シート【基本情報】'!$BY$391","v":0},"",{"$f":"'1_入力シート【基本情報】'!$BY$391","v":0},{"$f":"'1_入力シート【基本情報】'!$BY$391","v":0},null,"22","調査結果","-","建築物の内部","-","4（22）","-","改善（予定）年月","-","未定",null,null,"22調査結果-建築物の内部-4（22）-改善（予定）年月-未定"]
[null,{"$f":"'1_入力シート【基本情報】'!$AF$392","v":0},"",{"$f":"IF(C698=\"\",0,C698)","v":0},{"$f":"D698","v":0},null,"22","調査結果","-","建築物の内部","-","4（23）","-","調査結果",null,null,null,null,"22調査結果-建築物の内部-4（23）-調査結果"]
[null,{"$f":"'1_入力シート【基本情報】'!$AR$392","v":0},"",{"$f":"'1_入力シート【基本情報】'!$AR$392","v":0},{"$f":"'1_入力シート【基本情報】'!$AR$392","v":0},null,"22","調査結果","-","建築物の内部","-","4（23）","-","調査者番号",null,null,null,null,"22調査結果-建築物の内部-4（23）-調査者番号"]
[null,{"$f":"'1_入力シート【基本情報】'!$AT$392","v":0},"",{"$f":"'1_入力シート【基本情報】'!$AT$392","v":0},{"$f":"'1_入力シート【基本情報】'!$AT$392","v":0},null,"22","調査結果","-","建築物の内部","-","4（23）","-","指摘の具体的内容等",null,null,null,null,"22調査結果-建築物の内部-4（23）-指摘の具体的内容等"]
[null,{"$f":"'1_入力シート【基本情報】'!$BD$392","v":0},"",{"$f":"'1_入力シート【基本情報】'!$BD$392","v":0},{"$f":"'1_入力シート【基本情報】'!$BD$392","v":0},null,"22","調査結果","-","建築物の内部","-","4（23）","-","改善策の具体的内容等",null,null,null,null,"22調査結果-建築物の内部-4（23）-改善策の具体的内容等"]
[null,{"$f":"'1_入力シート【基本情報】'!$BS$392","v":0},{"$f":"ASC($D702)","v":"0"},{"$f":"'1_入力シート【基本情報】'!$BS$392","v":0},"0",null,"22","調査結果","-","建築物の内部","-","4（23）","-","改善（予定）年月","-","年（令和）",null,null,"22調査結果-建築物の内部-4（23）-改善（予定）年月-年（令和）"]
[null,{"$f":"'1_入力シート【基本情報】'!$BV$392","v":0},"0",{"$f":"'1_入力シート【基本情報】'!$BV$392","v":0},"0",null,"22","調査結果","-","建築物の内部","-","4（23）","-","改善（予定）年月","-","月",null,null,"22調査結果-建築物の内部-4（23）-改善（予定）年月-月"]
[null,{"$f":"'1_入力シート【基本情報】'!$BY$392","v":0},"",{"$f":"'1_入力シート【基本情報】'!$BY$392","v":0},{"$f":"'1_入力シート【基本情報】'!$BY$392","v":0},null,"22","調査結果","-","建築物の内部","-","4（23）","-","改善（予定）年月","-","未定",null,null,"22調査結果-建築物の内部-4（23）-改善（予定）年月-未定"]
[null,{"$f":"'1_入力シート【基本情報】'!$AF$393","v":0},"",{"$f":"IF(C705=\"\",0,C705)","v":0},{"$f":"D705","v":0},null,"22","調査結果","-","建築物の内部","-","4（24）","-","調査結果",null,null,null,null,"22調査結果-建築物の内部-4（24）-調査結果"]
[null,{"$f":"'1_入力シート【基本情報】'!$AR$393","v":0},"",{"$f":"'1_入力シート【基本情報】'!$AR$393","v":0},{"$f":"'1_入力シート【基本情報】'!$AR$393","v":0},null,"22","調査結果","-","建築物の内部","-","4（24）","-","調査者番号",null,null,null,null,"22調査結果-建築物の内部-4（24）-調査者番号"]
[null,{"$f":"'1_入力シート【基本情報】'!$AT$393","v":0},"",{"$f":"'1_入力シート【基本情報】'!$AT$393","v":0},{"$f":"'1_入力シート【基本情報】'!$AT$393","v":0},null,"22","調査結果","-","建築物の内部","-","4（24）","-","指摘の具体的内容等",null,null,null,null,"22調査結果-建築物の内部-4（24）-指摘の具体的内容等"]
[null,{"$f":"'1_入力シート【基本情報】'!$BD$393","v":0},"",{"$f":"'1_入力シート【基本情報】'!$BD$393","v":0},{"$f":"'1_入力シート【基本情報】'!$BD$393","v":0},null,"22","調査結果","-","建築物の内部","-","4（24）","-","改善策の具体的内容等",null,null,null,null,"22調査結果-建築物の内部-4（24）-改善策の具体的内容等"]
[null,{"$f":"'1_入力シート【基本情報】'!$BS$393","v":0},{"$f":"ASC($D709)","v":"0"},{"$f":"'1_入力シート【基本情報】'!$BS$393","v":0},"0",null,"22","調査結果","-","建築物の内部","-","4（24）","-","改善（予定）年月","-","年（令和）",null,null,"22調査結果-建築物の内部-4（24）-改善（予定）年月-年（令和）"]
[null,{"$f":"'1_入力シート【基本情報】'!$BV$393","v":0},"0",{"$f":"'1_入力シート【基本情報】'!$BV$393","v":0},"0",null,"22","調査結果","-","建築物の内部","-","4（24）","-","改善（予定）年月","-","月",null,null,"22調査結果-建築物の内部-4（24）-改善（予定）年月-月"]
[null,{"$f":"'1_入力シート【基本情報】'!$BY$393","v":0},"",{"$f":"'1_入力シート【基本情報】'!$BY$393","v":0},{"$f":"'1_入力シート【基本情報】'!$BY$393","v":0},null,"22","調査結果","-","建築物の内部","-","4（24）","-","改善（予定）年月","-","未定",null,null,"22調査結果-建築物の内部-4（24）-改善（予定）年月-未定"]
[null,{"$f":"'1_入力シート【基本情報】'!$AF$394","v":0},"",{"$f":"IF(C712=\"\",0,C712)","v":0},{"$f":"D712","v":0},null,"22","調査結果","-","建築物の内部","-","4（25）","-","調査結果",null,null,null,null,{"$f":"CONCATENATE(G712,H712,I712,J712,K712,L712,M712,N712,O712,P712)","v":"22調査結果-建築物の内部-4（25）-調査結果"}]
[null,{"$f":"'1_入力シート【基本情報】'!$AR$394","v":0},"",{"$f":"'1_入力シート【基本情報】'!$AR$394","v":0},{"$f":"'1_入力シート【基本情報】'!$AR$394","v":0},null,"22","調査結果","-","建築物の内部","-","4（25）","-","調査者番号",null,null,null,null,"22調査結果-建築物の内部-4（25）-調査者番号"]
[null,{"$f":"'1_入力シート【基本情報】'!$AT$394","v":0},"",{"$f":"'1_入力シート【基本情報】'!$AT$394","v":0},{"$f":"'1_入力シート【基本情報】'!$AT$394","v":0},null,"22","調査結果","-","建築物の内部","-","4（25）","-","指摘の具体的内容等",null,null,null,null,"22調査結果-建築物の内部-4（25）-指摘の具体的内容等"]
[null,{"$f":"'1_入力シート【基本情報】'!$BD$394","v":0},"",{"$f":"'1_入力シート【基本情報】'!$BD$394","v":0},{"$f":"'1_入力シート【基本情報】'!$BD$394","v":0},null,"22","調査結果","-","建築物の内部","-","4（25）","-","改善策の具体的内容等",null,null,null,null,"22調査結果-建築物の内部-4（25）-改善策の具体的内容等"]
[null,{"$f":"'1_入力シート【基本情報】'!$BS$394","v":0},{"$f":"ASC($D716)","v":"0"},{"$f":"'1_入力シート【基本情報】'!$BS$394","v":0},"0",null,"22","調査結果","-","建築物の内部",null,"4（25）","-","改善（予定）年月","-","年（令和）",null,null,"22調査結果-建築物の内部4（25）-改善（予定）年月-年（令和）"]
[null,{"$f":"'1_入力シート【基本情報】'!$BV$394","v":0},"0",{"$f":"'1_入力シート【基本情報】'!$BV$394","v":0},"0",null,"22","調査結果","-","建築物の内部","-","4（25）","-","改善（予定）年月","-","月",null,null,"22調査結果-建築物の内部-4（25）-改善（予定）年月-月"]
[null,{"$f":"'1_入力シート【基本情報】'!$BY$394","v":0},"",{"$f":"'1_入力シート【基本情報】'!$BY$394","v":0},{"$f":"'1_入力シート【基本情報】'!$BY$394","v":0},null,"22","調査結果","-","建築物の内部","-","4（25）","-","改善（予定）年月","-","未定",null,null,"22調査結果-建築物の内部-4（25）-改善（予定）年月-未定"]
[null,{"$f":"'1_入力シート【基本情報】'!$AF$395","v":0},"",{"$f":"IF(C719=\"\",0,C719)","v":0},{"$f":"D719","v":0},null,"22","調査結果","-","建築物の内部","-","4（26）","-","調査結果",null,null,null,null,"22調査結果-建築物の内部-4（26）-調査結果"]
[null,{"$f":"'1_入力シート【基本情報】'!$AR$395","v":0},"",{"$f":"'1_入力シート【基本情報】'!$AR$395","v":0},{"$f":"'1_入力シート【基本情報】'!$AR$395","v":0},null,"22","調査結果","-","建築物の内部","-","4（26）","-","調査者番号",null,null,null,null,"22調査結果-建築物の内部-4（26）-調査者番号"]
[null,{"$f":"'1_入力シート【基本情報】'!$AT$395","v":0},"",{"$f":"'1_入力シート【基本情報】'!$AT$395","v":0},{"$f":"'1_入力シート【基本情報】'!$AT$395","v":0},null,"22","調査結果","-","建築物の内部","-","4（26）","-","指摘の具体的内容等",null,null,null,null,"22調査結果-建築物の内部-4（26）-指摘の具体的内容等"]
[null,{"$f":"'1_入力シート【基本情報】'!$BD$395","v":0},"",{"$f":"'1_入力シート【基本情報】'!$BD$395","v":0},{"$f":"'1_入力シート【基本情報】'!$BD$395","v":0},null,"22","調査結果","-","建築物の内部","-","4（26）","-","改善策の具体的内容等",null,null,null,null,"22調査結果-建築物の内部-4（26）-改善策の具体的内容等"]
[null,{"$f":"'1_入力シート【基本情報】'!$BS$395","v":0},{"$f":"ASC($D723)","v":"0"},{"$f":"'1_入力シート【基本情報】'!$BS$395","v":0},"0",null,"22","調査結果","-","建築物の内部","-","4（26）","-","改善（予定）年月","-","年（令和）",null,null,"22調査結果-建築物の内部-4（26）-改善（予定）年月-年（令和）"]
[null,{"$f":"'1_入力シート【基本情報】'!$BV$395","v":0},"0",{"$f":"'1_入力シート【基本情報】'!$BV$395","v":0},"0",null,"22","調査結果","-","建築物の内部",null,"4（26）","-","改善（予定）年月","-","月",null,null,"22調査結果-建築物の内部4（26）-改善（予定）年月-月"]
[null,{"$f":"'1_入力シート【基本情報】'!$BY$395","v":0},"",{"$f":"'1_入力シート【基本情報】'!$BY$395","v":0},{"$f":"'1_入力シート【基本情報】'!$BY$395","v":0},null,"22","調査結果","-","建築物の内部","-","4（26）","-","改善（予定）年月","-","未定",null,null,"22調査結果-建築物の内部-4（26）-改善（予定）年月-未定"]
[null,{"$f":"'1_入力シート【基本情報】'!$AF$396","v":0},"",{"$f":"IF(C726=\"\",0,C726)","v":0},{"$f":"D726","v":0},null,"22","調査結果","-","建築物の内部","-","4（27）","-","調査結果",null,null,null,null,"22調査結果-建築物の内部-4（27）-調査結果"]
[null,{"$f":"'1_入力シート【基本情報】'!$AR$396","v":0},"",{"$f":"'1_入力シート【基本情報】'!$AR$396","v":0},{"$f":"'1_入力シート【基本情報】'!$AR$396","v":0},null,"22","調査結果","-","建築物の内部","-","4（27）","-","調査者番号",null,null,null,null,"22調査結果-建築物の内部-4（27）-調査者番号"]
[null,{"$f":"'1_入力シート【基本情報】'!$AT$396","v":0},"",{"$f":"'1_入力シート【基本情報】'!$AT$396","v":0},{"$f":"'1_入力シート【基本情報】'!$AT$396","v":0},null,"22","調査結果","-","建築物の内部","-","4（27）","-","指摘の具体的内容等",null,null,null,null,"22調査結果-建築物の内部-4（27）-指摘の具体的内容等"]
[null,{"$f":"'1_入力シート【基本情報】'!$BD$396","v":0},"",{"$f":"'1_入力シート【基本情報】'!$BD$396","v":0},{"$f":"'1_入力シート【基本情報】'!$BD$396","v":0},null,"22","調査結果","-","建築物の内部","-","4（27）","-","改善策の具体的内容等",null,null,null,null,"22調査結果-建築物の内部-4（27）-改善策の具体的内容等"]
[null,{"$f":"'1_入力シート【基本情報】'!$BS$396","v":0},{"$f":"ASC($D730)","v":"0"},{"$f":"'1_入力シート【基本情報】'!$BS$396","v":0},"0",null,"22","調査結果","-","建築物の内部","-","4（27）","-","改善（予定）年月","-","年（令和）",null,null,"22調査結果-建築物の内部-4（27）-改善（予定）年月-年（令和）"]
[null,{"$f":"'1_入力シート【基本情報】'!$BV$396","v":0},"0",{"$f":"'1_入力シート【基本情報】'!$BV$396","v":0},"0",null,"22","調査結果","-","建築物の内部","-","4（27）","-","改善（予定）年月","-","月",null,null,"22調査結果-建築物の内部-4（27）-改善（予定）年月-月"]
[null,{"$f":"'1_入力シート【基本情報】'!$BY$396","v":0},"",{"$f":"'1_入力シート【基本情報】'!$BY$396","v":0},{"$f":"'1_入力シート【基本情報】'!$BY$396","v":0},null,"22","調査結果","-","建築物の内部",null,"4（27）","-","改善（予定）年月","-","未定",null,null,"22調査結果-建築物の内部4（27）-改善（予定）年月-未定"]
[null,{"$f":"'1_入力シート【基本情報】'!$AF$397","v":0},"",{"$f":"IF(C733=\"\",0,C733)","v":0},{"$f":"D733","v":0},null,"22","調査結果","-","建築物の内部","-","4（28）","-","調査結果",null,null,null,null,"22調査結果-建築物の内部-4（28）-調査結果"]
[null,{"$f":"'1_入力シート【基本情報】'!$AR$397","v":0},"",{"$f":"'1_入力シート【基本情報】'!$AR$397","v":0},{"$f":"'1_入力シート【基本情報】'!$AR$397","v":0},null,"22","調査結果","-","建築物の内部","-","4（28）","-","調査者番号",null,null,null,null,"22調査結果-建築物の内部-4（28）-調査者番号"]
[null,{"$f":"'1_入力シート【基本情報】'!$AT$397","v":0},"",{"$f":"'1_入力シート【基本情報】'!$AT$397","v":0},{"$f":"'1_入力シート【基本情報】'!$AT$397","v":0},null,"22","調査結果","-","建築物の内部","-","4（28）","-","指摘の具体的内容等",null,null,null,null,"22調査結果-建築物の内部-4（28）-指摘の具体的内容等"]
[null,{"$f":"'1_入力シート【基本情報】'!$BD$397","v":0},"",{"$f":"'1_入力シート【基本情報】'!$BD$397","v":0},{"$f":"'1_入力シート【基本情報】'!$BD$397","v":0},null,"22","調査結果","-","建築物の内部","-","4（28）","-","改善策の具体的内容等",null,null,null,null,"22調査結果-建築物の内部-4（28）-改善策の具体的内容等"]
[null,{"$f":"'1_入力シート【基本情報】'!$BS$397","v":0},{"$f":"ASC($D737)","v":"0"},{"$f":"'1_入力シート【基本情報】'!$BS$397","v":0},"0",null,"22","調査結果","-","建築物の内部","-","4（28）","-","改善（予定）年月","-","年（令和）",null,null,"22調査結果-建築物の内部-4（28）-改善（予定）年月-年（令和）"]
[null,{"$f":"'1_入力シート【基本情報】'!$BV$397","v":0},"0",{"$f":"'1_入力シート【基本情報】'!$BV$397","v":0},"0",null,"22","調査結果","-","建築物の内部","-","4（28）","-","改善（予定）年月","-","月",null,null,"22調査結果-建築物の内部-4（28）-改善（予定）年月-月"]
[null,{"$f":"'1_入力シート【基本情報】'!$BY$397","v":0},{"$f":"MID(B739,2,14)","v":""},{"$f":"'1_入力シート【基本情報】'!$BY$397","v":0},{"$f":"'1_入力シート【基本情報】'!$BY$397","v":0},null,"22","調査結果","-","建築物の内部","-","4（28）","-","改善（予定）年月","-","未定",null,null,"22調査結果-建築物の内部-4（28）-改善（予定）年月-未定"]
[null,{"$f":"'1_入力シート【基本情報】'!$AF$398","v":0},"",{"$f":"IF(C740=\"\",0,C740)","v":0},{"$f":"D740","v":0},null,"22","調査結果","-","建築物の内部",null,"4（29）","-","調査結果",null,null,null,null,"22調査結果-建築物の内部4（29）-調査結果"]
[null,{"$f":"'1_入力シート【基本情報】'!$AR$398","v":0},"",{"$f":"'1_入力シート【基本情報】'!$AR$398","v":0},{"$f":"'1_入力シート【基本情報】'!$AR$398","v":0},null,"22","調査結果","-","建築物の内部","-","4（29）","-","調査者番号",null,null,null,null,"22調査結果-建築物の内部-4（29）-調査者番号"]
[null,{"$f":"'1_入力シート【基本情報】'!$AT$398","v":0},"",{"$f":"'1_入力シート【基本情報】'!$AT$398","v":0},{"$f":"'1_入力シート【基本情報】'!$AT$398","v":0},null,"22","調査結果","-","建築物の内部","-","4（29）","-","指摘の具体的内容等",null,null,null,null,"22調査結果-建築物の内部-4（29）-指摘の具体的内容等"]
[null,{"$f":"'1_入力シート【基本情報】'!$BD$398","v":0},"",{"$f":"'1_入力シート【基本情報】'!$BD$398","v":0},{"$f":"'1_入力シート【基本情報】'!$BD$398","v":0},null,"22","調査結果","-","建築物の内部","-","4（29）","-","改善策の具体的内容等",null,null,null,null,"22調査結果-建築物の内部-4（29）-改善策の具体的内容等"]
[null,{"$f":"'1_入力シート【基本情報】'!$BS$398","v":0},{"$f":"ASC($D744)","v":"0"},{"$f":"'1_入力シート【基本情報】'!$BS$398","v":0},"0",null,"22","調査結果","-","建築物の内部","-","4（29）","-","改善（予定）年月","-","年（令和）",null,null,"22調査結果-建築物の内部-4（29）-改善（予定）年月-年（令和）"]
[null,{"$f":"'1_入力シート【基本情報】'!$BV$398","v":0},"0",{"$f":"'1_入力シート【基本情報】'!$BV$398","v":0},"0",null,"22","調査結果","-","建築物の内部","-","4（29）","-","改善（予定）年月","-","月",null,null,"22調査結果-建築物の内部-4（29）-改善（予定）年月-月"]
[null,{"$f":"'1_入力シート【基本情報】'!$BY$398","v":0},"",{"$f":"'1_入力シート【基本情報】'!$BY$398","v":0},{"$f":"'1_入力シート【基本情報】'!$BY$398","v":0},null,"22","調査結果","-","建築物の内部","-","4（29）","-","改善（予定）年月","-","未定",null,null,"22調査結果-建築物の内部-4（29）-改善（予定）年月-未定"]
[null,{"$f":"'1_入力シート【基本情報】'!$AF$399","v":0},"",{"$f":"IF(C747=\"\",0,C747)","v":0},{"$f":"D747","v":0},null,"22","調査結果","-","建築物の内部","-","4（30）","-","調査結果",null,null,null,null,"22調査結果-建築物の内部-4（30）-調査結果"]
[null,{"$f":"'1_入力シート【基本情報】'!$AR$399","v":0},"",{"$f":"'1_入力シート【基本情報】'!$AR$399","v":0},{"$f":"'1_入力シート【基本情報】'!$AR$399","v":0},null,"22","調査結果","-","建築物の内部",null,"4（30）","-","調査者番号",null,null,null,null,"22調査結果-建築物の内部4（30）-調査者番号"]
[null,{"$f":"'1_入力シート【基本情報】'!$AT$399","v":0},"",{"$f":"'1_入力シート【基本情報】'!$AT$399","v":0},{"$f":"'1_入力シート【基本情報】'!$AT$399","v":0},null,"22","調査結果","-","建築物の内部","-","4（30）","-","指摘の具体的内容等",null,null,null,null,"22調査結果-建築物の内部-4（30）-指摘の具体的内容等"]
[null,{"$f":"'1_入力シート【基本情報】'!$BD$399","v":0},"",{"$f":"'1_入力シート【基本情報】'!$BD$399","v":0},{"$f":"'1_入力シート【基本情報】'!$BD$399","v":0},null,"22","調査結果","-","建築物の内部","-","4（30）","-","改善策の具体的内容等",null,null,null,null,"22調査結果-建築物の内部-4（30）-改善策の具体的内容等"]
[null,{"$f":"'1_入力シート【基本情報】'!$BS$399","v":0},{"$f":"ASC($D751)","v":"0"},{"$f":"'1_入力シート【基本情報】'!$BS$399","v":0},"0",null,"22","調査結果","-","建築物の内部","-","4（30）","-","改善（予定）年月","-","年（令和）",null,null,"22調査結果-建築物の内部-4（30）-改善（予定）年月-年（令和）"]
[null,{"$f":"'1_入力シート【基本情報】'!$BV$399","v":0},"0",{"$f":"'1_入力シート【基本情報】'!$BV$399","v":0},"0",null,"22","調査結果","-","建築物の内部","-","4（30）","-","改善（予定）年月","-","月",null,null,"22調査結果-建築物の内部-4（30）-改善（予定）年月-月"]
[null,{"$f":"'1_入力シート【基本情報】'!$BY$399","v":0},"",{"$f":"'1_入力シート【基本情報】'!$BY$399","v":0},{"$f":"'1_入力シート【基本情報】'!$BY$399","v":0},null,"22","調査結果","-","建築物の内部","-","4（30）","-","改善（予定）年月","-","未定",null,null,"22調査結果-建築物の内部-4（30）-改善（予定）年月-未定"]
[null,{"$f":"'1_入力シート【基本情報】'!$AF$400","v":0},"",{"$f":"IF(C754=\"\",0,C754)","v":0},{"$f":"D754","v":0},null,"22","調査結果","-","建築物の内部","-","4（31）","-","調査結果",null,null,null,null,"22調査結果-建築物の内部-4（31）-調査結果"]
[null,{"$f":"'1_入力シート【基本情報】'!$AR$400","v":0},"",{"$f":"'1_入力シート【基本情報】'!$AR$400","v":0},{"$f":"'1_入力シート【基本情報】'!$AR$400","v":0},null,"22","調査結果","-","建築物の内部","-","4（31）","-","調査者番号",null,null,null,null,"22調査結果-建築物の内部-4（31）-調査者番号"]
[null,{"$f":"'1_入力シート【基本情報】'!$AT$400","v":0},"",{"$f":"'1_入力シート【基本情報】'!$AT$400","v":0},{"$f":"'1_入力シート【基本情報】'!$AT$400","v":0},null,"22","調査結果","-","建築物の内部",null,"4（31）","-","指摘の具体的内容等",null,null,null,null,"22調査結果-建築物の内部4（31）-指摘の具体的内容等"]
[null,{"$f":"'1_入力シート【基本情報】'!$BD$400","v":0},"",{"$f":"'1_入力シート【基本情報】'!$BD$400","v":0},{"$f":"'1_入力シート【基本情報】'!$BD$400","v":0},null,"22","調査結果","-","建築物の内部","-","4（31）","-","改善策の具体的内容等",null,null,null,null,"22調査結果-建築物の内部-4（31）-改善策の具体的内容等"]
[null,{"$f":"'1_入力シート【基本情報】'!$BS$400","v":0},{"$f":"ASC($D758)","v":"0"},{"$f":"'1_入力シート【基本情報】'!$BS$400","v":0},"0",null,"22","調査結果","-","建築物の内部","-","4（31）","-","改善（予定）年月","-","年（令和）",null,null,"22調査結果-建築物の内部-4（31）-改善（予定）年月-年（令和）"]
[null,{"$f":"'1_入力シート【基本情報】'!$BV$400","v":0},"0",{"$f":"'1_入力シート【基本情報】'!$BV$400","v":0},"0",null,"22","調査結果","-","建築物の内部","-","4（31）","-","改善（予定）年月","-","月",null,null,"22調査結果-建築物の内部-4（31）-改善（予定）年月-月"]
[null,{"$f":"'1_入力シート【基本情報】'!$BY$400","v":0},"",{"$f":"'1_入力シート【基本情報】'!$BY$400","v":0},{"$f":"'1_入力シート【基本情報】'!$BY$400","v":0},null,"22","調査結果","-","建築物の内部","-","4（31）","-","改善（予定）年月","-","未定",null,null,"22調査結果-建築物の内部-4（31）-改善（予定）年月-未定"]
[null,{"$f":"'1_入力シート【基本情報】'!$AF$401","v":0},"",{"$f":"IF(C761=\"\",0,C761)","v":0},{"$f":"D761","v":0},null,"22","調査結果","-","建築物の内部","-","4（32）","-","調査結果",null,null,null,null,"22調査結果-建築物の内部-4（32）-調査結果"]
[null,{"$f":"'1_入力シート【基本情報】'!$AR$401","v":0},"",{"$f":"'1_入力シート【基本情報】'!$AR$401","v":0},{"$f":"'1_入力シート【基本情報】'!$AR$401","v":0},null,"22","調査結果","-","建築物の内部","-","4（32）","-","調査者番号",null,null,null,null,"22調査結果-建築物の内部-4（32）-調査者番号"]
[null,{"$f":"'1_入力シート【基本情報】'!$AT$401","v":0},"",{"$f":"'1_入力シート【基本情報】'!$AT$401","v":0},{"$f":"'1_入力シート【基本情報】'!$AT$401","v":0},null,"22","調査結果","-","建築物の内部","-","4（32）","-","指摘の具体的内容等",null,null,null,null,"22調査結果-建築物の内部-4（32）-指摘の具体的内容等"]
[null,{"$f":"'1_入力シート【基本情報】'!$BD$401","v":0},"",{"$f":"'1_入力シート【基本情報】'!$BD$401","v":0},{"$f":"'1_入力シート【基本情報】'!$BD$401","v":0},null,"22","調査結果","-","建築物の内部",null,"4（32）","-","改善策の具体的内容等",null,null,null,null,"22調査結果-建築物の内部4（32）-改善策の具体的内容等"]
[null,{"$f":"'1_入力シート【基本情報】'!$BS$401","v":0},{"$f":"ASC($D765)","v":"0"},{"$f":"'1_入力シート【基本情報】'!$BS$401","v":0},"0",null,"22","調査結果","-","建築物の内部","-","4（32）","-","改善（予定）年月","-","年（令和）",null,null,"22調査結果-建築物の内部-4（32）-改善（予定）年月-年（令和）"]
[null,{"$f":"'1_入力シート【基本情報】'!$BV$401","v":0},"0",{"$f":"'1_入力シート【基本情報】'!$BV$401","v":0},"0",null,"22","調査結果","-","建築物の内部","-","4（32）","-","改善（予定）年月","-","月",null,null,"22調査結果-建築物の内部-4（32）-改善（予定）年月-月"]
[null,{"$f":"'1_入力シート【基本情報】'!$BY$401","v":0},"",{"$f":"'1_入力シート【基本情報】'!$BY$401","v":0},{"$f":"'1_入力シート【基本情報】'!$BY$401","v":0},null,"22","調査結果","-","建築物の内部","-","4（32）","-","改善（予定）年月","-","未定",null,null,"22調査結果-建築物の内部-4（32）-改善（予定）年月-未定"]
[null,{"$f":"'1_入力シート【基本情報】'!$AF$402","v":0},"",{"$f":"IF(C768=\"\",0,C768)","v":0},{"$f":"D768","v":0},null,"22","調査結果","-","建築物の内部","-","4（33）","-","調査結果",null,null,null,null,"22調査結果-建築物の内部-4（33）-調査結果"]
[null,{"$f":"'1_入力シート【基本情報】'!$AR$402","v":0},"",{"$f":"'1_入力シート【基本情報】'!$AR$402","v":0},{"$f":"'1_入力シート【基本情報】'!$AR$402","v":0},null,"22","調査結果","-","建築物の内部","-","4（33）","-","調査者番号",null,null,null,null,"22調査結果-建築物の内部-4（33）-調査者番号"]
[null,{"$f":"'1_入力シート【基本情報】'!$AT$402","v":0},"",{"$f":"'1_入力シート【基本情報】'!$AT$402","v":0},{"$f":"'1_入力シート【基本情報】'!$AT$402","v":0},null,"22","調査結果","-","建築物の内部","-","4（33）","-","指摘の具体的内容等",null,null,null,null,"22調査結果-建築物の内部-4（33）-指摘の具体的内容等"]
[null,{"$f":"'1_入力シート【基本情報】'!$BD$402","v":0},"",{"$f":"'1_入力シート【基本情報】'!$BD$402","v":0},{"$f":"'1_入力シート【基本情報】'!$BD$402","v":0},null,"22","調査結果","-","建築物の内部","-","4（33）","-","改善策の具体的内容等",null,null,null,null,"22調査結果-建築物の内部-4（33）-改善策の具体的内容等"]
[null,{"$f":"'1_入力シート【基本情報】'!$BS$402","v":0},{"$f":"ASC($D772)","v":"0"},{"$f":"'1_入力シート【基本情報】'!$BS$402","v":0},"0",null,"22","調査結果","-","建築物の内部",null,"4（33）","-","改善（予定）年月","-","年（令和）",null,null,"22調査結果-建築物の内部4（33）-改善（予定）年月-年（令和）"]
[null,{"$f":"'1_入力シート【基本情報】'!$BV$402","v":0},"0",{"$f":"'1_入力シート【基本情報】'!$BV$402","v":0},"0",null,"22","調査結果","-","建築物の内部","-","4（33）","-","改善（予定）年月","-","月",null,null,"22調査結果-建築物の内部-4（33）-改善（予定）年月-月"]
[null,{"$f":"'1_入力シート【基本情報】'!$BY$402","v":0},"",{"$f":"'1_入力シート【基本情報】'!$BY$402","v":0},{"$f":"'1_入力シート【基本情報】'!$BY$402","v":0},null,"22","調査結果","-","建築物の内部","-","4（33）","-","改善（予定）年月","-","未定",null,null,"22調査結果-建築物の内部-4（33）-改善（予定）年月-未定"]
[null,{"$f":"'1_入力シート【基本情報】'!$AF$403","v":0},"",{"$f":"IF(C775=\"\",0,C775)","v":0},{"$f":"D775","v":0},null,"22","調査結果","-","建築物の内部","-","4（34）","-","調査結果",null,null,null,null,"22調査結果-建築物の内部-4（34）-調査結果"]
[null,{"$f":"'1_入力シート【基本情報】'!$AR$403","v":0},"",{"$f":"'1_入力シート【基本情報】'!$AR$403","v":0},{"$f":"'1_入力シート【基本情報】'!$AR$403","v":0},null,"22","調査結果","-","建築物の内部","-","4（34）","-","調査者番号",null,null,null,null,{"$f":"CONCATENATE(G776,H776,I776,J776,K776,L776,M776,N776,O776,P776)","v":"22調査結果-建築物の内部-4（34）-調査者番号"}]
[null,{"$f":"'1_入力シート【基本情報】'!$AT$403","v":0},"",{"$f":"'1_入力シート【基本情報】'!$AT$403","v":0},{"$f":"'1_入力シート【基本情報】'!$AT$403","v":0},null,"22","調査結果","-","建築物の内部","-","4（34）","-","指摘の具体的内容等",null,null,null,null,"22調査結果-建築物の内部-4（34）-指摘の具体的内容等"]
[null,{"$f":"'1_入力シート【基本情報】'!$BD$403","v":0},"",{"$f":"'1_入力シート【基本情報】'!$BD$403","v":0},{"$f":"'1_入力シート【基本情報】'!$BD$403","v":0},null,"22","調査結果","-","建築物の内部","-","4（34）","-","改善策の具体的内容等",null,null,null,null,"22調査結果-建築物の内部-4（34）-改善策の具体的内容等"]
[null,{"$f":"'1_入力シート【基本情報】'!$BS$403","v":0},{"$f":"ASC($D779)","v":"0"},{"$f":"'1_入力シート【基本情報】'!$BS$403","v":0},"0",null,"22","調査結果","-","建築物の内部","-","4（34）","-","改善（予定）年月","-","年（令和）",null,null,"22調査結果-建築物の内部-4（34）-改善（予定）年月-年（令和）"]
[null,{"$f":"'1_入力シート【基本情報】'!$BV$403","v":0},"0",{"$f":"'1_入力シート【基本情報】'!$BV$403","v":0},"0",null,"22","調査結果","-","建築物の内部",null,"4（34）","-","改善（予定）年月","-","月",null,null,"22調査結果-建築物の内部4（34）-改善（予定）年月-月"]
[null,{"$f":"'1_入力シート【基本情報】'!$BY$403","v":0},"",{"$f":"'1_入力シート【基本情報】'!$BY$403","v":0},{"$f":"'1_入力シート【基本情報】'!$BY$403","v":0},null,"22","調査結果","-","建築物の内部","-","4（34）","-","改善（予定）年月","-","未定",null,null,"22調査結果-建築物の内部-4（34）-改善（予定）年月-未定"]
[null,{"$f":"'1_入力シート【基本情報】'!$AF$404","v":0},"",{"$f":"IF(C782=\"\",0,C782)","v":0},{"$f":"D782","v":0},null,"22","調査結果","-","建築物の内部","-","4（35）","-","調査結果",null,null,null,null,"22調査結果-建築物の内部-4（35）-調査結果"]
[null,{"$f":"'1_入力シート【基本情報】'!$AR$404","v":0},"",{"$f":"'1_入力シート【基本情報】'!$AR$404","v":0},{"$f":"'1_入力シート【基本情報】'!$AR$404","v":0},null,"22","調査結果","-","建築物の内部","-","4（35）","-","調査者番号",null,null,null,null,"22調査結果-建築物の内部-4（35）-調査者番号"]
[null,{"$f":"'1_入力シート【基本情報】'!$AT$404","v":0},"",{"$f":"'1_入力シート【基本情報】'!$AT$404","v":0},{"$f":"'1_入力シート【基本情報】'!$AT$404","v":0},null,"22","調査結果","-","建築物の内部","-","4（35）","-","指摘の具体的内容等",null,null,null,null,"22調査結果-建築物の内部-4（35）-指摘の具体的内容等"]
[null,{"$f":"'1_入力シート【基本情報】'!$BD$404","v":0},"",{"$f":"'1_入力シート【基本情報】'!$BD$404","v":0},{"$f":"'1_入力シート【基本情報】'!$BD$404","v":0},null,"22","調査結果","-","建築物の内部","-","4（35）","-","改善策の具体的内容等",null,null,null,null,"22調査結果-建築物の内部-4（35）-改善策の具体的内容等"]
[null,{"$f":"'1_入力シート【基本情報】'!$BS$404","v":0},{"$f":"ASC($D786)","v":"0"},{"$f":"'1_入力シート【基本情報】'!$BS$404","v":0},"0",null,"22","調査結果","-","建築物の内部","-","4（35）","-","改善（予定）年月","-","年（令和）",null,null,"22調査結果-建築物の内部-4（35）-改善（予定）年月-年（令和）"]
[null,{"$f":"'1_入力シート【基本情報】'!$BV$404","v":0},"0",{"$f":"'1_入力シート【基本情報】'!$BV$404","v":0},"0",null,"22","調査結果","-","建築物の内部","-","4（35）","-","改善（予定）年月","-","月",null,null,"22調査結果-建築物の内部-4（35）-改善（予定）年月-月"]
[null,{"$f":"'1_入力シート【基本情報】'!$BY$404","v":0},"",{"$f":"'1_入力シート【基本情報】'!$BY$404","v":0},{"$f":"'1_入力シート【基本情報】'!$BY$404","v":0},null,"22","調査結果","-","建築物の内部",null,"4（35）","-","改善（予定）年月","-","未定",null,null,"22調査結果-建築物の内部4（35）-改善（予定）年月-未定"]
[null,{"$f":"'1_入力シート【基本情報】'!$AF$405","v":0},"",{"$f":"IF(C789=\"\",0,C789)","v":0},{"$f":"D789","v":0},null,"22","調査結果","-","建築物の内部","-","4（36）","-","調査結果",null,null,null,null,"22調査結果-建築物の内部-4（36）-調査結果"]
[null,{"$f":"'1_入力シート【基本情報】'!$AR$405","v":0},"",{"$f":"'1_入力シート【基本情報】'!$AR$405","v":0},{"$f":"'1_入力シート【基本情報】'!$AR$405","v":0},null,"22","調査結果","-","建築物の内部","-","4（36）","-","調査者番号",null,null,null,null,"22調査結果-建築物の内部-4（36）-調査者番号"]
[null,{"$f":"'1_入力シート【基本情報】'!$AT$405","v":0},"",{"$f":"'1_入力シート【基本情報】'!$AT$405","v":0},{"$f":"'1_入力シート【基本情報】'!$AT$405","v":0},null,"22","調査結果","-","建築物の内部","-","4（36）","-","指摘の具体的内容等",null,null,null,null,"22調査結果-建築物の内部-4（36）-指摘の具体的内容等"]
[null,{"$f":"'1_入力シート【基本情報】'!$BD$405","v":0},"",{"$f":"'1_入力シート【基本情報】'!$BD$405","v":0},{"$f":"'1_入力シート【基本情報】'!$BD$405","v":0},null,"22","調査結果","-","建築物の内部","-","4（36）","-","改善策の具体的内容等",null,null,null,null,"22調査結果-建築物の内部-4（36）-改善策の具体的内容等"]
[null,{"$f":"'1_入力シート【基本情報】'!$BS$405","v":0},{"$f":"ASC($D793)","v":"0"},{"$f":"'1_入力シート【基本情報】'!$BS$405","v":0},"0",null,"22","調査結果","-","建築物の内部","-","4（36）","-","改善（予定）年月","-","年（令和）",null,null,"22調査結果-建築物の内部-4（36）-改善（予定）年月-年（令和）"]
[null,{"$f":"'1_入力シート【基本情報】'!$BV$405","v":0},"0",{"$f":"'1_入力シート【基本情報】'!$BV$405","v":0},"0",null,"22","調査結果","-","建築物の内部","-","4（36）","-","改善（予定）年月","-","月",null,null,"22調査結果-建築物の内部-4（36）-改善（予定）年月-月"]
[null,{"$f":"'1_入力シート【基本情報】'!$BY$405","v":0},"",{"$f":"'1_入力シート【基本情報】'!$BY$405","v":0},{"$f":"'1_入力シート【基本情報】'!$BY$405","v":0},null,"22","調査結果","-","建築物の内部","-","4（36）","-","改善（予定）年月","-","未定",null,null,"22調査結果-建築物の内部-4（36）-改善（予定）年月-未定"]
[null,{"$f":"'1_入力シート【基本情報】'!$AF$406","v":0},"",{"$f":"IF(C796=\"\",0,C796)","v":0},{"$f":"D796","v":0},null,"22","調査結果","-","建築物の内部","-","4（37）","-","調査結果",null,null,null,null,"22調査結果-建築物の内部-4（37）-調査結果"]
[null,{"$f":"'1_入力シート【基本情報】'!$AR$406","v":0},"",{"$f":"'1_入力シート【基本情報】'!$AR$406","v":0},{"$f":"'1_入力シート【基本情報】'!$AR$406","v":0},null,"22","調査結果","-","建築物の内部","-","4（37）","-","調査者番号",null,null,null,null,"22調査結果-建築物の内部-4（37）-調査者番号"]
[null,{"$f":"'1_入力シート【基本情報】'!$AT$406","v":0},"",{"$f":"'1_入力シート【基本情報】'!$AT$406","v":0},{"$f":"'1_入力シート【基本情報】'!$AT$406","v":0},null,"22","調査結果","-","建築物の内部","-","4（37）","-","指摘の具体的内容等",null,null,null,null,"22調査結果-建築物の内部-4（37）-指摘の具体的内容等"]
[null,{"$f":"'1_入力シート【基本情報】'!$BD$406","v":0},"",{"$f":"'1_入力シート【基本情報】'!$BD$406","v":0},{"$f":"'1_入力シート【基本情報】'!$BD$406","v":0},null,"22","調査結果","-","建築物の内部","-","4（37）","-","改善策の具体的内容等",null,null,null,null,"22調査結果-建築物の内部-4（37）-改善策の具体的内容等"]
[null,{"$f":"'1_入力シート【基本情報】'!$BS$406","v":0},{"$f":"ASC($D800)","v":"0"},{"$f":"'1_入力シート【基本情報】'!$BS$406","v":0},"0",null,"22","調査結果","-","建築物の内部","-","4（37）","-","改善（予定）年月","-","年（令和）",null,null,"22調査結果-建築物の内部-4（37）-改善（予定）年月-年（令和）"]
[null,{"$f":"'1_入力シート【基本情報】'!$BV$406","v":0},"0",{"$f":"'1_入力シート【基本情報】'!$BV$406","v":0},"0",null,"22","調査結果","-","建築物の内部","-","4（37）","-","改善（予定）年月","-","月",null,null,"22調査結果-建築物の内部-4（37）-改善（予定）年月-月"]
[null,{"$f":"'1_入力シート【基本情報】'!$BY$406","v":0},{"$f":"MID(B802,2,14)","v":""},{"$f":"'1_入力シート【基本情報】'!$BY$406","v":0},{"$f":"'1_入力シート【基本情報】'!$BY$406","v":0},null,"22","調査結果","-","建築物の内部","-","4（37）","-","改善（予定）年月","-","未定",null,null,"22調査結果-建築物の内部-4（37）-改善（予定）年月-未定"]
[null,{"$f":"'1_入力シート【基本情報】'!$AF$407","v":0},"",{"$f":"IF(C803=\"\",0,C803)","v":0},{"$f":"D803","v":0},null,"22","調査結果","-","建築物の内部","-","4（38）","-","調査結果",null,null,null,null,"22調査結果-建築物の内部-4（38）-調査結果"]
[null,{"$f":"'1_入力シート【基本情報】'!$AR$407","v":0},"",{"$f":"'1_入力シート【基本情報】'!$AR$407","v":0},{"$f":"'1_入力シート【基本情報】'!$AR$407","v":0},null,"22","調査結果","-","建築物の内部","-","4（38）","-","調査者番号",null,null,null,null,"22調査結果-建築物の内部-4（38）-調査者番号"]
[null,{"$f":"'1_入力シート【基本情報】'!$AT$407","v":0},"",{"$f":"'1_入力シート【基本情報】'!$AT$407","v":0},{"$f":"'1_入力シート【基本情報】'!$AT$407","v":0},null,"22","調査結果","-","建築物の内部","-","4（38）","-","指摘の具体的内容等",null,null,null,null,"22調査結果-建築物の内部-4（38）-指摘の具体的内容等"]
[null,{"$f":"'1_入力シート【基本情報】'!$BD$407","v":0},"",{"$f":"'1_入力シート【基本情報】'!$BD$407","v":0},{"$f":"'1_入力シート【基本情報】'!$BD$407","v":0},null,"22","調査結果","-","建築物の内部","-","4（38）","-","改善策の具体的内容等",null,null,null,null,"22調査結果-建築物の内部-4（38）-改善策の具体的内容等"]
[null,{"$f":"'1_入力シート【基本情報】'!$BS$407","v":0},{"$f":"ASC($D807)","v":"0"},{"$f":"'1_入力シート【基本情報】'!$BS$407","v":0},"0",null,"22","調査結果","-","建築物の内部","-","4（38）","-","改善（予定）年月","-","年（令和）",null,null,"22調査結果-建築物の内部-4（38）-改善（予定）年月-年（令和）"]
[null,{"$f":"'1_入力シート【基本情報】'!$BV$407","v":0},"0",{"$f":"'1_入力シート【基本情報】'!$BV$407","v":0},"0",null,"22","調査結果","-","建築物の内部","-","4（38）","-","改善（予定）年月","-","月",null,null,"22調査結果-建築物の内部-4（38）-改善（予定）年月-月"]
[null,{"$f":"'1_入力シート【基本情報】'!$BY$407","v":0},"",{"$f":"'1_入力シート【基本情報】'!$BY$407","v":0},{"$f":"'1_入力シート【基本情報】'!$BY$407","v":0},null,"22","調査結果","-","建築物の内部","-","4（38）","-","改善（予定）年月","-","未定",null,null,"22調査結果-建築物の内部-4（38）-改善（予定）年月-未定"]
[null,{"$f":"'1_入力シート【基本情報】'!$AF$408","v":0},"",{"$f":"IF(C810=\"\",0,C810)","v":0},{"$f":"D810","v":0},null,"22","調査結果","-","建築物の内部","-","4（39）","-","調査結果",null,null,null,null,"22調査結果-建築物の内部-4（39）-調査結果"]
[null,{"$f":"'1_入力シート【基本情報】'!$AR$408","v":0},"",{"$f":"'1_入力シート【基本情報】'!$AR$408","v":0},{"$f":"'1_入力シート【基本情報】'!$AR$408","v":0},null,"22","調査結果","-","建築物の内部","-","4（39）","-","調査者番号",null,null,null,null,"22調査結果-建築物の内部-4（39）-調査者番号"]
[null,{"$f":"'1_入力シート【基本情報】'!$AT$408","v":0},"",{"$f":"'1_入力シート【基本情報】'!$AT$408","v":0},{"$f":"'1_入力シート【基本情報】'!$AT$408","v":0},null,"22","調査結果","-","建築物の内部","-","4（39）","-","指摘の具体的内容等",null,null,null,null,"22調査結果-建築物の内部-4（39）-指摘の具体的内容等"]
[null,{"$f":"'1_入力シート【基本情報】'!$BD$408","v":0},"",{"$f":"'1_入力シート【基本情報】'!$BD$408","v":0},{"$f":"'1_入力シート【基本情報】'!$BD$408","v":0},null,"22","調査結果","-","建築物の内部","-","4（39）","-","改善策の具体的内容等",null,null,null,null,"22調査結果-建築物の内部-4（39）-改善策の具体的内容等"]
[null,{"$f":"'1_入力シート【基本情報】'!$BS$408","v":0},{"$f":"ASC($D814)","v":"0"},{"$f":"'1_入力シート【基本情報】'!$BS$408","v":0},"0",null,"22","調査結果","-","建築物の内部","-","4（39）","-","改善（予定）年月","-","年（令和）",null,null,"22調査結果-建築物の内部-4（39）-改善（予定）年月-年（令和）"]
[null,{"$f":"'1_入力シート【基本情報】'!$BV$408","v":0},"0",{"$f":"'1_入力シート【基本情報】'!$BV$408","v":0},"0",null,"22","調査結果","-","建築物の内部","-","4（39）","-","改善（予定）年月","-","月",null,null,"22調査結果-建築物の内部-4（39）-改善（予定）年月-月"]
[null,{"$f":"'1_入力シート【基本情報】'!$BY$408","v":0},"",{"$f":"'1_入力シート【基本情報】'!$BY$408","v":0},{"$f":"'1_入力シート【基本情報】'!$BY$408","v":0},null,"22","調査結果","-","建築物の内部","-","4（39）","-","改善（予定）年月","-","未定",null,null,"22調査結果-建築物の内部-4（39）-改善（予定）年月-未定"]
[null,{"$f":"'1_入力シート【基本情報】'!$AF$409","v":0},"",{"$f":"IF(C817=\"\",0,C817)","v":0},{"$f":"D817","v":0},null,"22","調査結果","-","建築物の内部","-","4（40）","-","調査結果",null,null,null,null,"22調査結果-建築物の内部-4（40）-調査結果"]
[null,{"$f":"'1_入力シート【基本情報】'!$AR$409","v":0},"",{"$f":"'1_入力シート【基本情報】'!$AR$409","v":0},{"$f":"'1_入力シート【基本情報】'!$AR$409","v":0},null,"22","調査結果","-","建築物の内部","-","4（40）","-","調査者番号",null,null,null,null,"22調査結果-建築物の内部-4（40）-調査者番号"]
[null,{"$f":"'1_入力シート【基本情報】'!$AT$409","v":0},"",{"$f":"'1_入力シート【基本情報】'!$AT$409","v":0},{"$f":"'1_入力シート【基本情報】'!$AT$409","v":0},null,"22","調査結果","-","建築物の内部","-","4（40）","-","指摘の具体的内容等",null,null,null,null,"22調査結果-建築物の内部-4（40）-指摘の具体的内容等"]
[null,{"$f":"'1_入力シート【基本情報】'!$BD$409","v":0},"",{"$f":"'1_入力シート【基本情報】'!$BD$409","v":0},{"$f":"'1_入力シート【基本情報】'!$BD$409","v":0},null,"22","調査結果","-","建築物の内部","-","4（40）","-","改善策の具体的内容等",null,null,null,null,"22調査結果-建築物の内部-4（40）-改善策の具体的内容等"]
[null,{"$f":"'1_入力シート【基本情報】'!$BS$409","v":0},{"$f":"ASC($D821)","v":"0"},{"$f":"'1_入力シート【基本情報】'!$BS$409","v":0},"0",null,"22","調査結果","-","建築物の内部","-","4（40）","-","改善（予定）年月","-","年（令和）",null,null,"22調査結果-建築物の内部-4（40）-改善（予定）年月-年（令和）"]
[null,{"$f":"'1_入力シート【基本情報】'!$BV$409","v":0},"0",{"$f":"'1_入力シート【基本情報】'!$BV$409","v":0},"0",null,"22","調査結果","-","建築物の内部","-","4（40）","-","改善（予定）年月","-","月",null,null,"22調査結果-建築物の内部-4（40）-改善（予定）年月-月"]
[null,{"$f":"'1_入力シート【基本情報】'!$BY$409","v":0},"",{"$f":"'1_入力シート【基本情報】'!$BY$409","v":0},{"$f":"'1_入力シート【基本情報】'!$BY$409","v":0},null,"22","調査結果","-","建築物の内部","-","4（40）","-","改善（予定）年月","-","未定",null,null,"22調査結果-建築物の内部-4（40）-改善（予定）年月-未定"]
[null,{"$f":"'1_入力シート【基本情報】'!$AF$410","v":0},"",{"$f":"IF(C824=\"\",0,C824)","v":0},{"$f":"D824","v":0},null,"22","調査結果","-","建築物の内部","-","4（41）","-","調査結果",null,null,null,null,"22調査結果-建築物の内部-4（41）-調査結果"]
[null,{"$f":"'1_入力シート【基本情報】'!$AR$410","v":0},"",{"$f":"'1_入力シート【基本情報】'!$AR$410","v":0},{"$f":"'1_入力シート【基本情報】'!$AR$410","v":0},null,"22","調査結果","-","建築物の内部","-","4（41）","-","調査者番号",null,null,null,null,"22調査結果-建築物の内部-4（41）-調査者番号"]
[null,{"$f":"'1_入力シート【基本情報】'!$AT$410","v":0},"",{"$f":"'1_入力シート【基本情報】'!$AT$410","v":0},{"$f":"'1_入力シート【基本情報】'!$AT$410","v":0},null,"22","調査結果","-","建築物の内部","-","4（41）","-","指摘の具体的内容等",null,null,null,null,"22調査結果-建築物の内部-4（41）-指摘の具体的内容等"]
[null,{"$f":"'1_入力シート【基本情報】'!$BD$410","v":0},"",{"$f":"'1_入力シート【基本情報】'!$BD$410","v":0},{"$f":"'1_入力シート【基本情報】'!$BD$410","v":0},null,"22","調査結果","-","建築物の内部","-","4（41）","-","改善策の具体的内容等",null,null,null,null,"22調査結果-建築物の内部-4（41）-改善策の具体的内容等"]
[null,{"$f":"'1_入力シート【基本情報】'!$BS$410","v":0},{"$f":"ASC($D828)","v":"0"},{"$f":"'1_入力シート【基本情報】'!$BS$410","v":0},"0",null,"22","調査結果","-","建築物の内部","-","4（41）","-","改善（予定）年月","-","年（令和）",null,null,"22調査結果-建築物の内部-4（41）-改善（予定）年月-年（令和）"]
[null,{"$f":"'1_入力シート【基本情報】'!$BV$410","v":0},"0",{"$f":"'1_入力シート【基本情報】'!$BV$410","v":0},"0",null,"22","調査結果","-","建築物の内部","-","4（41）","-","改善（予定）年月","-","月",null,null,"22調査結果-建築物の内部-4（41）-改善（予定）年月-月"]
[null,{"$f":"'1_入力シート【基本情報】'!$BY$410","v":0},"",{"$f":"'1_入力シート【基本情報】'!$BY$410","v":0},{"$f":"'1_入力シート【基本情報】'!$BY$410","v":0},null,"22","調査結果","-","建築物の内部","-","4（41）","-","改善（予定）年月","-","未定",null,null,"22調査結果-建築物の内部-4（41）-改善（予定）年月-未定"]
[null,{"$f":"'1_入力シート【基本情報】'!$AF$411","v":0},"",{"$f":"IF(C831=\"\",0,C831)","v":0},{"$f":"D831","v":0},null,"22","調査結果","-","建築物の内部","-","4（42）","-","調査結果",null,null,null,null,"22調査結果-建築物の内部-4（42）-調査結果"]
[null,{"$f":"'1_入力シート【基本情報】'!$AR$411","v":0},"",{"$f":"'1_入力シート【基本情報】'!$AR$411","v":0},{"$f":"'1_入力シート【基本情報】'!$AR$411","v":0},null,"22","調査結果","-","建築物の内部","-","4（42）","-","調査者番号",null,null,null,null,"22調査結果-建築物の内部-4（42）-調査者番号"]
[null,{"$f":"'1_入力シート【基本情報】'!$AT$411","v":0},"",{"$f":"'1_入力シート【基本情報】'!$AT$411","v":0},{"$f":"'1_入力シート【基本情報】'!$AT$411","v":0},null,"22","調査結果","-","建築物の内部","-","4（42）","-","指摘の具体的内容等",null,null,null,null,"22調査結果-建築物の内部-4（42）-指摘の具体的内容等"]
[null,{"$f":"'1_入力シート【基本情報】'!$BD$411","v":0},"",{"$f":"'1_入力シート【基本情報】'!$BD$411","v":0},{"$f":"'1_入力シート【基本情報】'!$BD$411","v":0},null,"22","調査結果","-","建築物の内部","-","4（42）","-","改善策の具体的内容等",null,null,null,null,"22調査結果-建築物の内部-4（42）-改善策の具体的内容等"]
[null,{"$f":"'1_入力シート【基本情報】'!$BS$411","v":0},{"$f":"ASC($D835)","v":"0"},{"$f":"'1_入力シート【基本情報】'!$BS$411","v":0},"0",null,"22","調査結果","-","建築物の内部","-","4（42）","-","改善（予定）年月","-","年（令和）",null,null,"22調査結果-建築物の内部-4（42）-改善（予定）年月-年（令和）"]
[null,{"$f":"'1_入力シート【基本情報】'!$BV$411","v":0},"0",{"$f":"'1_入力シート【基本情報】'!$BV$411","v":0},"0",null,"22","調査結果","-","建築物の内部","-","4（42）","-","改善（予定）年月","-","月",null,null,"22調査結果-建築物の内部-4（42）-改善（予定）年月-月"]
[null,{"$f":"'1_入力シート【基本情報】'!$BY$411","v":0},"",{"$f":"'1_入力シート【基本情報】'!$BY$411","v":0},{"$f":"'1_入力シート【基本情報】'!$BY$411","v":0},null,"22","調査結果","-","建築物の内部","-","4（42）","-","改善（予定）年月","-","未定",null,null,"22調査結果-建築物の内部-4（42）-改善（予定）年月-未定"]
[null,{"$f":"'1_入力シート【基本情報】'!$AF$412","v":0},"",{"$f":"IF(C838=\"\",0,C838)","v":0},{"$f":"D838","v":0},null,"22","調査結果","-","建築物の内部","-","4（43）","-","調査結果",null,null,null,null,"22調査結果-建築物の内部-4（43）-調査結果"]
[null,{"$f":"'1_入力シート【基本情報】'!$AR$412","v":0},"",{"$f":"'1_入力シート【基本情報】'!$AR$412","v":0},{"$f":"'1_入力シート【基本情報】'!$AR$412","v":0},null,"22","調査結果","-","建築物の内部","-","4（43）","-","調査者番号",null,null,null,null,"22調査結果-建築物の内部-4（43）-調査者番号"]
[null,{"$f":"'1_入力シート【基本情報】'!$AT$412","v":0},"",{"$f":"'1_入力シート【基本情報】'!$AT$412","v":0},{"$f":"'1_入力シート【基本情報】'!$AT$412","v":0},null,"22","調査結果","-","建築物の内部","-","4（43）","-","指摘の具体的内容等",null,null,null,null,"22調査結果-建築物の内部-4（43）-指摘の具体的内容等"]
[null,{"$f":"'1_入力シート【基本情報】'!$BD$412","v":0},"",{"$f":"'1_入力シート【基本情報】'!$BD$412","v":0},{"$f":"'1_入力シート【基本情報】'!$BD$412","v":0},null,"22","調査結果","-","建築物の内部","-","4（43）","-","改善策の具体的内容等",null,null,null,null,"22調査結果-建築物の内部-4（43）-改善策の具体的内容等"]
[null,{"$f":"'1_入力シート【基本情報】'!$BS$412","v":0},{"$f":"ASC($D842)","v":"0"},{"$f":"'1_入力シート【基本情報】'!$BS$412","v":0},"0",null,"22","調査結果","-","建築物の内部","-","4（43）","-","改善（予定）年月","-","年（令和）",null,null,"22調査結果-建築物の内部-4（43）-改善（予定）年月-年（令和）"]
[null,{"$f":"'1_入力シート【基本情報】'!$BV$412","v":0},"0",{"$f":"'1_入力シート【基本情報】'!$BV$412","v":0},"0",null,"22","調査結果","-","建築物の内部","-","4（43）","-","改善（予定）年月","-","月",null,null,"22調査結果-建築物の内部-4（43）-改善（予定）年月-月"]
[null,{"$f":"'1_入力シート【基本情報】'!$BY$412","v":0},"",{"$f":"'1_入力シート【基本情報】'!$BY$412","v":0},{"$f":"'1_入力シート【基本情報】'!$BY$412","v":0},null,"22","調査結果","-","建築物の内部","-","4（43）","-","改善（予定）年月","-","未定",null,null,"22調査結果-建築物の内部-4（43）-改善（予定）年月-未定"]
[null,{"$f":"'1_入力シート【基本情報】'!$AF$413","v":0},"",{"$f":"IF(C845=\"\",0,C845)","v":0},{"$f":"D845","v":0},null,"22","調査結果","-","建築物の内部","-","4（44）","-","調査結果",null,null,null,null,"22調査結果-建築物の内部-4（44）-調査結果"]
[null,{"$f":"'1_入力シート【基本情報】'!$AR$413","v":0},"",{"$f":"'1_入力シート【基本情報】'!$AR$413","v":0},{"$f":"'1_入力シート【基本情報】'!$AR$413","v":0},null,"22","調査結果","-","建築物の内部","-","4（44）","-","調査者番号",null,null,null,null,"22調査結果-建築物の内部-4（44）-調査者番号"]
[null,{"$f":"'1_入力シート【基本情報】'!$AT$413","v":"00:00:00"},"",{"$f":"'1_入力シート【基本情報】'!$AT$413","v":0},{"$f":"'1_入力シート【基本情報】'!$AT$413","v":0},null,"22","調査結果","-","建築物の内部","-","4（44）","-","指摘の具体的内容等",null,null,null,null,"22調査結果-建築物の内部-4（44）-指摘の具体的内容等"]
[null,{"$f":"'1_入力シート【基本情報】'!$BD$413","v":0},"",{"$f":"'1_入力シート【基本情報】'!$BD$413","v":0},{"$f":"'1_入力シート【基本情報】'!$BD$413","v":0},null,"22","調査結果","-","建築物の内部","-","4（44）","-","改善策の具体的内容等",null,null,null,null,"22調査結果-建築物の内部-4（44）-改善策の具体的内容等"]
[null,{"$f":"'1_入力シート【基本情報】'!$BS$413","v":0},{"$f":"ASC($D849)","v":"0"},{"$f":"'1_入力シート【基本情報】'!$BS$413","v":0},"0",null,"22","調査結果","-","建築物の内部","-","4（44）","-","改善（予定）年月","-","年（令和）",null,null,"22調査結果-建築物の内部-4（44）-改善（予定）年月-年（令和）"]
[null,{"$f":"'1_入力シート【基本情報】'!$BV$413","v":0},"0",{"$f":"'1_入力シート【基本情報】'!$BV$413","v":0},"0",null,"22","調査結果","-","建築物の内部","-","4（44）","-","改善（予定）年月","-","月",null,null,"22調査結果-建築物の内部-4（44）-改善（予定）年月-月"]
[null,{"$f":"'1_入力シート【基本情報】'!$BY$413","v":0},"",{"$f":"'1_入力シート【基本情報】'!$BY$413","v":0},{"$f":"'1_入力シート【基本情報】'!$BY$413","v":0},null,"22","調査結果","-","建築物の内部","-","4（44）","-","改善（予定）年月","-","未定",null,null,"22調査結果-建築物の内部-4（44）-改善（予定）年月-未定"]
[null,{"$f":"'1_入力シート【基本情報】'!$AF$414","v":0},"",{"$f":"IF(C852=\"\",0,C852)","v":0},{"$f":"D852","v":0},null,"22","調査結果","-","建築物の内部","-","4（45）","-","調査結果",null,null,null,null,"22調査結果-建築物の内部-4（45）-調査結果"]
[null,{"$f":"'1_入力シート【基本情報】'!$AR$414","v":0},"",{"$f":"'1_入力シート【基本情報】'!$AR$414","v":0},{"$f":"'1_入力シート【基本情報】'!$AR$414","v":0},null,"22","調査結果","-","建築物の内部","-","4（45）","-","調査者番号",null,null,null,null,"22調査結果-建築物の内部-4（45）-調査者番号"]
[null,{"$f":"'1_入力シート【基本情報】'!$AT$414","v":0},"",{"$f":"'1_入力シート【基本情報】'!$AT$414","v":0},{"$f":"'1_入力シート【基本情報】'!$AT$414","v":0},null,"22","調査結果","-","建築物の内部","-","4（45）","-","指摘の具体的内容等",null,null,null,null,"22調査結果-建築物の内部-4（45）-指摘の具体的内容等"]
[null,{"$f":"'1_入力シート【基本情報】'!$BD$414","v":0},"",{"$f":"'1_入力シート【基本情報】'!$BD$414","v":0},{"$f":"'1_入力シート【基本情報】'!$BD$414","v":0},null,"22","調査結果","-","建築物の内部","-","4（45）","-","改善策の具体的内容等",null,null,null,null,"22調査結果-建築物の内部-4（45）-改善策の具体的内容等"]
[null,{"$f":"'1_入力シート【基本情報】'!$BS$414","v":0},{"$f":"ASC($D856)","v":"0"},{"$f":"'1_入力シート【基本情報】'!$BS$414","v":0},"0",null,"22","調査結果","-","建築物の内部","-","4（45）","-","改善（予定）年月","-","年（令和）",null,null,"22調査結果-建築物の内部-4（45）-改善（予定）年月-年（令和）"]
[null,{"$f":"'1_入力シート【基本情報】'!$BV$414","v":0},"0",{"$f":"'1_入力シート【基本情報】'!$BV$414","v":0},"0",null,"22","調査結果","-","建築物の内部","-","4（45）","-","改善（予定）年月","-","月",null,null,"22調査結果-建築物の内部-4（45）-改善（予定）年月-月"]
[null,{"$f":"'1_入力シート【基本情報】'!$BY$414","v":0},"",{"$f":"'1_入力シート【基本情報】'!$BY$414","v":0},{"$f":"'1_入力シート【基本情報】'!$BY$414","v":0},null,"22","調査結果","-","建築物の内部","-","4（45）","-","改善（予定）年月","-","未定",null,null,"22調査結果-建築物の内部-4（45）-改善（予定）年月-未定"]
[null,{"$f":"'1_入力シート【基本情報】'!$AF$415","v":0},"",{"$f":"IF(C859=\"\",0,C859)","v":0},{"$f":"D859","v":0},null,"22","調査結果","-","建築物の内部","-","4（46）","-","調査結果",null,null,null,null,"22調査結果-建築物の内部-4（46）-調査結果"]
[null,{"$f":"'1_入力シート【基本情報】'!$AR$415","v":0},"",{"$f":"'1_入力シート【基本情報】'!$AR$415","v":0},{"$f":"'1_入力シート【基本情報】'!$AR$415","v":0},null,"22","調査結果","-","建築物の内部","-","4（46）","-","調査者番号",null,null,null,null,"22調査結果-建築物の内部-4（46）-調査者番号"]
[null,{"$f":"'1_入力シート【基本情報】'!$AT$415","v":0},"",{"$f":"'1_入力シート【基本情報】'!$AT$415","v":0},{"$f":"'1_入力シート【基本情報】'!$AT$415","v":0},null,"22","調査結果","-","建築物の内部","-","4（46）","-","指摘の具体的内容等",null,null,null,null,"22調査結果-建築物の内部-4（46）-指摘の具体的内容等"]
[null,{"$f":"'1_入力シート【基本情報】'!$BD$415","v":0},"",{"$f":"'1_入力シート【基本情報】'!$BD$415","v":0},{"$f":"'1_入力シート【基本情報】'!$BD$415","v":0},null,"22","調査結果","-","建築物の内部","-","4（46）","-","改善策の具体的内容等",null,null,null,null,"22調査結果-建築物の内部-4（46）-改善策の具体的内容等"]
[null,{"$f":"'1_入力シート【基本情報】'!$BS$415","v":0},{"$f":"ASC($D863)","v":"0"},{"$f":"'1_入力シート【基本情報】'!$BS$415","v":0},"0",null,"22","調査結果","-","建築物の内部","-","4（46）","-","改善（予定）年月","-","年（令和）",null,null,"22調査結果-建築物の内部-4（46）-改善（予定）年月-年（令和）"]
[null,{"$f":"'1_入力シート【基本情報】'!$BV$415","v":0},"0",{"$f":"'1_入力シート【基本情報】'!$BV$415","v":0},"0",null,"22","調査結果","-","建築物の内部","-","4（46）","-","改善（予定）年月","-","月",null,null,"22調査結果-建築物の内部-4（46）-改善（予定）年月-月"]
[null,{"$f":"'1_入力シート【基本情報】'!$BY$415","v":0},"",{"$f":"'1_入力シート【基本情報】'!$BY$415","v":0},{"$f":"'1_入力シート【基本情報】'!$BY$415","v":0},null,"22","調査結果","-","建築物の内部","-","4（46）","-","改善（予定）年月","-","未定",null,null,"22調査結果-建築物の内部-4（46）-改善（予定）年月-未定"]
[null,{"$f":"'1_入力シート【基本情報】'!$AF$416","v":0},{"$f":"MID(B866,2,14)","v":""},{"$f":"IF(C866=\"\",0,C866)","v":0},{"$f":"D866","v":0},null,"22","調査結果","-","建築物の内部","-","4（47）","-","調査結果",null,null,null,null,"22調査結果-建築物の内部-4（47）-調査結果"]
[null,{"$f":"'1_入力シート【基本情報】'!$AR$416","v":0},"",{"$f":"'1_入力シート【基本情報】'!$AR$416","v":0},{"$f":"'1_入力シート【基本情報】'!$AR$416","v":0},null,"22","調査結果","-","建築物の内部","-","4（47）","-","調査者番号",null,null,null,null,"22調査結果-建築物の内部-4（47）-調査者番号"]
[null,{"$f":"'1_入力シート【基本情報】'!$AT$416","v":0},"",{"$f":"'1_入力シート【基本情報】'!$AT$416","v":0},{"$f":"'1_入力シート【基本情報】'!$AT$416","v":0},null,"22","調査結果","-","建築物の内部","-","4（47）","-","指摘の具体的内容等",null,null,null,null,"22調査結果-建築物の内部-4（47）-指摘の具体的内容等"]
[null,{"$f":"'1_入力シート【基本情報】'!$BD$416","v":0},"",{"$f":"'1_入力シート【基本情報】'!$BD$416","v":0},{"$f":"'1_入力シート【基本情報】'!$BD$416","v":0},null,"22","調査結果","-","建築物の内部","-","4（47）","-","改善策の具体的内容等",null,null,null,null,"22調査結果-建築物の内部-4（47）-改善策の具体的内容等"]
[null,{"$f":"'1_入力シート【基本情報】'!$BS$416","v":0},{"$f":"ASC($D870)","v":"0"},{"$f":"'1_入力シート【基本情報】'!$BS$416","v":0},"0",null,"22","調査結果","-","建築物の内部","-","4（47）","-","改善（予定）年月","-","年（令和）",null,null,"22調査結果-建築物の内部-4（47）-改善（予定）年月-年（令和）"]
[null,{"$f":"'1_入力シート【基本情報】'!$BV$416","v":0},"0",{"$f":"'1_入力シート【基本情報】'!$BV$416","v":0},"0",null,"22","調査結果","-","建築物の内部","-","4（47）","-","改善（予定）年月","-","月",null,null,"22調査結果-建築物の内部-4（47）-改善（予定）年月-月"]
[null,{"$f":"'1_入力シート【基本情報】'!$BY$416","v":0},"",{"$f":"'1_入力シート【基本情報】'!$BY$416","v":0},{"$f":"'1_入力シート【基本情報】'!$BY$416","v":0},null,"22","調査結果","-","建築物の内部","-","4（47）","-","改善（予定）年月","-","未定",null,null,"22調査結果-建築物の内部-4（47）-改善（予定）年月-未定"]
[null,{"$f":"'1_入力シート【基本情報】'!$AF$426","v":0},"",{"$f":"IF(C873=\"\",0,C873)","v":0},{"$f":"D873","v":0},null,"22","調査結果","-","避難施設等","-","5（1）","-","調査結果",null,null,null,null,"22調査結果-避難施設等-5（1）-調査結果"]
[null,{"$f":"'1_入力シート【基本情報】'!$AR$426","v":0},"",{"$f":"'1_入力シート【基本情報】'!$AR$426","v":0},{"$f":"'1_入力シート【基本情報】'!$AR$426","v":0},null,"22","調査結果","-","避難施設等","-","5（1）","-","調査者番号",null,null,null,null,"22調査結果-避難施設等-5（1）-調査者番号"]
[null,{"$f":"'1_入力シート【基本情報】'!$AT$426","v":0},"",{"$f":"'1_入力シート【基本情報】'!$AT$426","v":0},{"$f":"'1_入力シート【基本情報】'!$AT$426","v":0},null,"22","調査結果","-","避難施設等","-","5（1）","-","指摘の具体的内容等",null,null,null,null,"22調査結果-避難施設等-5（1）-指摘の具体的内容等"]
[null,{"$f":"'1_入力シート【基本情報】'!$BD$426","v":0},"",{"$f":"'1_入力シート【基本情報】'!$BD$426","v":0},{"$f":"'1_入力シート【基本情報】'!$BD$426","v":0},null,"22","調査結果","-","避難施設等","-","5（1）","-","改善策の具体的内容等",null,null,null,null,"22調査結果-避難施設等-5（1）-改善策の具体的内容等"]
[null,{"$f":"'1_入力シート【基本情報】'!$BS$426","v":0},{"$f":"ASC($D877)","v":"0"},{"$f":"'1_入力シート【基本情報】'!$BS$426","v":0},"0",null,"22","調査結果","-","避難施設等","-","5（1）","-","改善（予定）年月","-","年（令和）",null,null,"22調査結果-避難施設等-5（1）-改善（予定）年月-年（令和）"]
[null,{"$f":"'1_入力シート【基本情報】'!$BV$426","v":0},"0",{"$f":"'1_入力シート【基本情報】'!$BV$426","v":0},"0",null,"22","調査結果","-","避難施設等","-","5（1）","-","改善（予定）年月","-","月",null,null,"22調査結果-避難施設等-5（1）-改善（予定）年月-月"]
[null,{"$f":"'1_入力シート【基本情報】'!$BY$426","v":0},"",{"$f":"'1_入力シート【基本情報】'!$BY$426","v":0},{"$f":"'1_入力シート【基本情報】'!$BY$426","v":0},null,"22","調査結果","-","避難施設等","-","5（1）","-","改善（予定）年月","-","未定",null,null,"22調査結果-避難施設等-5（1）-改善（予定）年月-未定"]
[null,{"$f":"'1_入力シート【基本情報】'!$AF$427","v":0},"",{"$f":"IF(C880=\"\",0,C880)","v":0},{"$f":"D880","v":0},null,"22","調査結果","-","避難施設等","-","5（2）","-","調査結果",null,null,null,null,"22調査結果-避難施設等-5（2）-調査結果"]
[null,{"$f":"'1_入力シート【基本情報】'!$AR$427","v":0},"",{"$f":"'1_入力シート【基本情報】'!$AR$427","v":0},{"$f":"'1_入力シート【基本情報】'!$AR$427","v":0},null,"22","調査結果","-","避難施設等","-","5（2）","-","調査者番号",null,null,null,null,"22調査結果-避難施設等-5（2）-調査者番号"]
[null,{"$f":"'1_入力シート【基本情報】'!$AT$427","v":0},"",{"$f":"'1_入力シート【基本情報】'!$AT$427","v":0},{"$f":"'1_入力シート【基本情報】'!$AT$427","v":0},null,"22","調査結果","-","避難施設等","-","5（2）","-","指摘の具体的内容等",null,null,null,null,"22調査結果-避難施設等-5（2）-指摘の具体的内容等"]
[null,{"$f":"'1_入力シート【基本情報】'!$BD$427","v":0},"",{"$f":"'1_入力シート【基本情報】'!$BD$427","v":0},{"$f":"'1_入力シート【基本情報】'!$BD$427","v":0},null,"22","調査結果","-","避難施設等","-","5（2）","-","改善策の具体的内容等",null,null,null,null,"22調査結果-避難施設等-5（2）-改善策の具体的内容等"]
[null,{"$f":"'1_入力シート【基本情報】'!$BS$427","v":0},{"$f":"ASC($D884)","v":"0"},{"$f":"'1_入力シート【基本情報】'!$BS$427","v":0},"0",null,"22","調査結果","-","避難施設等","-","5（2）","-","改善（予定）年月","-","年（令和）",null,null,"22調査結果-避難施設等-5（2）-改善（予定）年月-年（令和）"]
[null,{"$f":"'1_入力シート【基本情報】'!$BV$427","v":0},"0",{"$f":"'1_入力シート【基本情報】'!$BV$427","v":0},"0",null,"22","調査結果","-","避難施設等","-","5（2）","-","改善（予定）年月","-","月",null,null,"22調査結果-避難施設等-5（2）-改善（予定）年月-月"]
[null,{"$f":"'1_入力シート【基本情報】'!$BY$427","v":0},"",{"$f":"'1_入力シート【基本情報】'!$BY$427","v":0},{"$f":"'1_入力シート【基本情報】'!$BY$427","v":0},null,"22","調査結果","-","避難施設等","-","5（2）","-","改善（予定）年月","-","未定",null,null,"22調査結果-避難施設等-5（2）-改善（予定）年月-未定"]
[null,{"$f":"'1_入力シート【基本情報】'!$AF$428","v":0},"",{"$f":"IF(C887=\"\",0,C887)","v":0},{"$f":"D887","v":0},null,"22","調査結果","-","避難施設等","-","5（3）","-","調査結果",null,null,null,null,"22調査結果-避難施設等-5（3）-調査結果"]
[null,{"$f":"'1_入力シート【基本情報】'!$AR$428","v":0},"",{"$f":"'1_入力シート【基本情報】'!$AR$428","v":0},{"$f":"'1_入力シート【基本情報】'!$AR$428","v":0},null,"22","調査結果","-","避難施設等","-","5（3）","-","調査者番号",null,null,null,null,"22調査結果-避難施設等-5（3）-調査者番号"]
[null,{"$f":"'1_入力シート【基本情報】'!$AT$428","v":0},"",{"$f":"'1_入力シート【基本情報】'!$AT$428","v":0},{"$f":"'1_入力シート【基本情報】'!$AT$428","v":0},null,"22","調査結果","-","避難施設等","-","5（3）","-","指摘の具体的内容等",null,null,null,null,"22調査結果-避難施設等-5（3）-指摘の具体的内容等"]
[null,{"$f":"'1_入力シート【基本情報】'!$BD$428","v":0},"",{"$f":"'1_入力シート【基本情報】'!$BD$428","v":0},{"$f":"'1_入力シート【基本情報】'!$BD$428","v":0},null,"22","調査結果","-","避難施設等","-","5（3）","-","改善策の具体的内容等",null,null,null,null,"22調査結果-避難施設等-5（3）-改善策の具体的内容等"]
[null,{"$f":"'1_入力シート【基本情報】'!$BS$428","v":0},{"$f":"ASC($D891)","v":"0"},{"$f":"'1_入力シート【基本情報】'!$BS$428","v":0},"0",null,"22","調査結果","-","避難施設等","-","5（3）","-","改善（予定）年月","-","年（令和）",null,null,"22調査結果-避難施設等-5（3）-改善（予定）年月-年（令和）"]
[null,{"$f":"'1_入力シート【基本情報】'!$BV$428","v":0},"0",{"$f":"'1_入力シート【基本情報】'!$BV$428","v":0},"0",null,"22","調査結果","-","避難施設等","-","5（3）","-","改善（予定）年月","-","月",null,null,"22調査結果-避難施設等-5（3）-改善（予定）年月-月"]
[null,{"$f":"'1_入力シート【基本情報】'!$BY$428","v":0},"",{"$f":"'1_入力シート【基本情報】'!$BY$428","v":0},{"$f":"'1_入力シート【基本情報】'!$BY$428","v":0},null,"22","調査結果","-","避難施設等","-","5（3）","-","改善（予定）年月","-","未定",null,null,"22調査結果-避難施設等-5（3）-改善（予定）年月-未定"]
[null,{"$f":"'1_入力シート【基本情報】'!$AF$429","v":0},"",{"$f":"IF(C894=\"\",0,C894)","v":0},{"$f":"D894","v":0},null,"22","調査結果","-","避難施設等","-","5（4）","-","調査結果",null,null,null,null,"22調査結果-避難施設等-5（4）-調査結果"]
[null,{"$f":"'1_入力シート【基本情報】'!$AR$429","v":0},"",{"$f":"'1_入力シート【基本情報】'!$AR$429","v":0},{"$f":"'1_入力シート【基本情報】'!$AR$429","v":0},null,"22","調査結果","-","避難施設等","-","5（4）","-","調査者番号",null,null,null,null,"22調査結果-避難施設等-5（4）-調査者番号"]
[null,{"$f":"'1_入力シート【基本情報】'!$AT$429","v":0},"",{"$f":"'1_入力シート【基本情報】'!$AT$429","v":0},{"$f":"'1_入力シート【基本情報】'!$AT$429","v":0},null,"22","調査結果","-","避難施設等","-","5（4）","-","指摘の具体的内容等",null,null,null,null,"22調査結果-避難施設等-5（4）-指摘の具体的内容等"]
[null,{"$f":"'1_入力シート【基本情報】'!$BD$429","v":0},"",{"$f":"'1_入力シート【基本情報】'!$BD$429","v":0},{"$f":"'1_入力シート【基本情報】'!$BD$429","v":0},null,"22","調査結果","-","避難施設等","-","5（4）","-","改善策の具体的内容等",null,null,null,null,"22調査結果-避難施設等-5（4）-改善策の具体的内容等"]
[null,{"$f":"'1_入力シート【基本情報】'!$BS$429","v":0},{"$f":"ASC($D898)","v":"0"},{"$f":"'1_入力シート【基本情報】'!$BS$429","v":0},"0",null,"22","調査結果","-","避難施設等","-","5（4）","-","改善（予定）年月","-","年（令和）",null,null,"22調査結果-避難施設等-5（4）-改善（予定）年月-年（令和）"]
[null,{"$f":"'1_入力シート【基本情報】'!$BV$429","v":0},"0",{"$f":"'1_入力シート【基本情報】'!$BV$429","v":0},"0",null,"22","調査結果","-","避難施設等","-","5（4）","-","改善（予定）年月","-","月",null,null,"22調査結果-避難施設等-5（4）-改善（予定）年月-月"]
[null,{"$f":"'1_入力シート【基本情報】'!$BY$429","v":0},"",{"$f":"'1_入力シート【基本情報】'!$BY$429","v":0},{"$f":"'1_入力シート【基本情報】'!$BY$429","v":0},null,"22","調査結果","-","避難施設等","-","5（4）","-","改善（予定）年月","-","未定",null,null,"22調査結果-避難施設等-5（4）-改善（予定）年月-未定"]
[null,{"$f":"'1_入力シート【基本情報】'!$AF$430","v":0},"",{"$f":"IF(C901=\"\",0,C901)","v":0},{"$f":"D901","v":0},null,"22","調査結果","-","避難施設等","-","5（5）","-","調査結果",null,null,null,null,"22調査結果-避難施設等-5（5）-調査結果"]
[null,{"$f":"'1_入力シート【基本情報】'!$AR$430","v":0},"",{"$f":"'1_入力シート【基本情報】'!$AR$430","v":0},{"$f":"'1_入力シート【基本情報】'!$AR$430","v":0},null,"22","調査結果","-","避難施設等","-","5（5）","-","調査者番号",null,null,null,null,"22調査結果-避難施設等-5（5）-調査者番号"]
[null,{"$f":"'1_入力シート【基本情報】'!$AT$430","v":0},"",{"$f":"'1_入力シート【基本情報】'!$AT$430","v":0},{"$f":"'1_入力シート【基本情報】'!$AT$430","v":0},null,"22","調査結果","-","避難施設等","-","5（5）","-","指摘の具体的内容等",null,null,null,null,"22調査結果-避難施設等-5（5）-指摘の具体的内容等"]
[null,{"$f":"'1_入力シート【基本情報】'!$BD$430","v":0},"",{"$f":"'1_入力シート【基本情報】'!$BD$430","v":0},{"$f":"'1_入力シート【基本情報】'!$BD$430","v":0},null,"22","調査結果","-","避難施設等","-","5（5）","-","改善策の具体的内容等",null,null,null,null,"22調査結果-避難施設等-5（5）-改善策の具体的内容等"]
[null,{"$f":"'1_入力シート【基本情報】'!$BS$430","v":0},{"$f":"ASC($D905)","v":"0"},{"$f":"'1_入力シート【基本情報】'!$BS$430","v":0},"0",null,"22","調査結果","-","避難施設等","-","5（5）","-","改善（予定）年月","-","年（令和）",null,null,"22調査結果-避難施設等-5（5）-改善（予定）年月-年（令和）"]
[null,{"$f":"'1_入力シート【基本情報】'!$BV$430","v":0},"0",{"$f":"'1_入力シート【基本情報】'!$BV$430","v":0},"0",null,"22","調査結果","-","避難施設等","-","5（5）","-","改善（予定）年月","-","月",null,null,"22調査結果-避難施設等-5（5）-改善（予定）年月-月"]
[null,{"$f":"'1_入力シート【基本情報】'!$BY$430","v":0},"",{"$f":"'1_入力シート【基本情報】'!$BY$430","v":0},{"$f":"'1_入力シート【基本情報】'!$BY$430","v":0},null,"22","調査結果","-","避難施設等","-","5（5）","-","改善（予定）年月","-","未定",null,null,"22調査結果-避難施設等-5（5）-改善（予定）年月-未定"]
[null,{"$f":"'1_入力シート【基本情報】'!$AF$431","v":0},"",{"$f":"IF(C908=\"\",0,C908)","v":0},{"$f":"D908","v":0},null,"22","調査結果","-","避難施設等","-","5（6）","-","調査結果",null,null,null,null,"22調査結果-避難施設等-5（6）-調査結果"]
[null,{"$f":"'1_入力シート【基本情報】'!$AR$431","v":0},"",{"$f":"'1_入力シート【基本情報】'!$AR$431","v":0},{"$f":"'1_入力シート【基本情報】'!$AR$431","v":0},null,"22","調査結果","-","避難施設等","-","5（6）","-","調査者番号",null,null,null,null,"22調査結果-避難施設等-5（6）-調査者番号"]
[null,{"$f":"'1_入力シート【基本情報】'!$AT$431","v":0},"",{"$f":"'1_入力シート【基本情報】'!$AT$431","v":0},{"$f":"'1_入力シート【基本情報】'!$AT$431","v":0},null,"22","調査結果","-","避難施設等","-","5（6）","-","指摘の具体的内容等",null,null,null,null,"22調査結果-避難施設等-5（6）-指摘の具体的内容等"]
[null,{"$f":"'1_入力シート【基本情報】'!$BD$431","v":0},"",{"$f":"'1_入力シート【基本情報】'!$BD$431","v":0},{"$f":"'1_入力シート【基本情報】'!$BD$431","v":0},null,"22","調査結果","-","避難施設等","-","5（6）","-","改善策の具体的内容等",null,null,null,null,"22調査結果-避難施設等-5（6）-改善策の具体的内容等"]
[null,{"$f":"'1_入力シート【基本情報】'!$BS$431","v":0},{"$f":"ASC($D912)","v":"0"},{"$f":"'1_入力シート【基本情報】'!$BS$431","v":0},"0",null,"22","調査結果","-","避難施設等","-","5（6）","-","改善（予定）年月","-","年（令和）",null,null,"22調査結果-避難施設等-5（6）-改善（予定）年月-年（令和）"]
[null,{"$f":"'1_入力シート【基本情報】'!$BV$431","v":0},"0",{"$f":"'1_入力シート【基本情報】'!$BV$431","v":0},"0",null,"22","調査結果","-","避難施設等","-","5（6）","-","改善（予定）年月","-","月",null,null,"22調査結果-避難施設等-5（6）-改善（予定）年月-月"]
[null,{"$f":"'1_入力シート【基本情報】'!$BY$431","v":0},"",{"$f":"'1_入力シート【基本情報】'!$BY$431","v":0},{"$f":"'1_入力シート【基本情報】'!$BY$431","v":0},null,"22","調査結果","-","避難施設等","-","5（6）","-","改善（予定）年月","-","未定",null,null,"22調査結果-避難施設等-5（6）-改善（予定）年月-未定"]
[null,{"$f":"'1_入力シート【基本情報】'!$AF$432","v":0},"",{"$f":"IF(C915=\"\",0,C915)","v":0},{"$f":"D915","v":0},null,"22","調査結果","-","避難施設等","-","5（7）","-","調査結果",null,null,null,null,"22調査結果-避難施設等-5（7）-調査結果"]
[null,{"$f":"'1_入力シート【基本情報】'!$AR$432","v":0},"",{"$f":"'1_入力シート【基本情報】'!$AR$432","v":0},{"$f":"'1_入力シート【基本情報】'!$AR$432","v":0},null,"22","調査結果","-","避難施設等","-","5（7）","-","調査者番号",null,null,null,null,"22調査結果-避難施設等-5（7）-調査者番号"]
[null,{"$f":"'1_入力シート【基本情報】'!$AT$432","v":0},"",{"$f":"'1_入力シート【基本情報】'!$AT$432","v":0},{"$f":"'1_入力シート【基本情報】'!$AT$432","v":0},null,"22","調査結果","-","避難施設等","-","5（7）","-","指摘の具体的内容等",null,null,null,null,{"$f":"CONCATENATE(G917,H917,I917,J917,K917,L917,M917,N917,O917,P917)","v":"22調査結果-避難施設等-5（7）-指摘の具体的内容等"}]
[null,{"$f":"'1_入力シート【基本情報】'!$BD$432","v":0},"",{"$f":"'1_入力シート【基本情報】'!$BD$432","v":0},{"$f":"'1_入力シート【基本情報】'!$BD$432","v":0},null,"22","調査結果","-","避難施設等","-","5（7）","-","改善策の具体的内容等",null,null,null,null,"22調査結果-避難施設等-5（7）-改善策の具体的内容等"]
[null,{"$f":"'1_入力シート【基本情報】'!$BS$432","v":0},{"$f":"ASC($D919)","v":"0"},{"$f":"'1_入力シート【基本情報】'!$BS$432","v":0},"0",null,"22","調査結果","-","避難施設等","-","5（7）","-","改善（予定）年月","-","年（令和）",null,null,"22調査結果-避難施設等-5（7）-改善（予定）年月-年（令和）"]
[null,{"$f":"'1_入力シート【基本情報】'!$BV$432","v":0},"0",{"$f":"'1_入力シート【基本情報】'!$BV$432","v":0},"0",null,"22","調査結果","-","避難施設等","-","5（7）","-","改善（予定）年月","-","月",null,null,"22調査結果-避難施設等-5（7）-改善（予定）年月-月"]
[null,{"$f":"'1_入力シート【基本情報】'!$BY$432","v":0},"",{"$f":"'1_入力シート【基本情報】'!$BY$432","v":0},{"$f":"'1_入力シート【基本情報】'!$BY$432","v":0},null,"22","調査結果","-","避難施設等","-","5（7）","-","改善（予定）年月","-","未定",null,null,"22調査結果-避難施設等-5（7）-改善（予定）年月-未定"]
[null,{"$f":"'1_入力シート【基本情報】'!$AF$433","v":0},"",{"$f":"IF(C922=\"\",0,C922)","v":0},{"$f":"D922","v":0},null,"22","調査結果","-","避難施設等","-","5（8）","-","調査結果",null,null,null,null,"22調査結果-避難施設等-5（8）-調査結果"]
[null,{"$f":"'1_入力シート【基本情報】'!$AR$433","v":0},"",{"$f":"'1_入力シート【基本情報】'!$AR$433","v":0},{"$f":"'1_入力シート【基本情報】'!$AR$433","v":0},null,"22","調査結果","-","避難施設等","-","5（8）","-","調査者番号",null,null,null,null,"22調査結果-避難施設等-5（8）-調査者番号"]
[null,{"$f":"'1_入力シート【基本情報】'!$AT$433","v":0},"",{"$f":"'1_入力シート【基本情報】'!$AT$433","v":0},{"$f":"'1_入力シート【基本情報】'!$AT$433","v":0},null,"22","調査結果","-","避難施設等","-","5（8）","-","指摘の具体的内容等",null,null,null,null,"22調査結果-避難施設等-5（8）-指摘の具体的内容等"]
[null,{"$f":"'1_入力シート【基本情報】'!$BD$433","v":0},"",{"$f":"'1_入力シート【基本情報】'!$BD$433","v":0},{"$f":"'1_入力シート【基本情報】'!$BD$433","v":0},null,"22","調査結果","-","避難施設等","-","5（8）","-","改善策の具体的内容等",null,null,null,null,"22調査結果-避難施設等-5（8）-改善策の具体的内容等"]
[null,{"$f":"'1_入力シート【基本情報】'!$BS$433","v":0},{"$f":"ASC($D926)","v":"0"},{"$f":"'1_入力シート【基本情報】'!$BS$433","v":0},"0",null,"22","調査結果","-","避難施設等","-","5（8）","-","改善（予定）年月","-","年（令和）",null,null,"22調査結果-避難施設等-5（8）-改善（予定）年月-年（令和）"]
[null,{"$f":"'1_入力シート【基本情報】'!$BV$433","v":0},"0",{"$f":"'1_入力シート【基本情報】'!$BV$433","v":0},"0",null,"22","調査結果","-","避難施設等","-","5（8）","-","改善（予定）年月","-","月",null,null,"22調査結果-避難施設等-5（8）-改善（予定）年月-月"]
[null,{"$f":"'1_入力シート【基本情報】'!$BY$433","v":0},"",{"$f":"'1_入力シート【基本情報】'!$BY$433","v":0},{"$f":"'1_入力シート【基本情報】'!$BY$433","v":0},null,"22","調査結果","-","避難施設等","-","5（8）","-","改善（予定）年月","-","未定",null,null,"22調査結果-避難施設等-5（8）-改善（予定）年月-未定"]
[null,{"$f":"'1_入力シート【基本情報】'!$AF$434","v":0},"",{"$f":"IF(C929=\"\",0,C929)","v":0},{"$f":"D929","v":0},null,"22","調査結果","-","避難施設等","-","5（9）","-","調査結果",null,null,null,null,"22調査結果-避難施設等-5（9）-調査結果"]
[null,{"$f":"'1_入力シート【基本情報】'!$AR$434","v":0},{"$f":"MID(B930,2,14)","v":""},{"$f":"'1_入力シート【基本情報】'!$AR$434","v":0},{"$f":"'1_入力シート【基本情報】'!$AR$434","v":0},null,"22","調査結果","-","避難施設等","-","5（9）","-","調査者番号",null,null,null,null,"22調査結果-避難施設等-5（9）-調査者番号"]
[null,{"$f":"'1_入力シート【基本情報】'!$AT$434","v":0},"",{"$f":"'1_入力シート【基本情報】'!$AT$434","v":0},{"$f":"'1_入力シート【基本情報】'!$AT$434","v":0},null,"22","調査結果","-","避難施設等","-","5（9）","-","指摘の具体的内容等",null,null,null,null,"22調査結果-避難施設等-5（9）-指摘の具体的内容等"]
[null,{"$f":"'1_入力シート【基本情報】'!$BD$434","v":0},"",{"$f":"'1_入力シート【基本情報】'!$BD$434","v":0},{"$f":"'1_入力シート【基本情報】'!$BD$434","v":0},null,"22","調査結果","-","避難施設等","-","5（9）","-","改善策の具体的内容等",null,null,null,null,"22調査結果-避難施設等-5（9）-改善策の具体的内容等"]
[null,{"$f":"'1_入力シート【基本情報】'!$BS$434","v":0},{"$f":"ASC($D933)","v":"0"},{"$f":"'1_入力シート【基本情報】'!$BS$434","v":0},"0",null,"22","調査結果","-","避難施設等","-","5（9）","-","改善（予定）年月","-","年（令和）",null,null,"22調査結果-避難施設等-5（9）-改善（予定）年月-年（令和）"]
[null,{"$f":"'1_入力シート【基本情報】'!$BV$434","v":0},"0",{"$f":"'1_入力シート【基本情報】'!$BV$434","v":0},"0",null,"22","調査結果","-","避難施設等","-","5（9）","-","改善（予定）年月","-","月",null,null,"22調査結果-避難施設等-5（9）-改善（予定）年月-月"]
[null,{"$f":"'1_入力シート【基本情報】'!$BY$434","v":0},"",{"$f":"'1_入力シート【基本情報】'!$BY$434","v":0},{"$f":"'1_入力シート【基本情報】'!$BY$434","v":0},null,"22","調査結果","-","避難施設等","-","5（9）","-","改善（予定）年月","-","未定",null,null,"22調査結果-避難施設等-5（9）-改善（予定）年月-未定"]
[null,{"$f":"'1_入力シート【基本情報】'!$AF$435","v":0},"",{"$f":"IF(C936=\"\",0,C936)","v":0},{"$f":"D936","v":0},null,"22","調査結果","-","避難施設等","-","5（10）","-","調査結果",null,null,null,null,"22調査結果-避難施設等-5（10）-調査結果"]
[null,{"$f":"'1_入力シート【基本情報】'!$AR$435","v":0},"",{"$f":"'1_入力シート【基本情報】'!$AR$435","v":0},{"$f":"'1_入力シート【基本情報】'!$AR$435","v":0},null,"22","調査結果","-","避難施設等","-","5（10）","-","調査者番号",null,null,null,null,"22調査結果-避難施設等-5（10）-調査者番号"]
[null,{"$f":"'1_入力シート【基本情報】'!$AT$435","v":0},"",{"$f":"'1_入力シート【基本情報】'!$AT$435","v":0},{"$f":"'1_入力シート【基本情報】'!$AT$435","v":0},null,"22","調査結果","-","避難施設等","-","5（10）","-","指摘の具体的内容等",null,null,null,null,"22調査結果-避難施設等-5（10）-指摘の具体的内容等"]
[null,{"$f":"'1_入力シート【基本情報】'!$BD$435","v":0},"",{"$f":"'1_入力シート【基本情報】'!$BD$435","v":0},{"$f":"'1_入力シート【基本情報】'!$BD$435","v":0},null,"22","調査結果","-","避難施設等","-","5（10）","-","改善策の具体的内容等",null,null,null,null,"22調査結果-避難施設等-5（10）-改善策の具体的内容等"]
[null,{"$f":"'1_入力シート【基本情報】'!$BS$435","v":0},{"$f":"ASC($D940)","v":"0"},{"$f":"'1_入力シート【基本情報】'!$BS$435","v":0},"0",null,"22","調査結果","-","避難施設等","-","5（10）","-","改善（予定）年月","-","年（令和）",null,null,"22調査結果-避難施設等-5（10）-改善（予定）年月-年（令和）"]
[null,{"$f":"'1_入力シート【基本情報】'!$BV$435","v":0},"0",{"$f":"'1_入力シート【基本情報】'!$BV$435","v":0},"0",null,"22","調査結果","-","避難施設等","-","5（10）","-","改善（予定）年月","-","月",null,null,"22調査結果-避難施設等-5（10）-改善（予定）年月-月"]
[null,{"$f":"'1_入力シート【基本情報】'!$BY$435","v":0},"",{"$f":"'1_入力シート【基本情報】'!$BY$435","v":0},{"$f":"'1_入力シート【基本情報】'!$BY$435","v":0},null,"22","調査結果","-","避難施設等","-","5（10）","-","改善（予定）年月","-","未定",null,null,"22調査結果-避難施設等-5（10）-改善（予定）年月-未定"]
[null,{"$f":"'1_入力シート【基本情報】'!$AF$436","v":0},"",{"$f":"IF(C943=\"\",0,C943)","v":0},{"$f":"D943","v":0},null,"22","調査結果","-","避難施設等","-","5（11）","-","調査結果",null,null,null,null,"22調査結果-避難施設等-5（11）-調査結果"]
[null,{"$f":"'1_入力シート【基本情報】'!$AR$436","v":0},"",{"$f":"'1_入力シート【基本情報】'!$AR$436","v":0},{"$f":"'1_入力シート【基本情報】'!$AR$436","v":0},null,"22","調査結果","-","避難施設等","-","5（11）","-","調査者番号",null,null,null,null,"22調査結果-避難施設等-5（11）-調査者番号"]
[null,{"$f":"'1_入力シート【基本情報】'!$AT$436","v":0},"",{"$f":"'1_入力シート【基本情報】'!$AT$436","v":0},{"$f":"'1_入力シート【基本情報】'!$AT$436","v":0},null,"22","調査結果","-","避難施設等","-","5（11）","-","指摘の具体的内容等",null,null,null,null,"22調査結果-避難施設等-5（11）-指摘の具体的内容等"]
[null,{"$f":"'1_入力シート【基本情報】'!$BD$436","v":0},"",{"$f":"'1_入力シート【基本情報】'!$BD$436","v":0},{"$f":"'1_入力シート【基本情報】'!$BD$436","v":0},null,"22","調査結果","-","避難施設等","-","5（11）","-","改善策の具体的内容等",null,null,null,null,"22調査結果-避難施設等-5（11）-改善策の具体的内容等"]
[null,{"$f":"'1_入力シート【基本情報】'!$BS$436","v":0},{"$f":"ASC($D947)","v":"0"},{"$f":"'1_入力シート【基本情報】'!$BS$436","v":0},"0",null,"22","調査結果","-","避難施設等","-","5（11）","-","改善（予定）年月","-","年（令和）",null,null,"22調査結果-避難施設等-5（11）-改善（予定）年月-年（令和）"]
[null,{"$f":"'1_入力シート【基本情報】'!$BV$436","v":0},"0",{"$f":"'1_入力シート【基本情報】'!$BV$436","v":0},"0",null,"22","調査結果","-","避難施設等","-","5（11）","-","改善（予定）年月","-","月",null,null,"22調査結果-避難施設等-5（11）-改善（予定）年月-月"]
[null,{"$f":"'1_入力シート【基本情報】'!$BY$436","v":0},"",{"$f":"'1_入力シート【基本情報】'!$BY$436","v":0},{"$f":"'1_入力シート【基本情報】'!$BY$436","v":0},null,"22","調査結果","-","避難施設等","-","5（11）","-","改善（予定）年月","-","未定",null,null,"22調査結果-避難施設等-5（11）-改善（予定）年月-未定"]
[null,{"$f":"'1_入力シート【基本情報】'!$AF$437","v":0},"",{"$f":"IF(C950=\"\",0,C950)","v":0},{"$f":"D950","v":0},null,"22","調査結果","-","避難施設等","-","5（12）","-","調査結果",null,null,null,null,"22調査結果-避難施設等-5（12）-調査結果"]
[null,{"$f":"'1_入力シート【基本情報】'!$AR$437","v":0},"",{"$f":"'1_入力シート【基本情報】'!$AR$437","v":0},{"$f":"'1_入力シート【基本情報】'!$AR$437","v":0},null,"22","調査結果","-","避難施設等","-","5（12）","-","調査者番号",null,null,null,null,"22調査結果-避難施設等-5（12）-調査者番号"]
[null,{"$f":"'1_入力シート【基本情報】'!$AT$437","v":0},"",{"$f":"'1_入力シート【基本情報】'!$AT$437","v":0},{"$f":"'1_入力シート【基本情報】'!$AT$437","v":0},null,"22","調査結果","-","避難施設等","-","5（12）","-","指摘の具体的内容等",null,null,null,null,"22調査結果-避難施設等-5（12）-指摘の具体的内容等"]
[null,{"$f":"'1_入力シート【基本情報】'!$BD$437","v":0},"",{"$f":"'1_入力シート【基本情報】'!$BD$437","v":0},{"$f":"'1_入力シート【基本情報】'!$BD$437","v":0},null,"22","調査結果","-","避難施設等","-","5（12）","-","改善策の具体的内容等",null,null,null,null,"22調査結果-避難施設等-5（12）-改善策の具体的内容等"]
[null,{"$f":"'1_入力シート【基本情報】'!$BS$437","v":0},{"$f":"ASC($D954)","v":"0"},{"$f":"'1_入力シート【基本情報】'!$BS$437","v":0},"0",null,"22","調査結果","-","避難施設等","-","5（12）","-","改善（予定）年月","-","年（令和）",null,null,"22調査結果-避難施設等-5（12）-改善（予定）年月-年（令和）"]
[null,{"$f":"'1_入力シート【基本情報】'!$BV$437","v":0},"0",{"$f":"'1_入力シート【基本情報】'!$BV$437","v":0},"0",null,"22","調査結果","-","避難施設等","-","5（12）","-","改善（予定）年月","-","月",null,null,"22調査結果-避難施設等-5（12）-改善（予定）年月-月"]
[null,{"$f":"'1_入力シート【基本情報】'!$BY$437","v":0},"",{"$f":"'1_入力シート【基本情報】'!$BY$437","v":0},{"$f":"'1_入力シート【基本情報】'!$BY$437","v":0},null,"22","調査結果","-","避難施設等","-","5（12）","-","改善（予定）年月","-","未定",null,null,"22調査結果-避難施設等-5（12）-改善（予定）年月-未定"]
[null,{"$f":"'1_入力シート【基本情報】'!$AF$438","v":0},"",{"$f":"IF(C957=\"\",0,C957)","v":0},{"$f":"D957","v":0},null,"22","調査結果","-","避難施設等","-","5（13）","-","調査結果",null,null,null,null,"22調査結果-避難施設等-5（13）-調査結果"]
[null,{"$f":"'1_入力シート【基本情報】'!$AR$438","v":0},"",{"$f":"'1_入力シート【基本情報】'!$AR$438","v":0},{"$f":"'1_入力シート【基本情報】'!$AR$438","v":0},null,"22","調査結果","-","避難施設等","-","5（13）","-","調査者番号",null,null,null,null,"22調査結果-避難施設等-5（13）-調査者番号"]
[null,{"$f":"'1_入力シート【基本情報】'!$AT$438","v":0},"",{"$f":"'1_入力シート【基本情報】'!$AT$438","v":0},{"$f":"'1_入力シート【基本情報】'!$AT$438","v":0},null,"22","調査結果","-","避難施設等","-","5（13）","-","指摘の具体的内容等",null,null,null,null,"22調査結果-避難施設等-5（13）-指摘の具体的内容等"]
[null,{"$f":"'1_入力シート【基本情報】'!$BD$438","v":0},"",{"$f":"'1_入力シート【基本情報】'!$BD$438","v":0},{"$f":"'1_入力シート【基本情報】'!$BD$438","v":0},null,"22","調査結果","-","避難施設等","-","5（13）","-","改善策の具体的内容等",null,null,null,null,"22調査結果-避難施設等-5（13）-改善策の具体的内容等"]
[null,{"$f":"'1_入力シート【基本情報】'!$BS$438","v":0},{"$f":"ASC($D961)","v":"0"},{"$f":"'1_入力シート【基本情報】'!$BS$438","v":0},"0",null,"22","調査結果","-","避難施設等","-","5（13）","-","改善（予定）年月","-","年（令和）",null,null,"22調査結果-避難施設等-5（13）-改善（予定）年月-年（令和）"]
[null,{"$f":"'1_入力シート【基本情報】'!$BV$438","v":0},"0",{"$f":"'1_入力シート【基本情報】'!$BV$438","v":0},"0",null,"22","調査結果","-","避難施設等","-","5（13）","-","改善（予定）年月","-","月",null,null,"22調査結果-避難施設等-5（13）-改善（予定）年月-月"]
[null,{"$f":"'1_入力シート【基本情報】'!$BY$438","v":0},"",{"$f":"'1_入力シート【基本情報】'!$BY$438","v":0},{"$f":"'1_入力シート【基本情報】'!$BY$438","v":0},null,"22","調査結果","-","避難施設等","-","5（13）","-","改善（予定）年月","-","未定",null,null,"22調査結果-避難施設等-5（13）-改善（予定）年月-未定"]
[null,{"$f":"'1_入力シート【基本情報】'!$AF$439","v":0},"",{"$f":"IF(C964=\"\",0,C964)","v":0},{"$f":"D964","v":0},null,"22","調査結果","-","避難施設等","-","5（14）","-","調査結果",null,null,null,null,"22調査結果-避難施設等-5（14）-調査結果"]
[null,{"$f":"'1_入力シート【基本情報】'!$AR$439","v":0},"",{"$f":"'1_入力シート【基本情報】'!$AR$439","v":0},{"$f":"'1_入力シート【基本情報】'!$AR$439","v":0},null,"22","調査結果","-","避難施設等","-","5（14）","-","調査者番号",null,null,null,null,"22調査結果-避難施設等-5（14）-調査者番号"]
[null,{"$f":"'1_入力シート【基本情報】'!$AT$439","v":0},"",{"$f":"'1_入力シート【基本情報】'!$AT$439","v":0},{"$f":"'1_入力シート【基本情報】'!$AT$439","v":0},null,"22","調査結果","-","避難施設等","-","5（14）","-","指摘の具体的内容等",null,null,null,null,"22調査結果-避難施設等-5（14）-指摘の具体的内容等"]
[null,{"$f":"'1_入力シート【基本情報】'!$BD$439","v":0},"",{"$f":"'1_入力シート【基本情報】'!$BD$439","v":0},{"$f":"'1_入力シート【基本情報】'!$BD$439","v":0},null,"22","調査結果","-","避難施設等","-","5（14）","-","改善策の具体的内容等",null,null,null,null,"22調査結果-避難施設等-5（14）-改善策の具体的内容等"]
[null,{"$f":"'1_入力シート【基本情報】'!$BS$439","v":0},{"$f":"ASC($D968)","v":"0"},{"$f":"'1_入力シート【基本情報】'!$BS$439","v":0},"0",null,"22","調査結果","-","避難施設等","-","5（14）","-","改善（予定）年月","-","年（令和）",null,null,"22調査結果-避難施設等-5（14）-改善（予定）年月-年（令和）"]
[null,{"$f":"'1_入力シート【基本情報】'!$BV$439","v":0},"0",{"$f":"'1_入力シート【基本情報】'!$BV$439","v":0},"0",null,"22","調査結果","-","避難施設等","-","5（14）","-","改善（予定）年月","-","月",null,null,"22調査結果-避難施設等-5（14）-改善（予定）年月-月"]
[null,{"$f":"'1_入力シート【基本情報】'!$BY$439","v":0},"",{"$f":"'1_入力シート【基本情報】'!$BY$439","v":0},{"$f":"'1_入力シート【基本情報】'!$BY$439","v":0},null,"22","調査結果","-","避難施設等","-","5（14）","-","改善（予定）年月","-","未定",null,null,"22調査結果-避難施設等-5（14）-改善（予定）年月-未定"]
[null,{"$f":"'1_入力シート【基本情報】'!$AF$440","v":0},"",{"$f":"IF(C971=\"\",0,C971)","v":0},{"$f":"D971","v":0},null,"22","調査結果","-","避難施設等","-","5（15）","-","調査結果",null,null,null,null,"22調査結果-避難施設等-5（15）-調査結果"]
[null,{"$f":"'1_入力シート【基本情報】'!$AR$440","v":0},"",{"$f":"'1_入力シート【基本情報】'!$AR$440","v":0},{"$f":"'1_入力シート【基本情報】'!$AR$440","v":0},null,"22","調査結果","-","避難施設等","-","5（15）","-","調査者番号",null,null,null,null,"22調査結果-避難施設等-5（15）-調査者番号"]
[null,{"$f":"'1_入力シート【基本情報】'!$AT$440","v":0},"",{"$f":"'1_入力シート【基本情報】'!$AT$440","v":0},{"$f":"'1_入力シート【基本情報】'!$AT$440","v":0},null,"22","調査結果","-","避難施設等","-","5（15）","-","指摘の具体的内容等",null,null,null,null,"22調査結果-避難施設等-5（15）-指摘の具体的内容等"]
[null,{"$f":"'1_入力シート【基本情報】'!$BD$440","v":0},"",{"$f":"'1_入力シート【基本情報】'!$BD$440","v":0},{"$f":"'1_入力シート【基本情報】'!$BD$440","v":0},null,"22","調査結果","-","避難施設等","-","5（15）","-","改善策の具体的内容等",null,null,null,null,"22調査結果-避難施設等-5（15）-改善策の具体的内容等"]
[null,{"$f":"'1_入力シート【基本情報】'!$BS$440","v":0},{"$f":"ASC($D975)","v":"0"},{"$f":"'1_入力シート【基本情報】'!$BS$440","v":0},"0",null,"22","調査結果","-","避難施設等","-","5（15）","-","改善（予定）年月","-","年（令和）",null,null,"22調査結果-避難施設等-5（15）-改善（予定）年月-年（令和）"]
[null,{"$f":"'1_入力シート【基本情報】'!$BV$440","v":0},"0",{"$f":"'1_入力シート【基本情報】'!$BV$440","v":0},"0",null,"22","調査結果","-","避難施設等","-","5（15）","-","改善（予定）年月","-","月",null,null,"22調査結果-避難施設等-5（15）-改善（予定）年月-月"]
[null,{"$f":"'1_入力シート【基本情報】'!$BY$440","v":0},"",{"$f":"'1_入力シート【基本情報】'!$BY$440","v":0},{"$f":"'1_入力シート【基本情報】'!$BY$440","v":0},null,"22","調査結果","-","避難施設等","-","5（15）","-","改善（予定）年月","-","未定",null,null,"22調査結果-避難施設等-5（15）-改善（予定）年月-未定"]
[null,{"$f":"'1_入力シート【基本情報】'!$AF$441","v":0},"",{"$f":"IF(C978=\"\",0,C978)","v":0},{"$f":"D978","v":0},null,"22","調査結果","-","避難施設等","-","5（16）","-","調査結果",null,null,null,null,"22調査結果-避難施設等-5（16）-調査結果"]
[null,{"$f":"'1_入力シート【基本情報】'!$AR$441","v":0},"",{"$f":"'1_入力シート【基本情報】'!$AR$441","v":0},{"$f":"'1_入力シート【基本情報】'!$AR$441","v":0},null,"22","調査結果","-","避難施設等","-","5（16）","-","調査者番号",null,null,null,null,"22調査結果-避難施設等-5（16）-調査者番号"]
[null,{"$f":"'1_入力シート【基本情報】'!$AT$441","v":0},"",{"$f":"'1_入力シート【基本情報】'!$AT$441","v":0},{"$f":"'1_入力シート【基本情報】'!$AT$441","v":0},null,"22","調査結果","-","避難施設等","-","5（16）","-","指摘の具体的内容等",null,null,null,null,"22調査結果-避難施設等-5（16）-指摘の具体的内容等"]
[null,{"$f":"'1_入力シート【基本情報】'!$BD$441","v":0},"",{"$f":"'1_入力シート【基本情報】'!$BD$441","v":0},{"$f":"'1_入力シート【基本情報】'!$BD$441","v":0},null,"22","調査結果","-","避難施設等","-","5（16）","-","改善策の具体的内容等",null,null,null,null,{"$f":"CONCATENATE(G981,H981,I981,J981,K981,L981,M981,N981,O981,P981)","v":"22調査結果-避難施設等-5（16）-改善策の具体的内容等"}]
[null,{"$f":"'1_入力シート【基本情報】'!$BS$441","v":0},{"$f":"ASC($D982)","v":"0"},{"$f":"'1_入力シート【基本情報】'!$BS$441","v":0},"0",null,"22","調査結果","-","避難施設等","-","5（16）","-","改善（予定）年月","-","年（令和）",null,null,"22調査結果-避難施設等-5（16）-改善（予定）年月-年（令和）"]
[null,{"$f":"'1_入力シート【基本情報】'!$BV$441","v":0},"0",{"$f":"'1_入力シート【基本情報】'!$BV$441","v":0},"0",null,"22","調査結果","-","避難施設等","-","5（16）","-","改善（予定）年月","-","月",null,null,"22調査結果-避難施設等-5（16）-改善（予定）年月-月"]
[null,{"$f":"'1_入力シート【基本情報】'!$BY$441","v":0},"",{"$f":"'1_入力シート【基本情報】'!$BY$441","v":0},{"$f":"'1_入力シート【基本情報】'!$BY$441","v":0},null,"22","調査結果","-","避難施設等","-","5（16）","-","改善（予定）年月","-","未定",null,null,"22調査結果-避難施設等-5（16）-改善（予定）年月-未定"]
[null,{"$f":"'1_入力シート【基本情報】'!$AF$442","v":0},"",{"$f":"IF(C985=\"\",0,C985)","v":0},{"$f":"D985","v":0},null,"22","調査結果","-","避難施設等","-","5（17）","-","調査結果",null,null,null,null,"22調査結果-避難施設等-5（17）-調査結果"]
[null,{"$f":"'1_入力シート【基本情報】'!$AR$442","v":0},"",{"$f":"'1_入力シート【基本情報】'!$AR$442","v":0},{"$f":"'1_入力シート【基本情報】'!$AR$442","v":0},null,"22","調査結果","-","避難施設等","-","5（17）","-","調査者番号",null,null,null,null,"22調査結果-避難施設等-5（17）-調査者番号"]
[null,{"$f":"'1_入力シート【基本情報】'!$AT$442","v":0},"",{"$f":"'1_入力シート【基本情報】'!$AT$442","v":0},{"$f":"'1_入力シート【基本情報】'!$AT$442","v":0},null,"22","調査結果","-","避難施設等","-","5（17）","-","指摘の具体的内容等",null,null,null,null,"22調査結果-避難施設等-5（17）-指摘の具体的内容等"]
[null,{"$f":"'1_入力シート【基本情報】'!$BD$442","v":0},"",{"$f":"'1_入力シート【基本情報】'!$BD$442","v":0},{"$f":"'1_入力シート【基本情報】'!$BD$442","v":0},null,"22","調査結果","-","避難施設等","-","5（17）","-","改善策の具体的内容等",null,null,null,null,"22調査結果-避難施設等-5（17）-改善策の具体的内容等"]
[null,{"$f":"'1_入力シート【基本情報】'!$BS$442","v":0},{"$f":"ASC($D989)","v":"0"},{"$f":"'1_入力シート【基本情報】'!$BS$442","v":0},"0",null,"22","調査結果","-","避難施設等","-","5（17）","-","改善（予定）年月","-","年（令和）",null,null,"22調査結果-避難施設等-5（17）-改善（予定）年月-年（令和）"]
[null,{"$f":"'1_入力シート【基本情報】'!$BV$442","v":0},"0",{"$f":"'1_入力シート【基本情報】'!$BV$442","v":0},"0",null,"22","調査結果","-","避難施設等","-","5（17）","-","改善（予定）年月","-","月",null,null,"22調査結果-避難施設等-5（17）-改善（予定）年月-月"]
[null,{"$f":"'1_入力シート【基本情報】'!$BY$442","v":0},"",{"$f":"'1_入力シート【基本情報】'!$BY$442","v":0},{"$f":"'1_入力シート【基本情報】'!$BY$442","v":0},null,"22","調査結果","-","避難施設等","-","5（17）","-","改善（予定）年月","-","未定",null,null,"22調査結果-避難施設等-5（17）-改善（予定）年月-未定"]
[null,{"$f":"'1_入力シート【基本情報】'!$AF$443","v":0},"",{"$f":"IF(C992=\"\",0,C992)","v":0},{"$f":"D992","v":0},null,"22","調査結果","-","避難施設等","-","5（18）","-","調査結果",null,null,null,null,"22調査結果-避難施設等-5（18）-調査結果"]
[null,{"$f":"'1_入力シート【基本情報】'!$AR$443","v":0},"",{"$f":"'1_入力シート【基本情報】'!$AR$443","v":0},{"$f":"'1_入力シート【基本情報】'!$AR$443","v":0},null,"22","調査結果","-","避難施設等","-","5（18）","-","調査者番号",null,null,null,null,"22調査結果-避難施設等-5（18）-調査者番号"]
[null,{"$f":"'1_入力シート【基本情報】'!$AT$443","v":0},{"$f":"MID(B994,2,14)","v":""},{"$f":"'1_入力シート【基本情報】'!$AT$443","v":0},{"$f":"'1_入力シート【基本情報】'!$AT$443","v":0},null,"22","調査結果","-","避難施設等","-","5（18）","-","指摘の具体的内容等",null,null,null,null,"22調査結果-避難施設等-5（18）-指摘の具体的内容等"]
[null,{"$f":"'1_入力シート【基本情報】'!$BD$443","v":0},"",{"$f":"'1_入力シート【基本情報】'!$BD$443","v":0},{"$f":"'1_入力シート【基本情報】'!$BD$443","v":0},null,"22","調査結果","-","避難施設等","-","5（18）","-","改善策の具体的内容等",null,null,null,null,"22調査結果-避難施設等-5（18）-改善策の具体的内容等"]
[null,{"$f":"'1_入力シート【基本情報】'!$BS$443","v":0},{"$f":"ASC($D996)","v":"0"},{"$f":"'1_入力シート【基本情報】'!$BS$443","v":0},"0",null,"22","調査結果","-","避難施設等","-","5（18）","-","改善（予定）年月","-","年（令和）",null,null,"22調査結果-避難施設等-5（18）-改善（予定）年月-年（令和）"]
[null,{"$f":"'1_入力シート【基本情報】'!$BV$443","v":0},"0",{"$f":"'1_入力シート【基本情報】'!$BV$443","v":0},"0",null,"22","調査結果","-","避難施設等","-","5（18）","-","改善（予定）年月","-","月",null,null,"22調査結果-避難施設等-5（18）-改善（予定）年月-月"]
[null,{"$f":"'1_入力シート【基本情報】'!$BY$443","v":0},"",{"$f":"'1_入力シート【基本情報】'!$BY$443","v":0},{"$f":"'1_入力シート【基本情報】'!$BY$443","v":0},null,"22","調査結果","-","避難施設等","-","5（18）","-","改善（予定）年月","-","未定",null,null,"22調査結果-避難施設等-5（18）-改善（予定）年月-未定"]
[null,{"$f":"'1_入力シート【基本情報】'!$AF$444","v":0},"",{"$f":"IF(C999=\"\",0,C999)","v":0},{"$f":"D999","v":0},null,"22","調査結果","-","避難施設等","-","5（19）","-","調査結果",null,null,null,null,"22調査結果-避難施設等-5（19）-調査結果"]
[null,{"$f":"'1_入力シート【基本情報】'!$AR$444","v":0},"",{"$f":"'1_入力シート【基本情報】'!$AR$444","v":0},{"$f":"'1_入力シート【基本情報】'!$AR$444","v":0},null,"22","調査結果","-","避難施設等","-","5（19）","-","調査者番号",null,null,null,null,"22調査結果-避難施設等-5（19）-調査者番号"]
[null,{"$f":"'1_入力シート【基本情報】'!$AT$444","v":0},"",{"$f":"'1_入力シート【基本情報】'!$AT$444","v":0},{"$f":"'1_入力シート【基本情報】'!$AT$444","v":0},null,"22","調査結果","-","避難施設等","-","5（19）","-","指摘の具体的内容等",null,null,null,null,"22調査結果-避難施設等-5（19）-指摘の具体的内容等"]
[null,{"$f":"'1_入力シート【基本情報】'!$BD$444","v":0},"",{"$f":"'1_入力シート【基本情報】'!$BD$444","v":0},{"$f":"'1_入力シート【基本情報】'!$BD$444","v":0},null,"22","調査結果","-","避難施設等","-","5（19）","-","改善策の具体的内容等",null,null,null,null,"22調査結果-避難施設等-5（19）-改善策の具体的内容等"]
[null,{"$f":"'1_入力シート【基本情報】'!$BS$444","v":0},{"$f":"ASC($D1003)","v":"0"},{"$f":"'1_入力シート【基本情報】'!$BS$444","v":0},"0",null,"22","調査結果","-","避難施設等","-","5（19）","-","改善（予定）年月","-","年（令和）",null,null,"22調査結果-避難施設等-5（19）-改善（予定）年月-年（令和）"]
[null,{"$f":"'1_入力シート【基本情報】'!$BV$444","v":0},"0",{"$f":"'1_入力シート【基本情報】'!$BV$444","v":0},"0",null,"22","調査結果","-","避難施設等","-","5（19）","-","改善（予定）年月","-","月",null,null,"22調査結果-避難施設等-5（19）-改善（予定）年月-月"]
[null,{"$f":"'1_入力シート【基本情報】'!$BY$444","v":0},"",{"$f":"'1_入力シート【基本情報】'!$BY$444","v":0},{"$f":"'1_入力シート【基本情報】'!$BY$444","v":0},null,"22","調査結果","-","避難施設等","-","5（19）","-","改善（予定）年月","-","未定",null,null,"22調査結果-避難施設等-5（19）-改善（予定）年月-未定"]
[null,{"$f":"'1_入力シート【基本情報】'!$AF$445","v":0},"",{"$f":"IF(C1006=\"\",0,C1006)","v":0},{"$f":"D1006","v":0},null,"22","調査結果","-","避難施設等","-","5（20）","-","調査結果",null,null,null,null,"22調査結果-避難施設等-5（20）-調査結果"]
[null,{"$f":"'1_入力シート【基本情報】'!$AR$445","v":0},"",{"$f":"'1_入力シート【基本情報】'!$AR$445","v":0},{"$f":"'1_入力シート【基本情報】'!$AR$445","v":0},null,"22","調査結果","-","避難施設等","-","5（20）","-","調査者番号",null,null,null,null,"22調査結果-避難施設等-5（20）-調査者番号"]
[null,{"$f":"'1_入力シート【基本情報】'!$AT$445","v":0},"",{"$f":"'1_入力シート【基本情報】'!$AT$445","v":0},{"$f":"'1_入力シート【基本情報】'!$AT$445","v":0},null,"22","調査結果","-","避難施設等","-","5（20）","-","指摘の具体的内容等",null,null,null,null,"22調査結果-避難施設等-5（20）-指摘の具体的内容等"]
[null,{"$f":"'1_入力シート【基本情報】'!$BD$445","v":0},"",{"$f":"'1_入力シート【基本情報】'!$BD$445","v":0},{"$f":"'1_入力シート【基本情報】'!$BD$445","v":0},null,"22","調査結果","-","避難施設等","-","5（20）","-","改善策の具体的内容等",null,null,null,null,"22調査結果-避難施設等-5（20）-改善策の具体的内容等"]
[null,{"$f":"'1_入力シート【基本情報】'!$BS$445","v":0},{"$f":"ASC($D1010)","v":"0"},{"$f":"'1_入力シート【基本情報】'!$BS$445","v":0},"0",null,"22","調査結果","-","避難施設等","-","5（20）","-","改善（予定）年月","-","年（令和）",null,null,"22調査結果-避難施設等-5（20）-改善（予定）年月-年（令和）"]
[null,{"$f":"'1_入力シート【基本情報】'!$BV$445","v":0},"0",{"$f":"'1_入力シート【基本情報】'!$BV$445","v":0},"0",null,"22","調査結果","-","避難施設等","-","5（20）","-","改善（予定）年月","-","月",null,null,"22調査結果-避難施設等-5（20）-改善（予定）年月-月"]
[null,{"$f":"'1_入力シート【基本情報】'!$BY$445","v":0},"",{"$f":"'1_入力シート【基本情報】'!$BY$445","v":0},{"$f":"'1_入力シート【基本情報】'!$BY$445","v":0},null,"22","調査結果","-","避難施設等","-","5（20）","-","改善（予定）年月","-","未定",null,null,"22調査結果-避難施設等-5（20）-改善（予定）年月-未定"]
[null,{"$f":"'1_入力シート【基本情報】'!$AF$446","v":0},"",{"$f":"IF(C1013=\"\",0,C1013)","v":0},{"$f":"D1013","v":0},null,"22","調査結果","-","避難施設等","-","5（21）","-","調査結果",null,null,null,null,"22調査結果-避難施設等-5（21）-調査結果"]
[null,{"$f":"'1_入力シート【基本情報】'!$AR$446","v":0},"",{"$f":"'1_入力シート【基本情報】'!$AR$446","v":0},{"$f":"'1_入力シート【基本情報】'!$AR$446","v":0},null,"22","調査結果","-","避難施設等","-","5（21）","-","調査者番号",null,null,null,null,"22調査結果-避難施設等-5（21）-調査者番号"]
[null,{"$f":"'1_入力シート【基本情報】'!$AT$446","v":0},"",{"$f":"'1_入力シート【基本情報】'!$AT$446","v":0},{"$f":"'1_入力シート【基本情報】'!$AT$446","v":0},null,"22","調査結果","-","避難施設等","-","5（21）","-","指摘の具体的内容等",null,null,null,null,"22調査結果-避難施設等-5（21）-指摘の具体的内容等"]
[null,{"$f":"'1_入力シート【基本情報】'!$BD$446","v":0},"",{"$f":"'1_入力シート【基本情報】'!$BD$446","v":0},{"$f":"'1_入力シート【基本情報】'!$BD$446","v":0},null,"22","調査結果","-","避難施設等","-","5（21）","-","改善策の具体的内容等",null,null,null,null,"22調査結果-避難施設等-5（21）-改善策の具体的内容等"]
[null,{"$f":"'1_入力シート【基本情報】'!$BS$446","v":0},{"$f":"ASC($D1017)","v":"0"},{"$f":"'1_入力シート【基本情報】'!$BS$446","v":0},"0",null,"22","調査結果","-","避難施設等","-","5（21）","-","改善（予定）年月","-","年（令和）",null,null,"22調査結果-避難施設等-5（21）-改善（予定）年月-年（令和）"]
[null,{"$f":"'1_入力シート【基本情報】'!$BV$446","v":0},"0",{"$f":"'1_入力シート【基本情報】'!$BV$446","v":0},"0",null,"22","調査結果","-","避難施設等","-","5（21）","-","改善（予定）年月","-","月",null,null,"22調査結果-避難施設等-5（21）-改善（予定）年月-月"]
[null,{"$f":"'1_入力シート【基本情報】'!$BY$446","v":0},"",{"$f":"'1_入力シート【基本情報】'!$BY$446","v":0},{"$f":"'1_入力シート【基本情報】'!$BY$446","v":0},null,"22","調査結果","-","避難施設等","-","5（21）","-","改善（予定）年月","-","未定",null,null,"22調査結果-避難施設等-5（21）-改善（予定）年月-未定"]
[null,{"$f":"'1_入力シート【基本情報】'!$AF$447","v":0},"",{"$f":"IF(C1020=\"\",0,C1020)","v":0},{"$f":"D1020","v":0},null,"22","調査結果","-","避難施設等","-","5（22）","-","調査結果",null,null,null,null,"22調査結果-避難施設等-5（22）-調査結果"]
[null,{"$f":"'1_入力シート【基本情報】'!$AR$447","v":0},"",{"$f":"'1_入力シート【基本情報】'!$AR$447","v":0},{"$f":"'1_入力シート【基本情報】'!$AR$447","v":0},null,"22","調査結果","-","避難施設等","-","5（22）","-","調査者番号",null,null,null,null,"22調査結果-避難施設等-5（22）-調査者番号"]
[null,{"$f":"'1_入力シート【基本情報】'!$AT$447","v":0},"",{"$f":"'1_入力シート【基本情報】'!$AT$447","v":0},{"$f":"'1_入力シート【基本情報】'!$AT$447","v":0},null,"22","調査結果","-","避難施設等","-","5（22）","-","指摘の具体的内容等",null,null,null,null,"22調査結果-避難施設等-5（22）-指摘の具体的内容等"]
[null,{"$f":"'1_入力シート【基本情報】'!$BD$447","v":0},"",{"$f":"'1_入力シート【基本情報】'!$BD$447","v":0},{"$f":"'1_入力シート【基本情報】'!$BD$447","v":0},null,"22","調査結果","-","避難施設等","-","5（22）","-","改善策の具体的内容等",null,null,null,null,"22調査結果-避難施設等-5（22）-改善策の具体的内容等"]
[null,{"$f":"'1_入力シート【基本情報】'!$BS$447","v":0},{"$f":"ASC($D1024)","v":"0"},{"$f":"'1_入力シート【基本情報】'!$BS$447","v":0},"0",null,"22","調査結果","-","避難施設等","-","5（22）","-","改善（予定）年月","-","年（令和）",null,null,"22調査結果-避難施設等-5（22）-改善（予定）年月-年（令和）"]
[null,{"$f":"'1_入力シート【基本情報】'!$BV$447","v":0},"0",{"$f":"'1_入力シート【基本情報】'!$BV$447","v":0},"0",null,"22","調査結果","-","避難施設等","-","5（22）","-","改善（予定）年月","-","月",null,null,"22調査結果-避難施設等-5（22）-改善（予定）年月-月"]
[null,{"$f":"'1_入力シート【基本情報】'!$BY$447","v":0},"",{"$f":"'1_入力シート【基本情報】'!$BY$447","v":0},{"$f":"'1_入力シート【基本情報】'!$BY$447","v":0},null,"22","調査結果","-","避難施設等","-","5（22）","-","改善（予定）年月","-","未定",null,null,"22調査結果-避難施設等-5（22）-改善（予定）年月-未定"]
[null,{"$f":"'1_入力シート【基本情報】'!$AF$448","v":0},"",{"$f":"IF(C1027=\"\",0,C1027)","v":0},{"$f":"D1027","v":0},null,"22","調査結果","-","避難施設等","-","5（23）","-","調査結果",null,null,null,null,"22調査結果-避難施設等-5（23）-調査結果"]
[null,{"$f":"'1_入力シート【基本情報】'!$AR$448","v":0},"",{"$f":"'1_入力シート【基本情報】'!$AR$448","v":0},{"$f":"'1_入力シート【基本情報】'!$AR$448","v":0},null,"22","調査結果","-","避難施設等","-","5（23）","-","調査者番号",null,null,null,null,"22調査結果-避難施設等-5（23）-調査者番号"]
[null,{"$f":"'1_入力シート【基本情報】'!$AT$448","v":0},"",{"$f":"'1_入力シート【基本情報】'!$AT$448","v":0},{"$f":"'1_入力シート【基本情報】'!$AT$448","v":0},null,"22","調査結果","-","避難施設等","-","5（23）","-","指摘の具体的内容等",null,null,null,null,"22調査結果-避難施設等-5（23）-指摘の具体的内容等"]
[null,{"$f":"'1_入力シート【基本情報】'!$BD$448","v":0},"",{"$f":"'1_入力シート【基本情報】'!$BD$448","v":0},{"$f":"'1_入力シート【基本情報】'!$BD$448","v":0},null,"22","調査結果","-","避難施設等","-","5（23）","-","改善策の具体的内容等",null,null,null,null,"22調査結果-避難施設等-5（23）-改善策の具体的内容等"]
[null,{"$f":"'1_入力シート【基本情報】'!$BS$448","v":0},{"$f":"ASC($D1031)","v":"0"},{"$f":"'1_入力シート【基本情報】'!$BS$448","v":0},"0",null,"22","調査結果","-","避難施設等","-","5（23）","-","改善（予定）年月","-","年（令和）",null,null,"22調査結果-避難施設等-5（23）-改善（予定）年月-年（令和）"]
[null,{"$f":"'1_入力シート【基本情報】'!$BV$448","v":0},"0",{"$f":"'1_入力シート【基本情報】'!$BV$448","v":0},"0",null,"22","調査結果","-","避難施設等","-","5（23）","-","改善（予定）年月","-","月",null,null,"22調査結果-避難施設等-5（23）-改善（予定）年月-月"]
[null,{"$f":"'1_入力シート【基本情報】'!$BY$448","v":0},"",{"$f":"'1_入力シート【基本情報】'!$BY$448","v":0},{"$f":"'1_入力シート【基本情報】'!$BY$448","v":0},null,"22","調査結果","-","避難施設等","-","5（23）","-","改善（予定）年月","-","未定",null,null,"22調査結果-避難施設等-5（23）-改善（予定）年月-未定"]
[null,{"$f":"'1_入力シート【基本情報】'!$AF$449","v":0},"",{"$f":"IF(C1034=\"\",0,C1034)","v":0},{"$f":"D1034","v":0},null,"22","調査結果","-","避難施設等","-","5（24）","-","調査結果",null,null,null,null,"22調査結果-避難施設等-5（24）-調査結果"]
[null,{"$f":"'1_入力シート【基本情報】'!$AR$449","v":0},"",{"$f":"'1_入力シート【基本情報】'!$AR$449","v":0},{"$f":"'1_入力シート【基本情報】'!$AR$449","v":0},null,"22","調査結果","-","避難施設等","-","5（24）","-","調査者番号",null,null,null,null,"22調査結果-避難施設等-5（24）-調査者番号"]
[null,{"$f":"'1_入力シート【基本情報】'!$AT$449","v":0},"",{"$f":"'1_入力シート【基本情報】'!$AT$449","v":0},{"$f":"'1_入力シート【基本情報】'!$AT$449","v":0},null,"22","調査結果","-","避難施設等","-","5（24）","-","指摘の具体的内容等",null,null,null,null,"22調査結果-避難施設等-5（24）-指摘の具体的内容等"]
[null,{"$f":"'1_入力シート【基本情報】'!$BD$449","v":0},"",{"$f":"'1_入力シート【基本情報】'!$BD$449","v":0},{"$f":"'1_入力シート【基本情報】'!$BD$449","v":0},null,"22","調査結果","-","避難施設等","-","5（24）","-","改善策の具体的内容等",null,null,null,null,"22調査結果-避難施設等-5（24）-改善策の具体的内容等"]
[null,{"$f":"'1_入力シート【基本情報】'!$BS$449","v":0},{"$f":"ASC($D1038)","v":"0"},{"$f":"'1_入力シート【基本情報】'!$BS$449","v":0},"0",null,"22","調査結果","-","避難施設等","-","5（24）","-","改善（予定）年月","-","年（令和）",null,null,"22調査結果-避難施設等-5（24）-改善（予定）年月-年（令和）"]
[null,{"$f":"'1_入力シート【基本情報】'!$BV$449","v":0},"0",{"$f":"'1_入力シート【基本情報】'!$BV$449","v":0},"0",null,"22","調査結果","-","避難施設等","-","5（24）","-","改善（予定）年月","-","月",null,null,"22調査結果-避難施設等-5（24）-改善（予定）年月-月"]
[null,{"$f":"'1_入力シート【基本情報】'!$BY$449","v":0},"",{"$f":"'1_入力シート【基本情報】'!$BY$449","v":0},{"$f":"'1_入力シート【基本情報】'!$BY$449","v":0},null,"22","調査結果","-","避難施設等","-","5（24）","-","改善（予定）年月","-","未定",null,null,"22調査結果-避難施設等-5（24）-改善（予定）年月-未定"]
[null,{"$f":"'1_入力シート【基本情報】'!$AF$450","v":0},"",{"$f":"IF(C1041=\"\",0,C1041)","v":0},{"$f":"D1041","v":0},null,"22","調査結果","-","避難施設等","-","5（25）","-","調査結果",null,null,null,null,"22調査結果-避難施設等-5（25）-調査結果"]
[null,{"$f":"'1_入力シート【基本情報】'!$AR$450","v":0},"",{"$f":"'1_入力シート【基本情報】'!$AR$450","v":0},{"$f":"'1_入力シート【基本情報】'!$AR$450","v":0},null,"22","調査結果","-","避難施設等","-","5（25）","-","調査者番号",null,null,null,null,"22調査結果-避難施設等-5（25）-調査者番号"]
[null,{"$f":"'1_入力シート【基本情報】'!$AT$450","v":0},"",{"$f":"'1_入力シート【基本情報】'!$AT$450","v":0},{"$f":"'1_入力シート【基本情報】'!$AT$450","v":0},null,"22","調査結果","-","避難施設等","-","5（25）","-","指摘の具体的内容等",null,null,null,null,"22調査結果-避難施設等-5（25）-指摘の具体的内容等"]
[null,{"$f":"'1_入力シート【基本情報】'!$BD$450","v":0},"",{"$f":"'1_入力シート【基本情報】'!$BD$450","v":0},{"$f":"'1_入力シート【基本情報】'!$BD$450","v":0},null,"22","調査結果","-","避難施設等","-","5（25）","-","改善策の具体的内容等",null,null,null,null,"22調査結果-避難施設等-5（25）-改善策の具体的内容等"]
[null,{"$f":"'1_入力シート【基本情報】'!$BS$450","v":0},{"$f":"ASC($D1045)","v":"0"},{"$f":"'1_入力シート【基本情報】'!$BS$450","v":0},"0",null,"22","調査結果","-","避難施設等","-","5（25）","-","改善（予定）年月","-","年（令和）",null,null,{"$f":"CONCATENATE(G1045,H1045,I1045,J1045,K1045,L1045,M1045,N1045,O1045,P1045)","v":"22調査結果-避難施設等-5（25）-改善（予定）年月-年（令和）"}]
[null,{"$f":"'1_入力シート【基本情報】'!$BV$450","v":0},"0",{"$f":"'1_入力シート【基本情報】'!$BV$450","v":0},"0",null,"22","調査結果","-","避難施設等","-","5（25）","-","改善（予定）年月","-","月",null,null,"22調査結果-避難施設等-5（25）-改善（予定）年月-月"]
[null,{"$f":"'1_入力シート【基本情報】'!$BY$450","v":0},"",{"$f":"'1_入力シート【基本情報】'!$BY$450","v":0},{"$f":"'1_入力シート【基本情報】'!$BY$450","v":0},null,"22","調査結果","-","避難施設等","-","5（25）","-","改善（予定）年月","-","未定",null,null,"22調査結果-避難施設等-5（25）-改善（予定）年月-未定"]
[null,{"$f":"'1_入力シート【基本情報】'!$AF$451","v":0},"",{"$f":"IF(C1048=\"\",0,C1048)","v":0},{"$f":"D1048","v":0},null,"22","調査結果","-","避難施設等","-","5（26）","-","調査結果",null,null,null,null,"22調査結果-避難施設等-5（26）-調査結果"]
[null,{"$f":"'1_入力シート【基本情報】'!$AR$451","v":0},"",{"$f":"'1_入力シート【基本情報】'!$AR$451","v":0},{"$f":"'1_入力シート【基本情報】'!$AR$451","v":0},null,"22","調査結果","-","避難施設等","-","5（26）","-","調査者番号",null,null,null,null,"22調査結果-避難施設等-5（26）-調査者番号"]
[null,{"$f":"'1_入力シート【基本情報】'!$AT$451","v":0},"",{"$f":"'1_入力シート【基本情報】'!$AT$451","v":0},{"$f":"'1_入力シート【基本情報】'!$AT$451","v":0},null,"22","調査結果","-","避難施設等","-","5（26）","-","指摘の具体的内容等",null,null,null,null,"22調査結果-避難施設等-5（26）-指摘の具体的内容等"]
[null,{"$f":"'1_入力シート【基本情報】'!$BD$451","v":0},"",{"$f":"'1_入力シート【基本情報】'!$BD$451","v":0},{"$f":"'1_入力シート【基本情報】'!$BD$451","v":0},null,"22","調査結果","-","避難施設等","-","5（26）","-","改善策の具体的内容等",null,null,null,null,"22調査結果-避難施設等-5（26）-改善策の具体的内容等"]
[null,{"$f":"'1_入力シート【基本情報】'!$BS$451","v":0},{"$f":"ASC($D1052)","v":"0"},{"$f":"'1_入力シート【基本情報】'!$BS$451","v":0},"0",null,"22","調査結果","-","避難施設等","-","5（26）","-","改善（予定）年月","-","年（令和）",null,null,"22調査結果-避難施設等-5（26）-改善（予定）年月-年（令和）"]
[null,{"$f":"'1_入力シート【基本情報】'!$BV$451","v":0},"0",{"$f":"'1_入力シート【基本情報】'!$BV$451","v":0},"0",null,"22","調査結果","-","避難施設等","-","5（26）","-","改善（予定）年月","-","月",null,null,"22調査結果-避難施設等-5（26）-改善（予定）年月-月"]
[null,{"$f":"'1_入力シート【基本情報】'!$BY$451","v":0},"",{"$f":"'1_入力シート【基本情報】'!$BY$451","v":0},{"$f":"'1_入力シート【基本情報】'!$BY$451","v":0},null,"22","調査結果","-","避難施設等","-","5（26）","-","改善（予定）年月","-","未定",null,null,"22調査結果-避難施設等-5（26）-改善（予定）年月-未定"]
[null,{"$f":"'1_入力シート【基本情報】'!$AF$452","v":0},"",{"$f":"IF(C1055=\"\",0,C1055)","v":0},{"$f":"D1055","v":0},null,"22","調査結果","-","避難施設等","-","5（27）","-","調査結果",null,null,null,null,"22調査結果-避難施設等-5（27）-調査結果"]
[null,{"$f":"'1_入力シート【基本情報】'!$AR$452","v":0},"",{"$f":"'1_入力シート【基本情報】'!$AR$452","v":0},{"$f":"'1_入力シート【基本情報】'!$AR$452","v":0},null,"22","調査結果","-","避難施設等","-","5（27）","-","調査者番号",null,null,null,null,"22調査結果-避難施設等-5（27）-調査者番号"]
[null,{"$f":"'1_入力シート【基本情報】'!$AT$452","v":0},"",{"$f":"'1_入力シート【基本情報】'!$AT$452","v":0},{"$f":"'1_入力シート【基本情報】'!$AT$452","v":0},null,"22","調査結果","-","避難施設等","-","5（27）","-","指摘の具体的内容等",null,null,null,null,"22調査結果-避難施設等-5（27）-指摘の具体的内容等"]
[null,{"$f":"'1_入力シート【基本情報】'!$BD$452","v":0},{"$f":"MID(B1058,2,14)","v":""},{"$f":"'1_入力シート【基本情報】'!$BD$452","v":0},{"$f":"'1_入力シート【基本情報】'!$BD$452","v":0},null,"22","調査結果","-","避難施設等","-","5（27）","-","改善策の具体的内容等",null,null,null,null,"22調査結果-避難施設等-5（27）-改善策の具体的内容等"]
[null,{"$f":"'1_入力シート【基本情報】'!$BS$452","v":0},{"$f":"ASC($D1059)","v":"0"},{"$f":"'1_入力シート【基本情報】'!$BS$452","v":0},"0",null,"22","調査結果","-","避難施設等","-","5（27）","-","改善（予定）年月","-","年（令和）",null,null,"22調査結果-避難施設等-5（27）-改善（予定）年月-年（令和）"]
[null,{"$f":"'1_入力シート【基本情報】'!$BV$452","v":0},"0",{"$f":"'1_入力シート【基本情報】'!$BV$452","v":0},"0",null,"22","調査結果","-","避難施設等","-","5（27）","-","改善（予定）年月","-","月",null,null,"22調査結果-避難施設等-5（27）-改善（予定）年月-月"]
[null,{"$f":"'1_入力シート【基本情報】'!$BY$452","v":0},"",{"$f":"'1_入力シート【基本情報】'!$BY$452","v":0},{"$f":"'1_入力シート【基本情報】'!$BY$452","v":0},null,"22","調査結果","-","避難施設等","-","5（27）","-","改善（予定）年月","-","未定",null,null,"22調査結果-避難施設等-5（27）-改善（予定）年月-未定"]
[null,{"$f":"'1_入力シート【基本情報】'!$AF$453","v":0},"",{"$f":"IF(C1062=\"\",0,C1062)","v":0},{"$f":"D1062","v":0},null,"22","調査結果","-","避難施設等","-","5（28）","-","調査結果",null,null,null,null,"22調査結果-避難施設等-5（28）-調査結果"]
[null,{"$f":"'1_入力シート【基本情報】'!$AR$453","v":0},"",{"$f":"'1_入力シート【基本情報】'!$AR$453","v":0},{"$f":"'1_入力シート【基本情報】'!$AR$453","v":0},null,"22","調査結果","-","避難施設等","-","5（28）","-","調査者番号",null,null,null,null,"22調査結果-避難施設等-5（28）-調査者番号"]
[null,{"$f":"'1_入力シート【基本情報】'!$AT$453","v":0},"",{"$f":"'1_入力シート【基本情報】'!$AT$453","v":0},{"$f":"'1_入力シート【基本情報】'!$AT$453","v":0},null,"22","調査結果","-","避難施設等","-","5（28）","-","指摘の具体的内容等",null,null,null,null,"22調査結果-避難施設等-5（28）-指摘の具体的内容等"]
[null,{"$f":"'1_入力シート【基本情報】'!$BD$453","v":0},"",{"$f":"'1_入力シート【基本情報】'!$BD$453","v":0},{"$f":"'1_入力シート【基本情報】'!$BD$453","v":0},null,"22","調査結果","-","避難施設等","-","5（28）","-","改善策の具体的内容等",null,null,null,null,"22調査結果-避難施設等-5（28）-改善策の具体的内容等"]
[null,{"$f":"'1_入力シート【基本情報】'!$BS$453","v":0},{"$f":"ASC($D1066)","v":"0"},{"$f":"'1_入力シート【基本情報】'!$BS$453","v":0},"0",null,"22","調査結果","-","避難施設等","-","5（28）","-","改善（予定）年月","-","年（令和）",null,null,"22調査結果-避難施設等-5（28）-改善（予定）年月-年（令和）"]
[null,{"$f":"'1_入力シート【基本情報】'!$BV$453","v":0},"0",{"$f":"'1_入力シート【基本情報】'!$BV$453","v":0},"0",null,"22","調査結果","-","避難施設等","-","5（28）","-","改善（予定）年月","-","月",null,null,"22調査結果-避難施設等-5（28）-改善（予定）年月-月"]
[null,{"$f":"'1_入力シート【基本情報】'!$BY$453","v":0},"",{"$f":"'1_入力シート【基本情報】'!$BY$453","v":0},{"$f":"'1_入力シート【基本情報】'!$BY$453","v":0},null,"22","調査結果","-","避難施設等","-","5（28）","-","改善（予定）年月","-","未定",null,null,"22調査結果-避難施設等-5（28）-改善（予定）年月-未定"]
[null,{"$f":"'1_入力シート【基本情報】'!$AF$454","v":0},"",{"$f":"IF(C1069=\"\",0,C1069)","v":0},{"$f":"D1069","v":0},null,"22","調査結果","-","避難施設等","-","5（29）","-","調査結果",null,null,null,null,"22調査結果-避難施設等-5（29）-調査結果"]
[null,{"$f":"'1_入力シート【基本情報】'!$AR$454","v":0},"",{"$f":"'1_入力シート【基本情報】'!$AR$454","v":0},{"$f":"'1_入力シート【基本情報】'!$AR$454","v":0},null,"22","調査結果","-","避難施設等","-","5（29）","-","調査者番号",null,null,null,null,"22調査結果-避難施設等-5（29）-調査者番号"]
[null,{"$f":"'1_入力シート【基本情報】'!$AT$454","v":0},"",{"$f":"'1_入力シート【基本情報】'!$AT$454","v":0},{"$f":"'1_入力シート【基本情報】'!$AT$454","v":0},null,"22","調査結果","-","避難施設等","-","5（29）","-","指摘の具体的内容等",null,null,null,null,"22調査結果-避難施設等-5（29）-指摘の具体的内容等"]
[null,{"$f":"'1_入力シート【基本情報】'!$BD$454","v":0},"",{"$f":"'1_入力シート【基本情報】'!$BD$454","v":0},{"$f":"'1_入力シート【基本情報】'!$BD$454","v":0},null,"22","調査結果","-","避難施設等","-","5（29）","-","改善策の具体的内容等",null,null,null,null,"22調査結果-避難施設等-5（29）-改善策の具体的内容等"]
[null,{"$f":"'1_入力シート【基本情報】'!$BS$454","v":0},{"$f":"ASC($D1073)","v":"0"},{"$f":"'1_入力シート【基本情報】'!$BS$454","v":0},"0",null,"22","調査結果","-","避難施設等","-","5（29）","-","改善（予定）年月","-","年（令和）",null,null,"22調査結果-避難施設等-5（29）-改善（予定）年月-年（令和）"]
[null,{"$f":"'1_入力シート【基本情報】'!$BV$454","v":0},"0",{"$f":"'1_入力シート【基本情報】'!$BV$454","v":0},"0",null,"22","調査結果","-","避難施設等","-","5（29）","-","改善（予定）年月","-","月",null,null,"22調査結果-避難施設等-5（29）-改善（予定）年月-月"]
[null,{"$f":"'1_入力シート【基本情報】'!$BY$454","v":0},"",{"$f":"'1_入力シート【基本情報】'!$BY$454","v":0},{"$f":"'1_入力シート【基本情報】'!$BY$454","v":0},null,"22","調査結果","-","避難施設等","-","5（29）","-","改善（予定）年月","-","未定",null,null,"22調査結果-避難施設等-5（29）-改善（予定）年月-未定"]
[null,{"$f":"'1_入力シート【基本情報】'!$AF$455","v":0},"",{"$f":"IF(C1076=\"\",0,C1076)","v":0},{"$f":"D1076","v":0},null,"22","調査結果","-","避難施設等","-","5（30）","-","調査結果",null,null,null,null,"22調査結果-避難施設等-5（30）-調査結果"]
[null,{"$f":"'1_入力シート【基本情報】'!$AR$455","v":0},"",{"$f":"'1_入力シート【基本情報】'!$AR$455","v":0},{"$f":"'1_入力シート【基本情報】'!$AR$455","v":0},null,"22","調査結果","-","避難施設等","-","5（30）","-","調査者番号",null,null,null,null,"22調査結果-避難施設等-5（30）-調査者番号"]
[null,{"$f":"'1_入力シート【基本情報】'!$AT$455","v":0},"",{"$f":"'1_入力シート【基本情報】'!$AT$455","v":0},{"$f":"'1_入力シート【基本情報】'!$AT$455","v":0},null,"22","調査結果","-","避難施設等","-","5（30）","-","指摘の具体的内容等",null,null,null,null,"22調査結果-避難施設等-5（30）-指摘の具体的内容等"]
[null,{"$f":"'1_入力シート【基本情報】'!$BD$455","v":0},"",{"$f":"'1_入力シート【基本情報】'!$BD$455","v":0},{"$f":"'1_入力シート【基本情報】'!$BD$455","v":0},null,"22","調査結果","-","避難施設等","-","5（30）","-","改善策の具体的内容等",null,null,null,null,"22調査結果-避難施設等-5（30）-改善策の具体的内容等"]
[null,{"$f":"'1_入力シート【基本情報】'!$BS$455","v":0},{"$f":"ASC($D1080)","v":"0"},{"$f":"'1_入力シート【基本情報】'!$BS$455","v":0},"0",null,"22","調査結果","-","避難施設等","-","5（30）","-","改善（予定）年月","-","年（令和）",null,null,"22調査結果-避難施設等-5（30）-改善（予定）年月-年（令和）"]
[null,{"$f":"'1_入力シート【基本情報】'!$BV$455","v":0},"0",{"$f":"'1_入力シート【基本情報】'!$BV$455","v":0},"0",null,"22","調査結果","-","避難施設等","-","5（30）","-","改善（予定）年月","-","月",null,null,"22調査結果-避難施設等-5（30）-改善（予定）年月-月"]
[null,{"$f":"'1_入力シート【基本情報】'!$BY$455","v":0},"",{"$f":"'1_入力シート【基本情報】'!$BY$455","v":0},{"$f":"'1_入力シート【基本情報】'!$BY$455","v":0},null,"22","調査結果","-","避難施設等","-","5（30）","-","改善（予定）年月","-","未定",null,null,"22調査結果-避難施設等-5（30）-改善（予定）年月-未定"]
[null,{"$f":"'1_入力シート【基本情報】'!$AF$456","v":0},"",{"$f":"IF(C1083=\"\",0,C1083)","v":0},{"$f":"D1083","v":0},null,"22","調査結果","-","避難施設等","-","5（31）","-","調査結果",null,null,null,null,"22調査結果-避難施設等-5（31）-調査結果"]
[null,{"$f":"'1_入力シート【基本情報】'!$AR$456","v":0},"",{"$f":"'1_入力シート【基本情報】'!$AR$456","v":0},{"$f":"'1_入力シート【基本情報】'!$AR$456","v":0},null,"22","調査結果","-","避難施設等","-","5（31）","-","調査者番号",null,null,null,null,"22調査結果-避難施設等-5（31）-調査者番号"]
[null,{"$f":"'1_入力シート【基本情報】'!$AT$456","v":0},"",{"$f":"'1_入力シート【基本情報】'!$AT$456","v":0},{"$f":"'1_入力シート【基本情報】'!$AT$456","v":0},null,"22","調査結果","-","避難施設等","-","5（31）","-","指摘の具体的内容等",null,null,null,null,"22調査結果-避難施設等-5（31）-指摘の具体的内容等"]
[null,{"$f":"'1_入力シート【基本情報】'!$BD$456","v":0},"",{"$f":"'1_入力シート【基本情報】'!$BD$456","v":0},{"$f":"'1_入力シート【基本情報】'!$BD$456","v":0},null,"22","調査結果","-","避難施設等","-","5（31）","-","改善策の具体的内容等",null,null,null,null,"22調査結果-避難施設等-5（31）-改善策の具体的内容等"]
[null,{"$f":"'1_入力シート【基本情報】'!$BS$456","v":0},{"$f":"ASC($D1087)","v":"0"},{"$f":"'1_入力シート【基本情報】'!$BS$456","v":0},"0",null,"22","調査結果","-","避難施設等","-","5（31）","-","改善（予定）年月","-","年（令和）",null,null,"22調査結果-避難施設等-5（31）-改善（予定）年月-年（令和）"]
[null,{"$f":"'1_入力シート【基本情報】'!$BV$456","v":0},"0",{"$f":"'1_入力シート【基本情報】'!$BV$456","v":0},"0",null,"22","調査結果","-","避難施設等","-","5（31）","-","改善（予定）年月","-","月",null,null,"22調査結果-避難施設等-5（31）-改善（予定）年月-月"]
[null,{"$f":"'1_入力シート【基本情報】'!$BY$456","v":0},"",{"$f":"'1_入力シート【基本情報】'!$BY$456","v":0},{"$f":"'1_入力シート【基本情報】'!$BY$456","v":0},null,"22","調査結果","-","避難施設等","-","5（31）","-","改善（予定）年月","-","未定",null,null,"22調査結果-避難施設等-5（31）-改善（予定）年月-未定"]
[null,{"$f":"'1_入力シート【基本情報】'!$AF$457","v":0},"",{"$f":"IF(C1090=\"\",0,C1090)","v":0},{"$f":"D1090","v":0},null,"22","調査結果","-","避難施設等","-","5（32）","-","調査結果",null,null,null,null,"22調査結果-避難施設等-5（32）-調査結果"]
[null,{"$f":"'1_入力シート【基本情報】'!$AR$457","v":0},"",{"$f":"'1_入力シート【基本情報】'!$AR$457","v":0},{"$f":"'1_入力シート【基本情報】'!$AR$457","v":0},null,"22","調査結果","-","避難施設等","-","5（32）","-","調査者番号",null,null,null,null,"22調査結果-避難施設等-5（32）-調査者番号"]
[null,{"$f":"'1_入力シート【基本情報】'!$AT$457","v":0},"",{"$f":"'1_入力シート【基本情報】'!$AT$457","v":0},{"$f":"'1_入力シート【基本情報】'!$AT$457","v":0},null,"22","調査結果","-","避難施設等","-","5（32）","-","指摘の具体的内容等",null,null,null,null,"22調査結果-避難施設等-5（32）-指摘の具体的内容等"]
[null,{"$f":"'1_入力シート【基本情報】'!$BD$457","v":0},"",{"$f":"'1_入力シート【基本情報】'!$BD$457","v":0},{"$f":"'1_入力シート【基本情報】'!$BD$457","v":0},null,"22","調査結果","-","避難施設等","-","5（32）","-","改善策の具体的内容等",null,null,null,null,"22調査結果-避難施設等-5（32）-改善策の具体的内容等"]
[null,{"$f":"'1_入力シート【基本情報】'!$BS$457","v":0},{"$f":"ASC($D1094)","v":"0"},{"$f":"'1_入力シート【基本情報】'!$BS$457","v":0},"0",null,"22","調査結果","-","避難施設等","-","5（32）","-","改善（予定）年月","-","年（令和）",null,null,"22調査結果-避難施設等-5（32）-改善（予定）年月-年（令和）"]
[null,{"$f":"'1_入力シート【基本情報】'!$BV$457","v":0},"0",{"$f":"'1_入力シート【基本情報】'!$BV$457","v":0},"0",null,"22","調査結果","-","避難施設等","-","5（32）","-","改善（予定）年月","-","月",null,null,"22調査結果-避難施設等-5（32）-改善（予定）年月-月"]
[null,{"$f":"'1_入力シート【基本情報】'!$BY$457","v":0},"",{"$f":"'1_入力シート【基本情報】'!$BY$457","v":0},{"$f":"'1_入力シート【基本情報】'!$BY$457","v":0},null,"22","調査結果","-","避難施設等","-","5（32）","-","改善（予定）年月","-","未定",null,null,"22調査結果-避難施設等-5（32）-改善（予定）年月-未定"]
[null,{"$f":"'1_入力シート【基本情報】'!$AF$458","v":0},"",{"$f":"IF(C1097=\"\",0,C1097)","v":0},{"$f":"D1097","v":0},null,"22","調査結果","-","避難施設等","-","5（33）","-","調査結果",null,null,null,null,"22調査結果-避難施設等-5（33）-調査結果"]
[null,{"$f":"'1_入力シート【基本情報】'!$AR$458","v":0},"",{"$f":"'1_入力シート【基本情報】'!$AR$458","v":0},{"$f":"'1_入力シート【基本情報】'!$AR$458","v":0},null,"22","調査結果","-","避難施設等","-","5（33）","-","調査者番号",null,null,null,null,"22調査結果-避難施設等-5（33）-調査者番号"]
[null,{"$f":"'1_入力シート【基本情報】'!$AT$458","v":0},"",{"$f":"'1_入力シート【基本情報】'!$AT$458","v":0},{"$f":"'1_入力シート【基本情報】'!$AT$458","v":0},null,"22","調査結果","-","避難施設等","-","5（33）","-","指摘の具体的内容等",null,null,null,null,"22調査結果-避難施設等-5（33）-指摘の具体的内容等"]
[null,{"$f":"'1_入力シート【基本情報】'!$BD$458","v":0},"",{"$f":"'1_入力シート【基本情報】'!$BD$458","v":0},{"$f":"'1_入力シート【基本情報】'!$BD$458","v":0},null,"22","調査結果","-","避難施設等","-","5（33）","-","改善策の具体的内容等",null,null,null,null,"22調査結果-避難施設等-5（33）-改善策の具体的内容等"]
[null,{"$f":"'1_入力シート【基本情報】'!$BS$458","v":0},{"$f":"ASC($D1101)","v":"0"},{"$f":"'1_入力シート【基本情報】'!$BS$458","v":0},"0",null,"22","調査結果","-","避難施設等","-","5（33）","-","改善（予定）年月","-","年（令和）",null,null,"22調査結果-避難施設等-5（33）-改善（予定）年月-年（令和）"]
[null,{"$f":"'1_入力シート【基本情報】'!$BV$458","v":0},"0",{"$f":"'1_入力シート【基本情報】'!$BV$458","v":0},"0",null,"22","調査結果","-","避難施設等","-","5（33）","-","改善（予定）年月","-","月",null,null,"22調査結果-避難施設等-5（33）-改善（予定）年月-月"]
[null,{"$f":"'1_入力シート【基本情報】'!$BY$458","v":0},"",{"$f":"'1_入力シート【基本情報】'!$BY$458","v":0},{"$f":"'1_入力シート【基本情報】'!$BY$458","v":0},null,"22","調査結果","-","避難施設等","-","5（33）","-","改善（予定）年月","-","未定",null,null,"22調査結果-避難施設等-5（33）-改善（予定）年月-未定"]
[null,{"$f":"'1_入力シート【基本情報】'!$AF$459","v":0},"",{"$f":"IF(C1104=\"\",0,C1104)","v":0},{"$f":"D1104","v":0},null,"22","調査結果","-","避難施設等","-","5（34）","-","調査結果",null,null,null,null,"22調査結果-避難施設等-5（34）-調査結果"]
[null,{"$f":"'1_入力シート【基本情報】'!$AR$459","v":0},"",{"$f":"'1_入力シート【基本情報】'!$AR$459","v":0},{"$f":"'1_入力シート【基本情報】'!$AR$459","v":0},null,"22","調査結果","-","避難施設等","-","5（34）","-","調査者番号",null,null,null,null,"22調査結果-避難施設等-5（34）-調査者番号"]
[null,{"$f":"'1_入力シート【基本情報】'!$AT$459","v":0},"",{"$f":"'1_入力シート【基本情報】'!$AT$459","v":0},{"$f":"'1_入力シート【基本情報】'!$AT$459","v":0},null,"22","調査結果","-","避難施設等","-","5（34）","-","指摘の具体的内容等",null,null,null,null,"22調査結果-避難施設等-5（34）-指摘の具体的内容等"]
[null,{"$f":"'1_入力シート【基本情報】'!$BD$459","v":0},"",{"$f":"'1_入力シート【基本情報】'!$BD$459","v":0},{"$f":"'1_入力シート【基本情報】'!$BD$459","v":0},null,"22","調査結果","-","避難施設等","-","5（34）","-","改善策の具体的内容等",null,null,null,null,"22調査結果-避難施設等-5（34）-改善策の具体的内容等"]
[null,{"$f":"'1_入力シート【基本情報】'!$BS$459","v":0},{"$f":"ASC($D1108)","v":"0"},{"$f":"'1_入力シート【基本情報】'!$BS$459","v":0},"0",null,"22","調査結果","-","避難施設等","-","5（34）","-","改善（予定）年月","-","年（令和）",null,null,"22調査結果-避難施設等-5（34）-改善（予定）年月-年（令和）"]
[null,{"$f":"'1_入力シート【基本情報】'!$BV$459","v":0},"0",{"$f":"'1_入力シート【基本情報】'!$BV$459","v":0},"0",null,"22","調査結果","-","避難施設等","-","5（34）","-","改善（予定）年月","-","月",null,null,{"$f":"CONCATENATE(G1109,H1109,I1109,J1109,K1109,L1109,M1109,N1109,O1109,P1109)","v":"22調査結果-避難施設等-5（34）-改善（予定）年月-月"}]
[null,{"$f":"'1_入力シート【基本情報】'!$BY$459","v":0},"",{"$f":"'1_入力シート【基本情報】'!$BY$459","v":0},{"$f":"'1_入力シート【基本情報】'!$BY$459","v":0},null,"22","調査結果","-","避難施設等","-","5（34）","-","改善（予定）年月","-","未定",null,null,"22調査結果-避難施設等-5（34）-改善（予定）年月-未定"]
[null,{"$f":"'1_入力シート【基本情報】'!$AF$460","v":0},"",{"$f":"IF(C1111=\"\",0,C1111)","v":0},{"$f":"D1111","v":0},null,"22","調査結果","-","避難施設等","-","5（35）","-","調査結果",null,null,null,null,"22調査結果-避難施設等-5（35）-調査結果"]
[null,{"$f":"'1_入力シート【基本情報】'!$AR$460","v":0},"",{"$f":"'1_入力シート【基本情報】'!$AR$460","v":0},{"$f":"'1_入力シート【基本情報】'!$AR$460","v":0},null,"22","調査結果","-","避難施設等","-","5（35）","-","調査者番号",null,null,null,null,"22調査結果-避難施設等-5（35）-調査者番号"]
[null,{"$f":"'1_入力シート【基本情報】'!$AT$460","v":0},"",{"$f":"'1_入力シート【基本情報】'!$AT$460","v":0},{"$f":"'1_入力シート【基本情報】'!$AT$460","v":0},null,"22","調査結果","-","避難施設等","-","5（35）","-","指摘の具体的内容等",null,null,null,null,"22調査結果-避難施設等-5（35）-指摘の具体的内容等"]
[null,{"$f":"'1_入力シート【基本情報】'!$BD$460","v":0},"",{"$f":"'1_入力シート【基本情報】'!$BD$460","v":0},{"$f":"'1_入力シート【基本情報】'!$BD$460","v":0},null,"22","調査結果","-","避難施設等","-","5（35）","-","改善策の具体的内容等",null,null,null,null,"22調査結果-避難施設等-5（35）-改善策の具体的内容等"]
[null,{"$f":"'1_入力シート【基本情報】'!$BS$460","v":0},{"$f":"ASC($D1115)","v":"0"},{"$f":"'1_入力シート【基本情報】'!$BS$460","v":0},"0",null,"22","調査結果","-","避難施設等","-","5（35）","-","改善（予定）年月","-","年（令和）",null,null,"22調査結果-避難施設等-5（35）-改善（予定）年月-年（令和）"]
[null,{"$f":"'1_入力シート【基本情報】'!$BV$460","v":0},"0",{"$f":"'1_入力シート【基本情報】'!$BV$460","v":0},"0",null,"22","調査結果","-","避難施設等","-","5（35）","-","改善（予定）年月","-","月",null,null,"22調査結果-避難施設等-5（35）-改善（予定）年月-月"]
[null,{"$f":"'1_入力シート【基本情報】'!$BY$460","v":0},"",{"$f":"'1_入力シート【基本情報】'!$BY$460","v":0},{"$f":"'1_入力シート【基本情報】'!$BY$460","v":0},null,"22","調査結果","-","避難施設等","-","5（35）","-","改善（予定）年月","-","未定",null,null,"22調査結果-避難施設等-5（35）-改善（予定）年月-未定"]
[null,{"$f":"'1_入力シート【基本情報】'!$AF$461","v":0},"",{"$f":"IF(C1118=\"\",0,C1118)","v":0},{"$f":"D1118","v":0},null,"22","調査結果","-","避難施設等","-","5（36）","-","調査結果",null,null,null,null,"22調査結果-避難施設等-5（36）-調査結果"]
[null,{"$f":"'1_入力シート【基本情報】'!$AR$461","v":0},"",{"$f":"'1_入力シート【基本情報】'!$AR$461","v":0},{"$f":"'1_入力シート【基本情報】'!$AR$461","v":0},null,"22","調査結果","-","避難施設等","-","5（36）","-","調査者番号",null,null,null,null,"22調査結果-避難施設等-5（36）-調査者番号"]
[null,{"$f":"'1_入力シート【基本情報】'!$AT$461","v":0},"",{"$f":"'1_入力シート【基本情報】'!$AT$461","v":0},{"$f":"'1_入力シート【基本情報】'!$AT$461","v":0},null,"22","調査結果","-","避難施設等","-","5（36）","-","指摘の具体的内容等",null,null,null,null,"22調査結果-避難施設等-5（36）-指摘の具体的内容等"]
[null,{"$f":"'1_入力シート【基本情報】'!$BD$461","v":0},"",{"$f":"'1_入力シート【基本情報】'!$BD$461","v":0},{"$f":"'1_入力シート【基本情報】'!$BD$461","v":0},null,"22","調査結果","-","避難施設等","-","5（36）","-","改善策の具体的内容等",null,null,null,null,"22調査結果-避難施設等-5（36）-改善策の具体的内容等"]
[null,{"$f":"'1_入力シート【基本情報】'!$BS$461","v":0},{"$f":"ASC($D1122)","v":"0"},{"$f":"'1_入力シート【基本情報】'!$BS$461","v":0},"0",null,"22","調査結果","-","避難施設等","-","5（36）","-","改善（予定）年月","-","年（令和）",null,null,"22調査結果-避難施設等-5（36）-改善（予定）年月-年（令和）"]
[null,{"$f":"'1_入力シート【基本情報】'!$BV$461","v":0},"0",{"$f":"'1_入力シート【基本情報】'!$BV$461","v":0},"0",null,"22","調査結果","-","避難施設等","-","5（36）","-","改善（予定）年月","-","月",null,null,"22調査結果-避難施設等-5（36）-改善（予定）年月-月"]
[null,{"$f":"'1_入力シート【基本情報】'!$BY$461","v":0},{"$f":"MID(B1124,2,14)","v":""},{"$f":"'1_入力シート【基本情報】'!$BY$461","v":0},{"$f":"'1_入力シート【基本情報】'!$BY$461","v":0},null,"22","調査結果","-","避難施設等","-","5（36）","-","改善（予定）年月","-","未定",null,null,"22調査結果-避難施設等-5（36）-改善（予定）年月-未定"]
[null,{"$f":"'1_入力シート【基本情報】'!$AF$462","v":0},"",{"$f":"IF(C1125=\"\",0,C1125)","v":0},{"$f":"D1125","v":0},null,"22","調査結果","-","避難施設等","-","5（37）","-","調査結果",null,null,null,null,"22調査結果-避難施設等-5（37）-調査結果"]
[null,{"$f":"'1_入力シート【基本情報】'!$AR$462","v":0},"",{"$f":"'1_入力シート【基本情報】'!$AR$462","v":0},{"$f":"'1_入力シート【基本情報】'!$AR$462","v":0},null,"22","調査結果","-","避難施設等","-","5（37）","-","調査者番号",null,null,null,null,"22調査結果-避難施設等-5（37）-調査者番号"]
[null,{"$f":"'1_入力シート【基本情報】'!$AT$462","v":0},"",{"$f":"'1_入力シート【基本情報】'!$AT$462","v":0},{"$f":"'1_入力シート【基本情報】'!$AT$462","v":0},null,"22","調査結果","-","避難施設等","-","5（37）","-","指摘の具体的内容等",null,null,null,null,"22調査結果-避難施設等-5（37）-指摘の具体的内容等"]
[null,{"$f":"'1_入力シート【基本情報】'!$BD$462","v":0},"",{"$f":"'1_入力シート【基本情報】'!$BD$462","v":0},{"$f":"'1_入力シート【基本情報】'!$BD$462","v":0},null,"22","調査結果","-","避難施設等","-","5（37）","-","改善策の具体的内容等",null,null,null,null,"22調査結果-避難施設等-5（37）-改善策の具体的内容等"]
[null,{"$f":"'1_入力シート【基本情報】'!$BS$462","v":0},{"$f":"ASC($D1129)","v":"0"},{"$f":"'1_入力シート【基本情報】'!$BS$462","v":0},"0",null,"22","調査結果","-","避難施設等","-","5（37）","-","改善（予定）年月","-","年（令和）",null,null,"22調査結果-避難施設等-5（37）-改善（予定）年月-年（令和）"]
[null,{"$f":"'1_入力シート【基本情報】'!$BV$462","v":0},"0",{"$f":"'1_入力シート【基本情報】'!$BV$462","v":0},"0",null,"22","調査結果","-","避難施設等","-","5（37）","-","改善（予定）年月","-","月",null,null,"22調査結果-避難施設等-5（37）-改善（予定）年月-月"]
[null,{"$f":"'1_入力シート【基本情報】'!$BY$462","v":0},"",{"$f":"'1_入力シート【基本情報】'!$BY$462","v":0},{"$f":"'1_入力シート【基本情報】'!$BY$462","v":0},null,"22","調査結果","-","避難施設等","-","5（37）","-","改善（予定）年月","-","未定",null,null,"22調査結果-避難施設等-5（37）-改善（予定）年月-未定"]
[null,{"$f":"'1_入力シート【基本情報】'!$AF$463","v":0},"",{"$f":"IF(C1132=\"\",0,C1132)","v":0},{"$f":"D1132","v":0},null,"22","調査結果","-","避難施設等","-","5（38）","-","調査結果",null,null,null,null,"22調査結果-避難施設等-5（38）-調査結果"]
[null,{"$f":"'1_入力シート【基本情報】'!$AR$463","v":0},"",{"$f":"'1_入力シート【基本情報】'!$AR$463","v":0},{"$f":"'1_入力シート【基本情報】'!$AR$463","v":0},null,"22","調査結果","-","避難施設等","-","5（38）","-","調査者番号",null,null,null,null,"22調査結果-避難施設等-5（38）-調査者番号"]
[null,{"$f":"'1_入力シート【基本情報】'!$AT$463","v":0},"",{"$f":"'1_入力シート【基本情報】'!$AT$463","v":0},{"$f":"'1_入力シート【基本情報】'!$AT$463","v":0},null,"22","調査結果","-","避難施設等","-","5（38）","-","指摘の具体的内容等",null,null,null,null,"22調査結果-避難施設等-5（38）-指摘の具体的内容等"]
[null,{"$f":"'1_入力シート【基本情報】'!$BD$463","v":0},"",{"$f":"'1_入力シート【基本情報】'!$BD$463","v":0},{"$f":"'1_入力シート【基本情報】'!$BD$463","v":0},null,"22","調査結果","-","避難施設等","-","5（38）","-","改善策の具体的内容等",null,null,null,null,"22調査結果-避難施設等-5（38）-改善策の具体的内容等"]
[null,{"$f":"'1_入力シート【基本情報】'!$BS$463","v":0},{"$f":"ASC($D1136)","v":"0"},{"$f":"'1_入力シート【基本情報】'!$BS$463","v":0},"0",null,"22","調査結果","-","避難施設等","-","5（38）","-","改善（予定）年月","-","年（令和）",null,null,"22調査結果-避難施設等-5（38）-改善（予定）年月-年（令和）"]
[null,{"$f":"'1_入力シート【基本情報】'!$BV$463","v":0},"0",{"$f":"'1_入力シート【基本情報】'!$BV$463","v":0},"0",null,"22","調査結果","-","避難施設等","-","5（38）","-","改善（予定）年月","-","月",null,null,"22調査結果-避難施設等-5（38）-改善（予定）年月-月"]
[null,{"$f":"'1_入力シート【基本情報】'!$BY$463","v":0},"",{"$f":"'1_入力シート【基本情報】'!$BY$463","v":0},{"$f":"'1_入力シート【基本情報】'!$BY$463","v":0},null,"22","調査結果","-","避難施設等","-","5（38）","-","改善（予定）年月","-","未定",null,null,"22調査結果-避難施設等-5（38）-改善（予定）年月-未定"]
[null,{"$f":"'1_入力シート【基本情報】'!$AF$464","v":0},"",{"$f":"IF(C1139=\"\",0,C1139)","v":0},{"$f":"D1139","v":0},null,"22","調査結果","-","避難施設等","-","5（39）","-","調査結果",null,null,null,null,"22調査結果-避難施設等-5（39）-調査結果"]
[null,{"$f":"'1_入力シート【基本情報】'!$AR$464","v":0},"",{"$f":"'1_入力シート【基本情報】'!$AR$464","v":0},{"$f":"'1_入力シート【基本情報】'!$AR$464","v":0},null,"22","調査結果","-","避難施設等","-","5（39）","-","調査者番号",null,null,null,null,"22調査結果-避難施設等-5（39）-調査者番号"]
[null,{"$f":"'1_入力シート【基本情報】'!$AT$464","v":0},"",{"$f":"'1_入力シート【基本情報】'!$AT$464","v":0},{"$f":"'1_入力シート【基本情報】'!$AT$464","v":0},null,"22","調査結果","-","避難施設等","-","5（39）","-","指摘の具体的内容等",null,null,null,null,"22調査結果-避難施設等-5（39）-指摘の具体的内容等"]
[null,{"$f":"'1_入力シート【基本情報】'!$BD$464","v":0},"",{"$f":"'1_入力シート【基本情報】'!$BD$464","v":0},{"$f":"'1_入力シート【基本情報】'!$BD$464","v":0},null,"22","調査結果","-","避難施設等","-","5（39）","-","改善策の具体的内容等",null,null,null,null,"22調査結果-避難施設等-5（39）-改善策の具体的内容等"]
[null,{"$f":"'1_入力シート【基本情報】'!$BS$464","v":0},{"$f":"ASC($D1143)","v":"0"},{"$f":"'1_入力シート【基本情報】'!$BS$464","v":0},"0",null,"22","調査結果","-","避難施設等","-","5（39）","-","改善（予定）年月","-","年（令和）",null,null,"22調査結果-避難施設等-5（39）-改善（予定）年月-年（令和）"]
[null,{"$f":"'1_入力シート【基本情報】'!$BV$464","v":0},"0",{"$f":"'1_入力シート【基本情報】'!$BV$464","v":0},"0",null,"22","調査結果","-","避難施設等","-","5（39）","-","改善（予定）年月","-","月",null,null,"22調査結果-避難施設等-5（39）-改善（予定）年月-月"]
[null,{"$f":"'1_入力シート【基本情報】'!$BY$464","v":0},"",{"$f":"'1_入力シート【基本情報】'!$BY$464","v":0},{"$f":"'1_入力シート【基本情報】'!$BY$464","v":0},null,"22","調査結果","-","避難施設等","-","5（39）","-","改善（予定）年月","-","未定",null,null,"22調査結果-避難施設等-5（39）-改善（予定）年月-未定"]
[null,{"$f":"'1_入力シート【基本情報】'!$AF$465","v":0},"",{"$f":"IF(C1146=\"\",0,C1146)","v":0},{"$f":"D1146","v":0},null,"22","調査結果","-","避難施設等","-","5（40）","-","調査結果",null,null,null,null,"22調査結果-避難施設等-5（40）-調査結果"]
[null,{"$f":"'1_入力シート【基本情報】'!$AR$465","v":0},"",{"$f":"'1_入力シート【基本情報】'!$AR$465","v":0},{"$f":"'1_入力シート【基本情報】'!$AR$465","v":0},null,"22","調査結果","-","避難施設等","-","5（40）","-","調査者番号",null,null,null,null,"22調査結果-避難施設等-5（40）-調査者番号"]
[null,{"$f":"'1_入力シート【基本情報】'!$AT$465","v":0},"",{"$f":"'1_入力シート【基本情報】'!$AT$465","v":0},{"$f":"'1_入力シート【基本情報】'!$AT$465","v":0},null,"22","調査結果","-","避難施設等","-","5（40）","-","指摘の具体的内容等",null,null,null,null,"22調査結果-避難施設等-5（40）-指摘の具体的内容等"]
[null,{"$f":"'1_入力シート【基本情報】'!$BD$465","v":0},"",{"$f":"'1_入力シート【基本情報】'!$BD$465","v":0},{"$f":"'1_入力シート【基本情報】'!$BD$465","v":0},null,"22","調査結果","-","避難施設等","-","5（40）","-","改善策の具体的内容等",null,null,null,null,"22調査結果-避難施設等-5（40）-改善策の具体的内容等"]
[null,{"$f":"'1_入力シート【基本情報】'!$BS$465","v":0},{"$f":"ASC($D1150)","v":"0"},{"$f":"'1_入力シート【基本情報】'!$BS$465","v":0},"0",null,"22","調査結果","-","避難施設等","-","5（40）","-","改善（予定）年月","-","年（令和）",null,null,"22調査結果-避難施設等-5（40）-改善（予定）年月-年（令和）"]
[null,{"$f":"'1_入力シート【基本情報】'!$BV$465","v":0},"0",{"$f":"'1_入力シート【基本情報】'!$BV$465","v":0},"0",null,"22","調査結果","-","避難施設等","-","5（40）","-","改善（予定）年月","-","月",null,null,"22調査結果-避難施設等-5（40）-改善（予定）年月-月"]
[null,{"$f":"'1_入力シート【基本情報】'!$BY$465","v":0},"",{"$f":"'1_入力シート【基本情報】'!$BY$465","v":0},{"$f":"'1_入力シート【基本情報】'!$BY$465","v":0},null,"22","調査結果","-","避難施設等","-","5（40）","-","改善（予定）年月","-","未定",null,null,"22調査結果-避難施設等-5（40）-改善（予定）年月-未定"]
[null,{"$f":"'1_入力シート【基本情報】'!$AF$475","v":0},"",{"$f":"IF(C1153=\"\",0,C1153)","v":0},{"$f":"D1153","v":0},null,"22","調査結果","-","その他","-","6（1）","-","調査結果",null,null,null,null,"22調査結果-その他-6（1）-調査結果"]
[null,{"$f":"'1_入力シート【基本情報】'!$AR$475","v":0},"",{"$f":"'1_入力シート【基本情報】'!$AR$475","v":0},{"$f":"'1_入力シート【基本情報】'!$AR$475","v":0},null,"22","調査結果","-","その他","-","6（1）","-","調査者番号",null,null,null,null,"22調査結果-その他-6（1）-調査者番号"]
[null,{"$f":"'1_入力シート【基本情報】'!$AT$475","v":"00:00:00"},"",{"$f":"'1_入力シート【基本情報】'!$AT$475","v":0},{"$f":"'1_入力シート【基本情報】'!$AT$475","v":0},null,"22","調査結果","-","その他","-","6（1）","-","指摘の具体的内容等",null,null,null,null,"22調査結果-その他-6（1）-指摘の具体的内容等"]
[null,{"$f":"'1_入力シート【基本情報】'!$BD$475","v":0},"",{"$f":"'1_入力シート【基本情報】'!$BD$475","v":0},{"$f":"'1_入力シート【基本情報】'!$BD$475","v":0},null,"22","調査結果","-","その他","-","6（1）","-","改善策の具体的内容等",null,null,null,null,"22調査結果-その他-6（1）-改善策の具体的内容等"]
[null,{"$f":"'1_入力シート【基本情報】'!$BS$475","v":0},{"$f":"ASC($D1157)","v":"0"},{"$f":"'1_入力シート【基本情報】'!$BS$475","v":0},"0",null,"22","調査結果","-","その他","-","6（1）","-","改善（予定）年月","-","年（令和）",null,null,"22調査結果-その他-6（1）-改善（予定）年月-年（令和）"]
[null,{"$f":"'1_入力シート【基本情報】'!$BV$475","v":0},"0",{"$f":"'1_入力シート【基本情報】'!$BV$475","v":0},"0",null,"22","調査結果","-","その他","-","6（1）","-","改善（予定）年月","-","月",null,null,"22調査結果-その他-6（1）-改善（予定）年月-月"]
[null,{"$f":"'1_入力シート【基本情報】'!$BY$475","v":0},"",{"$f":"'1_入力シート【基本情報】'!$BY$475","v":0},{"$f":"'1_入力シート【基本情報】'!$BY$475","v":0},null,"22","調査結果","-","その他","-","6（1）","-","改善（予定）年月","-","未定",null,null,"22調査結果-その他-6（1）-改善（予定）年月-未定"]
[null,{"$f":"'1_入力シート【基本情報】'!$AF$476","v":0},"",{"$f":"IF(C1160=\"\",0,C1160)","v":0},{"$f":"D1160","v":0},null,"22","調査結果","-","その他","-","6（2）","-","調査結果",null,null,null,null,"22調査結果-その他-6（2）-調査結果"]
[null,{"$f":"'1_入力シート【基本情報】'!$AR$476","v":0},"",{"$f":"'1_入力シート【基本情報】'!$AR$476","v":0},{"$f":"'1_入力シート【基本情報】'!$AR$476","v":0},null,"22","調査結果","-","その他","-","6（2）","-","調査者番号",null,null,null,null,"22調査結果-その他-6（2）-調査者番号"]
[null,{"$f":"'1_入力シート【基本情報】'!$AT$476","v":0},"",{"$f":"'1_入力シート【基本情報】'!$AT$476","v":0},{"$f":"'1_入力シート【基本情報】'!$AT$476","v":0},null,"22","調査結果","-","その他","-","6（2）","-","指摘の具体的内容等",null,null,null,null,"22調査結果-その他-6（2）-指摘の具体的内容等"]
[null,{"$f":"'1_入力シート【基本情報】'!$BD$476","v":0},"",{"$f":"'1_入力シート【基本情報】'!$BD$476","v":0},{"$f":"'1_入力シート【基本情報】'!$BD$476","v":0},null,"22","調査結果","-","その他","-","6（2）","-","改善策の具体的内容等",null,null,null,null,"22調査結果-その他-6（2）-改善策の具体的内容等"]
[null,{"$f":"'1_入力シート【基本情報】'!$BS$476","v":0},{"$f":"ASC($D1164)","v":"0"},{"$f":"'1_入力シート【基本情報】'!$BS$476","v":0},"0",null,"22","調査結果","-","その他","-","6（2）","-","改善（予定）年月","-","年（令和）",null,null,"22調査結果-その他-6（2）-改善（予定）年月-年（令和）"]
[null,{"$f":"'1_入力シート【基本情報】'!$BV$476","v":0},"0",{"$f":"'1_入力シート【基本情報】'!$BV$476","v":0},"0",null,"22","調査結果","-","その他","-","6（2）","-","改善（予定）年月","-","月",null,null,"22調査結果-その他-6（2）-改善（予定）年月-月"]
[null,{"$f":"'1_入力シート【基本情報】'!$BY$476","v":0},"",{"$f":"'1_入力シート【基本情報】'!$BY$476","v":0},{"$f":"'1_入力シート【基本情報】'!$BY$476","v":0},null,"22","調査結果","-","その他","-","6（2）","-","改善（予定）年月","-","未定",null,null,"22調査結果-その他-6（2）-改善（予定）年月-未定"]
[null,{"$f":"'1_入力シート【基本情報】'!$AF$477","v":0},"",{"$f":"IF(C1167=\"\",0,C1167)","v":0},{"$f":"D1167","v":0},null,"22","調査結果","-","その他","-","6（3）","-","調査結果",null,null,null,null,"22調査結果-その他-6（3）-調査結果"]
[null,{"$f":"'1_入力シート【基本情報】'!$AR$477","v":0},"",{"$f":"'1_入力シート【基本情報】'!$AR$477","v":0},{"$f":"'1_入力シート【基本情報】'!$AR$477","v":0},null,"22","調査結果","-","その他","-","6（3）","-","調査者番号",null,null,null,null,"22調査結果-その他-6（3）-調査者番号"]
[null,{"$f":"'1_入力シート【基本情報】'!$AT$477","v":0},"",{"$f":"'1_入力シート【基本情報】'!$AT$477","v":0},{"$f":"'1_入力シート【基本情報】'!$AT$477","v":0},null,"22","調査結果","-","その他","-","6（3）","-","指摘の具体的内容等",null,null,null,null,"22調査結果-その他-6（3）-指摘の具体的内容等"]
[null,{"$f":"'1_入力シート【基本情報】'!$BD$477","v":0},"",{"$f":"'1_入力シート【基本情報】'!$BD$477","v":0},{"$f":"'1_入力シート【基本情報】'!$BD$477","v":0},null,"22","調査結果","-","その他","-","6（3）","-","改善策の具体的内容等",null,null,null,null,"22調査結果-その他-6（3）-改善策の具体的内容等"]
[null,{"$f":"'1_入力シート【基本情報】'!$BS$477","v":0},{"$f":"ASC($D1171)","v":"0"},{"$f":"'1_入力シート【基本情報】'!$BS$477","v":0},"0",null,"22","調査結果","-","その他","-","6（3）","-","改善（予定）年月","-","年（令和）",null,null,"22調査結果-その他-6（3）-改善（予定）年月-年（令和）"]
[null,{"$f":"'1_入力シート【基本情報】'!$BV$477","v":0},"0",{"$f":"'1_入力シート【基本情報】'!$BV$477","v":0},"0",null,"22","調査結果","-","その他","-","6（3）","-","改善（予定）年月","-","月",null,null,"22調査結果-その他-6（3）-改善（予定）年月-月"]
[null,{"$f":"'1_入力シート【基本情報】'!$BY$477","v":0},"",{"$f":"'1_入力シート【基本情報】'!$BY$477","v":0},{"$f":"'1_入力シート【基本情報】'!$BY$477","v":0},null,"22","調査結果","-","その他","-","6（3）","-","改善（予定）年月","-","未定",null,null,{"$f":"CONCATENATE(G1173,H1173,I1173,J1173,K1173,L1173,M1173,N1173,O1173,P1173)","v":"22調査結果-その他-6（3）-改善（予定）年月-未定"}]
[null,{"$f":"'1_入力シート【基本情報】'!$AF$478","v":0},"",{"$f":"IF(C1174=\"\",0,C1174)","v":0},{"$f":"D1174","v":0},null,"22","調査結果","-","その他","-","6（4）","-","調査結果",null,null,null,null,"22調査結果-その他-6（4）-調査結果"]
[null,{"$f":"'1_入力シート【基本情報】'!$AR$478","v":0},"",{"$f":"'1_入力シート【基本情報】'!$AR$478","v":0},{"$f":"'1_入力シート【基本情報】'!$AR$478","v":0},null,"22","調査結果","-","その他","-","6（4）","-","調査者番号",null,null,null,null,"22調査結果-その他-6（4）-調査者番号"]
[null,{"$f":"'1_入力シート【基本情報】'!$AT$478","v":0},"",{"$f":"'1_入力シート【基本情報】'!$AT$478","v":0},{"$f":"'1_入力シート【基本情報】'!$AT$478","v":0},null,"22","調査結果","-","その他","-","6（4）","-","指摘の具体的内容等",null,null,null,null,"22調査結果-その他-6（4）-指摘の具体的内容等"]
[null,{"$f":"'1_入力シート【基本情報】'!$BD$478","v":0},"",{"$f":"'1_入力シート【基本情報】'!$BD$478","v":0},{"$f":"'1_入力シート【基本情報】'!$BD$478","v":0},null,"22","調査結果","-","その他","-","6（4）","-","改善策の具体的内容等",null,null,null,null,"22調査結果-その他-6（4）-改善策の具体的内容等"]
[null,{"$f":"'1_入力シート【基本情報】'!$BS$478","v":0},{"$f":"ASC($D1178)","v":"0"},{"$f":"'1_入力シート【基本情報】'!$BS$478","v":0},"0",null,"22","調査結果","-","その他","-","6（4）","-","改善（予定）年月","-","年（令和）",null,null,"22調査結果-その他-6（4）-改善（予定）年月-年（令和）"]
[null,{"$f":"'1_入力シート【基本情報】'!$BV$478","v":0},"0",{"$f":"'1_入力シート【基本情報】'!$BV$478","v":0},"0",null,"22","調査結果","-","その他","-","6（4）","-","改善（予定）年月","-","月",null,null,"22調査結果-その他-6（4）-改善（予定）年月-月"]
[null,{"$f":"'1_入力シート【基本情報】'!$BY$478","v":0},"",{"$f":"'1_入力シート【基本情報】'!$BY$478","v":0},{"$f":"'1_入力シート【基本情報】'!$BY$478","v":0},null,"22","調査結果","-","その他","-","6（4）","-","改善（予定）年月","-","未定",null,null,"22調査結果-その他-6（4）-改善（予定）年月-未定"]
[null,{"$f":"'1_入力シート【基本情報】'!$AF$479","v":0},"",{"$f":"IF(C1181=\"\",0,C1181)","v":0},{"$f":"D1181","v":0},null,"22","調査結果","-","その他","-","6（5）","-","調査結果",null,null,null,null,"22調査結果-その他-6（5）-調査結果"]
[null,{"$f":"'1_入力シート【基本情報】'!$AR$479","v":0},"",{"$f":"'1_入力シート【基本情報】'!$AR$479","v":0},{"$f":"'1_入力シート【基本情報】'!$AR$479","v":0},null,"22","調査結果","-","その他","-","6（5）","-","調査者番号",null,null,null,null,"22調査結果-その他-6（5）-調査者番号"]
[null,{"$f":"'1_入力シート【基本情報】'!$AT$479","v":0},"",{"$f":"'1_入力シート【基本情報】'!$AT$479","v":0},{"$f":"'1_入力シート【基本情報】'!$AT$479","v":0},null,"22","調査結果","-","その他","-","6（5）","-","指摘の具体的内容等",null,null,null,null,"22調査結果-その他-6（5）-指摘の具体的内容等"]
[null,{"$f":"'1_入力シート【基本情報】'!$BD$479","v":0},"",{"$f":"'1_入力シート【基本情報】'!$BD$479","v":0},{"$f":"'1_入力シート【基本情報】'!$BD$479","v":0},null,"22","調査結果","-","その他","-","6（5）","-","改善策の具体的内容等",null,null,null,null,"22調査結果-その他-6（5）-改善策の具体的内容等"]
[null,{"$f":"'1_入力シート【基本情報】'!$BS$479","v":0},{"$f":"ASC($D1185)","v":"0"},{"$f":"'1_入力シート【基本情報】'!$BS$479","v":0},"0",null,"22","調査結果","-","その他","-","6（5）","-","改善（予定）年月","-","年（令和）",null,null,"22調査結果-その他-6（5）-改善（予定）年月-年（令和）"]
[null,{"$f":"'1_入力シート【基本情報】'!$BV$479","v":0},"0",{"$f":"'1_入力シート【基本情報】'!$BV$479","v":0},"0",null,"22","調査結果","-","その他","-","6（5）","-","改善（予定）年月","-","月",null,null,"22調査結果-その他-6（5）-改善（予定）年月-月"]
[null,{"$f":"'1_入力シート【基本情報】'!$BY$479","v":0},{"$f":"MID(B1187,2,14)","v":""},{"$f":"'1_入力シート【基本情報】'!$BY$479","v":0},{"$f":"'1_入力シート【基本情報】'!$BY$479","v":0},null,"22","調査結果","-","その他","-","6（5）","-","改善（予定）年月","-","未定",null,null,"22調査結果-その他-6（5）-改善（予定）年月-未定"]
[null,{"$f":"'1_入力シート【基本情報】'!$AF$480","v":0},"",{"$f":"IF(C1188=\"\",0,C1188)","v":0},{"$f":"D1188","v":0},null,"22","調査結果","-","その他","-","6（6）","-","調査結果",null,null,null,null,"22調査結果-その他-6（6）-調査結果"]
[null,{"$f":"'1_入力シート【基本情報】'!$AR$480","v":0},"",{"$f":"'1_入力シート【基本情報】'!$AR$480","v":0},{"$f":"'1_入力シート【基本情報】'!$AR$480","v":0},null,"22","調査結果","-","その他","-","6（6）","-","調査者番号",null,null,null,null,"22調査結果-その他-6（6）-調査者番号"]
[null,{"$f":"'1_入力シート【基本情報】'!$AT$480","v":0},"",{"$f":"'1_入力シート【基本情報】'!$AT$480","v":0},{"$f":"'1_入力シート【基本情報】'!$AT$480","v":0},null,"22","調査結果","-","その他","-","6（6）","-","指摘の具体的内容等",null,null,null,null,"22調査結果-その他-6（6）-指摘の具体的内容等"]
[null,{"$f":"'1_入力シート【基本情報】'!$BD$480","v":0},"",{"$f":"'1_入力シート【基本情報】'!$BD$480","v":0},{"$f":"'1_入力シート【基本情報】'!$BD$480","v":0},null,"22","調査結果","-","その他","-","6（6）","-","改善策の具体的内容等",null,null,null,null,"22調査結果-その他-6（6）-改善策の具体的内容等"]
[null,{"$f":"'1_入力シート【基本情報】'!$BS$480","v":0},{"$f":"ASC($D1192)","v":"0"},{"$f":"'1_入力シート【基本情報】'!$BS$480","v":0},"0",null,"22","調査結果","-","その他","-","6（6）","-","改善（予定）年月","-","年（令和）",null,null,"22調査結果-その他-6（6）-改善（予定）年月-年（令和）"]
[null,{"$f":"'1_入力シート【基本情報】'!$BV$480","v":0},"0",{"$f":"'1_入力シート【基本情報】'!$BV$480","v":0},"0",null,"22","調査結果","-","その他","-","6（6）","-","改善（予定）年月","-","月",null,null,"22調査結果-その他-6（6）-改善（予定）年月-月"]
[null,{"$f":"'1_入力シート【基本情報】'!$BY$480","v":0},"",{"$f":"'1_入力シート【基本情報】'!$BY$480","v":0},{"$f":"'1_入力シート【基本情報】'!$BY$480","v":0},null,"22","調査結果","-","その他","-","6（6）","-","改善（予定）年月","-","未定",null,null,"22調査結果-その他-6（6）-改善（予定）年月-未定"]
[null,{"$f":"'1_入力シート【基本情報】'!$AF$481","v":0},"",{"$f":"IF(C1195=\"\",0,C1195)","v":0},{"$f":"D1195","v":0},null,"22","調査結果","-","その他","-","6（7）","-","調査結果",null,null,null,null,"22調査結果-その他-6（7）-調査結果"]
[null,{"$f":"'1_入力シート【基本情報】'!$AR$481","v":0},"",{"$f":"'1_入力シート【基本情報】'!$AR$481","v":0},{"$f":"'1_入力シート【基本情報】'!$AR$481","v":0},null,"22","調査結果","-","その他","-","6（7）","-","調査者番号",null,null,null,null,"22調査結果-その他-6（7）-調査者番号"]
[null,{"$f":"'1_入力シート【基本情報】'!$AT$481","v":0},"",{"$f":"'1_入力シート【基本情報】'!$AT$481","v":0},{"$f":"'1_入力シート【基本情報】'!$AT$481","v":0},null,"22","調査結果","-","その他","-","6（7）","-","指摘の具体的内容等",null,null,null,null,"22調査結果-その他-6（7）-指摘の具体的内容等"]
[null,{"$f":"'1_入力シート【基本情報】'!$BD$481","v":0},"",{"$f":"'1_入力シート【基本情報】'!$BD$481","v":0},{"$f":"'1_入力シート【基本情報】'!$BD$481","v":0},null,"22","調査結果","-","その他","-","6（7）","-","改善策の具体的内容等",null,null,null,null,"22調査結果-その他-6（7）-改善策の具体的内容等"]
[null,{"$f":"'1_入力シート【基本情報】'!$BS$481","v":0},{"$f":"ASC($D1199)","v":"0"},{"$f":"'1_入力シート【基本情報】'!$BS$481","v":0},"0",null,"22","調査結果","-","その他","-","6（7）","-","改善（予定）年月","-","年（令和）",null,null,"22調査結果-その他-6（7）-改善（予定）年月-年（令和）"]
[null,{"$f":"'1_入力シート【基本情報】'!$BV$481","v":0},"0",{"$f":"'1_入力シート【基本情報】'!$BV$481","v":0},"0",null,"22","調査結果","-","その他","-","6（7）","-","改善（予定）年月","-","月",null,null,"22調査結果-その他-6（7）-改善（予定）年月-月"]
[null,{"$f":"'1_入力シート【基本情報】'!$BY$481","v":0},"",{"$f":"'1_入力シート【基本情報】'!$BY$481","v":0},{"$f":"'1_入力シート【基本情報】'!$BY$481","v":0},null,"22","調査結果","-","その他","-","6（7）","-","改善（予定）年月","-","未定",null,null,"22調査結果-その他-6（7）-改善（予定）年月-未定"]
[null,{"$f":"'1_入力シート【基本情報】'!$AF$482","v":0},"",{"$f":"IF(C1202=\"\",0,C1202)","v":0},{"$f":"D1202","v":0},null,"22","調査結果","-","その他","-","6（8）","-","調査結果",null,null,null,null,"22調査結果-その他-6（8）-調査結果"]
[null,{"$f":"'1_入力シート【基本情報】'!$AR$482","v":0},"",{"$f":"'1_入力シート【基本情報】'!$AR$482","v":0},{"$f":"'1_入力シート【基本情報】'!$AR$482","v":0},null,"22","調査結果","-","その他","-","6（8）","-","調査者番号",null,null,null,null,"22調査結果-その他-6（8）-調査者番号"]
[null,{"$f":"'1_入力シート【基本情報】'!$AT$482","v":"00:00:00"},"",{"$f":"'1_入力シート【基本情報】'!$AT$482","v":0},{"$f":"'1_入力シート【基本情報】'!$AT$482","v":0},null,"22","調査結果","-","その他","-","6（8）","-","指摘の具体的内容等",null,null,null,null,"22調査結果-その他-6（8）-指摘の具体的内容等"]
[null,{"$f":"'1_入力シート【基本情報】'!$BD$482","v":0},"",{"$f":"'1_入力シート【基本情報】'!$BD$482","v":0},{"$f":"'1_入力シート【基本情報】'!$BD$482","v":0},null,"22","調査結果","-","その他","-","6（8）","-","改善策の具体的内容等",null,null,null,null,"22調査結果-その他-6（8）-改善策の具体的内容等"]
[null,{"$f":"'1_入力シート【基本情報】'!$BS$482","v":0},{"$f":"ASC($D1206)","v":"0"},{"$f":"'1_入力シート【基本情報】'!$BS$482","v":0},"0",null,"22","調査結果","-","その他","-","6（8）","-","改善（予定）年月","-","年（令和）",null,null,"22調査結果-その他-6（8）-改善（予定）年月-年（令和）"]
[null,{"$f":"'1_入力シート【基本情報】'!$BV$482","v":0},"0",{"$f":"'1_入力シート【基本情報】'!$BV$482","v":0},"0",null,"22","調査結果","-","その他","-","6（8）","-","改善（予定）年月","-","月",null,null,"22調査結果-その他-6（8）-改善（予定）年月-月"]
[null,{"$f":"'1_入力シート【基本情報】'!$BY$482","v":0},"",{"$f":"'1_入力シート【基本情報】'!$BY$482","v":0},{"$f":"'1_入力シート【基本情報】'!$BY$482","v":0},null,"22","調査結果","-","その他","-","6（8）","-","改善（予定）年月","-","未定",null,null,"22調査結果-その他-6（8）-改善（予定）年月-未定"]
[null,{"$f":"'1_入力シート【基本情報】'!$AF$483","v":0},"",{"$f":"IF(C1209=\"\",0,C1209)","v":0},{"$f":"D1209","v":0},null,"22","調査結果","-","その他","-","6（9）","-","調査結果",null,null,null,null,"22調査結果-その他-6（9）-調査結果"]
[null,{"$f":"'1_入力シート【基本情報】'!$AR$483","v":0},"",{"$f":"'1_入力シート【基本情報】'!$AR$483","v":0},{"$f":"'1_入力シート【基本情報】'!$AR$483","v":0},null,"22","調査結果","-","その他","-","6（9）","-","調査者番号",null,null,null,null,"22調査結果-その他-6（9）-調査者番号"]
[null,{"$f":"'1_入力シート【基本情報】'!$AT$483","v":0},"",{"$f":"'1_入力シート【基本情報】'!$AT$483","v":0},{"$f":"'1_入力シート【基本情報】'!$AT$483","v":0},null,"22","調査結果","-","その他","-","6（9）","-","指摘の具体的内容等",null,null,null,null,"22調査結果-その他-6（9）-指摘の具体的内容等"]
[null,{"$f":"'1_入力シート【基本情報】'!$BD$483","v":0},"",{"$f":"'1_入力シート【基本情報】'!$BD$483","v":0},{"$f":"'1_入力シート【基本情報】'!$BD$483","v":0},null,"22","調査結果","-","その他","-","6（9）","-","改善策の具体的内容等",null,null,null,null,"22調査結果-その他-6（9）-改善策の具体的内容等"]
[null,{"$f":"'1_入力シート【基本情報】'!$BS$483","v":0},{"$f":"ASC($D1213)","v":"0"},{"$f":"'1_入力シート【基本情報】'!$BS$483","v":0},"0",null,"22","調査結果","-","その他","-","6（9）","-","改善（予定）年月","-","年（令和）",null,null,"22調査結果-その他-6（9）-改善（予定）年月-年（令和）"]
[null,{"$f":"'1_入力シート【基本情報】'!$BV$483","v":0},"0",{"$f":"'1_入力シート【基本情報】'!$BV$483","v":0},"0",null,"22","調査結果","-","その他","-","6（9）","-","改善（予定）年月","-","月",null,null,"22調査結果-その他-6（9）-改善（予定）年月-月"]
[null,{"$f":"'1_入力シート【基本情報】'!$BY$483","v":0},"",{"$f":"'1_入力シート【基本情報】'!$BY$483","v":0},{"$f":"'1_入力シート【基本情報】'!$BY$483","v":0},null,"22","調査結果","-","その他","-","6（9）","-","改善（予定）年月","-","未定",null,null,"22調査結果-その他-6（9）-改善（予定）年月-未定"]
[null,{"$f":"'1_入力シート【基本情報】'!$AF$493","v":0},"",{"$f":"IF(C1216=\"\",0,C1216)","v":0},{"$f":"D1216","v":0},null,"22","調査結果","-","上記以外の調査項目","-","6（9）","-","調査結果",null,null,null,null,"22調査結果-上記以外の調査項目-6（9）-調査結果"]
[null,{"$f":"'1_入力シート【基本情報】'!$AR$493","v":0},"",{"$f":"'1_入力シート【基本情報】'!$AR$493","v":0},{"$f":"'1_入力シート【基本情報】'!$AR$493","v":0},null,"22","調査結果","-","上記以外の調査項目","-","7（1）","-","調査者番号",null,null,null,null,"22調査結果-上記以外の調査項目-7（1）-調査者番号"]
[null,{"$f":"'1_入力シート【基本情報】'!$AT$493","v":"00:00:00"},"",{"$f":"'1_入力シート【基本情報】'!$AT$493","v":0},{"$f":"'1_入力シート【基本情報】'!$AT$493","v":0},null,"22","調査結果","-","上記以外の調査項目","-","7（1）","-","指摘の具体的内容等",null,null,null,null,"22調査結果-上記以外の調査項目-7（1）-指摘の具体的内容等"]
[null,{"$f":"'1_入力シート【基本情報】'!$BD$493","v":0},"",{"$f":"'1_入力シート【基本情報】'!$BD$493","v":0},{"$f":"'1_入力シート【基本情報】'!$BD$493","v":0},null,"22","調査結果","-","上記以外の調査項目","-","7（1）","-","改善策の具体的内容等",null,null,null,null,"22調査結果-上記以外の調査項目-7（1）-改善策の具体的内容等"]
[null,{"$f":"'1_入力シート【基本情報】'!$BS$493","v":0},{"$f":"ASC($D1220)","v":"0"},{"$f":"'1_入力シート【基本情報】'!$BS$493","v":0},"0",null,"22","調査結果","-","上記以外の調査項目","-","7（1）","-","改善（予定）年月","-","年（令和）",null,null,"22調査結果-上記以外の調査項目-7（1）-改善（予定）年月-年（令和）"]
[null,{"$f":"'1_入力シート【基本情報】'!$BV$493","v":0},"0",{"$f":"'1_入力シート【基本情報】'!$BV$493","v":0},"0",null,"22","調査結果","-","上記以外の調査項目","-","7（1）","-","改善（予定）年月","-","月",null,null,"22調査結果-上記以外の調査項目-7（1）-改善（予定）年月-月"]
[null,{"$f":"'1_入力シート【基本情報】'!$BY$493","v":0},"",{"$f":"'1_入力シート【基本情報】'!$BY$493","v":0},{"$f":"'1_入力シート【基本情報】'!$BY$493","v":0},null,"22","調査結果","-","上記以外の調査項目","-","7（1）","-","改善（予定）年月","-","未定",null,null,"22調査結果-上記以外の調査項目-7（1）-改善（予定）年月-未定"]
[null,{"$f":"'1_入力シート【基本情報】'!$AF$494","v":0},"",{"$f":"IF(C1223=\"\",0,C1223)","v":0},{"$f":"D1223","v":0},null,"22","調査結果","-","上記以外の調査項目","-","7（2）","-","調査結果",null,null,null,null,"22調査結果-上記以外の調査項目-7（2）-調査結果"]
[null,{"$f":"'1_入力シート【基本情報】'!$AR$494","v":0},"",{"$f":"'1_入力シート【基本情報】'!$AR$494","v":0},{"$f":"'1_入力シート【基本情報】'!$AR$494","v":0},null,"22","調査結果","-","上記以外の調査項目","-","7（2）","-","調査者番号",null,null,null,null,"22調査結果-上記以外の調査項目-7（2）-調査者番号"]
[null,{"$f":"'1_入力シート【基本情報】'!$AT$494","v":0},"",{"$f":"'1_入力シート【基本情報】'!$AT$494","v":0},{"$f":"'1_入力シート【基本情報】'!$AT$494","v":0},null,"22","調査結果","-","上記以外の調査項目","-","7（2）","-","指摘の具体的内容等",null,null,null,null,"22調査結果-上記以外の調査項目-7（2）-指摘の具体的内容等"]
[null,{"$f":"'1_入力シート【基本情報】'!$BD$494","v":0},"",{"$f":"'1_入力シート【基本情報】'!$BD$494","v":0},{"$f":"'1_入力シート【基本情報】'!$BD$494","v":0},null,"22","調査結果","-","上記以外の調査項目","-","7（2）","-","改善策の具体的内容等",null,null,null,null,"22調査結果-上記以外の調査項目-7（2）-改善策の具体的内容等"]
[null,{"$f":"'1_入力シート【基本情報】'!$BS$494","v":0},{"$f":"ASC($D1227)","v":"0"},{"$f":"'1_入力シート【基本情報】'!$BS$494","v":0},"0",null,"22","調査結果","-","上記以外の調査項目","-","7（2）","-","改善（予定）年月","-","年（令和）",null,null,"22調査結果-上記以外の調査項目-7（2）-改善（予定）年月-年（令和）"]
[null,{"$f":"'1_入力シート【基本情報】'!$BV$494","v":0},"0",{"$f":"'1_入力シート【基本情報】'!$BV$494","v":0},"0",null,"22","調査結果","-","上記以外の調査項目","-","7（2）","-","改善（予定）年月","-","月",null,null,"22調査結果-上記以外の調査項目-7（2）-改善（予定）年月-月"]
[null,{"$f":"'1_入力シート【基本情報】'!$BY$494","v":0},"",{"$f":"'1_入力シート【基本情報】'!$BY$494","v":0},{"$f":"'1_入力シート【基本情報】'!$BY$494","v":0},null,"22","調査結果","-","上記以外の調査項目","-","7（2）","-","改善（予定）年月","-","未定",null,null,"22調査結果-上記以外の調査項目-7（2）-改善（予定）年月-未定"]
[null,{"$f":"'1_入力シート【基本情報】'!$AF$495","v":0},"",{"$f":"IF(C1230=\"\",0,C1230)","v":0},{"$f":"D1230","v":0},null,"22","調査結果","-","上記以外の調査項目","-","7（3）","-","調査結果",null,null,null,null,"22調査結果-上記以外の調査項目-7（3）-調査結果"]
[null,{"$f":"'1_入力シート【基本情報】'!$AR$495","v":0},"",{"$f":"'1_入力シート【基本情報】'!$AR$495","v":0},{"$f":"'1_入力シート【基本情報】'!$AR$495","v":0},null,"22","調査結果","-","上記以外の調査項目","-","7（3）","-","調査者番号",null,null,null,null,"22調査結果-上記以外の調査項目-7（3）-調査者番号"]
[null,{"$f":"'1_入力シート【基本情報】'!$AT$495","v":0},"",{"$f":"'1_入力シート【基本情報】'!$AT$495","v":0},{"$f":"'1_入力シート【基本情報】'!$AT$495","v":0},null,"22","調査結果","-","上記以外の調査項目","-","7（3）","-","指摘の具体的内容等",null,null,null,null,"22調査結果-上記以外の調査項目-7（3）-指摘の具体的内容等"]
[null,{"$f":"'1_入力シート【基本情報】'!$BD$495","v":0},"",{"$f":"'1_入力シート【基本情報】'!$BD$495","v":0},{"$f":"'1_入力シート【基本情報】'!$BD$495","v":0},null,"22","調査結果","-","上記以外の調査項目","-","7（3）","-","改善策の具体的内容等",null,null,null,null,"22調査結果-上記以外の調査項目-7（3）-改善策の具体的内容等"]
[null,{"$f":"'1_入力シート【基本情報】'!$BS$495","v":0},{"$f":"ASC($D1234)","v":"0"},{"$f":"'1_入力シート【基本情報】'!$BS$495","v":0},"0",null,"22","調査結果","-","上記以外の調査項目","-","7（3）","-","改善（予定）年月","-","年（令和）",null,null,"22調査結果-上記以外の調査項目-7（3）-改善（予定）年月-年（令和）"]
[null,{"$f":"'1_入力シート【基本情報】'!$BV$495","v":0},"0",{"$f":"'1_入力シート【基本情報】'!$BV$495","v":0},"0",null,"22","調査結果","-","上記以外の調査項目","-","7（3）","-","改善（予定）年月","-","月",null,null,"22調査結果-上記以外の調査項目-7（3）-改善（予定）年月-月"]
[null,{"$f":"'1_入力シート【基本情報】'!$BY$495","v":0},"",{"$f":"'1_入力シート【基本情報】'!$BY$495","v":0},{"$f":"'1_入力シート【基本情報】'!$BY$495","v":0},null,"22","調査結果","-","上記以外の調査項目","-","7（3）","-","改善（予定）年月","-","未定",null,null,"22調査結果-上記以外の調査項目-7（3）-改善（予定）年月-未定"]
[null,{"$f":"'1_入力シート【基本情報】'!$AF$496","v":0},"",{"$f":"IF(C1237=\"\",0,C1237)","v":0},{"$f":"D1237","v":0},null,"22","調査結果","-","上記以外の調査項目","-","7（4）","-","調査結果",null,null,null,null,"22調査結果-上記以外の調査項目-7（4）-調査結果"]
[null,{"$f":"'1_入力シート【基本情報】'!$AR$496","v":0},"",{"$f":"'1_入力シート【基本情報】'!$AR$496","v":0},{"$f":"'1_入力シート【基本情報】'!$AR$496","v":0},null,"22","調査結果","-","上記以外の調査項目","-","7（4）","-","調査者番号",null,null,null,null,"22調査結果-上記以外の調査項目-7（4）-調査者番号"]
[null,{"$f":"'1_入力シート【基本情報】'!$AT$496","v":0},"",{"$f":"'1_入力シート【基本情報】'!$AT$496","v":0},{"$f":"'1_入力シート【基本情報】'!$AT$496","v":0},null,"22","調査結果","-","上記以外の調査項目","-","7（4）","-","指摘の具体的内容等",null,null,null,null,"22調査結果-上記以外の調査項目-7（4）-指摘の具体的内容等"]
[null,{"$f":"'1_入力シート【基本情報】'!$BD$496","v":0},"",{"$f":"'1_入力シート【基本情報】'!$BD$496","v":0},{"$f":"'1_入力シート【基本情報】'!$BD$496","v":0},null,"22","調査結果","-","上記以外の調査項目","-","7（4）","-","改善策の具体的内容等",null,null,null,null,"22調査結果-上記以外の調査項目-7（4）-改善策の具体的内容等"]
[null,{"$f":"'1_入力シート【基本情報】'!$BS$496","v":0},{"$f":"ASC($D1241)","v":"0"},{"$f":"'1_入力シート【基本情報】'!$BS$496","v":0},"0",null,"22","調査結果","-","上記以外の調査項目","-","7（4）","-","改善（予定）年月","-","年（令和）",null,null,"22調査結果-上記以外の調査項目-7（4）-改善（予定）年月-年（令和）"]
[null,{"$f":"'1_入力シート【基本情報】'!$BV$496","v":0},"0",{"$f":"'1_入力シート【基本情報】'!$BV$496","v":0},"0",null,"22","調査結果","-","上記以外の調査項目","-","7（4）","-","改善（予定）年月","-","月",null,null,"22調査結果-上記以外の調査項目-7（4）-改善（予定）年月-月"]
[null,{"$f":"'1_入力シート【基本情報】'!$BY$496","v":0},"",{"$f":"'1_入力シート【基本情報】'!$BY$496","v":0},{"$f":"'1_入力シート【基本情報】'!$BY$496","v":0},null,"22","調査結果","-","上記以外の調査項目","-","7（4）","-","改善（予定）年月","-","未定",null,null,"22調査結果-上記以外の調査項目-7（4）-改善（予定）年月-未定"]
[null,{"$f":"'1_入力シート【基本情報】'!$AF$497","v":0},"",{"$f":"IF(C1244=\"\",0,C1244)","v":0},{"$f":"D1244","v":0},null,"22","調査結果","-","上記以外の調査項目","-","7（5）","-","調査結果",null,null,null,null,{"$f":"CONCATENATE(G1244,H1244,I1244,J1244,K1244,L1244,M1244,N1244,O1244,P1244)","v":"22調査結果-上記以外の調査項目-7（5）-調査結果"}]
[null,{"$f":"'1_入力シート【基本情報】'!$AR$497","v":0},"",{"$f":"'1_入力シート【基本情報】'!$AR$497","v":0},{"$f":"'1_入力シート【基本情報】'!$AR$497","v":0},null,"22","調査結果","-","上記以外の調査項目","-","7（5）","-","調査者番号",null,null,null,null,"22調査結果-上記以外の調査項目-7（5）-調査者番号"]
[null,{"$f":"'1_入力シート【基本情報】'!$AT$497","v":0},"",{"$f":"'1_入力シート【基本情報】'!$AT$497","v":0},{"$f":"'1_入力シート【基本情報】'!$AT$497","v":0},null,"22","調査結果","-","上記以外の調査項目","-","7（5）","-","指摘の具体的内容等",null,null,null,null,"22調査結果-上記以外の調査項目-7（5）-指摘の具体的内容等"]
[null,{"$f":"'1_入力シート【基本情報】'!$BD$497","v":0},"",{"$f":"'1_入力シート【基本情報】'!$BD$497","v":0},{"$f":"'1_入力シート【基本情報】'!$BD$497","v":0},null,"22","調査結果","-","上記以外の調査項目","-","7（5）","-","改善策の具体的内容等",null,null,null,null,"22調査結果-上記以外の調査項目-7（5）-改善策の具体的内容等"]
[null,{"$f":"'1_入力シート【基本情報】'!$BS$497","v":0},{"$f":"ASC($D1248)","v":"0"},{"$f":"'1_入力シート【基本情報】'!$BS$497","v":0},"0",null,"22","調査結果","-","上記以外の調査項目","-","7（5）","-","改善（予定）年月","-","年（令和）",null,null,"22調査結果-上記以外の調査項目-7（5）-改善（予定）年月-年（令和）"]
[null,{"$f":"'1_入力シート【基本情報】'!$BV$497","v":0},"0",{"$f":"'1_入力シート【基本情報】'!$BV$497","v":0},"0",null,"22","調査結果","-","上記以外の調査項目","-","7（5）","-","改善（予定）年月","-","月",null,null,"22調査結果-上記以外の調査項目-7（5）-改善（予定）年月-月"]
[null,{"$f":"'1_入力シート【基本情報】'!$BY$497","v":0},{"$f":"MID(B1250,2,14)","v":""},{"$f":"'1_入力シート【基本情報】'!$BY$497","v":0},{"$f":"'1_入力シート【基本情報】'!$BY$497","v":0},null,"22","調査結果","-","上記以外の調査項目","-","7（5）","-","改善（予定）年月","-","未定",null,null,"22調査結果-上記以外の調査項目-7（5）-改善（予定）年月-未定"]
[null,{"$f":"'1_入力シート【基本情報】'!$AF$498","v":0},"",{"$f":"IF(C1251=\"\",0,C1251)","v":0},{"$f":"D1251","v":0},null,"22","調査結果","-","上記以外の調査項目","-","7（6）","-","調査結果",null,null,null,null,"22調査結果-上記以外の調査項目-7（6）-調査結果"]
[null,{"$f":"'1_入力シート【基本情報】'!$AR$498","v":0},"",{"$f":"'1_入力シート【基本情報】'!$AR$498","v":0},{"$f":"'1_入力シート【基本情報】'!$AR$498","v":0},null,"22","調査結果","-","上記以外の調査項目","-","7（6）","-","調査者番号",null,null,null,null,"22調査結果-上記以外の調査項目-7（6）-調査者番号"]
[null,{"$f":"'1_入力シート【基本情報】'!$AT$498","v":0},"",{"$f":"'1_入力シート【基本情報】'!$AT$498","v":0},{"$f":"'1_入力シート【基本情報】'!$AT$498","v":0},null,"22","調査結果","-","上記以外の調査項目","-","7（6）","-","指摘の具体的内容等",null,null,null,null,"22調査結果-上記以外の調査項目-7（6）-指摘の具体的内容等"]
[null,{"$f":"'1_入力シート【基本情報】'!$BD$498","v":0},"",{"$f":"'1_入力シート【基本情報】'!$BD$498","v":0},{"$f":"'1_入力シート【基本情報】'!$BD$498","v":0},null,"22","調査結果","-","上記以外の調査項目","-","7（6）","-","改善策の具体的内容等",null,null,null,null,"22調査結果-上記以外の調査項目-7（6）-改善策の具体的内容等"]
[null,{"$f":"'1_入力シート【基本情報】'!$BS$498","v":0},{"$f":"ASC($D1255)","v":"0"},{"$f":"'1_入力シート【基本情報】'!$BS$498","v":0},"0",null,"22","調査結果","-","上記以外の調査項目","-","7（6）","-","改善（予定）年月","-","年（令和）",null,null,"22調査結果-上記以外の調査項目-7（6）-改善（予定）年月-年（令和）"]
[null,{"$f":"'1_入力シート【基本情報】'!$BV$498","v":0},"0",{"$f":"'1_入力シート【基本情報】'!$BV$498","v":0},"0",null,"22","調査結果","-","上記以外の調査項目","-","7（6）","-","改善（予定）年月","-","月",null,null,"22調査結果-上記以外の調査項目-7（6）-改善（予定）年月-月"]
[null,{"$f":"'1_入力シート【基本情報】'!$BY$498","v":0},"",{"$f":"'1_入力シート【基本情報】'!$BY$498","v":0},{"$f":"'1_入力シート【基本情報】'!$BY$498","v":0},null,"22","調査結果","-","上記以外の調査項目","-","7（6）","-","改善（予定）年月","-","未定",null,null,"22調査結果-上記以外の調査項目-7（6）-改善（予定）年月-未定"]
[null,{"$f":"'1_入力シート【基本情報】'!$AF$499","v":0},"",{"$f":"IF(C1258=\"\",0,C1258)","v":0},{"$f":"D1258","v":0},null,"22","調査結果","-","上記以外の調査項目","-","7（7）","-","調査結果",null,null,null,null,"22調査結果-上記以外の調査項目-7（7）-調査結果"]
[null,{"$f":"'1_入力シート【基本情報】'!$AR$499","v":0},"",{"$f":"'1_入力シート【基本情報】'!$AR$499","v":0},{"$f":"'1_入力シート【基本情報】'!$AR$499","v":0},null,"22","調査結果","-","上記以外の調査項目","-","7（7）","-","調査者番号",null,null,null,null,"22調査結果-上記以外の調査項目-7（7）-調査者番号"]
[null,{"$f":"'1_入力シート【基本情報】'!$AT$499","v":0},"",{"$f":"'1_入力シート【基本情報】'!$AT$499","v":0},{"$f":"'1_入力シート【基本情報】'!$AT$499","v":0},null,"22","調査結果","-","上記以外の調査項目","-","7（7）","-","指摘の具体的内容等",null,null,null,null,"22調査結果-上記以外の調査項目-7（7）-指摘の具体的内容等"]
[null,{"$f":"'1_入力シート【基本情報】'!$BD$499","v":0},"",{"$f":"'1_入力シート【基本情報】'!$BD$499","v":0},{"$f":"'1_入力シート【基本情報】'!$BD$499","v":0},null,"22","調査結果","-","上記以外の調査項目","-","7（7）","-","改善策の具体的内容等",null,null,null,null,"22調査結果-上記以外の調査項目-7（7）-改善策の具体的内容等"]
[null,{"$f":"'1_入力シート【基本情報】'!$BS$499","v":0},{"$f":"ASC($D1262)","v":"0"},{"$f":"'1_入力シート【基本情報】'!$BS$499","v":0},"0",null,"22","調査結果","-","上記以外の調査項目","-","7（7）","-","改善（予定）年月","-","年（令和）",null,null,"22調査結果-上記以外の調査項目-7（7）-改善（予定）年月-年（令和）"]
[null,{"$f":"'1_入力シート【基本情報】'!$BV$499","v":0},"0",{"$f":"'1_入力シート【基本情報】'!$BV$499","v":0},"0",null,"22","調査結果","-","上記以外の調査項目","-","7（7）","-","改善（予定）年月","-","月",null,null,"22調査結果-上記以外の調査項目-7（7）-改善（予定）年月-月"]
[null,{"$f":"'1_入力シート【基本情報】'!$BY$499","v":0},"",{"$f":"'1_入力シート【基本情報】'!$BY$499","v":0},{"$f":"'1_入力シート【基本情報】'!$BY$499","v":0},null,"22","調査結果","-","上記以外の調査項目","-","7（7）","-","改善（予定）年月","-","未定",null,null,"22調査結果-上記以外の調査項目-7（7）-改善（予定）年月-未定"]
[null,{"$f":"'1_入力シート【基本情報】'!$AF$500","v":0},"",{"$f":"IF(C1265=\"\",0,C1265)","v":0},{"$f":"D1265","v":0},null,"22","調査結果","-","上記以外の調査項目","-","7（8）","-","調査結果",null,null,null,null,"22調査結果-上記以外の調査項目-7（8）-調査結果"]
[null,{"$f":"'1_入力シート【基本情報】'!$AR$500","v":0},"",{"$f":"'1_入力シート【基本情報】'!$AR$500","v":0},{"$f":"'1_入力シート【基本情報】'!$AR$500","v":0},null,"22","調査結果","-","上記以外の調査項目","-","7（8）","-","調査者番号",null,null,null,null,"22調査結果-上記以外の調査項目-7（8）-調査者番号"]
[null,{"$f":"'1_入力シート【基本情報】'!$AT$500","v":0},"",{"$f":"'1_入力シート【基本情報】'!$AT$500","v":0},{"$f":"'1_入力シート【基本情報】'!$AT$500","v":0},null,"22","調査結果","-","上記以外の調査項目","-","7（8）","-","指摘の具体的内容等",null,null,null,null,"22調査結果-上記以外の調査項目-7（8）-指摘の具体的内容等"]
[null,{"$f":"'1_入力シート【基本情報】'!$BD$500","v":0},"",{"$f":"'1_入力シート【基本情報】'!$BD$500","v":0},{"$f":"'1_入力シート【基本情報】'!$BD$500","v":0},null,"22","調査結果","-","上記以外の調査項目","-","7（8）","-","改善策の具体的内容等",null,null,null,null,"22調査結果-上記以外の調査項目-7（8）-改善策の具体的内容等"]
[null,{"$f":"'1_入力シート【基本情報】'!$BS$500","v":0},{"$f":"ASC($D1269)","v":"0"},{"$f":"'1_入力シート【基本情報】'!$BS$500","v":0},"0",null,"22","調査結果","-","上記以外の調査項目","-","7（8）","-","改善（予定）年月","-","年（令和）",null,null,"22調査結果-上記以外の調査項目-7（8）-改善（予定）年月-年（令和）"]
[null,{"$f":"'1_入力シート【基本情報】'!$BV$500","v":0},"0",{"$f":"'1_入力シート【基本情報】'!$BV$500","v":0},"0",null,"22","調査結果","-","上記以外の調査項目","-","7（8）","-","改善（予定）年月","-","月",null,null,"22調査結果-上記以外の調査項目-7（8）-改善（予定）年月-月"]
[null,{"$f":"'1_入力シート【基本情報】'!$BY$500","v":0},"",{"$f":"'1_入力シート【基本情報】'!$BY$500","v":0},{"$f":"'1_入力シート【基本情報】'!$BY$500","v":0},null,"22","調査結果","-","上記以外の調査項目","-","7（8）","-","改善（予定）年月","-","未定",null,null,"22調査結果-上記以外の調査項目-7（8）-改善（予定）年月-未定"]
[null,{"$f":"'1_入力シート【基本情報】'!$AF$501","v":0},"",{"$f":"IF(C1272=\"\",0,C1272)","v":0},{"$f":"D1272","v":0},null,"22","調査結果","-","上記以外の調査項目","-","7（9）","-","調査結果",null,null,null,null,"22調査結果-上記以外の調査項目-7（9）-調査結果"]
[null,{"$f":"'1_入力シート【基本情報】'!$AR$501","v":0},"",{"$f":"'1_入力シート【基本情報】'!$AR$501","v":0},{"$f":"'1_入力シート【基本情報】'!$AR$501","v":0},null,"22","調査結果","-","上記以外の調査項目","-","7（9）","-","調査者番号",null,null,null,null,"22調査結果-上記以外の調査項目-7（9）-調査者番号"]
[null,{"$f":"'1_入力シート【基本情報】'!$AT$501","v":0},"",{"$f":"'1_入力シート【基本情報】'!$AT$501","v":0},{"$f":"'1_入力シート【基本情報】'!$AT$501","v":0},null,"22","調査結果","-","上記以外の調査項目","-","7（9）","-","指摘の具体的内容等",null,null,null,null,"22調査結果-上記以外の調査項目-7（9）-指摘の具体的内容等"]
[null,{"$f":"'1_入力シート【基本情報】'!$BD$501","v":0},"",{"$f":"'1_入力シート【基本情報】'!$BD$501","v":0},{"$f":"'1_入力シート【基本情報】'!$BD$501","v":0},null,"22","調査結果","-","上記以外の調査項目","-","7（9）","-","改善策の具体的内容等",null,null,null,null,"22調査結果-上記以外の調査項目-7（9）-改善策の具体的内容等"]
[null,{"$f":"'1_入力シート【基本情報】'!$BS$501","v":0},{"$f":"ASC($D1276)","v":"0"},{"$f":"'1_入力シート【基本情報】'!$BS$501","v":0},"0",null,"22","調査結果","-","上記以外の調査項目","-","7（9）","-","改善（予定）年月","-","年（令和）",null,null,"22調査結果-上記以外の調査項目-7（9）-改善（予定）年月-年（令和）"]
[null,{"$f":"'1_入力シート【基本情報】'!$BV$501","v":0},"0",{"$f":"'1_入力シート【基本情報】'!$BV$501","v":0},"0",null,"22","調査結果","-","上記以外の調査項目","-","7（9）","-","改善（予定）年月","-","月",null,null,"22調査結果-上記以外の調査項目-7（9）-改善（予定）年月-月"]
[null,{"$f":"'1_入力シート【基本情報】'!$BY$501","v":0},"",{"$f":"'1_入力シート【基本情報】'!$BY$501","v":0},{"$f":"'1_入力シート【基本情報】'!$BY$501","v":0},null,"22","調査結果","-","上記以外の調査項目","-","7（9）","-","改善（予定）年月","-","未定",null,null,"22調査結果-上記以外の調査項目-7（9）-改善（予定）年月-未定"]
[null,{"$f":"'1_入力シート【基本情報】'!$AF$502","v":0},"",{"$f":"IF(C1279=\"\",0,C1279)","v":0},{"$f":"D1279","v":0},null,"22","調査結果","-","上記以外の調査項目","-","7（10）","-","調査結果",null,null,null,null,"22調査結果-上記以外の調査項目-7（10）-調査結果"]
[null,{"$f":"'1_入力シート【基本情報】'!$AR$502","v":0},"",{"$f":"'1_入力シート【基本情報】'!$AR$502","v":0},{"$f":"'1_入力シート【基本情報】'!$AR$502","v":0},null,"22","調査結果","-","上記以外の調査項目","-","7（10）","-","調査者番号",null,null,null,null,"22調査結果-上記以外の調査項目-7（10）-調査者番号"]
[null,{"$f":"'1_入力シート【基本情報】'!$AT$502","v":0},"",{"$f":"'1_入力シート【基本情報】'!$AT$502","v":0},{"$f":"'1_入力シート【基本情報】'!$AT$502","v":0},null,"22","調査結果","-","上記以外の調査項目","-","7（10）","-","指摘の具体的内容等",null,null,null,null,"22調査結果-上記以外の調査項目-7（10）-指摘の具体的内容等"]
[null,{"$f":"'1_入力シート【基本情報】'!$BD$502","v":0},"",{"$f":"'1_入力シート【基本情報】'!$BD$502","v":0},{"$f":"'1_入力シート【基本情報】'!$BD$502","v":0},null,"22","調査結果","-","上記以外の調査項目","-","7（10）","-","改善策の具体的内容等",null,null,null,null,"22調査結果-上記以外の調査項目-7（10）-改善策の具体的内容等"]
[null,{"$f":"'1_入力シート【基本情報】'!$BS$502","v":0},{"$f":"ASC($D1283)","v":"0"},{"$f":"'1_入力シート【基本情報】'!$BS$502","v":0},"0",null,"22","調査結果","-","上記以外の調査項目","-","7（10）","-","改善（予定）年月","-","年（令和）",null,null,"22調査結果-上記以外の調査項目-7（10）-改善（予定）年月-年（令和）"]
[null,{"$f":"'1_入力シート【基本情報】'!$BV$502","v":0},"0",{"$f":"'1_入力シート【基本情報】'!$BV$502","v":0},"0",null,"22","調査結果","-","上記以外の調査項目","-","7（10）","-","改善（予定）年月","-","月",null,null,"22調査結果-上記以外の調査項目-7（10）-改善（予定）年月-月"]
[null,{"$f":"'1_入力シート【基本情報】'!$BY$502","v":0},"",{"$f":"'1_入力シート【基本情報】'!$BY$502","v":0},{"$f":"'1_入力シート【基本情報】'!$BY$502","v":0},null,"22","調査結果","-","上記以外の調査項目","-","7（10）","-","改善（予定）年月","-","未定",null,null,"22調査結果-上記以外の調査項目-7（10）-改善（予定）年月-未定"]
[null,{"$f":"'1_入力シート【基本情報】'!$AF$512","v":0},"",{"$f":"IF(C1286=\"\",0,C1286)","v":0},{"$f":"D1286","v":0},null,"22","調査結果","-","上記1から7に記載のない事項","-","1行目","-","調査結果",null,null,null,null,"22調査結果-上記1から7に記載のない事項-1行目-調査結果"]
[null,{"$f":"'1_入力シート【基本情報】'!$AR$512","v":0},"",{"$f":"'1_入力シート【基本情報】'!$AR$512","v":0},{"$f":"'1_入力シート【基本情報】'!$AR$512","v":0},null,"22","調査結果","-","上記1から7に記載のない事項","-","1行目","-","調査者番号",null,null,null,null,"22調査結果-上記1から7に記載のない事項-1行目-調査者番号"]
[null,{"$f":"'1_入力シート【基本情報】'!$AT$512","v":0},"",{"$f":"'1_入力シート【基本情報】'!$AT$512","v":0},{"$f":"'1_入力シート【基本情報】'!$AT$512","v":0},null,"22","調査結果","-","上記1から7に記載のない事項","-","1行目","-","指摘の具体的内容等",null,null,null,null,"22調査結果-上記1から7に記載のない事項-1行目-指摘の具体的内容等"]
[null,{"$f":"'1_入力シート【基本情報】'!$BD$512","v":0},"",{"$f":"'1_入力シート【基本情報】'!$BD$512","v":0},{"$f":"'1_入力シート【基本情報】'!$BD$512","v":0},null,"22","調査結果","-","上記1から7に記載のない事項","-","1行目","-","改善策の具体的内容等",null,null,null,null,"22調査結果-上記1から7に記載のない事項-1行目-改善策の具体的内容等"]
[null,{"$f":"'1_入力シート【基本情報】'!$BS$512","v":0},{"$f":"ASC($D1290)","v":"0"},{"$f":"'1_入力シート【基本情報】'!$BS$512","v":0},"0",null,"22","調査結果","-","上記1から7に記載のない事項","-","1行目","-","改善（予定）年月","-","年（令和）",null,null,"22調査結果-上記1から7に記載のない事項-1行目-改善（予定）年月-年（令和）"]
[null,{"$f":"'1_入力シート【基本情報】'!$BV$512","v":0},"0",{"$f":"'1_入力シート【基本情報】'!$BV$512","v":0},"0",null,"22","調査結果","-","上記1から7に記載のない事項","-","1行目","-","改善（予定）年月","-","月",null,null,"22調査結果-上記1から7に記載のない事項-1行目-改善（予定）年月-月"]
[null,{"$f":"'1_入力シート【基本情報】'!$BY$512","v":0},"",{"$f":"'1_入力シート【基本情報】'!$BY$512","v":0},{"$f":"'1_入力シート【基本情報】'!$BY$512","v":0},null,"22","調査結果","-","上記1から7に記載のない事項","-","1行目","-","改善（予定）年月","-","未定",null,null,"22調査結果-上記1から7に記載のない事項-1行目-改善（予定）年月-未定"]
[null,{"$f":"'1_入力シート【基本情報】'!$AF$513","v":0},"",{"$f":"IF(C1293=\"\",0,C1293)","v":0},{"$f":"D1293","v":0},null,"22","調査結果","-","上記1から7に記載のない事項","-","2行目","-","調査結果",null,null,null,null,"22調査結果-上記1から7に記載のない事項-2行目-調査結果"]
[null,{"$f":"'1_入力シート【基本情報】'!$AR$513","v":0},"",{"$f":"'1_入力シート【基本情報】'!$AR$513","v":0},{"$f":"'1_入力シート【基本情報】'!$AR$513","v":0},null,"22","調査結果","-","上記1から7に記載のない事項","-","2行目","-","調査者番号",null,null,null,null,"22調査結果-上記1から7に記載のない事項-2行目-調査者番号"]
[null,{"$f":"'1_入力シート【基本情報】'!$AT$513","v":0},"",{"$f":"'1_入力シート【基本情報】'!$AT$513","v":0},{"$f":"'1_入力シート【基本情報】'!$AT$513","v":0},null,"22","調査結果","-","上記1から7に記載のない事項","-","2行目","-","指摘の具体的内容等",null,null,null,null,"22調査結果-上記1から7に記載のない事項-2行目-指摘の具体的内容等"]
[null,{"$f":"'1_入力シート【基本情報】'!$BD$513","v":0},"",{"$f":"'1_入力シート【基本情報】'!$BD$513","v":0},{"$f":"'1_入力シート【基本情報】'!$BD$513","v":0},null,"22","調査結果","-","上記1から7に記載のない事項","-","2行目","-","改善策の具体的内容等",null,null,null,null,"22調査結果-上記1から7に記載のない事項-2行目-改善策の具体的内容等"]
[null,{"$f":"'1_入力シート【基本情報】'!$BS$513","v":0},{"$f":"ASC($D1297)","v":"0"},{"$f":"'1_入力シート【基本情報】'!$BS$513","v":0},"0",null,"22","調査結果","-","上記1から7に記載のない事項","-","2行目","-","改善（予定）年月","-","年（令和）",null,null,"22調査結果-上記1から7に記載のない事項-2行目-改善（予定）年月-年（令和）"]
[null,{"$f":"'1_入力シート【基本情報】'!$BV$513","v":0},"0",{"$f":"'1_入力シート【基本情報】'!$BV$513","v":0},"0",null,"22","調査結果","-","上記1から7に記載のない事項","-","2行目","-","改善（予定）年月","-","月",null,null,"22調査結果-上記1から7に記載のない事項-2行目-改善（予定）年月-月"]
[null,{"$f":"'1_入力シート【基本情報】'!$BY$513","v":0},"",{"$f":"'1_入力シート【基本情報】'!$BY$513","v":0},{"$f":"'1_入力シート【基本情報】'!$BY$513","v":0},null,"22","調査結果","-","上記1から7に記載のない事項","-","2行目","-","改善（予定）年月","-","未定",null,null,"22調査結果-上記1から7に記載のない事項-2行目-改善（予定）年月-未定"]
[null,{"$f":"'1_入力シート【基本情報】'!$AF$514","v":0},"",{"$f":"IF(C1300=\"\",0,C1300)","v":0},{"$f":"D1300","v":0},null,"22","調査結果","-","上記1から7に記載のない事項","-","3行目","-","調査結果",null,null,null,null,"22調査結果-上記1から7に記載のない事項-3行目-調査結果"]
[null,{"$f":"'1_入力シート【基本情報】'!$AR$514","v":0},"",{"$f":"'1_入力シート【基本情報】'!$AR$514","v":0},{"$f":"'1_入力シート【基本情報】'!$AR$514","v":0},null,"22","調査結果","-","上記1から7に記載のない事項","-","3行目","-","調査者番号",null,null,null,null,"22調査結果-上記1から7に記載のない事項-3行目-調査者番号"]
[null,{"$f":"'1_入力シート【基本情報】'!$AT$514","v":0},"",{"$f":"'1_入力シート【基本情報】'!$AT$514","v":0},{"$f":"'1_入力シート【基本情報】'!$AT$514","v":0},null,"22","調査結果","-","上記1から7に記載のない事項","-","3行目","-","指摘の具体的内容等",null,null,null,null,"22調査結果-上記1から7に記載のない事項-3行目-指摘の具体的内容等"]
[null,{"$f":"'1_入力シート【基本情報】'!$BD$514","v":0},"",{"$f":"'1_入力シート【基本情報】'!$BD$514","v":0},{"$f":"'1_入力シート【基本情報】'!$BD$514","v":0},null,"22","調査結果","-","上記1から7に記載のない事項","-","3行目","-","改善策の具体的内容等",null,null,null,null,"22調査結果-上記1から7に記載のない事項-3行目-改善策の具体的内容等"]
[null,{"$f":"'1_入力シート【基本情報】'!$BS$514","v":0},{"$f":"ASC($D1304)","v":"0"},{"$f":"'1_入力シート【基本情報】'!$BS$514","v":0},"0",null,"22","調査結果","-","上記1から7に記載のない事項","-","3行目","-","改善（予定）年月","-","年（令和）",null,null,"22調査結果-上記1から7に記載のない事項-3行目-改善（予定）年月-年（令和）"]
[null,{"$f":"'1_入力シート【基本情報】'!$BV$514","v":0},"0",{"$f":"'1_入力シート【基本情報】'!$BV$514","v":0},"0",null,"22","調査結果","-","上記1から7に記載のない事項","-","3行目","-","改善（予定）年月","-","月",null,null,"22調査結果-上記1から7に記載のない事項-3行目-改善（予定）年月-月"]
[null,{"$f":"'1_入力シート【基本情報】'!$BY$514","v":0},"",{"$f":"'1_入力シート【基本情報】'!$BY$514","v":0},{"$f":"'1_入力シート【基本情報】'!$BY$514","v":0},null,"22","調査結果","-","上記1から7に記載のない事項","-","3行目","-","改善（予定）年月","-","未定",null,null,"22調査結果-上記1から7に記載のない事項-3行目-改善（予定）年月-未定"]
[null,{"$f":"'1_入力シート【基本情報】'!$AF$515","v":0},"",{"$f":"IF(C1307=\"\",0,C1307)","v":0},{"$f":"D1307","v":0},null,"22","調査結果","-","上記1から7に記載のない事項","-","4行目","-","調査結果",null,null,null,null,"22調査結果-上記1から7に記載のない事項-4行目-調査結果"]
[null,{"$f":"'1_入力シート【基本情報】'!$AR$515","v":0},"",{"$f":"'1_入力シート【基本情報】'!$AR$515","v":0},{"$f":"'1_入力シート【基本情報】'!$AR$515","v":0},null,"22","調査結果","-","上記1から7に記載のない事項","-","4行目","-","調査者番号",null,null,null,null,{"$f":"CONCATENATE(G1308,H1308,I1308,J1308,K1308,L1308,M1308,N1308,O1308,P1308)","v":"22調査結果-上記1から7に記載のない事項-4行目-調査者番号"}]
[null,{"$f":"'1_入力シート【基本情報】'!$AT$515","v":0},"",{"$f":"'1_入力シート【基本情報】'!$AT$515","v":0},{"$f":"'1_入力シート【基本情報】'!$AT$515","v":0},null,"22","調査結果","-","上記1から7に記載のない事項","-","4行目","-","指摘の具体的内容等",null,null,null,null,"22調査結果-上記1から7に記載のない事項-4行目-指摘の具体的内容等"]
[null,{"$f":"'1_入力シート【基本情報】'!$BD$515","v":0},"",{"$f":"'1_入力シート【基本情報】'!$BD$515","v":0},{"$f":"'1_入力シート【基本情報】'!$BD$515","v":0},null,"22","調査結果","-","上記1から7に記載のない事項","-","4行目","-","改善策の具体的内容等",null,null,null,null,"22調査結果-上記1から7に記載のない事項-4行目-改善策の具体的内容等"]
[null,{"$f":"'1_入力シート【基本情報】'!$BS$515","v":0},{"$f":"ASC($D1311)","v":"0"},{"$f":"'1_入力シート【基本情報】'!$BS$515","v":0},"0",null,"22","調査結果","-","上記1から7に記載のない事項","-","4行目","-","改善（予定）年月","-","年（令和）",null,null,"22調査結果-上記1から7に記載のない事項-4行目-改善（予定）年月-年（令和）"]
[null,{"$f":"'1_入力シート【基本情報】'!$BV$515","v":0},"0",{"$f":"'1_入力シート【基本情報】'!$BV$515","v":0},"0",null,"22","調査結果","-","上記1から7に記載のない事項","-","4行目","-","改善（予定）年月","-","月",null,null,"22調査結果-上記1から7に記載のない事項-4行目-改善（予定）年月-月"]
[null,{"$f":"'1_入力シート【基本情報】'!$BY$515","v":0},"",{"$f":"'1_入力シート【基本情報】'!$BY$515","v":0},{"$f":"'1_入力シート【基本情報】'!$BY$515","v":0},null,"22","調査結果","-","上記1から7に記載のない事項","-","4行目","-","改善（予定）年月","-","未定",null,null,"22調査結果-上記1から7に記載のない事項-4行目-改善（予定）年月-未定"]
[null,{"$f":"'1_入力シート【基本情報】'!$AF$516","v":0},{"$f":"MID(B1314,2,14)","v":""},{"$f":"IF(C1314=\"\",0,C1314)","v":0},{"$f":"D1314","v":0},null,"22","調査結果","-","上記1から7に記載のない事項","-","5行目","-","調査結果",null,null,null,null,"22調査結果-上記1から7に記載のない事項-5行目-調査結果"]
[null,{"$f":"'1_入力シート【基本情報】'!$AR$516","v":0},"",{"$f":"'1_入力シート【基本情報】'!$AR$516","v":0},{"$f":"'1_入力シート【基本情報】'!$AR$516","v":0},null,"22","調査結果","-","上記1から7に記載のない事項","-","5行目","-","調査者番号",null,null,null,null,"22調査結果-上記1から7に記載のない事項-5行目-調査者番号"]
[null,{"$f":"'1_入力シート【基本情報】'!$AT$516","v":0},"",{"$f":"'1_入力シート【基本情報】'!$AT$516","v":0},{"$f":"'1_入力シート【基本情報】'!$AT$516","v":0},null,"22","調査結果","-","上記1から7に記載のない事項","-","5行目","-","指摘の具体的内容等",null,null,null,null,"22調査結果-上記1から7に記載のない事項-5行目-指摘の具体的内容等"]
[null,{"$f":"'1_入力シート【基本情報】'!$BD$516","v":0},"",{"$f":"'1_入力シート【基本情報】'!$BD$516","v":0},{"$f":"'1_入力シート【基本情報】'!$BD$516","v":0},null,"22","調査結果","-","上記1から7に記載のない事項","-","5行目","-","改善策の具体的内容等",null,null,null,null,"22調査結果-上記1から7に記載のない事項-5行目-改善策の具体的内容等"]
[null,{"$f":"'1_入力シート【基本情報】'!$BS$516","v":0},{"$f":"ASC($D1318)","v":"0"},{"$f":"'1_入力シート【基本情報】'!$BS$516","v":0},"0",null,"22","調査結果","-","上記1から7に記載のない事項","-","5行目","-","改善（予定）年月","-","年（令和）",null,null,"22調査結果-上記1から7に記載のない事項-5行目-改善（予定）年月-年（令和）"]
[null,{"$f":"'1_入力シート【基本情報】'!$BV$516","v":0},"0",{"$f":"'1_入力シート【基本情報】'!$BV$516","v":0},"0",null,"22","調査結果","-","上記1から7に記載のない事項","-","5行目","-","改善（予定）年月","-","月",null,null,"22調査結果-上記1から7に記載のない事項-5行目-改善（予定）年月-月"]
[null,{"$f":"'1_入力シート【基本情報】'!$BY$516","v":0},"",{"$f":"'1_入力シート【基本情報】'!$BY$516","v":0},{"$f":"'1_入力シート【基本情報】'!$BY$516","v":0},null,"22","調査結果","-","上記1から7に記載のない事項","-","5行目","-","改善（予定）年月","-","未定",null,null,"22調査結果-上記1から7に記載のない事項-5行目-改善（予定）年月-未定"]
[null,{"$f":"'1_入力シート【基本情報】'!$AF$517","v":0},"",{"$f":"IF(C1321=\"\",0,C1321)","v":0},{"$f":"D1321","v":0},null,"22","調査結果","-","上記1から7に記載のない事項","-","6行目","-","調査結果",null,null,null,null,"22調査結果-上記1から7に記載のない事項-6行目-調査結果"]
[null,{"$f":"'1_入力シート【基本情報】'!$AR$517","v":0},"",{"$f":"'1_入力シート【基本情報】'!$AR$517","v":0},{"$f":"'1_入力シート【基本情報】'!$AR$517","v":0},null,"22","調査結果","-","上記1から7に記載のない事項","-","6行目","-","調査者番号",null,null,null,null,"22調査結果-上記1から7に記載のない事項-6行目-調査者番号"]
[null,{"$f":"'1_入力シート【基本情報】'!$AT$517","v":0},"",{"$f":"'1_入力シート【基本情報】'!$AT$517","v":0},{"$f":"'1_入力シート【基本情報】'!$AT$517","v":0},null,"22","調査結果","-","上記1から7に記載のない事項","-","6行目","-","指摘の具体的内容等",null,null,null,null,"22調査結果-上記1から7に記載のない事項-6行目-指摘の具体的内容等"]
[null,{"$f":"'1_入力シート【基本情報】'!$BD$517","v":0},"",{"$f":"'1_入力シート【基本情報】'!$BD$517","v":0},{"$f":"'1_入力シート【基本情報】'!$BD$517","v":0},null,"22","調査結果","-","上記1から7に記載のない事項","-","6行目","-","改善策の具体的内容等",null,null,null,null,"22調査結果-上記1から7に記載のない事項-6行目-改善策の具体的内容等"]
[null,{"$f":"'1_入力シート【基本情報】'!$BS$517","v":0},{"$f":"ASC($D1325)","v":"0"},{"$f":"'1_入力シート【基本情報】'!$BS$517","v":0},"0",null,"22","調査結果","-","上記1から7に記載のない事項","-","6行目","-","改善（予定）年月","-","年（令和）",null,null,"22調査結果-上記1から7に記載のない事項-6行目-改善（予定）年月-年（令和）"]
[null,{"$f":"'1_入力シート【基本情報】'!$BV$517","v":0},"0",{"$f":"'1_入力シート【基本情報】'!$BV$517","v":0},"0",null,"22","調査結果","-","上記1から7に記載のない事項","-","6行目","-","改善（予定）年月","-","月",null,null,"22調査結果-上記1から7に記載のない事項-6行目-改善（予定）年月-月"]
[null,{"$f":"'1_入力シート【基本情報】'!$BY$517","v":0},"",{"$f":"'1_入力シート【基本情報】'!$BY$517","v":0},{"$f":"'1_入力シート【基本情報】'!$BY$517","v":0},null,"22","調査結果","-","上記1から7に記載のない事項","-","6行目","-","改善（予定）年月","-","未定",null,null,"22調査結果-上記1から7に記載のない事項-6行目-改善（予定）年月-未定"]
[null,{"$f":"'1_入力シート【基本情報】'!$AF$518","v":0},"",{"$f":"IF(C1328=\"\",0,C1328)","v":0},{"$f":"D1328","v":0},null,"22","調査結果","-","上記1から7に記載のない事項","-","7行目","-","調査結果",null,null,null,null,"22調査結果-上記1から7に記載のない事項-7行目-調査結果"]
[null,{"$f":"'1_入力シート【基本情報】'!$AR$518","v":0},"",{"$f":"'1_入力シート【基本情報】'!$AR$518","v":0},{"$f":"'1_入力シート【基本情報】'!$AR$518","v":0},null,"22","調査結果","-","上記1から7に記載のない事項","-","7行目","-","調査者番号",null,null,null,null,"22調査結果-上記1から7に記載のない事項-7行目-調査者番号"]
[null,{"$f":"'1_入力シート【基本情報】'!$AT$518","v":0},"",{"$f":"'1_入力シート【基本情報】'!$AT$518","v":0},{"$f":"'1_入力シート【基本情報】'!$AT$518","v":0},null,"22","調査結果","-","上記1から7に記載のない事項","-","7行目","-","指摘の具体的内容等",null,null,null,null,"22調査結果-上記1から7に記載のない事項-7行目-指摘の具体的内容等"]
[null,{"$f":"'1_入力シート【基本情報】'!$BD$518","v":0},"",{"$f":"'1_入力シート【基本情報】'!$BD$518","v":0},{"$f":"'1_入力シート【基本情報】'!$BD$518","v":0},null,"22","調査結果","-","上記1から7に記載のない事項","-","7行目","-","改善策の具体的内容等",null,null,null,null,"22調査結果-上記1から7に記載のない事項-7行目-改善策の具体的内容等"]
[null,{"$f":"'1_入力シート【基本情報】'!$BS$518","v":0},{"$f":"ASC($D1332)","v":"0"},{"$f":"'1_入力シート【基本情報】'!$BS$518","v":0},"0",null,"22","調査結果","-","上記1から7に記載のない事項","-","7行目","-","改善（予定）年月","-","年（令和）",null,null,"22調査結果-上記1から7に記載のない事項-7行目-改善（予定）年月-年（令和）"]
[null,{"$f":"'1_入力シート【基本情報】'!$BV$518","v":0},"0",{"$f":"'1_入力シート【基本情報】'!$BV$518","v":0},"0",null,"22","調査結果","-","上記1から7に記載のない事項","-","7行目","-","改善（予定）年月","-","月",null,null,"22調査結果-上記1から7に記載のない事項-7行目-改善（予定）年月-月"]
[null,{"$f":"'1_入力シート【基本情報】'!$BY$518","v":0},"",{"$f":"'1_入力シート【基本情報】'!$BY$518","v":0},{"$f":"'1_入力シート【基本情報】'!$BY$518","v":0},null,"22","調査結果","-","上記1から7に記載のない事項","-","7行目","-","改善（予定）年月","-","未定",null,null,"22調査結果-上記1から7に記載のない事項-7行目-改善（予定）年月-未定"]
[null,{"$f":"'1_入力シート【基本情報】'!$AF$519","v":0},"",{"$f":"IF(C1335=\"\",0,C1335)","v":0},{"$f":"D1335","v":0},null,"22","調査結果","-","上記1から7に記載のない事項","-","8行目","-","調査結果",null,null,null,null,"22調査結果-上記1から7に記載のない事項-8行目-調査結果"]
[null,{"$f":"'1_入力シート【基本情報】'!$AR$519","v":0},"",{"$f":"'1_入力シート【基本情報】'!$AR$519","v":0},{"$f":"'1_入力シート【基本情報】'!$AR$519","v":0},null,"22","調査結果","-","上記1から7に記載のない事項","-","8行目","-","調査者番号",null,null,null,null,"22調査結果-上記1から7に記載のない事項-8行目-調査者番号"]
[null,{"$f":"'1_入力シート【基本情報】'!$AT$519","v":0},"",{"$f":"'1_入力シート【基本情報】'!$AT$519","v":0},{"$f":"'1_入力シート【基本情報】'!$AT$519","v":0},null,"22","調査結果","-","上記1から7に記載のない事項","-","8行目","-","指摘の具体的内容等",null,null,null,null,"22調査結果-上記1から7に記載のない事項-8行目-指摘の具体的内容等"]
[null,{"$f":"'1_入力シート【基本情報】'!$BD$519","v":0},"",{"$f":"'1_入力シート【基本情報】'!$BD$519","v":0},{"$f":"'1_入力シート【基本情報】'!$BD$519","v":0},null,"22","調査結果","-","上記1から7に記載のない事項","-","8行目","-","改善策の具体的内容等",null,null,null,null,"22調査結果-上記1から7に記載のない事項-8行目-改善策の具体的内容等"]
[null,{"$f":"'1_入力シート【基本情報】'!$BS$519","v":0},{"$f":"ASC($D1339)","v":"0"},{"$f":"'1_入力シート【基本情報】'!$BS$519","v":0},"0",null,"22","調査結果","-","上記1から7に記載のない事項","-","8行目","-","改善（予定）年月","-","年（令和）",null,null,"22調査結果-上記1から7に記載のない事項-8行目-改善（予定）年月-年（令和）"]
[null,{"$f":"'1_入力シート【基本情報】'!$BV$519","v":0},"0",{"$f":"'1_入力シート【基本情報】'!$BV$519","v":0},"0",null,"22","調査結果","-","上記1から7に記載のない事項","-","8行目","-","改善（予定）年月","-","月",null,null,"22調査結果-上記1から7に記載のない事項-8行目-改善（予定）年月-月"]
[null,{"$f":"'1_入力シート【基本情報】'!$BY$519","v":0},"",{"$f":"'1_入力シート【基本情報】'!$BY$519","v":0},{"$f":"'1_入力シート【基本情報】'!$BY$519","v":0},null,"22","調査結果","-","上記1から7に記載のない事項","-","8行目","-","改善（予定）年月","-","未定",null,null,"22調査結果-上記1から7に記載のない事項-8行目-改善（予定）年月-未定"]
[null,{"$f":"'1_入力シート【基本情報】'!$AF$520","v":0},"",{"$f":"IF(C1342=\"\",0,C1342)","v":0},{"$f":"D1342","v":0},null,"22","調査結果","-","上記1から7に記載のない事項","-","9行目","-","調査結果",null,null,null,null,"22調査結果-上記1から7に記載のない事項-9行目-調査結果"]
[null,{"$f":"'1_入力シート【基本情報】'!$AR$520","v":0},"",{"$f":"'1_入力シート【基本情報】'!$AR$520","v":0},{"$f":"'1_入力シート【基本情報】'!$AR$520","v":0},null,"22","調査結果","-","上記1から7に記載のない事項","-","9行目","-","調査者番号",null,null,null,null,"22調査結果-上記1から7に記載のない事項-9行目-調査者番号"]
[null,{"$f":"'1_入力シート【基本情報】'!$AT$520","v":0},"",{"$f":"'1_入力シート【基本情報】'!$AT$520","v":0},{"$f":"'1_入力シート【基本情報】'!$AT$520","v":0},null,"22","調査結果","-","上記1から7に記載のない事項","-","9行目","-","指摘の具体的内容等",null,null,null,null,"22調査結果-上記1から7に記載のない事項-9行目-指摘の具体的内容等"]
[null,{"$f":"'1_入力シート【基本情報】'!$BD$520","v":0},"",{"$f":"'1_入力シート【基本情報】'!$BD$520","v":0},{"$f":"'1_入力シート【基本情報】'!$BD$520","v":0},null,"22","調査結果","-","上記1から7に記載のない事項","-","9行目","-","改善策の具体的内容等",null,null,null,null,"22調査結果-上記1から7に記載のない事項-9行目-改善策の具体的内容等"]
[null,{"$f":"'1_入力シート【基本情報】'!$BS$520","v":0},{"$f":"ASC($D1346)","v":"0"},{"$f":"'1_入力シート【基本情報】'!$BS$520","v":0},"0",null,"22","調査結果","-","上記1から7に記載のない事項","-","9行目","-","改善（予定）年月","-","年（令和）",null,null,"22調査結果-上記1から7に記載のない事項-9行目-改善（予定）年月-年（令和）"]
[null,{"$f":"'1_入力シート【基本情報】'!$BV$520","v":0},"0",{"$f":"'1_入力シート【基本情報】'!$BV$520","v":0},"0",null,"22","調査結果","-","上記1から7に記載のない事項","-","9行目","-","改善（予定）年月","-","月",null,null,"22調査結果-上記1から7に記載のない事項-9行目-改善（予定）年月-月"]
[null,{"$f":"'1_入力シート【基本情報】'!$BY$520","v":0},"",{"$f":"'1_入力シート【基本情報】'!$BY$520","v":0},{"$f":"'1_入力シート【基本情報】'!$BY$520","v":0},null,"22","調査結果","-","上記1から7に記載のない事項","-","9行目","-","改善（予定）年月","-","未定",null,null,"22調査結果-上記1から7に記載のない事項-9行目-改善（予定）年月-未定"]
[null,{"$f":"'1_入力シート【基本情報】'!$AF$521","v":0},"",{"$f":"IF(C1349=\"\",0,C1349)","v":0},{"$f":"D1349","v":0},null,"22","調査結果","-","上記1から7に記載のない事項","-","10行目","-","調査結果",null,null,null,null,"22調査結果-上記1から7に記載のない事項-10行目-調査結果"]
[null,{"$f":"'1_入力シート【基本情報】'!$AR$521","v":0},"",{"$f":"'1_入力シート【基本情報】'!$AR$521","v":0},{"$f":"'1_入力シート【基本情報】'!$AR$521","v":0},null,"22","調査結果","-","上記1から7に記載のない事項","-","10行目","-","調査者番号",null,null,null,null,"22調査結果-上記1から7に記載のない事項-10行目-調査者番号"]
[null,{"$f":"'1_入力シート【基本情報】'!$AT$521","v":0},"",{"$f":"'1_入力シート【基本情報】'!$AT$521","v":0},{"$f":"'1_入力シート【基本情報】'!$AT$521","v":0},null,"22","調査結果","-","上記1から7に記載のない事項","-","10行目","-","指摘の具体的内容等",null,null,null,null,"22調査結果-上記1から7に記載のない事項-10行目-指摘の具体的内容等"]
[null,{"$f":"'1_入力シート【基本情報】'!$BD$521","v":0},"",{"$f":"'1_入力シート【基本情報】'!$BD$521","v":0},{"$f":"'1_入力シート【基本情報】'!$BD$521","v":0},null,"22","調査結果","-","上記1から7に記載のない事項","-","10行目","-","改善策の具体的内容等",null,null,null,null,"22調査結果-上記1から7に記載のない事項-10行目-改善策の具体的内容等"]
[null,{"$f":"'1_入力シート【基本情報】'!$BS$521","v":0},{"$f":"ASC($D1353)","v":"0"},{"$f":"'1_入力シート【基本情報】'!$BS$521","v":0},"0",null,"22","調査結果","-","上記1から7に記載のない事項","-","10行目","-","改善（予定）年月","-","年（令和）",null,null,"22調査結果-上記1から7に記載のない事項-10行目-改善（予定）年月-年（令和）"]
[null,{"$f":"'1_入力シート【基本情報】'!$BV$521","v":0},"0",{"$f":"'1_入力シート【基本情報】'!$BV$521","v":0},"0",null,"22","調査結果","-","上記1から7に記載のない事項","-","10行目","-","改善（予定）年月","-","月",null,null,"22調査結果-上記1から7に記載のない事項-10行目-改善（予定）年月-月"]
[null,{"$f":"'1_入力シート【基本情報】'!$BY$521","v":0},"",{"$f":"'1_入力シート【基本情報】'!$BY$521","v":0},{"$f":"'1_入力シート【基本情報】'!$BY$521","v":0},null,"22","調査結果","-","上記1から7に記載のない事項","-","10行目","-","改善（予定）年月","-","未定",null,null,"22調査結果-上記1から7に記載のない事項-10行目-改善（予定）年月-未定"]
[null,null,null,{"$f":"'2_入力シート【用途面積】'!$G4","v":0},{"$f":"'2_入力シート【用途面積】'!$G4","v":0},null,null,"階別用途別床面積","-",1,"-","大分類",null,null,null,null,null,null,"階別用途別床面積-1-大分類"]
[null,null,null,{"$f":"'2_入力シート【用途面積】'!$G$7","v":0},{"$f":"'2_入力シート【用途面積】'!$G$7","v":0},null,null,"階別用途別床面積","-",1,"-","小分類",null,null,null,null,null,null,"階別用途別床面積-1-小分類"]
[null,null,null,{"$f":"'2_入力シート【用途面積】'!$G14","v":0},{"$f":"'2_入力シート【用途面積】'!$G14","v":0},null,null,"階別用途別床面積","-",1,"-","地下1階",null,null,null,null,null,null,"階別用途別床面積-1-地下1階"]
[null,null,null,{"$f":"'2_入力シート【用途面積】'!$G15","v":0},{"$f":"'2_入力シート【用途面積】'!$G15","v":0},null,null,"階別用途別床面積","-",1,"-","地下2階",null,null,null,null,null,null,"階別用途別床面積-1-地下2階"]
[null,null,null,{"$f":"'2_入力シート【用途面積】'!$G16","v":0},{"$f":"'2_入力シート【用途面積】'!$G16","v":0},null,null,"階別用途別床面積","-",1,"-","地下3階",null,null,null,null,null,null,"階別用途別床面積-1-地下3階"]
[null,null,null,{"$f":"'2_入力シート【用途面積】'!$G17","v":0},{"$f":"'2_入力シート【用途面積】'!$G17","v":0},null,null,"階別用途別床面積","-",1,"-","地下4階",null,null,null,null,null,null,"階別用途別床面積-1-地下4階"]
[null,null,null,{"$f":"'2_入力シート【用途面積】'!$G18","v":0},{"$f":"'2_入力シート【用途面積】'!$G18","v":0},null,null,"階別用途別床面積","-",1,"-","塔屋 1階",null,null,null,null,null,null,"階別用途別床面積-1-塔屋 1階"]
[null,null,null,{"$f":"'2_入力シート【用途面積】'!$G19","v":0},{"$f":"'2_入力シート【用途面積】'!$G19","v":0},null,null,"階別用途別床面積","-",1,"-","塔屋 2階",null,null,null,null,null,null,"階別用途別床面積-1-塔屋 2階"]
[null,null,null,{"$f":"'2_入力シート【用途面積】'!$G20","v":0},{"$f":"'2_入力シート【用途面積】'!$G20","v":0},null,null,"階別用途別床面積","-",1,"-","塔屋 3階",null,null,null,null,null,null,"階別用途別床面積-1-塔屋 3階"]
[null,null,null,{"$f":"'2_入力シート【用途面積】'!$G21","v":0},{"$f":"'2_入力シート【用途面積】'!$G21","v":0},null,null,"階別用途別床面積","-",1,"-","塔屋 4階",null,null,null,null,null,null,"階別用途別床面積-1-塔屋 4階"]
[null,null,null,{"$f":"'2_入力シート【用途面積】'!$G22","v":0},{"$f":"'2_入力シート【用途面積】'!$G22","v":0},null,null,"階別用途別床面積","-",1,"-","塔屋 5階",null,null,null,null,null,null,"階別用途別床面積-1-塔屋 5階"]
[null,null,null,{"$f":"'2_入力シート【用途面積】'!$G23","v":0},{"$f":"'2_入力シート【用途面積】'!$G23","v":0},null,null,"階別用途別床面積","-",1,"-","1階",null,null,null,null,null,null,"階別用途別床面積-1-1階"]
[null,null,null,{"$f":"'2_入力シート【用途面積】'!$G24","v":0},{"$f":"'2_入力シート【用途面積】'!$G24","v":0},null,null,"階別用途別床面積","-",1,"-","2階",null,null,null,null,null,null,"階別用途別床面積-1-2階"]
[null,null,null,{"$f":"'2_入力シート【用途面積】'!$G25","v":0},{"$f":"'2_入力シート【用途面積】'!$G25","v":0},null,null,"階別用途別床面積","-",1,"-","3階",null,null,null,null,null,null,"階別用途別床面積-1-3階"]
[null,null,null,{"$f":"'2_入力シート【用途面積】'!$G26","v":0},{"$f":"'2_入力シート【用途面積】'!$G26","v":0},null,null,"階別用途別床面積","-",1,"-","4階",null,null,null,null,null,null,"階別用途別床面積-1-4階"]
[null,null,null,{"$f":"'2_入力シート【用途面積】'!$G27","v":0},{"$f":"'2_入力シート【用途面積】'!$G27","v":0},null,null,"階別用途別床面積","-",1,"-","5階",null,null,null,null,null,null,"階別用途別床面積-1-5階"]
[null,null,null,{"$f":"'2_入力シート【用途面積】'!$G28","v":0},{"$f":"'2_入力シート【用途面積】'!$G28","v":0},null,null,"階別用途別床面積","-",1,"-","6階",null,null,null,null,null,null,{"$f":"CONCATENATE(G1372,H1372,I1372,J1372,K1372,L1372,M1372,N1372,O1372,P1372)","v":"階別用途別床面積-1-6階"}]
[null,null,null,{"$f":"'2_入力シート【用途面積】'!$G29","v":0},{"$f":"'2_入力シート【用途面積】'!$G29","v":0},null,null,"階別用途別床面積","-",1,"-","7階",null,null,null,null,null,null,"階別用途別床面積-1-7階"]
[null,null,null,{"$f":"'2_入力シート【用途面積】'!$G30","v":0},{"$f":"'2_入力シート【用途面積】'!$G30","v":0},null,null,"階別用途別床面積","-",1,"-","8階",null,null,null,null,null,null,"階別用途別床面積-1-8階"]
[null,null,null,{"$f":"'2_入力シート【用途面積】'!$G31","v":0},{"$f":"'2_入力シート【用途面積】'!$G31","v":0},null,null,"階別用途別床面積","-",1,"-","9階",null,null,null,null,null,null,"階別用途別床面積-1-9階"]
[null,null,null,{"$f":"'2_入力シート【用途面積】'!$G32","v":0},{"$f":"'2_入力シート【用途面積】'!$G32","v":0},null,null,"階別用途別床面積","-",1,"-","10階",null,null,null,null,null,null,"階別用途別床面積-1-10階"]
[null,null,null,{"$f":"'2_入力シート【用途面積】'!$G33","v":0},{"$f":"'2_入力シート【用途面積】'!$G33","v":0},null,null,"階別用途別床面積","-",1,"-","11階",null,null,null,null,null,null,"階別用途別床面積-1-11階"]
[null,null,null,{"$f":"'2_入力シート【用途面積】'!$G34","v":0},{"$f":"'2_入力シート【用途面積】'!$G34","v":0},null,null,"階別用途別床面積","-",1,"-","12階",null,null,null,null,null,null,"階別用途別床面積-1-12階"]
[null,null,null,{"$f":"'2_入力シート【用途面積】'!$G35","v":0},{"$f":"'2_入力シート【用途面積】'!$G35","v":0},null,null,"階別用途別床面積","-",1,"-","13階",null,null,null,null,null,null,"階別用途別床面積-1-13階"]
[null,null,null,{"$f":"'2_入力シート【用途面積】'!$G36","v":0},{"$f":"'2_入力シート【用途面積】'!$G36","v":0},null,null,"階別用途別床面積","-",1,"-","14階",null,null,null,null,null,null,"階別用途別床面積-1-14階"]
[null,null,null,{"$f":"'2_入力シート【用途面積】'!$G37","v":0},{"$f":"'2_入力シート【用途面積】'!$G37","v":0},null,null,"階別用途別床面積","-",1,"-","15階",null,null,null,null,null,null,"階別用途別床面積-1-15階"]
[null,null,null,{"$f":"'2_入力シート【用途面積】'!$G38","v":0},{"$f":"'2_入力シート【用途面積】'!$G38","v":0},null,null,"階別用途別床面積","-",1,"-","16階",null,null,null,null,null,null,"階別用途別床面積-1-16階"]
[null,null,null,{"$f":"'2_入力シート【用途面積】'!$G39","v":0},{"$f":"'2_入力シート【用途面積】'!$G39","v":0},null,null,"階別用途別床面積","-",1,"-","17階",null,null,null,null,null,null,"階別用途別床面積-1-17階"]
[null,null,null,{"$f":"'2_入力シート【用途面積】'!$G40","v":0},{"$f":"'2_入力シート【用途面積】'!$G40","v":0},null,null,"階別用途別床面積","-",1,"-","18階",null,null,null,null,null,null,"階別用途別床面積-1-18階"]
[null,null,null,{"$f":"'2_入力シート【用途面積】'!$G41","v":0},{"$f":"'2_入力シート【用途面積】'!$G41","v":0},null,null,"階別用途別床面積","-",1,"-","19階",null,null,null,null,null,null,"階別用途別床面積-1-19階"]
[null,null,null,{"$f":"'2_入力シート【用途面積】'!$G42","v":0},{"$f":"'2_入力シート【用途面積】'!$G42","v":0},null,null,"階別用途別床面積","-",1,"-","20階",null,null,null,null,null,null,"階別用途別床面積-1-20階"]
[null,null,null,{"$f":"'2_入力シート【用途面積】'!$G43","v":0},{"$f":"'2_入力シート【用途面積】'!$G43","v":0},null,null,"階別用途別床面積","-",1,"-","21階",null,null,null,null,null,null,"階別用途別床面積-1-21階"]
[null,null,null,{"$f":"'2_入力シート【用途面積】'!$G44","v":0},{"$f":"'2_入力シート【用途面積】'!$G44","v":0},null,null,"階別用途別床面積","-",1,"-","22階",null,null,null,null,null,null,"階別用途別床面積-1-22階"]
[null,null,null,{"$f":"'2_入力シート【用途面積】'!$G45","v":0},{"$f":"'2_入力シート【用途面積】'!$G45","v":0},null,null,"階別用途別床面積","-",1,"-","23階",null,null,null,null,null,null,"階別用途別床面積-1-23階"]
[null,null,null,{"$f":"'2_入力シート【用途面積】'!$G46","v":0},{"$f":"'2_入力シート【用途面積】'!$G46","v":0},null,null,"階別用途別床面積","-",1,"-","24階",null,null,null,null,null,null,"階別用途別床面積-1-24階"]
[null,null,null,{"$f":"'2_入力シート【用途面積】'!$G47","v":0},{"$f":"'2_入力シート【用途面積】'!$G47","v":0},null,null,"階別用途別床面積","-",1,"-","25階",null,null,null,null,null,null,"階別用途別床面積-1-25階"]
[null,null,null,{"$f":"'2_入力シート【用途面積】'!$G48","v":0},{"$f":"'2_入力シート【用途面積】'!$G48","v":0},null,null,"階別用途別床面積","-",1,"-","26階",null,null,null,null,null,null,"階別用途別床面積-1-26階"]
[null,null,null,{"$f":"'2_入力シート【用途面積】'!$G49","v":0},{"$f":"'2_入力シート【用途面積】'!$G49","v":0},null,null,"階別用途別床面積","-",1,"-","27階",null,null,null,null,null,null,"階別用途別床面積-1-27階"]
[null,null,null,{"$f":"'2_入力シート【用途面積】'!$G50","v":0},{"$f":"'2_入力シート【用途面積】'!$G50","v":0},null,null,"階別用途別床面積","-",1,"-","28階",null,null,null,null,null,null,"階別用途別床面積-1-28階"]
[null,null,null,{"$f":"'2_入力シート【用途面積】'!$G51","v":0},{"$f":"'2_入力シート【用途面積】'!$G51","v":0},null,null,"階別用途別床面積","-",1,"-","29階",null,null,null,null,null,null,"階別用途別床面積-1-29階"]
[null,null,null,{"$f":"'2_入力シート【用途面積】'!$G52","v":0},{"$f":"'2_入力シート【用途面積】'!$G52","v":0},null,null,"階別用途別床面積","-",1,"-","30階",null,null,null,null,null,null,"階別用途別床面積-1-30階"]
[null,null,null,{"$f":"'2_入力シート【用途面積】'!$G53","v":0},{"$f":"'2_入力シート【用途面積】'!$G53","v":0},null,null,"階別用途別床面積","-",1,"-","31階",null,null,null,null,null,null,"階別用途別床面積-1-31階"]
[null,null,null,{"$f":"'2_入力シート【用途面積】'!$G54","v":0},{"$f":"'2_入力シート【用途面積】'!$G54","v":0},null,null,"階別用途別床面積","-",1,"-","32階",null,null,null,null,null,null,"階別用途別床面積-1-32階"]
[null,null,null,{"$f":"'2_入力シート【用途面積】'!$G55","v":0},{"$f":"'2_入力シート【用途面積】'!$G55","v":0},null,null,"階別用途別床面積","-",1,"-","33階",null,null,null,null,null,null,"階別用途別床面積-1-33階"]
[null,null,null,{"$f":"'2_入力シート【用途面積】'!$G56","v":0},{"$f":"'2_入力シート【用途面積】'!$G56","v":0},null,null,"階別用途別床面積","-",1,"-","34階",null,null,null,null,null,null,"階別用途別床面積-1-34階"]
[null,null,null,{"$f":"'2_入力シート【用途面積】'!$G57","v":0},{"$f":"'2_入力シート【用途面積】'!$G57","v":0},null,null,"階別用途別床面積","-",1,"-","35階",null,null,null,null,null,null,"階別用途別床面積-1-35階"]
[null,null,null,{"$f":"'2_入力シート【用途面積】'!$G58","v":0},{"$f":"'2_入力シート【用途面積】'!$G58","v":0},null,null,"階別用途別床面積","-",1,"-","36階",null,null,null,null,null,null,"階別用途別床面積-1-36階"]
[null,null,null,{"$f":"'2_入力シート【用途面積】'!$G59","v":0},{"$f":"'2_入力シート【用途面積】'!$G59","v":0},null,null,"階別用途別床面積","-",1,"-","37階",null,null,null,null,null,null,"階別用途別床面積-1-37階"]
[null,null,null,{"$f":"'2_入力シート【用途面積】'!$G60","v":0},{"$f":"'2_入力シート【用途面積】'!$G60","v":0},null,null,"階別用途別床面積","-",1,"-","38階",null,null,null,null,null,null,"階別用途別床面積-1-38階"]
[null,null,null,{"$f":"'2_入力シート【用途面積】'!$G61","v":0},{"$f":"'2_入力シート【用途面積】'!$G61","v":0},null,null,"階別用途別床面積","-",1,"-","39階",null,null,null,null,null,null,"階別用途別床面積-1-39階"]
[null,null,null,{"$f":"'2_入力シート【用途面積】'!$G62","v":0},{"$f":"'2_入力シート【用途面積】'!$G62","v":0},null,null,"階別用途別床面積","-",1,"-","40階",null,null,null,null,null,null,"階別用途別床面積-1-40階"]
[null,null,null,{"$f":"'2_入力シート【用途面積】'!$G63","v":0},{"$f":"'2_入力シート【用途面積】'!$G63","v":0},null,null,"階別用途別床面積","-",1,"-","41階",null,null,null,null,null,null,"階別用途別床面積-1-41階"]
[null,null,null,{"$f":"'2_入力シート【用途面積】'!$G64","v":0},{"$f":"'2_入力シート【用途面積】'!$G64","v":0},null,null,"階別用途別床面積","-",1,"-","42階",null,null,null,null,null,null,"階別用途別床面積-1-42階"]
[null,null,null,{"$f":"'2_入力シート【用途面積】'!$G65","v":0},{"$f":"'2_入力シート【用途面積】'!$G65","v":0},null,null,"階別用途別床面積","-",1,"-","43階",null,null,null,null,null,null,"階別用途別床面積-1-43階"]
[null,null,null,{"$f":"'2_入力シート【用途面積】'!$G66","v":0},{"$f":"'2_入力シート【用途面積】'!$G66","v":0},null,null,"階別用途別床面積","-",1,"-","44階",null,null,null,null,null,null,"階別用途別床面積-1-44階"]
[null,null,null,{"$f":"'2_入力シート【用途面積】'!$G67","v":0},{"$f":"'2_入力シート【用途面積】'!$G67","v":0},null,null,"階別用途別床面積","-",1,"-","45階",null,null,null,null,null,null,"階別用途別床面積-1-45階"]
[null,null,null,{"$f":"'2_入力シート【用途面積】'!$G68","v":0},{"$f":"'2_入力シート【用途面積】'!$G68","v":0},null,null,"階別用途別床面積","-",1,"-","46階",null,null,null,null,null,null,"階別用途別床面積-1-46階"]
[null,null,null,{"$f":"'2_入力シート【用途面積】'!$G69","v":0},{"$f":"'2_入力シート【用途面積】'!$G69","v":0},null,null,"階別用途別床面積","-",1,"-","47階",null,null,null,null,null,null,"階別用途別床面積-1-47階"]
[null,null,null,{"$f":"'2_入力シート【用途面積】'!$G70","v":0},{"$f":"'2_入力シート【用途面積】'!$G70","v":0},null,null,"階別用途別床面積","-",1,"-","48階",null,null,null,null,null,null,"階別用途別床面積-1-48階"]
[null,null,null,{"$f":"'2_入力シート【用途面積】'!$G71","v":0},{"$f":"'2_入力シート【用途面積】'!$G71","v":0},null,null,"階別用途別床面積","-",1,"-","49階",null,null,null,null,null,null,"階別用途別床面積-1-49階"]
[null,null,null,{"$f":"'2_入力シート【用途面積】'!$G72","v":0},{"$f":"'2_入力シート【用途面積】'!$G72","v":0},null,null,"階別用途別床面積","-",1,"-","50階",null,null,null,null,null,null,"階別用途別床面積-1-50階"]
[null,null,null,{"$f":"'2_入力シート【用途面積】'!$I$4","v":0},{"$f":"'2_入力シート【用途面積】'!$I$4","v":0},null,null,"階別用途別床面積","-",2,"-","大分類",null,null,null,null,null,null,"階別用途別床面積-2-大分類"]
[null,null,null,{"$f":"'2_入力シート【用途面積】'!$I$7","v":0},{"$f":"'2_入力シート【用途面積】'!$I$7","v":0},null,null,"階別用途別床面積","-",2,"-","小分類",null,null,null,null,null,null,"階別用途別床面積-2-小分類"]
[null,null,null,{"$f":"'2_入力シート【用途面積】'!$I14","v":0},{"$f":"'2_入力シート【用途面積】'!$I14","v":0},null,null,"階別用途別床面積","-",2,"-","地下1階",null,null,null,null,null,null,"階別用途別床面積-2-地下1階"]
[null,null,null,{"$f":"'2_入力シート【用途面積】'!$I15","v":0},{"$f":"'2_入力シート【用途面積】'!$I15","v":0},null,null,"階別用途別床面積","-",2,"-","地下2階",null,null,null,null,null,null,"階別用途別床面積-2-地下2階"]
[null,null,null,{"$f":"'2_入力シート【用途面積】'!$I16","v":0},{"$f":"'2_入力シート【用途面積】'!$I16","v":0},null,null,"階別用途別床面積","-",2,"-","地下3階",null,null,null,null,null,null,"階別用途別床面積-2-地下3階"]
[null,null,null,{"$f":"'2_入力シート【用途面積】'!$I17","v":0},{"$f":"'2_入力シート【用途面積】'!$I17","v":0},null,null,"階別用途別床面積","-",2,"-","地下4階",null,null,null,null,null,null,"階別用途別床面積-2-地下4階"]
[null,null,null,{"$f":"'2_入力シート【用途面積】'!$I18","v":0},{"$f":"'2_入力シート【用途面積】'!$I18","v":0},null,null,"階別用途別床面積","-",2,"-","塔屋 1階",null,null,null,null,null,null,"階別用途別床面積-2-塔屋 1階"]
[null,null,null,{"$f":"'2_入力シート【用途面積】'!$I19","v":0},{"$f":"'2_入力シート【用途面積】'!$I19","v":0},null,null,"階別用途別床面積","-",2,"-","塔屋 2階",null,null,null,null,null,null,"階別用途別床面積-2-塔屋 2階"]
[null,null,null,{"$f":"'2_入力シート【用途面積】'!$I20","v":0},{"$f":"'2_入力シート【用途面積】'!$I20","v":0},null,null,"階別用途別床面積","-",2,"-","塔屋 3階",null,null,null,null,null,null,"階別用途別床面積-2-塔屋 3階"]
[null,null,null,{"$f":"'2_入力シート【用途面積】'!$I21","v":0},{"$f":"'2_入力シート【用途面積】'!$I21","v":0},null,null,"階別用途別床面積","-",2,"-","塔屋 4階",null,null,null,null,null,null,"階別用途別床面積-2-塔屋 4階"]
[null,null,null,{"$f":"'2_入力シート【用途面積】'!$I22","v":0},{"$f":"'2_入力シート【用途面積】'!$I22","v":0},null,null,"階別用途別床面積","-",2,"-","塔屋 5階",null,null,null,null,null,null,"階別用途別床面積-2-塔屋 5階"]
[null,null,null,{"$f":"'2_入力シート【用途面積】'!$I23","v":0},{"$f":"'2_入力シート【用途面積】'!$I23","v":0},null,null,"階別用途別床面積","-",2,"-","1階",null,null,null,null,null,null,"階別用途別床面積-2-1階"]
[null,null,null,{"$f":"'2_入力シート【用途面積】'!$I24","v":0},{"$f":"'2_入力シート【用途面積】'!$I24","v":0},null,null,"階別用途別床面積","-",2,"-","2階",null,null,null,null,null,null,"階別用途別床面積-2-2階"]
[null,null,null,{"$f":"'2_入力シート【用途面積】'!$I25","v":0},{"$f":"'2_入力シート【用途面積】'!$I25","v":0},null,null,"階別用途別床面積","-",2,"-","3階",null,null,null,null,null,null,"階別用途別床面積-2-3階"]
[null,null,null,{"$f":"'2_入力シート【用途面積】'!$I26","v":0},{"$f":"'2_入力シート【用途面積】'!$I26","v":0},null,null,"階別用途別床面積","-",2,"-","4階",null,null,null,null,null,null,"階別用途別床面積-2-4階"]
[null,null,null,{"$f":"'2_入力シート【用途面積】'!$I27","v":0},{"$f":"'2_入力シート【用途面積】'!$I27","v":0},null,null,"階別用途別床面積","-",2,"-","5階",null,null,null,null,null,null,"階別用途別床面積-2-5階"]
[null,null,null,{"$f":"'2_入力シート【用途面積】'!$I28","v":0},{"$f":"'2_入力シート【用途面積】'!$I28","v":0},null,null,"階別用途別床面積","-",2,"-","6階",null,null,null,null,null,null,"階別用途別床面積-2-6階"]
[null,null,null,{"$f":"'2_入力シート【用途面積】'!$I29","v":0},{"$f":"'2_入力シート【用途面積】'!$I29","v":0},null,null,"階別用途別床面積","-",2,"-","7階",null,null,null,null,null,null,"階別用途別床面積-2-7階"]
[null,null,null,{"$f":"'2_入力シート【用途面積】'!$I30","v":0},{"$f":"'2_入力シート【用途面積】'!$I30","v":0},null,null,"階別用途別床面積","-",2,"-","8階",null,null,null,null,null,null,"階別用途別床面積-2-8階"]
[null,null,null,{"$f":"'2_入力シート【用途面積】'!$I31","v":0},{"$f":"'2_入力シート【用途面積】'!$I31","v":0},null,null,"階別用途別床面積","-",2,"-","9階",null,null,null,null,null,null,{"$f":"CONCATENATE(G1436,H1436,I1436,J1436,K1436,L1436,M1436,N1436,O1436,P1436)","v":"階別用途別床面積-2-9階"}]
[null,null,null,{"$f":"'2_入力シート【用途面積】'!$I32","v":0},{"$f":"'2_入力シート【用途面積】'!$I32","v":0},null,null,"階別用途別床面積","-",2,"-","10階",null,null,null,null,null,null,"階別用途別床面積-2-10階"]
[null,null,null,{"$f":"'2_入力シート【用途面積】'!$I33","v":0},{"$f":"'2_入力シート【用途面積】'!$I33","v":0},null,null,"階別用途別床面積","-",2,"-","11階",null,null,null,null,null,null,"階別用途別床面積-2-11階"]
[null,null,null,{"$f":"'2_入力シート【用途面積】'!$I34","v":0},{"$f":"'2_入力シート【用途面積】'!$I34","v":0},null,null,"階別用途別床面積","-",2,"-","12階",null,null,null,null,null,null,"階別用途別床面積-2-12階"]
[null,null,null,{"$f":"'2_入力シート【用途面積】'!$I35","v":0},{"$f":"'2_入力シート【用途面積】'!$I35","v":0},null,null,"階別用途別床面積","-",2,"-","13階",null,null,null,null,null,null,"階別用途別床面積-2-13階"]
[null,null,null,{"$f":"'2_入力シート【用途面積】'!$I36","v":0},{"$f":"'2_入力シート【用途面積】'!$I36","v":0},null,null,"階別用途別床面積","-",2,"-","14階",null,null,null,null,null,null,"階別用途別床面積-2-14階"]
[null,null,null,{"$f":"'2_入力シート【用途面積】'!$I37","v":0},{"$f":"'2_入力シート【用途面積】'!$I37","v":0},null,null,"階別用途別床面積","-",2,"-","15階",null,null,null,null,null,null,"階別用途別床面積-2-15階"]
[null,null,null,{"$f":"'2_入力シート【用途面積】'!$I38","v":0},{"$f":"'2_入力シート【用途面積】'!$I38","v":0},null,null,"階別用途別床面積","-",2,"-","16階",null,null,null,null,null,null,"階別用途別床面積-2-16階"]
[null,null,null,{"$f":"'2_入力シート【用途面積】'!$I39","v":0},{"$f":"'2_入力シート【用途面積】'!$I39","v":0},null,null,"階別用途別床面積","-",2,"-","17階",null,null,null,null,null,null,"階別用途別床面積-2-17階"]
[null,null,null,{"$f":"'2_入力シート【用途面積】'!$I40","v":0},{"$f":"'2_入力シート【用途面積】'!$I40","v":0},null,null,"階別用途別床面積","-",2,"-","18階",null,null,null,null,null,null,"階別用途別床面積-2-18階"]
[null,null,null,{"$f":"'2_入力シート【用途面積】'!$I41","v":0},{"$f":"'2_入力シート【用途面積】'!$I41","v":0},null,null,"階別用途別床面積","-",2,"-","19階",null,null,null,null,null,null,"階別用途別床面積-2-19階"]
[null,null,null,{"$f":"'2_入力シート【用途面積】'!$I42","v":0},{"$f":"'2_入力シート【用途面積】'!$I42","v":0},null,null,"階別用途別床面積","-",2,"-","20階",null,null,null,null,null,null,"階別用途別床面積-2-20階"]
[null,null,null,{"$f":"'2_入力シート【用途面積】'!$I43","v":0},{"$f":"'2_入力シート【用途面積】'!$I43","v":0},null,null,"階別用途別床面積","-",2,"-","21階",null,null,null,null,null,null,"階別用途別床面積-2-21階"]
[null,null,null,{"$f":"'2_入力シート【用途面積】'!$I44","v":0},{"$f":"'2_入力シート【用途面積】'!$I44","v":0},null,null,"階別用途別床面積","-",2,"-","22階",null,null,null,null,null,null,"階別用途別床面積-2-22階"]
[null,null,null,{"$f":"'2_入力シート【用途面積】'!$I45","v":0},{"$f":"'2_入力シート【用途面積】'!$I45","v":0},null,null,"階別用途別床面積","-",2,"-","23階",null,null,null,null,null,null,"階別用途別床面積-2-23階"]
[null,null,null,{"$f":"'2_入力シート【用途面積】'!$I46","v":0},{"$f":"'2_入力シート【用途面積】'!$I46","v":0},null,null,"階別用途別床面積","-",2,"-","24階",null,null,null,null,null,null,"階別用途別床面積-2-24階"]
[null,null,null,{"$f":"'2_入力シート【用途面積】'!$I47","v":0},{"$f":"'2_入力シート【用途面積】'!$I47","v":0},null,null,"階別用途別床面積","-",2,"-","25階",null,null,null,null,null,null,"階別用途別床面積-2-25階"]
[null,null,null,{"$f":"'2_入力シート【用途面積】'!$I48","v":0},{"$f":"'2_入力シート【用途面積】'!$I48","v":0},null,null,"階別用途別床面積","-",2,"-","26階",null,null,null,null,null,null,"階別用途別床面積-2-26階"]
[null,null,null,{"$f":"'2_入力シート【用途面積】'!$I49","v":0},{"$f":"'2_入力シート【用途面積】'!$I49","v":0},null,null,"階別用途別床面積","-",2,"-","27階",null,null,null,null,null,null,"階別用途別床面積-2-27階"]
[null,null,null,{"$f":"'2_入力シート【用途面積】'!$I50","v":0},{"$f":"'2_入力シート【用途面積】'!$I50","v":0},null,null,"階別用途別床面積","-",2,"-","28階",null,null,null,null,null,null,"階別用途別床面積-2-28階"]
[null,null,null,{"$f":"'2_入力シート【用途面積】'!$I51","v":0},{"$f":"'2_入力シート【用途面積】'!$I51","v":0},null,null,"階別用途別床面積","-",2,"-","29階",null,null,null,null,null,null,"階別用途別床面積-2-29階"]
[null,null,null,{"$f":"'2_入力シート【用途面積】'!$I52","v":0},{"$f":"'2_入力シート【用途面積】'!$I52","v":0},null,null,"階別用途別床面積","-",2,"-","30階",null,null,null,null,null,null,"階別用途別床面積-2-30階"]
[null,null,null,{"$f":"'2_入力シート【用途面積】'!$I53","v":0},{"$f":"'2_入力シート【用途面積】'!$I53","v":0},null,null,"階別用途別床面積","-",2,"-","31階",null,null,null,null,null,null,"階別用途別床面積-2-31階"]
[null,null,null,{"$f":"'2_入力シート【用途面積】'!$I54","v":0},{"$f":"'2_入力シート【用途面積】'!$I54","v":0},null,null,"階別用途別床面積","-",2,"-","32階",null,null,null,null,null,null,"階別用途別床面積-2-32階"]
[null,null,null,{"$f":"'2_入力シート【用途面積】'!$I55","v":0},{"$f":"'2_入力シート【用途面積】'!$I55","v":0},null,null,"階別用途別床面積","-",2,"-","33階",null,null,null,null,null,null,"階別用途別床面積-2-33階"]
[null,null,null,{"$f":"'2_入力シート【用途面積】'!$I56","v":0},{"$f":"'2_入力シート【用途面積】'!$I56","v":0},null,null,"階別用途別床面積","-",2,"-","34階",null,null,null,null,null,null,"階別用途別床面積-2-34階"]
[null,null,null,{"$f":"'2_入力シート【用途面積】'!$I57","v":0},{"$f":"'2_入力シート【用途面積】'!$I57","v":0},null,null,"階別用途別床面積","-",2,"-","35階",null,null,null,null,null,null,"階別用途別床面積-2-35階"]
[null,null,null,{"$f":"'2_入力シート【用途面積】'!$I58","v":0},{"$f":"'2_入力シート【用途面積】'!$I58","v":0},null,null,"階別用途別床面積","-",2,"-","36階",null,null,null,null,null,null,"階別用途別床面積-2-36階"]
[null,null,null,{"$f":"'2_入力シート【用途面積】'!$I59","v":0},{"$f":"'2_入力シート【用途面積】'!$I59","v":0},null,null,"階別用途別床面積","-",2,"-","37階",null,null,null,null,null,null,"階別用途別床面積-2-37階"]
[null,null,null,{"$f":"'2_入力シート【用途面積】'!$I60","v":0},{"$f":"'2_入力シート【用途面積】'!$I60","v":0},null,null,"階別用途別床面積","-",2,"-","38階",null,null,null,null,null,null,"階別用途別床面積-2-38階"]
[null,null,null,{"$f":"'2_入力シート【用途面積】'!$I61","v":0},{"$f":"'2_入力シート【用途面積】'!$I61","v":0},null,null,"階別用途別床面積","-",2,"-","39階",null,null,null,null,null,null,"階別用途別床面積-2-39階"]
[null,null,null,{"$f":"'2_入力シート【用途面積】'!$I62","v":0},{"$f":"'2_入力シート【用途面積】'!$I62","v":0},null,null,"階別用途別床面積","-",2,"-","40階",null,null,null,null,null,null,"階別用途別床面積-2-40階"]
[null,null,null,{"$f":"'2_入力シート【用途面積】'!$I63","v":0},{"$f":"'2_入力シート【用途面積】'!$I63","v":0},null,null,"階別用途別床面積","-",2,"-","41階",null,null,null,null,null,null,"階別用途別床面積-2-41階"]
[null,null,null,{"$f":"'2_入力シート【用途面積】'!$I64","v":0},{"$f":"'2_入力シート【用途面積】'!$I64","v":0},null,null,"階別用途別床面積","-",2,"-","42階",null,null,null,null,null,null,"階別用途別床面積-2-42階"]
[null,null,null,{"$f":"'2_入力シート【用途面積】'!$I65","v":0},{"$f":"'2_入力シート【用途面積】'!$I65","v":0},null,null,"階別用途別床面積","-",2,"-","43階",null,null,null,null,null,null,"階別用途別床面積-2-43階"]
[null,null,null,{"$f":"'2_入力シート【用途面積】'!$I66","v":0},{"$f":"'2_入力シート【用途面積】'!$I66","v":0},null,null,"階別用途別床面積","-",2,"-","44階",null,null,null,null,null,null,"階別用途別床面積-2-44階"]
[null,null,null,{"$f":"'2_入力シート【用途面積】'!$I67","v":0},{"$f":"'2_入力シート【用途面積】'!$I67","v":0},null,null,"階別用途別床面積","-",2,"-","45階",null,null,null,null,null,null,"階別用途別床面積-2-45階"]
[null,null,null,{"$f":"'2_入力シート【用途面積】'!$I68","v":0},{"$f":"'2_入力シート【用途面積】'!$I68","v":0},null,null,"階別用途別床面積","-",2,"-","46階",null,null,null,null,null,null,"階別用途別床面積-2-46階"]
[null,null,null,{"$f":"'2_入力シート【用途面積】'!$I69","v":0},{"$f":"'2_入力シート【用途面積】'!$I69","v":0},null,null,"階別用途別床面積","-",2,"-","47階",null,null,null,null,null,null,"階別用途別床面積-2-47階"]
[null,null,null,{"$f":"'2_入力シート【用途面積】'!$I70","v":0},{"$f":"'2_入力シート【用途面積】'!$I70","v":0},null,null,"階別用途別床面積","-",2,"-","48階",null,null,null,null,null,null,"階別用途別床面積-2-48階"]
[null,null,null,{"$f":"'2_入力シート【用途面積】'!$I71","v":0},{"$f":"'2_入力シート【用途面積】'!$I71","v":0},null,null,"階別用途別床面積","-",2,"-","49階",null,null,null,null,null,null,"階別用途別床面積-2-49階"]
[null,null,null,{"$f":"'2_入力シート【用途面積】'!$I72","v":0},{"$f":"'2_入力シート【用途面積】'!$I72","v":0},null,null,"階別用途別床面積","-",2,"-","50階",null,null,null,null,null,null,"階別用途別床面積-2-50階"]
[null,null,null,{"$f":"'2_入力シート【用途面積】'!$K$4","v":0},{"$f":"'2_入力シート【用途面積】'!$K$4","v":0},null,null,"階別用途別床面積","-",3,"-","大分類",null,null,null,null,null,null,"階別用途別床面積-3-大分類"]
[null,null,null,{"$f":"'2_入力シート【用途面積】'!$K$7","v":0},{"$f":"'2_入力シート【用途面積】'!$K$7","v":0},null,null,"階別用途別床面積","-",3,"-","小分類",null,null,null,null,null,null,"階別用途別床面積-3-小分類"]
[null,null,null,{"$f":"'2_入力シート【用途面積】'!$K14","v":0},{"$f":"'2_入力シート【用途面積】'!$K14","v":0},null,null,"階別用途別床面積","-",3,"-","地下1階",null,null,null,null,null,null,"階別用途別床面積-3-地下1階"]
[null,null,null,{"$f":"'2_入力シート【用途面積】'!$K15","v":0},{"$f":"'2_入力シート【用途面積】'!$K15","v":0},null,null,"階別用途別床面積","-",3,"-","地下2階",null,null,null,null,null,null,"階別用途別床面積-3-地下2階"]
[null,null,null,{"$f":"'2_入力シート【用途面積】'!$K16","v":0},{"$f":"'2_入力シート【用途面積】'!$K16","v":0},null,null,"階別用途別床面積","-",3,"-","地下3階",null,null,null,null,null,null,"階別用途別床面積-3-地下3階"]
[null,null,null,{"$f":"'2_入力シート【用途面積】'!$K17","v":0},{"$f":"'2_入力シート【用途面積】'!$K17","v":0},null,null,"階別用途別床面積","-",3,"-","地下4階",null,null,null,null,null,null,"階別用途別床面積-3-地下4階"]
[null,null,null,{"$f":"'2_入力シート【用途面積】'!$K18","v":0},{"$f":"'2_入力シート【用途面積】'!$K18","v":0},null,null,"階別用途別床面積","-",3,"-","塔屋 1階",null,null,null,null,null,null,"階別用途別床面積-3-塔屋 1階"]
[null,null,null,{"$f":"'2_入力シート【用途面積】'!$K19","v":0},{"$f":"'2_入力シート【用途面積】'!$K19","v":0},null,null,"階別用途別床面積","-",3,"-","塔屋 2階",null,null,null,null,null,null,"階別用途別床面積-3-塔屋 2階"]
[null,null,null,{"$f":"'2_入力シート【用途面積】'!$K20","v":0},{"$f":"'2_入力シート【用途面積】'!$K20","v":0},null,null,"階別用途別床面積","-",3,"-","塔屋 3階",null,null,null,null,null,null,"階別用途別床面積-3-塔屋 3階"]
[null,null,null,{"$f":"'2_入力シート【用途面積】'!$K21","v":0},{"$f":"'2_入力シート【用途面積】'!$K21","v":0},null,null,"階別用途別床面積","-",3,"-","塔屋 4階",null,null,null,null,null,null,"階別用途別床面積-3-塔屋 4階"]
[null,null,null,{"$f":"'2_入力シート【用途面積】'!$K22","v":0},{"$f":"'2_入力シート【用途面積】'!$K22","v":0},null,null,"階別用途別床面積","-",3,"-","塔屋 5階",null,null,null,null,null,null,"階別用途別床面積-3-塔屋 5階"]
[null,null,null,{"$f":"'2_入力シート【用途面積】'!$K23","v":0},{"$f":"'2_入力シート【用途面積】'!$K23","v":0},null,null,"階別用途別床面積","-",3,"-","1階",null,null,null,null,null,null,"階別用途別床面積-3-1階"]
[null,null,null,{"$f":"'2_入力シート【用途面積】'!$K24","v":0},{"$f":"'2_入力シート【用途面積】'!$K24","v":0},null,null,"階別用途別床面積","-",3,"-","2階",null,null,null,null,null,null,"階別用途別床面積-3-2階"]
[null,null,null,{"$f":"'2_入力シート【用途面積】'!$K25","v":0},{"$f":"'2_入力シート【用途面積】'!$K25","v":0},null,null,"階別用途別床面積","-",3,"-","3階",null,null,null,null,null,null,"階別用途別床面積-3-3階"]
[null,null,null,{"$f":"'2_入力シート【用途面積】'!$K26","v":0},{"$f":"'2_入力シート【用途面積】'!$K26","v":0},null,null,"階別用途別床面積","-",3,"-","4階",null,null,null,null,null,null,"階別用途別床面積-3-4階"]
[null,null,null,{"$f":"'2_入力シート【用途面積】'!$K27","v":0},{"$f":"'2_入力シート【用途面積】'!$K27","v":0},null,null,"階別用途別床面積","-",3,"-","5階",null,null,null,null,null,null,"階別用途別床面積-3-5階"]
[null,null,null,{"$f":"'2_入力シート【用途面積】'!$K28","v":0},{"$f":"'2_入力シート【用途面積】'!$K28","v":0},null,null,"階別用途別床面積","-",3,"-","6階",null,null,null,null,null,null,"階別用途別床面積-3-6階"]
[null,null,null,{"$f":"'2_入力シート【用途面積】'!$K29","v":0},{"$f":"'2_入力シート【用途面積】'!$K29","v":0},null,null,"階別用途別床面積","-",3,"-","7階",null,null,null,null,null,null,"階別用途別床面積-3-7階"]
[null,null,null,{"$f":"'2_入力シート【用途面積】'!$K30","v":0},{"$f":"'2_入力シート【用途面積】'!$K30","v":0},null,null,"階別用途別床面積","-",3,"-","8階",null,null,null,null,null,null,"階別用途別床面積-3-8階"]
[null,null,null,{"$f":"'2_入力シート【用途面積】'!$K31","v":0},{"$f":"'2_入力シート【用途面積】'!$K31","v":0},null,null,"階別用途別床面積","-",3,"-","9階",null,null,null,null,null,null,"階別用途別床面積-3-9階"]
[null,null,null,{"$f":"'2_入力シート【用途面積】'!$K32","v":0},{"$f":"'2_入力シート【用途面積】'!$K32","v":0},null,null,"階別用途別床面積","-",3,"-","10階",null,null,null,null,null,null,"階別用途別床面積-3-10階"]
[null,null,null,{"$f":"'2_入力シート【用途面積】'!$K33","v":0},{"$f":"'2_入力シート【用途面積】'!$K33","v":0},null,null,"階別用途別床面積","-",3,"-","11階",null,null,null,null,null,null,"階別用途別床面積-3-11階"]
[null,null,null,{"$f":"'2_入力シート【用途面積】'!$K34","v":0},{"$f":"'2_入力シート【用途面積】'!$K34","v":0},null,null,"階別用途別床面積","-",3,"-","12階",null,null,null,null,null,null,{"$f":"CONCATENATE(G1500,H1500,I1500,J1500,K1500,L1500,M1500,N1500,O1500,P1500)","v":"階別用途別床面積-3-12階"}]
[null,null,null,{"$f":"'2_入力シート【用途面積】'!$K35","v":0},{"$f":"'2_入力シート【用途面積】'!$K35","v":0},null,null,"階別用途別床面積","-",3,"-","13階",null,null,null,null,null,null,"階別用途別床面積-3-13階"]
[null,null,null,{"$f":"'2_入力シート【用途面積】'!$K36","v":0},{"$f":"'2_入力シート【用途面積】'!$K36","v":0},null,null,"階別用途別床面積","-",3,"-","14階",null,null,null,null,null,null,"階別用途別床面積-3-14階"]
[null,null,null,{"$f":"'2_入力シート【用途面積】'!$K37","v":0},{"$f":"'2_入力シート【用途面積】'!$K37","v":0},null,null,"階別用途別床面積","-",3,"-","15階",null,null,null,null,null,null,"階別用途別床面積-3-15階"]
[null,null,null,{"$f":"'2_入力シート【用途面積】'!$K38","v":0},{"$f":"'2_入力シート【用途面積】'!$K38","v":0},null,null,"階別用途別床面積","-",3,"-","16階",null,null,null,null,null,null,"階別用途別床面積-3-16階"]
[null,null,null,{"$f":"'2_入力シート【用途面積】'!$K39","v":0},{"$f":"'2_入力シート【用途面積】'!$K39","v":0},null,null,"階別用途別床面積","-",3,"-","17階",null,null,null,null,null,null,"階別用途別床面積-3-17階"]
[null,null,null,{"$f":"'2_入力シート【用途面積】'!$K40","v":0},{"$f":"'2_入力シート【用途面積】'!$K40","v":0},null,null,"階別用途別床面積","-",3,"-","18階",null,null,null,null,null,null,"階別用途別床面積-3-18階"]
[null,null,null,{"$f":"'2_入力シート【用途面積】'!$K41","v":0},{"$f":"'2_入力シート【用途面積】'!$K41","v":0},null,null,"階別用途別床面積","-",3,"-","19階",null,null,null,null,null,null,"階別用途別床面積-3-19階"]
[null,null,null,{"$f":"'2_入力シート【用途面積】'!$K42","v":0},{"$f":"'2_入力シート【用途面積】'!$K42","v":0},null,null,"階別用途別床面積","-",3,"-","20階",null,null,null,null,null,null,"階別用途別床面積-3-20階"]
[null,null,null,{"$f":"'2_入力シート【用途面積】'!$K43","v":0},{"$f":"'2_入力シート【用途面積】'!$K43","v":0},null,null,"階別用途別床面積","-",3,"-","21階",null,null,null,null,null,null,"階別用途別床面積-3-21階"]
[null,null,null,{"$f":"'2_入力シート【用途面積】'!$K44","v":0},{"$f":"'2_入力シート【用途面積】'!$K44","v":0},null,null,"階別用途別床面積","-",3,"-","22階",null,null,null,null,null,null,"階別用途別床面積-3-22階"]
[null,null,null,{"$f":"'2_入力シート【用途面積】'!$K45","v":0},{"$f":"'2_入力シート【用途面積】'!$K45","v":0},null,null,"階別用途別床面積","-",3,"-","23階",null,null,null,null,null,null,"階別用途別床面積-3-23階"]
[null,null,null,{"$f":"'2_入力シート【用途面積】'!$K46","v":0},{"$f":"'2_入力シート【用途面積】'!$K46","v":0},null,null,"階別用途別床面積","-",3,"-","24階",null,null,null,null,null,null,"階別用途別床面積-3-24階"]
[null,null,null,{"$f":"'2_入力シート【用途面積】'!$K47","v":0},{"$f":"'2_入力シート【用途面積】'!$K47","v":0},null,null,"階別用途別床面積","-",3,"-","25階",null,null,null,null,null,null,"階別用途別床面積-3-25階"]
[null,null,null,{"$f":"'2_入力シート【用途面積】'!$K48","v":0},{"$f":"'2_入力シート【用途面積】'!$K48","v":0},null,null,"階別用途別床面積","-",3,"-","26階",null,null,null,null,null,null,"階別用途別床面積-3-26階"]
[null,null,null,{"$f":"'2_入力シート【用途面積】'!$K49","v":0},{"$f":"'2_入力シート【用途面積】'!$K49","v":0},null,null,"階別用途別床面積","-",3,"-","27階",null,null,null,null,null,null,"階別用途別床面積-3-27階"]
[null,null,null,{"$f":"'2_入力シート【用途面積】'!$K50","v":0},{"$f":"'2_入力シート【用途面積】'!$K50","v":0},null,null,"階別用途別床面積","-",3,"-","28階",null,null,null,null,null,null,"階別用途別床面積-3-28階"]
[null,null,null,{"$f":"'2_入力シート【用途面積】'!$K51","v":0},{"$f":"'2_入力シート【用途面積】'!$K51","v":0},null,null,"階別用途別床面積","-",3,"-","29階",null,null,null,null,null,null,"階別用途別床面積-3-29階"]
[null,null,null,{"$f":"'2_入力シート【用途面積】'!$K52","v":0},{"$f":"'2_入力シート【用途面積】'!$K52","v":0},null,null,"階別用途別床面積","-",3,"-","30階",null,null,null,null,null,null,"階別用途別床面積-3-30階"]
[null,null,null,{"$f":"'2_入力シート【用途面積】'!$K53","v":0},{"$f":"'2_入力シート【用途面積】'!$K53","v":0},null,null,"階別用途別床面積","-",3,"-","31階",null,null,null,null,null,null,"階別用途別床面積-3-31階"]
[null,null,null,{"$f":"'2_入力シート【用途面積】'!$K54","v":0},{"$f":"'2_入力シート【用途面積】'!$K54","v":0},null,null,"階別用途別床面積","-",3,"-","32階",null,null,null,null,null,null,"階別用途別床面積-3-32階"]
[null,null,null,{"$f":"'2_入力シート【用途面積】'!$K55","v":0},{"$f":"'2_入力シート【用途面積】'!$K55","v":0},null,null,"階別用途別床面積","-",3,"-","33階",null,null,null,null,null,null,"階別用途別床面積-3-33階"]
[null,null,null,{"$f":"'2_入力シート【用途面積】'!$K56","v":0},{"$f":"'2_入力シート【用途面積】'!$K56","v":0},null,null,"階別用途別床面積","-",3,"-","34階",null,null,null,null,null,null,"階別用途別床面積-3-34階"]
[null,null,null,{"$f":"'2_入力シート【用途面積】'!$K57","v":0},{"$f":"'2_入力シート【用途面積】'!$K57","v":0},null,null,"階別用途別床面積","-",3,"-","35階",null,null,null,null,null,null,"階別用途別床面積-3-35階"]
[null,null,null,{"$f":"'2_入力シート【用途面積】'!$K58","v":0},{"$f":"'2_入力シート【用途面積】'!$K58","v":0},null,null,"階別用途別床面積","-",3,"-","36階",null,null,null,null,null,null,"階別用途別床面積-3-36階"]
[null,null,null,{"$f":"'2_入力シート【用途面積】'!$K59","v":0},{"$f":"'2_入力シート【用途面積】'!$K59","v":0},null,null,"階別用途別床面積","-",3,"-","37階",null,null,null,null,null,null,"階別用途別床面積-3-37階"]
[null,null,null,{"$f":"'2_入力シート【用途面積】'!$K60","v":0},{"$f":"'2_入力シート【用途面積】'!$K60","v":0},null,null,"階別用途別床面積","-",3,"-","38階",null,null,null,null,null,null,"階別用途別床面積-3-38階"]
[null,null,null,{"$f":"'2_入力シート【用途面積】'!$K61","v":0},{"$f":"'2_入力シート【用途面積】'!$K61","v":0},null,null,"階別用途別床面積","-",3,"-","39階",null,null,null,null,null,null,"階別用途別床面積-3-39階"]
[null,null,null,{"$f":"'2_入力シート【用途面積】'!$K62","v":0},{"$f":"'2_入力シート【用途面積】'!$K62","v":0},null,null,"階別用途別床面積","-",3,"-","40階",null,null,null,null,null,null,"階別用途別床面積-3-40階"]
[null,null,null,{"$f":"'2_入力シート【用途面積】'!$K63","v":0},{"$f":"'2_入力シート【用途面積】'!$K63","v":0},null,null,"階別用途別床面積","-",3,"-","41階",null,null,null,null,null,null,"階別用途別床面積-3-41階"]
[null,null,null,{"$f":"'2_入力シート【用途面積】'!$K64","v":0},{"$f":"'2_入力シート【用途面積】'!$K64","v":0},null,null,"階別用途別床面積","-",3,"-","42階",null,null,null,null,null,null,"階別用途別床面積-3-42階"]
[null,null,null,{"$f":"'2_入力シート【用途面積】'!$K65","v":0},{"$f":"'2_入力シート【用途面積】'!$K65","v":0},null,null,"階別用途別床面積","-",3,"-","43階",null,null,null,null,null,null,"階別用途別床面積-3-43階"]
[null,null,null,{"$f":"'2_入力シート【用途面積】'!$K66","v":0},{"$f":"'2_入力シート【用途面積】'!$K66","v":0},null,null,"階別用途別床面積","-",3,"-","44階",null,null,null,null,null,null,"階別用途別床面積-3-44階"]
[null,null,null,{"$f":"'2_入力シート【用途面積】'!$K67","v":0},{"$f":"'2_入力シート【用途面積】'!$K67","v":0},null,null,"階別用途別床面積","-",3,"-","45階",null,null,null,null,null,null,"階別用途別床面積-3-45階"]
[null,null,null,{"$f":"'2_入力シート【用途面積】'!$K68","v":0},{"$f":"'2_入力シート【用途面積】'!$K68","v":0},null,null,"階別用途別床面積","-",3,"-","46階",null,null,null,null,null,null,"階別用途別床面積-3-46階"]
[null,null,null,{"$f":"'2_入力シート【用途面積】'!$K69","v":0},{"$f":"'2_入力シート【用途面積】'!$K69","v":0},null,null,"階別用途別床面積","-",3,"-","47階",null,null,null,null,null,null,"階別用途別床面積-3-47階"]
[null,null,null,{"$f":"'2_入力シート【用途面積】'!$K70","v":0},{"$f":"'2_入力シート【用途面積】'!$K70","v":0},null,null,"階別用途別床面積","-",3,"-","48階",null,null,null,null,null,null,"階別用途別床面積-3-48階"]
[null,null,null,{"$f":"'2_入力シート【用途面積】'!$K71","v":0},{"$f":"'2_入力シート【用途面積】'!$K71","v":0},null,null,"階別用途別床面積","-",3,"-","49階",null,null,null,null,null,null,"階別用途別床面積-3-49階"]
[null,null,null,{"$f":"'2_入力シート【用途面積】'!$K72","v":0},{"$f":"'2_入力シート【用途面積】'!$K72","v":0},null,null,"階別用途別床面積","-",3,"-","50階",null,null,null,null,null,null,"階別用途別床面積-3-50階"]
[null,null,null,{"$f":"'2_入力シート【用途面積】'!$M$4","v":0},{"$f":"'2_入力シート【用途面積】'!$M$4","v":0},null,null,"階別用途別床面積","-",4,"-","大分類",null,null,null,null,null,null,"階別用途別床面積-4-大分類"]
[null,null,null,{"$f":"'2_入力シート【用途面積】'!$M$7","v":0},{"$f":"'2_入力シート【用途面積】'!$M$7","v":0},null,null,"階別用途別床面積","-",4,"-","小分類",null,null,null,null,null,null,"階別用途別床面積-4-小分類"]
[null,null,null,{"$f":"'2_入力シート【用途面積】'!$M14","v":0},{"$f":"'2_入力シート【用途面積】'!$M14","v":0},null,null,"階別用途別床面積","-",4,"-","地下1階",null,null,null,null,null,null,"階別用途別床面積-4-地下1階"]
[null,null,null,{"$f":"'2_入力シート【用途面積】'!$M15","v":0},{"$f":"'2_入力シート【用途面積】'!$M15","v":0},null,null,"階別用途別床面積","-",4,"-","地下2階",null,null,null,null,null,null,"階別用途別床面積-4-地下2階"]
[null,null,null,{"$f":"'2_入力シート【用途面積】'!$M16","v":0},{"$f":"'2_入力シート【用途面積】'!$M16","v":0},null,null,"階別用途別床面積","-",4,"-","地下3階",null,null,null,null,null,null,"階別用途別床面積-4-地下3階"]
[null,null,null,{"$f":"'2_入力シート【用途面積】'!$M17","v":0},{"$f":"'2_入力シート【用途面積】'!$M17","v":0},null,null,"階別用途別床面積","-",4,"-","地下4階",null,null,null,null,null,null,"階別用途別床面積-4-地下4階"]
[null,null,null,{"$f":"'2_入力シート【用途面積】'!$M18","v":0},{"$f":"'2_入力シート【用途面積】'!$M18","v":0},null,null,"階別用途別床面積","-",4,"-","塔屋 1階",null,null,null,null,null,null,"階別用途別床面積-4-塔屋 1階"]
[null,null,null,{"$f":"'2_入力シート【用途面積】'!$M19","v":0},{"$f":"'2_入力シート【用途面積】'!$M19","v":0},null,null,"階別用途別床面積","-",4,"-","塔屋 2階",null,null,null,null,null,null,"階別用途別床面積-4-塔屋 2階"]
[null,null,null,{"$f":"'2_入力シート【用途面積】'!$M20","v":0},{"$f":"'2_入力シート【用途面積】'!$M20","v":0},null,null,"階別用途別床面積","-",4,"-","塔屋 3階",null,null,null,null,null,null,"階別用途別床面積-4-塔屋 3階"]
[null,null,null,{"$f":"'2_入力シート【用途面積】'!$M21","v":0},{"$f":"'2_入力シート【用途面積】'!$M21","v":0},null,null,"階別用途別床面積","-",4,"-","塔屋 4階",null,null,null,null,null,null,"階別用途別床面積-4-塔屋 4階"]
[null,null,null,{"$f":"'2_入力シート【用途面積】'!$M22","v":0},{"$f":"'2_入力シート【用途面積】'!$M22","v":0},null,null,"階別用途別床面積","-",4,"-","塔屋 5階",null,null,null,null,null,null,"階別用途別床面積-4-塔屋 5階"]
[null,null,null,{"$f":"'2_入力シート【用途面積】'!$M23","v":0},{"$f":"'2_入力シート【用途面積】'!$M23","v":0},null,null,"階別用途別床面積","-",4,"-","1階",null,null,null,null,null,null,"階別用途別床面積-4-1階"]
[null,null,null,{"$f":"'2_入力シート【用途面積】'!$M24","v":0},{"$f":"'2_入力シート【用途面積】'!$M24","v":0},null,null,"階別用途別床面積","-",4,"-","2階",null,null,null,null,null,null,"階別用途別床面積-4-2階"]
[null,null,null,{"$f":"'2_入力シート【用途面積】'!$M25","v":0},{"$f":"'2_入力シート【用途面積】'!$M25","v":0},null,null,"階別用途別床面積","-",4,"-","3階",null,null,null,null,null,null,"階別用途別床面積-4-3階"]
[null,null,null,{"$f":"'2_入力シート【用途面積】'!$M26","v":0},{"$f":"'2_入力シート【用途面積】'!$M26","v":0},null,null,"階別用途別床面積","-",4,"-","4階",null,null,null,null,null,null,"階別用途別床面積-4-4階"]
[null,null,null,{"$f":"'2_入力シート【用途面積】'!$M27","v":0},{"$f":"'2_入力シート【用途面積】'!$M27","v":0},null,null,"階別用途別床面積","-",4,"-","5階",null,null,null,null,null,null,"階別用途別床面積-4-5階"]
[null,null,null,{"$f":"'2_入力シート【用途面積】'!$M28","v":0},{"$f":"'2_入力シート【用途面積】'!$M28","v":0},null,null,"階別用途別床面積","-",4,"-","6階",null,null,null,null,null,null,"階別用途別床面積-4-6階"]
[null,null,null,{"$f":"'2_入力シート【用途面積】'!$M29","v":0},{"$f":"'2_入力シート【用途面積】'!$M29","v":0},null,null,"階別用途別床面積","-",4,"-","7階",null,null,null,null,null,null,"階別用途別床面積-4-7階"]
[null,null,null,{"$f":"'2_入力シート【用途面積】'!$M30","v":0},{"$f":"'2_入力シート【用途面積】'!$M30","v":0},null,null,"階別用途別床面積","-",4,"-","8階",null,null,null,null,null,null,"階別用途別床面積-4-8階"]
[null,null,null,{"$f":"'2_入力シート【用途面積】'!$M31","v":0},{"$f":"'2_入力シート【用途面積】'!$M31","v":0},null,null,"階別用途別床面積","-",4,"-","9階",null,null,null,null,null,null,"階別用途別床面積-4-9階"]
[null,null,null,{"$f":"'2_入力シート【用途面積】'!$M32","v":0},{"$f":"'2_入力シート【用途面積】'!$M32","v":0},null,null,"階別用途別床面積","-",4,"-","10階",null,null,null,null,null,null,"階別用途別床面積-4-10階"]
[null,null,null,{"$f":"'2_入力シート【用途面積】'!$M33","v":0},{"$f":"'2_入力シート【用途面積】'!$M33","v":0},null,null,"階別用途別床面積","-",4,"-","11階",null,null,null,null,null,null,"階別用途別床面積-4-11階"]
[null,null,null,{"$f":"'2_入力シート【用途面積】'!$M34","v":0},{"$f":"'2_入力シート【用途面積】'!$M34","v":0},null,null,"階別用途別床面積","-",4,"-","12階",null,null,null,null,null,null,"階別用途別床面積-4-12階"]
[null,null,null,{"$f":"'2_入力シート【用途面積】'!$M35","v":0},{"$f":"'2_入力シート【用途面積】'!$M35","v":0},null,null,"階別用途別床面積","-",4,"-","13階",null,null,null,null,null,null,"階別用途別床面積-4-13階"]
[null,null,null,{"$f":"'2_入力シート【用途面積】'!$M36","v":0},{"$f":"'2_入力シート【用途面積】'!$M36","v":0},null,null,"階別用途別床面積","-",4,"-","14階",null,null,null,null,null,null,"階別用途別床面積-4-14階"]
[null,null,null,{"$f":"'2_入力シート【用途面積】'!$M37","v":0},{"$f":"'2_入力シート【用途面積】'!$M37","v":0},null,null,"階別用途別床面積","-",4,"-","15階",null,null,null,null,null,null,{"$f":"CONCATENATE(G1564,H1564,I1564,J1564,K1564,L1564,M1564,N1564,O1564,P1564)","v":"階別用途別床面積-4-15階"}]
[null,null,null,{"$f":"'2_入力シート【用途面積】'!$M38","v":0},{"$f":"'2_入力シート【用途面積】'!$M38","v":0},null,null,"階別用途別床面積","-",4,"-","16階",null,null,null,null,null,null,"階別用途別床面積-4-16階"]
[null,null,null,{"$f":"'2_入力シート【用途面積】'!$M39","v":0},{"$f":"'2_入力シート【用途面積】'!$M39","v":0},null,null,"階別用途別床面積","-",4,"-","17階",null,null,null,null,null,null,"階別用途別床面積-4-17階"]
[null,null,null,{"$f":"'2_入力シート【用途面積】'!$M40","v":0},{"$f":"'2_入力シート【用途面積】'!$M40","v":0},null,null,"階別用途別床面積","-",4,"-","18階",null,null,null,null,null,null,"階別用途別床面積-4-18階"]
[null,null,null,{"$f":"'2_入力シート【用途面積】'!$M41","v":0},{"$f":"'2_入力シート【用途面積】'!$M41","v":0},null,null,"階別用途別床面積","-",4,"-","19階",null,null,null,null,null,null,"階別用途別床面積-4-19階"]
[null,null,null,{"$f":"'2_入力シート【用途面積】'!$M42","v":0},{"$f":"'2_入力シート【用途面積】'!$M42","v":0},null,null,"階別用途別床面積","-",4,"-","20階",null,null,null,null,null,null,"階別用途別床面積-4-20階"]
[null,null,null,{"$f":"'2_入力シート【用途面積】'!$M43","v":0},{"$f":"'2_入力シート【用途面積】'!$M43","v":0},null,null,"階別用途別床面積","-",4,"-","21階",null,null,null,null,null,null,"階別用途別床面積-4-21階"]
[null,null,null,{"$f":"'2_入力シート【用途面積】'!$M44","v":0},{"$f":"'2_入力シート【用途面積】'!$M44","v":0},null,null,"階別用途別床面積","-",4,"-","22階",null,null,null,null,null,null,"階別用途別床面積-4-22階"]
[null,null,null,{"$f":"'2_入力シート【用途面積】'!$M45","v":0},{"$f":"'2_入力シート【用途面積】'!$M45","v":0},null,null,"階別用途別床面積","-",4,"-","23階",null,null,null,null,null,null,"階別用途別床面積-4-23階"]
[null,null,null,{"$f":"'2_入力シート【用途面積】'!$M46","v":0},{"$f":"'2_入力シート【用途面積】'!$M46","v":0},null,null,"階別用途別床面積","-",4,"-","24階",null,null,null,null,null,null,"階別用途別床面積-4-24階"]
[null,null,null,{"$f":"'2_入力シート【用途面積】'!$M47","v":0},{"$f":"'2_入力シート【用途面積】'!$M47","v":0},null,null,"階別用途別床面積","-",4,"-","25階",null,null,null,null,null,null,"階別用途別床面積-4-25階"]
[null,null,null,{"$f":"'2_入力シート【用途面積】'!$M48","v":0},{"$f":"'2_入力シート【用途面積】'!$M48","v":0},null,null,"階別用途別床面積","-",4,"-","26階",null,null,null,null,null,null,"階別用途別床面積-4-26階"]
[null,null,null,{"$f":"'2_入力シート【用途面積】'!$M49","v":0},{"$f":"'2_入力シート【用途面積】'!$M49","v":0},null,null,"階別用途別床面積","-",4,"-","27階",null,null,null,null,null,null,"階別用途別床面積-4-27階"]
[null,null,null,{"$f":"'2_入力シート【用途面積】'!$M50","v":0},{"$f":"'2_入力シート【用途面積】'!$M50","v":0},null,null,"階別用途別床面積","-",4,"-","28階",null,null,null,null,null,null,"階別用途別床面積-4-28階"]
[null,null,null,{"$f":"'2_入力シート【用途面積】'!$M51","v":0},{"$f":"'2_入力シート【用途面積】'!$M51","v":0},null,null,"階別用途別床面積","-",4,"-","29階",null,null,null,null,null,null,"階別用途別床面積-4-29階"]
[null,null,null,{"$f":"'2_入力シート【用途面積】'!$M52","v":0},{"$f":"'2_入力シート【用途面積】'!$M52","v":0},null,null,"階別用途別床面積","-",4,"-","30階",null,null,null,null,null,null,"階別用途別床面積-4-30階"]
[null,null,null,{"$f":"'2_入力シート【用途面積】'!$M53","v":0},{"$f":"'2_入力シート【用途面積】'!$M53","v":0},null,null,"階別用途別床面積","-",4,"-","31階",null,null,null,null,null,null,"階別用途別床面積-4-31階"]
[null,null,null,{"$f":"'2_入力シート【用途面積】'!$M54","v":0},{"$f":"'2_入力シート【用途面積】'!$M54","v":0},null,null,"階別用途別床面積","-",4,"-","32階",null,null,null,null,null,null,"階別用途別床面積-4-32階"]
[null,null,null,{"$f":"'2_入力シート【用途面積】'!$M55","v":0},{"$f":"'2_入力シート【用途面積】'!$M55","v":0},null,null,"階別用途別床面積","-",4,"-","33階",null,null,null,null,null,null,"階別用途別床面積-4-33階"]
[null,null,null,{"$f":"'2_入力シート【用途面積】'!$M56","v":0},{"$f":"'2_入力シート【用途面積】'!$M56","v":0},null,null,"階別用途別床面積","-",4,"-","34階",null,null,null,null,null,null,"階別用途別床面積-4-34階"]
[null,null,null,{"$f":"'2_入力シート【用途面積】'!$M57","v":0},{"$f":"'2_入力シート【用途面積】'!$M57","v":0},null,null,"階別用途別床面積","-",4,"-","35階",null,null,null,null,null,null,"階別用途別床面積-4-35階"]
[null,null,null,{"$f":"'2_入力シート【用途面積】'!$M58","v":0},{"$f":"'2_入力シート【用途面積】'!$M58","v":0},null,null,"階別用途別床面積","-",4,"-","36階",null,null,null,null,null,null,"階別用途別床面積-4-36階"]
[null,null,null,{"$f":"'2_入力シート【用途面積】'!$M59","v":0},{"$f":"'2_入力シート【用途面積】'!$M59","v":0},null,null,"階別用途別床面積","-",4,"-","37階",null,null,null,null,null,null,"階別用途別床面積-4-37階"]
[null,null,null,{"$f":"'2_入力シート【用途面積】'!$M60","v":0},{"$f":"'2_入力シート【用途面積】'!$M60","v":0},null,null,"階別用途別床面積","-",4,"-","38階",null,null,null,null,null,null,"階別用途別床面積-4-38階"]
[null,null,null,{"$f":"'2_入力シート【用途面積】'!$M61","v":0},{"$f":"'2_入力シート【用途面積】'!$M61","v":0},null,null,"階別用途別床面積","-",4,"-","39階",null,null,null,null,null,null,"階別用途別床面積-4-39階"]
[null,null,null,{"$f":"'2_入力シート【用途面積】'!$M62","v":0},{"$f":"'2_入力シート【用途面積】'!$M62","v":0},null,null,"階別用途別床面積","-",4,"-","40階",null,null,null,null,null,null,"階別用途別床面積-4-40階"]
[null,null,null,{"$f":"'2_入力シート【用途面積】'!$M63","v":0},{"$f":"'2_入力シート【用途面積】'!$M63","v":0},null,null,"階別用途別床面積","-",4,"-","41階",null,null,null,null,null,null,"階別用途別床面積-4-41階"]
[null,null,null,{"$f":"'2_入力シート【用途面積】'!$M64","v":0},{"$f":"'2_入力シート【用途面積】'!$M64","v":0},null,null,"階別用途別床面積","-",4,"-","42階",null,null,null,null,null,null,"階別用途別床面積-4-42階"]
[null,null,null,{"$f":"'2_入力シート【用途面積】'!$M65","v":0},{"$f":"'2_入力シート【用途面積】'!$M65","v":0},null,null,"階別用途別床面積","-",4,"-","43階",null,null,null,null,null,null,"階別用途別床面積-4-43階"]
[null,null,null,{"$f":"'2_入力シート【用途面積】'!$M66","v":0},{"$f":"'2_入力シート【用途面積】'!$M66","v":0},null,null,"階別用途別床面積","-",4,"-","44階",null,null,null,null,null,null,"階別用途別床面積-4-44階"]
[null,null,null,{"$f":"'2_入力シート【用途面積】'!$M67","v":0},{"$f":"'2_入力シート【用途面積】'!$M67","v":0},null,null,"階別用途別床面積","-",4,"-","45階",null,null,null,null,null,null,"階別用途別床面積-4-45階"]
[null,null,null,{"$f":"'2_入力シート【用途面積】'!$M68","v":0},{"$f":"'2_入力シート【用途面積】'!$M68","v":0},null,null,"階別用途別床面積","-",4,"-","46階",null,null,null,null,null,null,"階別用途別床面積-4-46階"]
[null,null,null,{"$f":"'2_入力シート【用途面積】'!$M69","v":0},{"$f":"'2_入力シート【用途面積】'!$M69","v":0},null,null,"階別用途別床面積","-",4,"-","47階",null,null,null,null,null,null,"階別用途別床面積-4-47階"]
[null,null,null,{"$f":"'2_入力シート【用途面積】'!$M70","v":0},{"$f":"'2_入力シート【用途面積】'!$M70","v":0},null,null,"階別用途別床面積","-",4,"-","48階",null,null,null,null,null,null,"階別用途別床面積-4-48階"]
[null,null,null,{"$f":"'2_入力シート【用途面積】'!$M71","v":0},{"$f":"'2_入力シート【用途面積】'!$M71","v":0},null,null,"階別用途別床面積","-",4,"-","49階",null,null,null,null,null,null,"階別用途別床面積-4-49階"]
[null,null,null,{"$f":"'2_入力シート【用途面積】'!$M72","v":0},{"$f":"'2_入力シート【用途面積】'!$M72","v":0},null,null,"階別用途別床面積","-",4,"-","50階",null,null,null,null,null,null,"階別用途別床面積-4-50階"]
[null,null,null,{"$f":"'2_入力シート【用途面積】'!$O$4","v":0},{"$f":"'2_入力シート【用途面積】'!$O$4","v":0},null,null,"階別用途別床面積","-","5","-","大分類",null,null,null,null,null,null,"階別用途別床面積-5-大分類"]
[null,null,null,{"$f":"'2_入力シート【用途面積】'!$O$7","v":0},{"$f":"'2_入力シート【用途面積】'!$O$7","v":0},null,null,"階別用途別床面積","-","5","-","小分類",null,null,null,null,null,null,"階別用途別床面積-5-小分類"]
[null,null,null,{"$f":"'2_入力シート【用途面積】'!$O14","v":0},{"$f":"'2_入力シート【用途面積】'!$O14","v":0},null,null,"階別用途別床面積","-","5","-","地下1階",null,null,null,null,null,null,"階別用途別床面積-5-地下1階"]
[null,null,null,{"$f":"'2_入力シート【用途面積】'!$O15","v":0},{"$f":"'2_入力シート【用途面積】'!$O15","v":0},null,null,"階別用途別床面積","-","5","-","地下2階",null,null,null,null,null,null,"階別用途別床面積-5-地下2階"]
[null,null,null,{"$f":"'2_入力シート【用途面積】'!$O16","v":0},{"$f":"'2_入力シート【用途面積】'!$O16","v":0},null,null,"階別用途別床面積","-","5","-","地下3階",null,null,null,null,null,null,"階別用途別床面積-5-地下3階"]
[null,null,null,{"$f":"'2_入力シート【用途面積】'!$O17","v":0},{"$f":"'2_入力シート【用途面積】'!$O17","v":0},null,null,"階別用途別床面積","-","5","-","地下4階",null,null,null,null,null,null,"階別用途別床面積-5-地下4階"]
[null,null,null,{"$f":"'2_入力シート【用途面積】'!$O18","v":0},{"$f":"'2_入力シート【用途面積】'!$O18","v":0},null,null,"階別用途別床面積","-","5","-","塔屋 1階",null,null,null,null,null,null,"階別用途別床面積-5-塔屋 1階"]
[null,null,null,{"$f":"'2_入力シート【用途面積】'!$O19","v":0},{"$f":"'2_入力シート【用途面積】'!$O19","v":0},null,null,"階別用途別床面積","-","5","-","塔屋 2階",null,null,null,null,null,null,"階別用途別床面積-5-塔屋 2階"]
[null,null,null,{"$f":"'2_入力シート【用途面積】'!$O20","v":0},{"$f":"'2_入力シート【用途面積】'!$O20","v":0},null,null,"階別用途別床面積","-","5","-","塔屋 3階",null,null,null,null,null,null,"階別用途別床面積-5-塔屋 3階"]
[null,null,null,{"$f":"'2_入力シート【用途面積】'!$O21","v":0},{"$f":"'2_入力シート【用途面積】'!$O21","v":0},null,null,"階別用途別床面積","-","5","-","塔屋 4階",null,null,null,null,null,null,"階別用途別床面積-5-塔屋 4階"]
[null,null,null,{"$f":"'2_入力シート【用途面積】'!$O22","v":0},{"$f":"'2_入力シート【用途面積】'!$O22","v":0},null,null,"階別用途別床面積","-","5","-","塔屋 5階",null,null,null,null,null,null,"階別用途別床面積-5-塔屋 5階"]
[null,null,null,{"$f":"'2_入力シート【用途面積】'!$O23","v":0},{"$f":"'2_入力シート【用途面積】'!$O23","v":0},null,null,"階別用途別床面積","-","5","-","1階",null,null,null,null,null,null,"階別用途別床面積-5-1階"]
[null,null,null,{"$f":"'2_入力シート【用途面積】'!$O24","v":0},{"$f":"'2_入力シート【用途面積】'!$O24","v":0},null,null,"階別用途別床面積","-","5","-","2階",null,null,null,null,null,null,"階別用途別床面積-5-2階"]
[null,null,null,{"$f":"'2_入力シート【用途面積】'!$O25","v":0},{"$f":"'2_入力シート【用途面積】'!$O25","v":0},null,null,"階別用途別床面積","-","5","-","3階",null,null,null,null,null,null,"階別用途別床面積-5-3階"]
[null,null,null,{"$f":"'2_入力シート【用途面積】'!$O26","v":0},{"$f":"'2_入力シート【用途面積】'!$O26","v":0},null,null,"階別用途別床面積","-","5","-","4階",null,null,null,null,null,null,"階別用途別床面積-5-4階"]
[null,null,null,{"$f":"'2_入力シート【用途面積】'!$O27","v":0},{"$f":"'2_入力シート【用途面積】'!$O27","v":0},null,null,"階別用途別床面積","-","5","-","5階",null,null,null,null,null,null,"階別用途別床面積-5-5階"]
[null,null,null,{"$f":"'2_入力シート【用途面積】'!$O28","v":0},{"$f":"'2_入力シート【用途面積】'!$O28","v":0},null,null,"階別用途別床面積","-","5","-","6階",null,null,null,null,null,null,"階別用途別床面積-5-6階"]
[null,null,null,{"$f":"'2_入力シート【用途面積】'!$O29","v":0},{"$f":"'2_入力シート【用途面積】'!$O29","v":0},null,null,"階別用途別床面積","-","5","-","7階",null,null,null,null,null,null,"階別用途別床面積-5-7階"]
[null,null,null,{"$f":"'2_入力シート【用途面積】'!$O30","v":0},{"$f":"'2_入力シート【用途面積】'!$O30","v":0},null,null,"階別用途別床面積","-","5","-","8階",null,null,null,null,null,null,"階別用途別床面積-5-8階"]
[null,null,null,{"$f":"'2_入力シート【用途面積】'!$O31","v":0},{"$f":"'2_入力シート【用途面積】'!$O31","v":0},null,null,"階別用途別床面積","-","5","-","9階",null,null,null,null,null,null,"階別用途別床面積-5-9階"]
[null,null,null,{"$f":"'2_入力シート【用途面積】'!$O32","v":0},{"$f":"'2_入力シート【用途面積】'!$O32","v":0},null,null,"階別用途別床面積","-","5","-","10階",null,null,null,null,null,null,"階別用途別床面積-5-10階"]
[null,null,null,{"$f":"'2_入力シート【用途面積】'!$O33","v":0},{"$f":"'2_入力シート【用途面積】'!$O33","v":0},null,null,"階別用途別床面積","-","5","-","11階",null,null,null,null,null,null,"階別用途別床面積-5-11階"]
[null,null,null,{"$f":"'2_入力シート【用途面積】'!$O34","v":0},{"$f":"'2_入力シート【用途面積】'!$O34","v":0},null,null,"階別用途別床面積","-","5","-","12階",null,null,null,null,null,null,"階別用途別床面積-5-12階"]
[null,null,null,{"$f":"'2_入力シート【用途面積】'!$O35","v":0},{"$f":"'2_入力シート【用途面積】'!$O35","v":0},null,null,"階別用途別床面積","-","5","-","13階",null,null,null,null,null,null,"階別用途別床面積-5-13階"]
[null,null,null,{"$f":"'2_入力シート【用途面積】'!$O36","v":0},{"$f":"'2_入力シート【用途面積】'!$O36","v":0},null,null,"階別用途別床面積","-","5","-","14階",null,null,null,null,null,null,"階別用途別床面積-5-14階"]
[null,null,null,{"$f":"'2_入力シート【用途面積】'!$O37","v":0},{"$f":"'2_入力シート【用途面積】'!$O37","v":0},null,null,"階別用途別床面積","-","5","-","15階",null,null,null,null,null,null,"階別用途別床面積-5-15階"]
[null,null,null,{"$f":"'2_入力シート【用途面積】'!$O38","v":0},{"$f":"'2_入力シート【用途面積】'!$O38","v":0},null,null,"階別用途別床面積","-","5","-","16階",null,null,null,null,null,null,"階別用途別床面積-5-16階"]
[null,null,null,{"$f":"'2_入力シート【用途面積】'!$O39","v":0},{"$f":"'2_入力シート【用途面積】'!$O39","v":0},null,null,"階別用途別床面積","-","5","-","17階",null,null,null,null,null,null,"階別用途別床面積-5-17階"]
[null,null,null,{"$f":"'2_入力シート【用途面積】'!$O40","v":0},{"$f":"'2_入力シート【用途面積】'!$O40","v":0},null,null,"階別用途別床面積","-","5","-","18階",null,null,null,null,null,null,{"$f":"CONCATENATE(G1628,H1628,I1628,J1628,K1628,L1628,M1628,N1628,O1628,P1628)","v":"階別用途別床面積-5-18階"}]
[null,null,null,{"$f":"'2_入力シート【用途面積】'!$O41","v":0},{"$f":"'2_入力シート【用途面積】'!$O41","v":0},null,null,"階別用途別床面積","-","5","-","19階",null,null,null,null,null,null,"階別用途別床面積-5-19階"]
[null,null,null,{"$f":"'2_入力シート【用途面積】'!$O42","v":0},{"$f":"'2_入力シート【用途面積】'!$O42","v":0},null,null,"階別用途別床面積","-","5","-","20階",null,null,null,null,null,null,"階別用途別床面積-5-20階"]
[null,null,null,{"$f":"'2_入力シート【用途面積】'!$O43","v":0},{"$f":"'2_入力シート【用途面積】'!$O43","v":0},null,null,"階別用途別床面積","-","5","-","21階",null,null,null,null,null,null,"階別用途別床面積-5-21階"]
[null,null,null,{"$f":"'2_入力シート【用途面積】'!$O44","v":0},{"$f":"'2_入力シート【用途面積】'!$O44","v":0},null,null,"階別用途別床面積","-","5","-","22階",null,null,null,null,null,null,"階別用途別床面積-5-22階"]
[null,null,null,{"$f":"'2_入力シート【用途面積】'!$O45","v":0},{"$f":"'2_入力シート【用途面積】'!$O45","v":0},null,null,"階別用途別床面積","-","5","-","23階",null,null,null,null,null,null,"階別用途別床面積-5-23階"]
[null,null,null,{"$f":"'2_入力シート【用途面積】'!$O46","v":0},{"$f":"'2_入力シート【用途面積】'!$O46","v":0},null,null,"階別用途別床面積","-","5","-","24階",null,null,null,null,null,null,"階別用途別床面積-5-24階"]
[null,null,null,{"$f":"'2_入力シート【用途面積】'!$O47","v":0},{"$f":"'2_入力シート【用途面積】'!$O47","v":0},null,null,"階別用途別床面積","-","5","-","25階",null,null,null,null,null,null,"階別用途別床面積-5-25階"]
[null,null,null,{"$f":"'2_入力シート【用途面積】'!$O48","v":0},{"$f":"'2_入力シート【用途面積】'!$O48","v":0},null,null,"階別用途別床面積","-","5","-","26階",null,null,null,null,null,null,"階別用途別床面積-5-26階"]
[null,null,null,{"$f":"'2_入力シート【用途面積】'!$O49","v":0},{"$f":"'2_入力シート【用途面積】'!$O49","v":0},null,null,"階別用途別床面積","-","5","-","27階",null,null,null,null,null,null,"階別用途別床面積-5-27階"]
[null,null,null,{"$f":"'2_入力シート【用途面積】'!$O50","v":0},{"$f":"'2_入力シート【用途面積】'!$O50","v":0},null,null,"階別用途別床面積","-","5","-","28階",null,null,null,null,null,null,"階別用途別床面積-5-28階"]
[null,null,null,{"$f":"'2_入力シート【用途面積】'!$O51","v":0},{"$f":"'2_入力シート【用途面積】'!$O51","v":0},null,null,"階別用途別床面積","-","5","-","29階",null,null,null,null,null,null,"階別用途別床面積-5-29階"]
[null,null,null,{"$f":"'2_入力シート【用途面積】'!$O52","v":0},{"$f":"'2_入力シート【用途面積】'!$O52","v":0},null,null,"階別用途別床面積","-","5","-","30階",null,null,null,null,null,null,"階別用途別床面積-5-30階"]
[null,null,null,{"$f":"'2_入力シート【用途面積】'!$O53","v":0},{"$f":"'2_入力シート【用途面積】'!$O53","v":0},null,null,"階別用途別床面積","-","5","-","31階",null,null,null,null,null,null,"階別用途別床面積-5-31階"]
[null,null,null,{"$f":"'2_入力シート【用途面積】'!$O54","v":0},{"$f":"'2_入力シート【用途面積】'!$O54","v":0},null,null,"階別用途別床面積","-","5","-","32階",null,null,null,null,null,null,"階別用途別床面積-5-32階"]
[null,null,null,{"$f":"'2_入力シート【用途面積】'!$O55","v":0},{"$f":"'2_入力シート【用途面積】'!$O55","v":0},null,null,"階別用途別床面積","-","5","-","33階",null,null,null,null,null,null,"階別用途別床面積-5-33階"]
[null,null,null,{"$f":"'2_入力シート【用途面積】'!$O56","v":0},{"$f":"'2_入力シート【用途面積】'!$O56","v":0},null,null,"階別用途別床面積","-","5","-","34階",null,null,null,null,null,null,"階別用途別床面積-5-34階"]
[null,null,null,{"$f":"'2_入力シート【用途面積】'!$O57","v":0},{"$f":"'2_入力シート【用途面積】'!$O57","v":0},null,null,"階別用途別床面積","-","5","-","35階",null,null,null,null,null,null,"階別用途別床面積-5-35階"]
[null,null,null,{"$f":"'2_入力シート【用途面積】'!$O58","v":0},{"$f":"'2_入力シート【用途面積】'!$O58","v":0},null,null,"階別用途別床面積","-","5","-","36階",null,null,null,null,null,null,"階別用途別床面積-5-36階"]
[null,null,null,{"$f":"'2_入力シート【用途面積】'!$O59","v":0},{"$f":"'2_入力シート【用途面積】'!$O59","v":0},null,null,"階別用途別床面積","-","5","-","37階",null,null,null,null,null,null,"階別用途別床面積-5-37階"]
[null,null,null,{"$f":"'2_入力シート【用途面積】'!$O60","v":0},{"$f":"'2_入力シート【用途面積】'!$O60","v":0},null,null,"階別用途別床面積","-","5","-","38階",null,null,null,null,null,null,"階別用途別床面積-5-38階"]
[null,null,null,{"$f":"'2_入力シート【用途面積】'!$O61","v":0},{"$f":"'2_入力シート【用途面積】'!$O61","v":0},null,null,"階別用途別床面積","-","5","-","39階",null,null,null,null,null,null,"階別用途別床面積-5-39階"]
[null,null,null,{"$f":"'2_入力シート【用途面積】'!$O62","v":0},{"$f":"'2_入力シート【用途面積】'!$O62","v":0},null,null,"階別用途別床面積","-","5","-","40階",null,null,null,null,null,null,"階別用途別床面積-5-40階"]
[null,null,null,{"$f":"'2_入力シート【用途面積】'!$O63","v":0},{"$f":"'2_入力シート【用途面積】'!$O63","v":0},null,null,"階別用途別床面積","-","5","-","41階",null,null,null,null,null,null,"階別用途別床面積-5-41階"]
[null,null,null,{"$f":"'2_入力シート【用途面積】'!$O64","v":0},{"$f":"'2_入力シート【用途面積】'!$O64","v":0},null,null,"階別用途別床面積","-","5","-","42階",null,null,null,null,null,null,"階別用途別床面積-5-42階"]
[null,null,null,{"$f":"'2_入力シート【用途面積】'!$O65","v":0},{"$f":"'2_入力シート【用途面積】'!$O65","v":0},null,null,"階別用途別床面積","-","5","-","43階",null,null,null,null,null,null,"階別用途別床面積-5-43階"]
[null,null,null,{"$f":"'2_入力シート【用途面積】'!$O66","v":0},{"$f":"'2_入力シート【用途面積】'!$O66","v":0},null,null,"階別用途別床面積","-","5","-","44階",null,null,null,null,null,null,"階別用途別床面積-5-44階"]
[null,null,null,{"$f":"'2_入力シート【用途面積】'!$O67","v":0},{"$f":"'2_入力シート【用途面積】'!$O67","v":0},null,null,"階別用途別床面積","-","5","-","45階",null,null,null,null,null,null,"階別用途別床面積-5-45階"]
[null,null,null,{"$f":"'2_入力シート【用途面積】'!$O68","v":0},{"$f":"'2_入力シート【用途面積】'!$O68","v":0},null,null,"階別用途別床面積","-","5","-","46階",null,null,null,null,null,null,"階別用途別床面積-5-46階"]
[null,null,null,{"$f":"'2_入力シート【用途面積】'!$O69","v":0},{"$f":"'2_入力シート【用途面積】'!$O69","v":0},null,null,"階別用途別床面積","-","5","-","47階",null,null,null,null,null,null,"階別用途別床面積-5-47階"]
[null,null,null,{"$f":"'2_入力シート【用途面積】'!$O70","v":0},{"$f":"'2_入力シート【用途面積】'!$O70","v":0},null,null,"階別用途別床面積","-","5","-","48階",null,null,null,null,null,null,"階別用途別床面積-5-48階"]
[null,null,null,{"$f":"'2_入力シート【用途面積】'!$O71","v":0},{"$f":"'2_入力シート【用途面積】'!$O71","v":0},null,null,"階別用途別床面積","-","5","-","49階",null,null,null,null,null,null,"階別用途別床面積-5-49階"]
[null,null,null,{"$f":"'2_入力シート【用途面積】'!$O72","v":0},{"$f":"'2_入力シート【用途面積】'!$O72","v":0},null,null,"階別用途別床面積","-","5","-","50階",null,null,null,null,null,null,"階別用途別床面積-5-50階"]
[null,null,null,{"$f":"'2_入力シート【用途面積】'!$Q$4","v":0},{"$f":"'2_入力シート【用途面積】'!$Q$4","v":0},null,null,"階別用途別床面積","-","6","-","大分類",null,null,null,null,null,null,"階別用途別床面積-6-大分類"]
[null,null,null,{"$f":"'2_入力シート【用途面積】'!$Q$7","v":0},{"$f":"'2_入力シート【用途面積】'!$Q$7","v":0},null,null,"階別用途別床面積","-","6","-","小分類",null,null,null,null,null,null,"階別用途別床面積-6-小分類"]
[null,null,null,{"$f":"'2_入力シート【用途面積】'!$Q14","v":0},{"$f":"'2_入力シート【用途面積】'!$Q14","v":0},null,null,"階別用途別床面積","-","6","-","地下1階",null,null,null,null,null,null,"階別用途別床面積-6-地下1階"]
[null,null,null,{"$f":"'2_入力シート【用途面積】'!$Q15","v":0},{"$f":"'2_入力シート【用途面積】'!$Q15","v":0},null,null,"階別用途別床面積","-","6","-","地下2階",null,null,null,null,null,null,"階別用途別床面積-6-地下2階"]
[null,null,null,{"$f":"'2_入力シート【用途面積】'!$Q16","v":0},{"$f":"'2_入力シート【用途面積】'!$Q16","v":0},null,null,"階別用途別床面積","-","6","-","地下3階",null,null,null,null,null,null,"階別用途別床面積-6-地下3階"]
[null,null,null,{"$f":"'2_入力シート【用途面積】'!$Q17","v":0},{"$f":"'2_入力シート【用途面積】'!$Q17","v":0},null,null,"階別用途別床面積","-","6","-","地下4階",null,null,null,null,null,null,"階別用途別床面積-6-地下4階"]
[null,null,null,{"$f":"'2_入力シート【用途面積】'!$Q18","v":0},{"$f":"'2_入力シート【用途面積】'!$Q18","v":0},null,null,"階別用途別床面積","-","6","-","塔屋 1階",null,null,null,null,null,null,"階別用途別床面積-6-塔屋 1階"]
[null,null,null,{"$f":"'2_入力シート【用途面積】'!$Q19","v":0},{"$f":"'2_入力シート【用途面積】'!$Q19","v":0},null,null,"階別用途別床面積","-","6","-","塔屋 2階",null,null,null,null,null,null,"階別用途別床面積-6-塔屋 2階"]
[null,null,null,{"$f":"'2_入力シート【用途面積】'!$Q20","v":0},{"$f":"'2_入力シート【用途面積】'!$Q20","v":0},null,null,"階別用途別床面積","-","6","-","塔屋 3階",null,null,null,null,null,null,"階別用途別床面積-6-塔屋 3階"]
[null,null,null,{"$f":"'2_入力シート【用途面積】'!$Q21","v":0},{"$f":"'2_入力シート【用途面積】'!$Q21","v":0},null,null,"階別用途別床面積","-","6","-","塔屋 4階",null,null,null,null,null,null,"階別用途別床面積-6-塔屋 4階"]
[null,null,null,{"$f":"'2_入力シート【用途面積】'!$Q22","v":0},{"$f":"'2_入力シート【用途面積】'!$Q22","v":0},null,null,"階別用途別床面積","-","6","-","塔屋 5階",null,null,null,null,null,null,"階別用途別床面積-6-塔屋 5階"]
[null,null,null,{"$f":"'2_入力シート【用途面積】'!$Q23","v":0},{"$f":"'2_入力シート【用途面積】'!$Q23","v":0},null,null,"階別用途別床面積","-","6","-","1階",null,null,null,null,null,null,"階別用途別床面積-6-1階"]
[null,null,null,{"$f":"'2_入力シート【用途面積】'!$Q24","v":0},{"$f":"'2_入力シート【用途面積】'!$Q24","v":0},null,null,"階別用途別床面積","-","6","-","2階",null,null,null,null,null,null,"階別用途別床面積-6-2階"]
[null,null,null,{"$f":"'2_入力シート【用途面積】'!$Q25","v":0},{"$f":"'2_入力シート【用途面積】'!$Q25","v":0},null,null,"階別用途別床面積","-","6","-","3階",null,null,null,null,null,null,"階別用途別床面積-6-3階"]
[null,null,null,{"$f":"'2_入力シート【用途面積】'!$Q26","v":0},{"$f":"'2_入力シート【用途面積】'!$Q26","v":0},null,null,"階別用途別床面積","-","6","-","4階",null,null,null,null,null,null,"階別用途別床面積-6-4階"]
[null,null,null,{"$f":"'2_入力シート【用途面積】'!$Q27","v":0},{"$f":"'2_入力シート【用途面積】'!$Q27","v":0},null,null,"階別用途別床面積","-","6","-","5階",null,null,null,null,null,null,"階別用途別床面積-6-5階"]
[null,null,null,{"$f":"'2_入力シート【用途面積】'!$Q28","v":0},{"$f":"'2_入力シート【用途面積】'!$Q28","v":0},null,null,"階別用途別床面積","-","6","-","6階",null,null,null,null,null,null,"階別用途別床面積-6-6階"]
[null,null,null,{"$f":"'2_入力シート【用途面積】'!$Q29","v":0},{"$f":"'2_入力シート【用途面積】'!$Q29","v":0},null,null,"階別用途別床面積","-","6","-","7階",null,null,null,null,null,null,"階別用途別床面積-6-7階"]
[null,null,null,{"$f":"'2_入力シート【用途面積】'!$Q30","v":0},{"$f":"'2_入力シート【用途面積】'!$Q30","v":0},null,null,"階別用途別床面積","-","6","-","8階",null,null,null,null,null,null,"階別用途別床面積-6-8階"]
[null,null,null,{"$f":"'2_入力シート【用途面積】'!$Q31","v":0},{"$f":"'2_入力シート【用途面積】'!$Q31","v":0},null,null,"階別用途別床面積","-","6","-","9階",null,null,null,null,null,null,"階別用途別床面積-6-9階"]
[null,null,null,{"$f":"'2_入力シート【用途面積】'!$Q32","v":0},{"$f":"'2_入力シート【用途面積】'!$Q32","v":0},null,null,"階別用途別床面積","-","6","-","10階",null,null,null,null,null,null,"階別用途別床面積-6-10階"]
[null,null,null,{"$f":"'2_入力シート【用途面積】'!$Q33","v":0},{"$f":"'2_入力シート【用途面積】'!$Q33","v":0},null,null,"階別用途別床面積","-","6","-","11階",null,null,null,null,null,null,"階別用途別床面積-6-11階"]
[null,null,null,{"$f":"'2_入力シート【用途面積】'!$Q34","v":0},{"$f":"'2_入力シート【用途面積】'!$Q34","v":0},null,null,"階別用途別床面積","-","6","-","12階",null,null,null,null,null,null,"階別用途別床面積-6-12階"]
[null,null,null,{"$f":"'2_入力シート【用途面積】'!$Q35","v":0},{"$f":"'2_入力シート【用途面積】'!$Q35","v":0},null,null,"階別用途別床面積","-","6","-","13階",null,null,null,null,null,null,"階別用途別床面積-6-13階"]
[null,null,null,{"$f":"'2_入力シート【用途面積】'!$Q36","v":0},{"$f":"'2_入力シート【用途面積】'!$Q36","v":0},null,null,"階別用途別床面積","-","6","-","14階",null,null,null,null,null,null,"階別用途別床面積-6-14階"]
[null,null,null,{"$f":"'2_入力シート【用途面積】'!$Q37","v":0},{"$f":"'2_入力シート【用途面積】'!$Q37","v":0},null,null,"階別用途別床面積","-","6","-","15階",null,null,null,null,null,null,"階別用途別床面積-6-15階"]
[null,null,null,{"$f":"'2_入力シート【用途面積】'!$Q38","v":0},{"$f":"'2_入力シート【用途面積】'!$Q38","v":0},null,null,"階別用途別床面積","-","6","-","16階",null,null,null,null,null,null,"階別用途別床面積-6-16階"]
[null,null,null,{"$f":"'2_入力シート【用途面積】'!$Q39","v":0},{"$f":"'2_入力シート【用途面積】'!$Q39","v":0},null,null,"階別用途別床面積","-","6","-","17階",null,null,null,null,null,null,"階別用途別床面積-6-17階"]
[null,null,null,{"$f":"'2_入力シート【用途面積】'!$Q40","v":0},{"$f":"'2_入力シート【用途面積】'!$Q40","v":0},null,null,"階別用途別床面積","-","6","-","18階",null,null,null,null,null,null,"階別用途別床面積-6-18階"]
[null,null,null,{"$f":"'2_入力シート【用途面積】'!$Q41","v":0},{"$f":"'2_入力シート【用途面積】'!$Q41","v":0},null,null,"階別用途別床面積","-","6","-","19階",null,null,null,null,null,null,"階別用途別床面積-6-19階"]
[null,null,null,{"$f":"'2_入力シート【用途面積】'!$Q42","v":0},{"$f":"'2_入力シート【用途面積】'!$Q42","v":0},null,null,"階別用途別床面積","-","6","-","20階",null,null,null,null,null,null,"階別用途別床面積-6-20階"]
[null,null,null,{"$f":"'2_入力シート【用途面積】'!$Q43","v":0},{"$f":"'2_入力シート【用途面積】'!$Q43","v":0},null,null,"階別用途別床面積","-","6","-","21階",null,null,null,null,null,null,{"$f":"CONCATENATE(G1692,H1692,I1692,J1692,K1692,L1692,M1692,N1692,O1692,P1692)","v":"階別用途別床面積-6-21階"}]
[null,null,null,{"$f":"'2_入力シート【用途面積】'!$Q44","v":0},{"$f":"'2_入力シート【用途面積】'!$Q44","v":0},null,null,"階別用途別床面積","-","6","-","22階",null,null,null,null,null,null,"階別用途別床面積-6-22階"]
[null,null,null,{"$f":"'2_入力シート【用途面積】'!$Q45","v":0},{"$f":"'2_入力シート【用途面積】'!$Q45","v":0},null,null,"階別用途別床面積","-","6","-","23階",null,null,null,null,null,null,"階別用途別床面積-6-23階"]
[null,null,null,{"$f":"'2_入力シート【用途面積】'!$Q46","v":0},{"$f":"'2_入力シート【用途面積】'!$Q46","v":0},null,null,"階別用途別床面積","-","6","-","24階",null,null,null,null,null,null,"階別用途別床面積-6-24階"]
[null,null,null,{"$f":"'2_入力シート【用途面積】'!$Q47","v":0},{"$f":"'2_入力シート【用途面積】'!$Q47","v":0},null,null,"階別用途別床面積","-","6","-","25階",null,null,null,null,null,null,"階別用途別床面積-6-25階"]
[null,null,null,{"$f":"'2_入力シート【用途面積】'!$Q48","v":0},{"$f":"'2_入力シート【用途面積】'!$Q48","v":0},null,null,"階別用途別床面積","-","6","-","26階",null,null,null,null,null,null,"階別用途別床面積-6-26階"]
[null,null,null,{"$f":"'2_入力シート【用途面積】'!$Q49","v":0},{"$f":"'2_入力シート【用途面積】'!$Q49","v":0},null,null,"階別用途別床面積","-","6","-","27階",null,null,null,null,null,null,"階別用途別床面積-6-27階"]
[null,null,null,{"$f":"'2_入力シート【用途面積】'!$Q50","v":0},{"$f":"'2_入力シート【用途面積】'!$Q50","v":0},null,null,"階別用途別床面積","-","6","-","28階",null,null,null,null,null,null,"階別用途別床面積-6-28階"]
[null,null,null,{"$f":"'2_入力シート【用途面積】'!$Q51","v":0},{"$f":"'2_入力シート【用途面積】'!$Q51","v":0},null,null,"階別用途別床面積","-","6","-","29階",null,null,null,null,null,null,"階別用途別床面積-6-29階"]
[null,null,null,{"$f":"'2_入力シート【用途面積】'!$Q52","v":0},{"$f":"'2_入力シート【用途面積】'!$Q52","v":0},null,null,"階別用途別床面積","-","6","-","30階",null,null,null,null,null,null,"階別用途別床面積-6-30階"]
[null,null,null,{"$f":"'2_入力シート【用途面積】'!$Q53","v":0},{"$f":"'2_入力シート【用途面積】'!$Q53","v":0},null,null,"階別用途別床面積","-","6","-","31階",null,null,null,null,null,null,"階別用途別床面積-6-31階"]
[null,null,null,{"$f":"'2_入力シート【用途面積】'!$Q54","v":0},{"$f":"'2_入力シート【用途面積】'!$Q54","v":0},null,null,"階別用途別床面積","-","6","-","32階",null,null,null,null,null,null,"階別用途別床面積-6-32階"]
[null,null,null,{"$f":"'2_入力シート【用途面積】'!$Q55","v":0},{"$f":"'2_入力シート【用途面積】'!$Q55","v":0},null,null,"階別用途別床面積","-","6","-","33階",null,null,null,null,null,null,"階別用途別床面積-6-33階"]
[null,null,null,{"$f":"'2_入力シート【用途面積】'!$Q56","v":0},{"$f":"'2_入力シート【用途面積】'!$Q56","v":0},null,null,"階別用途別床面積","-","6","-","34階",null,null,null,null,null,null,"階別用途別床面積-6-34階"]
[null,null,null,{"$f":"'2_入力シート【用途面積】'!$Q57","v":0},{"$f":"'2_入力シート【用途面積】'!$Q57","v":0},null,null,"階別用途別床面積","-","6","-","35階",null,null,null,null,null,null,"階別用途別床面積-6-35階"]
[null,null,null,{"$f":"'2_入力シート【用途面積】'!$Q58","v":0},{"$f":"'2_入力シート【用途面積】'!$Q58","v":0},null,null,"階別用途別床面積","-","6","-","36階",null,null,null,null,null,null,"階別用途別床面積-6-36階"]
[null,null,null,{"$f":"'2_入力シート【用途面積】'!$Q59","v":0},{"$f":"'2_入力シート【用途面積】'!$Q59","v":0},null,null,"階別用途別床面積","-","6","-","37階",null,null,null,null,null,null,"階別用途別床面積-6-37階"]
[null,null,null,{"$f":"'2_入力シート【用途面積】'!$Q60","v":0},{"$f":"'2_入力シート【用途面積】'!$Q60","v":0},null,null,"階別用途別床面積","-","6","-","38階",null,null,null,null,null,null,"階別用途別床面積-6-38階"]
[null,null,null,{"$f":"'2_入力シート【用途面積】'!$Q61","v":0},{"$f":"'2_入力シート【用途面積】'!$Q61","v":0},null,null,"階別用途別床面積","-","6","-","39階",null,null,null,null,null,null,"階別用途別床面積-6-39階"]
[null,null,null,{"$f":"'2_入力シート【用途面積】'!$Q62","v":0},{"$f":"'2_入力シート【用途面積】'!$Q62","v":0},null,null,"階別用途別床面積","-","6","-","40階",null,null,null,null,null,null,"階別用途別床面積-6-40階"]
[null,null,null,{"$f":"'2_入力シート【用途面積】'!$Q63","v":0},{"$f":"'2_入力シート【用途面積】'!$Q63","v":0},null,null,"階別用途別床面積","-","6","-","41階",null,null,null,null,null,null,"階別用途別床面積-6-41階"]
[null,null,null,{"$f":"'2_入力シート【用途面積】'!$Q64","v":0},{"$f":"'2_入力シート【用途面積】'!$Q64","v":0},null,null,"階別用途別床面積","-","6","-","42階",null,null,null,null,null,null,"階別用途別床面積-6-42階"]
[null,null,null,{"$f":"'2_入力シート【用途面積】'!$Q65","v":0},{"$f":"'2_入力シート【用途面積】'!$Q65","v":0},null,null,"階別用途別床面積","-","6","-","43階",null,null,null,null,null,null,"階別用途別床面積-6-43階"]
[null,null,null,{"$f":"'2_入力シート【用途面積】'!$Q66","v":0},{"$f":"'2_入力シート【用途面積】'!$Q66","v":0},null,null,"階別用途別床面積","-","6","-","44階",null,null,null,null,null,null,"階別用途別床面積-6-44階"]
[null,null,null,{"$f":"'2_入力シート【用途面積】'!$Q67","v":0},{"$f":"'2_入力シート【用途面積】'!$Q67","v":0},null,null,"階別用途別床面積","-","6","-","45階",null,null,null,null,null,null,"階別用途別床面積-6-45階"]
[null,null,null,{"$f":"'2_入力シート【用途面積】'!$Q68","v":0},{"$f":"'2_入力シート【用途面積】'!$Q68","v":0},null,null,"階別用途別床面積","-","6","-","46階",null,null,null,null,null,null,"階別用途別床面積-6-46階"]
[null,null,null,{"$f":"'2_入力シート【用途面積】'!$Q69","v":0},{"$f":"'2_入力シート【用途面積】'!$Q69","v":0},null,null,"階別用途別床面積","-","6","-","47階",null,null,null,null,null,null,"階別用途別床面積-6-47階"]
[null,null,null,{"$f":"'2_入力シート【用途面積】'!$Q70","v":0},{"$f":"'2_入力シート【用途面積】'!$Q70","v":0},null,null,"階別用途別床面積","-","6","-","48階",null,null,null,null,null,null,"階別用途別床面積-6-48階"]
[null,null,null,{"$f":"'2_入力シート【用途面積】'!$Q71","v":0},{"$f":"'2_入力シート【用途面積】'!$Q71","v":0},null,null,"階別用途別床面積","-","6","-","49階",null,null,null,null,null,null,"階別用途別床面積-6-49階"]
[null,null,null,{"$f":"'2_入力シート【用途面積】'!$Q72","v":0},{"$f":"'2_入力シート【用途面積】'!$Q72","v":0},null,null,"階別用途別床面積","-","6","-","50階",null,null,null,null,null,null,"階別用途別床面積-6-50階"]
[null,null,null,{"$f":"'2_入力シート【用途面積】'!$S$4","v":0},{"$f":"'2_入力シート【用途面積】'!$S$4","v":0},null,null,"階別用途別床面積","-","7","-","大分類",null,null,null,null,null,null,"階別用途別床面積-7-大分類"]
[null,null,null,{"$f":"'2_入力シート【用途面積】'!$S$7","v":0},{"$f":"'2_入力シート【用途面積】'!$S$7","v":0},null,null,"階別用途別床面積","-","7","-","小分類",null,null,null,null,null,null,"階別用途別床面積-7-小分類"]
[null,null,null,{"$f":"'2_入力シート【用途面積】'!$S14","v":0},{"$f":"'2_入力シート【用途面積】'!$S14","v":0},null,null,"階別用途別床面積","-","7","-","地下1階",null,null,null,null,null,null,"階別用途別床面積-7-地下1階"]
[null,null,null,{"$f":"'2_入力シート【用途面積】'!$S15","v":0},{"$f":"'2_入力シート【用途面積】'!$S15","v":0},null,null,"階別用途別床面積","-","7","-","地下2階",null,null,null,null,null,null,"階別用途別床面積-7-地下2階"]
[null,null,null,{"$f":"'2_入力シート【用途面積】'!$S16","v":0},{"$f":"'2_入力シート【用途面積】'!$S16","v":0},null,null,"階別用途別床面積","-","7","-","地下3階",null,null,null,null,null,null,"階別用途別床面積-7-地下3階"]
[null,null,null,{"$f":"'2_入力シート【用途面積】'!$S17","v":0},{"$f":"'2_入力シート【用途面積】'!$S17","v":0},null,null,"階別用途別床面積","-","7","-","地下4階",null,null,null,null,null,null,"階別用途別床面積-7-地下4階"]
[null,null,null,{"$f":"'2_入力シート【用途面積】'!$S18","v":0},{"$f":"'2_入力シート【用途面積】'!$S18","v":0},null,null,"階別用途別床面積","-","7","-","塔屋 1階",null,null,null,null,null,null,"階別用途別床面積-7-塔屋 1階"]
[null,null,null,{"$f":"'2_入力シート【用途面積】'!$S19","v":0},{"$f":"'2_入力シート【用途面積】'!$S19","v":0},null,null,"階別用途別床面積","-","7","-","塔屋 2階",null,null,null,null,null,null,"階別用途別床面積-7-塔屋 2階"]
[null,null,null,{"$f":"'2_入力シート【用途面積】'!$S20","v":0},{"$f":"'2_入力シート【用途面積】'!$S20","v":0},null,null,"階別用途別床面積","-","7","-","塔屋 3階",null,null,null,null,null,null,"階別用途別床面積-7-塔屋 3階"]
[null,null,null,{"$f":"'2_入力シート【用途面積】'!$S21","v":0},{"$f":"'2_入力シート【用途面積】'!$S21","v":0},null,null,"階別用途別床面積","-","7","-","塔屋 4階",null,null,null,null,null,null,"階別用途別床面積-7-塔屋 4階"]
[null,null,null,{"$f":"'2_入力シート【用途面積】'!$S22","v":0},{"$f":"'2_入力シート【用途面積】'!$S22","v":0},null,null,"階別用途別床面積","-","7","-","塔屋 5階",null,null,null,null,null,null,"階別用途別床面積-7-塔屋 5階"]
[null,null,null,{"$f":"'2_入力シート【用途面積】'!$S23","v":0},{"$f":"'2_入力シート【用途面積】'!$S23","v":0},null,null,"階別用途別床面積","-","7","-","1階",null,null,null,null,null,null,"階別用途別床面積-7-1階"]
[null,null,null,{"$f":"'2_入力シート【用途面積】'!$S24","v":0},{"$f":"'2_入力シート【用途面積】'!$S24","v":0},null,null,"階別用途別床面積","-","7","-","2階",null,null,null,null,null,null,"階別用途別床面積-7-2階"]
[null,null,null,{"$f":"'2_入力シート【用途面積】'!$S25","v":0},{"$f":"'2_入力シート【用途面積】'!$S25","v":0},null,null,"階別用途別床面積","-","7","-","3階",null,null,null,null,null,null,"階別用途別床面積-7-3階"]
[null,null,null,{"$f":"'2_入力シート【用途面積】'!$S26","v":0},{"$f":"'2_入力シート【用途面積】'!$S26","v":0},null,null,"階別用途別床面積","-","7","-","4階",null,null,null,null,null,null,"階別用途別床面積-7-4階"]
[null,null,null,{"$f":"'2_入力シート【用途面積】'!$S27","v":0},{"$f":"'2_入力シート【用途面積】'!$S27","v":0},null,null,"階別用途別床面積","-","7","-","5階",null,null,null,null,null,null,"階別用途別床面積-7-5階"]
[null,null,null,{"$f":"'2_入力シート【用途面積】'!$S28","v":0},{"$f":"'2_入力シート【用途面積】'!$S28","v":0},null,null,"階別用途別床面積","-","7","-","6階",null,null,null,null,null,null,"階別用途別床面積-7-6階"]
[null,null,null,{"$f":"'2_入力シート【用途面積】'!$S29","v":0},{"$f":"'2_入力シート【用途面積】'!$S29","v":0},null,null,"階別用途別床面積","-","7","-","7階",null,null,null,null,null,null,"階別用途別床面積-7-7階"]
[null,null,null,{"$f":"'2_入力シート【用途面積】'!$S30","v":0},{"$f":"'2_入力シート【用途面積】'!$S30","v":0},null,null,"階別用途別床面積","-","7","-","8階",null,null,null,null,null,null,"階別用途別床面積-7-8階"]
[null,null,null,{"$f":"'2_入力シート【用途面積】'!$S31","v":0},{"$f":"'2_入力シート【用途面積】'!$S31","v":0},null,null,"階別用途別床面積","-","7","-","9階",null,null,null,null,null,null,"階別用途別床面積-7-9階"]
[null,null,null,{"$f":"'2_入力シート【用途面積】'!$S32","v":0},{"$f":"'2_入力シート【用途面積】'!$S32","v":0},null,null,"階別用途別床面積","-","7","-","10階",null,null,null,null,null,null,"階別用途別床面積-7-10階"]
[null,null,null,{"$f":"'2_入力シート【用途面積】'!$S33","v":0},{"$f":"'2_入力シート【用途面積】'!$S33","v":0},null,null,"階別用途別床面積","-","7","-","11階",null,null,null,null,null,null,"階別用途別床面積-7-11階"]
[null,null,null,{"$f":"'2_入力シート【用途面積】'!$S34","v":0},{"$f":"'2_入力シート【用途面積】'!$S34","v":0},null,null,"階別用途別床面積","-","7","-","12階",null,null,null,null,null,null,"階別用途別床面積-7-12階"]
[null,null,null,{"$f":"'2_入力シート【用途面積】'!$S35","v":0},{"$f":"'2_入力シート【用途面積】'!$S35","v":0},null,null,"階別用途別床面積","-","7","-","13階",null,null,null,null,null,null,"階別用途別床面積-7-13階"]
[null,null,null,{"$f":"'2_入力シート【用途面積】'!$S36","v":0},{"$f":"'2_入力シート【用途面積】'!$S36","v":0},null,null,"階別用途別床面積","-","7","-","14階",null,null,null,null,null,null,"階別用途別床面積-7-14階"]
[null,null,null,{"$f":"'2_入力シート【用途面積】'!$S37","v":0},{"$f":"'2_入力シート【用途面積】'!$S37","v":0},null,null,"階別用途別床面積","-","7","-","15階",null,null,null,null,null,null,"階別用途別床面積-7-15階"]
[null,null,null,{"$f":"'2_入力シート【用途面積】'!$S38","v":0},{"$f":"'2_入力シート【用途面積】'!$S38","v":0},null,null,"階別用途別床面積","-","7","-","16階",null,null,null,null,null,null,"階別用途別床面積-7-16階"]
[null,null,null,{"$f":"'2_入力シート【用途面積】'!$S39","v":0},{"$f":"'2_入力シート【用途面積】'!$S39","v":0},null,null,"階別用途別床面積","-","7","-","17階",null,null,null,null,null,null,"階別用途別床面積-7-17階"]
[null,null,null,{"$f":"'2_入力シート【用途面積】'!$S40","v":0},{"$f":"'2_入力シート【用途面積】'!$S40","v":0},null,null,"階別用途別床面積","-","7","-","18階",null,null,null,null,null,null,"階別用途別床面積-7-18階"]
[null,null,null,{"$f":"'2_入力シート【用途面積】'!$S41","v":0},{"$f":"'2_入力シート【用途面積】'!$S41","v":0},null,null,"階別用途別床面積","-","7","-","19階",null,null,null,null,null,null,"階別用途別床面積-7-19階"]
[null,null,null,{"$f":"'2_入力シート【用途面積】'!$S42","v":0},{"$f":"'2_入力シート【用途面積】'!$S42","v":0},null,null,"階別用途別床面積","-","7","-","20階",null,null,null,null,null,null,"階別用途別床面積-7-20階"]
[null,null,null,{"$f":"'2_入力シート【用途面積】'!$S43","v":0},{"$f":"'2_入力シート【用途面積】'!$S43","v":0},null,null,"階別用途別床面積","-","7","-","21階",null,null,null,null,null,null,"階別用途別床面積-7-21階"]
[null,null,null,{"$f":"'2_入力シート【用途面積】'!$S44","v":0},{"$f":"'2_入力シート【用途面積】'!$S44","v":0},null,null,"階別用途別床面積","-","7","-","22階",null,null,null,null,null,null,"階別用途別床面積-7-22階"]
[null,null,null,{"$f":"'2_入力シート【用途面積】'!$S45","v":0},{"$f":"'2_入力シート【用途面積】'!$S45","v":0},null,null,"階別用途別床面積","-","7","-","23階",null,null,null,null,null,null,"階別用途別床面積-7-23階"]
[null,null,null,{"$f":"'2_入力シート【用途面積】'!$S46","v":0},{"$f":"'2_入力シート【用途面積】'!$S46","v":0},null,null,"階別用途別床面積","-","7","-","24階",null,null,null,null,null,null,{"$f":"CONCATENATE(G1756,H1756,I1756,J1756,K1756,L1756,M1756,N1756,O1756,P1756)","v":"階別用途別床面積-7-24階"}]
[null,null,null,{"$f":"'2_入力シート【用途面積】'!$S47","v":0},{"$f":"'2_入力シート【用途面積】'!$S47","v":0},null,null,"階別用途別床面積","-","7","-","25階",null,null,null,null,null,null,"階別用途別床面積-7-25階"]
[null,null,null,{"$f":"'2_入力シート【用途面積】'!$S48","v":0},{"$f":"'2_入力シート【用途面積】'!$S48","v":0},null,null,"階別用途別床面積","-","7","-","26階",null,null,null,null,null,null,"階別用途別床面積-7-26階"]
[null,null,null,{"$f":"'2_入力シート【用途面積】'!$S49","v":0},{"$f":"'2_入力シート【用途面積】'!$S49","v":0},null,null,"階別用途別床面積","-","7","-","27階",null,null,null,null,null,null,"階別用途別床面積-7-27階"]
[null,null,null,{"$f":"'2_入力シート【用途面積】'!$S50","v":0},{"$f":"'2_入力シート【用途面積】'!$S50","v":0},null,null,"階別用途別床面積","-","7","-","28階",null,null,null,null,null,null,"階別用途別床面積-7-28階"]
[null,null,null,{"$f":"'2_入力シート【用途面積】'!$S51","v":0},{"$f":"'2_入力シート【用途面積】'!$S51","v":0},null,null,"階別用途別床面積","-","7","-","29階",null,null,null,null,null,null,"階別用途別床面積-7-29階"]
[null,null,null,{"$f":"'2_入力シート【用途面積】'!$S52","v":0},{"$f":"'2_入力シート【用途面積】'!$S52","v":0},null,null,"階別用途別床面積","-","7","-","30階",null,null,null,null,null,null,"階別用途別床面積-7-30階"]
[null,null,null,{"$f":"'2_入力シート【用途面積】'!$S53","v":0},{"$f":"'2_入力シート【用途面積】'!$S53","v":0},null,null,"階別用途別床面積","-","7","-","31階",null,null,null,null,null,null,"階別用途別床面積-7-31階"]
[null,null,null,{"$f":"'2_入力シート【用途面積】'!$S54","v":0},{"$f":"'2_入力シート【用途面積】'!$S54","v":0},null,null,"階別用途別床面積","-","7","-","32階",null,null,null,null,null,null,"階別用途別床面積-7-32階"]
[null,null,null,{"$f":"'2_入力シート【用途面積】'!$S55","v":0},{"$f":"'2_入力シート【用途面積】'!$S55","v":0},null,null,"階別用途別床面積","-","7","-","33階",null,null,null,null,null,null,"階別用途別床面積-7-33階"]
[null,null,null,{"$f":"'2_入力シート【用途面積】'!$S56","v":0},{"$f":"'2_入力シート【用途面積】'!$S56","v":0},null,null,"階別用途別床面積","-","7","-","34階",null,null,null,null,null,null,"階別用途別床面積-7-34階"]
[null,null,null,{"$f":"'2_入力シート【用途面積】'!$S57","v":0},{"$f":"'2_入力シート【用途面積】'!$S57","v":0},null,null,"階別用途別床面積","-","7","-","35階",null,null,null,null,null,null,"階別用途別床面積-7-35階"]
[null,null,null,{"$f":"'2_入力シート【用途面積】'!$S58","v":0},{"$f":"'2_入力シート【用途面積】'!$S58","v":0},null,null,"階別用途別床面積","-","7","-","36階",null,null,null,null,null,null,"階別用途別床面積-7-36階"]
[null,null,null,{"$f":"'2_入力シート【用途面積】'!$S59","v":0},{"$f":"'2_入力シート【用途面積】'!$S59","v":0},null,null,"階別用途別床面積","-","7","-","37階",null,null,null,null,null,null,"階別用途別床面積-7-37階"]
[null,null,null,{"$f":"'2_入力シート【用途面積】'!$S60","v":0},{"$f":"'2_入力シート【用途面積】'!$S60","v":0},null,null,"階別用途別床面積","-","7","-","38階",null,null,null,null,null,null,"階別用途別床面積-7-38階"]
[null,null,null,{"$f":"'2_入力シート【用途面積】'!$S61","v":0},{"$f":"'2_入力シート【用途面積】'!$S61","v":0},null,null,"階別用途別床面積","-","7","-","39階",null,null,null,null,null,null,"階別用途別床面積-7-39階"]
[null,null,null,{"$f":"'2_入力シート【用途面積】'!$S62","v":0},{"$f":"'2_入力シート【用途面積】'!$S62","v":0},null,null,"階別用途別床面積","-","7","-","40階",null,null,null,null,null,null,"階別用途別床面積-7-40階"]
[null,null,null,{"$f":"'2_入力シート【用途面積】'!$S63","v":0},{"$f":"'2_入力シート【用途面積】'!$S63","v":0},null,null,"階別用途別床面積","-","7","-","41階",null,null,null,null,null,null,"階別用途別床面積-7-41階"]
[null,null,null,{"$f":"'2_入力シート【用途面積】'!$S64","v":0},{"$f":"'2_入力シート【用途面積】'!$S64","v":0},null,null,"階別用途別床面積","-","7","-","42階",null,null,null,null,null,null,"階別用途別床面積-7-42階"]
[null,null,null,{"$f":"'2_入力シート【用途面積】'!$S65","v":0},{"$f":"'2_入力シート【用途面積】'!$S65","v":0},null,null,"階別用途別床面積","-","7","-","43階",null,null,null,null,null,null,"階別用途別床面積-7-43階"]
[null,null,null,{"$f":"'2_入力シート【用途面積】'!$S66","v":0},{"$f":"'2_入力シート【用途面積】'!$S66","v":0},null,null,"階別用途別床面積","-","7","-","44階",null,null,null,null,null,null,"階別用途別床面積-7-44階"]
[null,null,null,{"$f":"'2_入力シート【用途面積】'!$S67","v":0},{"$f":"'2_入力シート【用途面積】'!$S67","v":0},null,null,"階別用途別床面積","-","7","-","45階",null,null,null,null,null,null,"階別用途別床面積-7-45階"]
[null,null,null,{"$f":"'2_入力シート【用途面積】'!$S68","v":0},{"$f":"'2_入力シート【用途面積】'!$S68","v":0},null,null,"階別用途別床面積","-","7","-","46階",null,null,null,null,null,null,"階別用途別床面積-7-46階"]
[null,null,null,{"$f":"'2_入力シート【用途面積】'!$S69","v":0},{"$f":"'2_入力シート【用途面積】'!$S69","v":0},null,null,"階別用途別床面積","-","7","-","47階",null,null,null,null,null,null,"階別用途別床面積-7-47階"]
[null,null,null,{"$f":"'2_入力シート【用途面積】'!$S70","v":0},{"$f":"'2_入力シート【用途面積】'!$S70","v":0},null,null,"階別用途別床面積","-","7","-","48階",null,null,null,null,null,null,"階別用途別床面積-7-48階"]
[null,null,null,{"$f":"'2_入力シート【用途面積】'!$S71","v":0},{"$f":"'2_入力シート【用途面積】'!$S71","v":0},null,null,"階別用途別床面積","-","7","-","49階",null,null,null,null,null,null,"階別用途別床面積-7-49階"]
[null,null,null,{"$f":"'2_入力シート【用途面積】'!$S72","v":0},{"$f":"'2_入力シート【用途面積】'!$S72","v":0},null,null,"階別用途別床面積","-","7","-","50階",null,null,null,null,null,null,"階別用途別床面積-7-50階"]
[null,null,null,{"$f":"'3_入力シート【写真】'!$Z$17","v":0},{"$f":"'3_入力シート【写真】'!$Z$17","v":0},null,null,"関係写真-1-特記事項(自由記入)_1",null,null,null,null,null,null,null,null,null,null,"関係写真-1-特記事項(自由記入)_1"]
[null,null,null,{"$f":"'3_入力シート【写真】'!$Z$40","v":0},{"$f":"'3_入力シート【写真】'!$Z$40","v":0},null,null,"関係写真-1-特記事項(自由記入)_2",null,null,null,null,null,null,null,null,null,null,"関係写真-1-特記事項(自由記入)_2"]
[null,null,null,{"$f":"'3_入力シート【写真】'!$Z$76","v":0},{"$f":"'3_入力シート【写真】'!$Z$76","v":0},null,null,"関係写真-2-特記事項(自由記入)_1",null,null,null,null,null,null,null,null,null,null,"関係写真-2-特記事項(自由記入)_1"]
[null,null,null,{"$f":"'3_入力シート【写真】'!$Z$99","v":0},{"$f":"'3_入力シート【写真】'!$Z$99","v":0},null,null,"関係写真-2-特記事項(自由記入)_2",null,null,null,null,null,null,null,null,null,null,"関係写真-2-特記事項(自由記入)_2"]
[null,null,null,{"$f":"'3_入力シート【写真】'!$Z$136","v":0},{"$f":"'3_入力シート【写真】'!$Z$136","v":0},null,null,"関係写真-3-特記事項(自由記入)_1",null,null,null,null,null,null,null,null,null,null,"関係写真-3-特記事項(自由記入)_1"]
[null,null,null,{"$f":"'3_入力シート【写真】'!$Z$159","v":0},{"$f":"'3_入力シート【写真】'!$Z$159","v":0},null,null,"関係写真-3-特記事項(自由記入)_2",null,null,null,null,null,null,null,null,null,null,"関係写真-3-特記事項(自由記入)_2"]
[null,null,null,{"$f":"'3_入力シート【写真】'!$Z$196","v":0},{"$f":"'3_入力シート【写真】'!$Z$196","v":0},null,null,"関係写真-4-特記事項(自由記入)_1",null,null,null,null,null,null,null,null,null,null,"関係写真-4-特記事項(自由記入)_1"]
[null,null,null,{"$f":"'3_入力シート【写真】'!$Z$219","v":0},{"$f":"'3_入力シート【写真】'!$Z$219","v":0},null,null,"関係写真-4-特記事項(自由記入)_2",null,null,null,null,null,null,null,null,null,null,"関係写真-4-特記事項(自由記入)_2"]
[null,null,null,{"$f":"'3_入力シート【写真】'!$Z$256","v":0},{"$f":"'3_入力シート【写真】'!$Z$256","v":0},null,null,"関係写真-5-特記事項(自由記入)_1",null,null,null,null,null,null,null,null,null,null,"関係写真-5-特記事項(自由記入)_1"]
[null,null,null,{"$f":"'3_入力シート【写真】'!$Z$279","v":0},{"$f":"'3_入力シート【写真】'!$Z$279","v":0},null,null,"関係写真-5-特記事項(自由記入)_2",null,null,null,null,null,null,null,null,null,null,"関係写真-5-特記事項(自由記入)_2"]
[null,null,null,{"$f":"'3_入力シート【写真】'!$Z$316","v":0},{"$f":"'3_入力シート【写真】'!$Z$316","v":0},null,null,"関係写真-6-特記事項(自由記入)_1",null,null,null,null,null,null,null,null,null,null,"関係写真-6-特記事項(自由記入)_1"]
[null,null,null,{"$f":"'3_入力シート【写真】'!$Z$339","v":0},{"$f":"'3_入力シート【写真】'!$Z$339","v":0},null,null,"関係写真-6-特記事項(自由記入)_2",null,null,null,null,null,null,null,null,null,null,"関係写真-6-特記事項(自由記入)_2"]
[null,null,null,{"$f":"'3_入力シート【写真】'!$Z$376","v":0},{"$f":"'3_入力シート【写真】'!$Z$376","v":0},null,null,"関係写真-7-特記事項(自由記入)_1",null,null,null,null,null,null,null,null,null,null,"関係写真-7-特記事項(自由記入)_1"]
[null,null,null,{"$f":"'3_入力シート【写真】'!$Z$399","v":0},{"$f":"'3_入力シート【写真】'!$Z$399","v":0},null,null,"関係写真-7-特記事項(自由記入)_2",null,null,null,null,null,null,null,null,null,null,"関係写真-7-特記事項(自由記入)_2"]
[null,null,null,{"$f":"'3_入力シート【写真】'!$Z$436","v":0},{"$f":"'3_入力シート【写真】'!$Z$436","v":0},null,null,"関係写真-8-特記事項(自由記入)_1",null,null,null,null,null,null,null,null,null,null,"関係写真-8-特記事項(自由記入)_1"]
[null,null,null,{"$f":"'3_入力シート【写真】'!$Z$459","v":0},{"$f":"'3_入力シート【写真】'!$Z$459","v":0},null,null,"関係写真-8-特記事項(自由記入)_2",null,null,null,null,null,null,null,null,null,null,"関係写真-8-特記事項(自由記入)_2"]
[null,null,null,{"$f":"'3_入力シート【写真】'!$Z$496","v":0},{"$f":"'3_入力シート【写真】'!$Z$496","v":0},null,null,"関係写真-9-特記事項(自由記入)_1",null,null,null,null,null,null,null,null,null,null,"関係写真-9-特記事項(自由記入)_1"]
[null,null,null,{"$f":"'3_入力シート【写真】'!$Z$519","v":0},{"$f":"'3_入力シート【写真】'!$Z$519","v":0},null,null,"関係写真-9-特記事項(自由記入)_2",null,null,null,null,null,null,null,null,null,null,"関係写真-9-特記事項(自由記入)_2"]
[null,null,null,{"$f":"'3_入力シート【写真】'!$Z$556","v":0},{"$f":"'3_入力シート【写真】'!$Z$556","v":0},null,null,"関係写真-10-特記事項(自由記入)_1",null,null,null,null,null,null,null,null,null,null,"関係写真-10-特記事項(自由記入)_1"]
[null,null,null,{"$f":"'3_入力シート【写真】'!$Z$579","v":0},{"$f":"'3_入力シート【写真】'!$Z$579","v":0},null,null,"関係写真-10-特記事項(自由記入)_2",null,null,null,null,null,null,null,null,null,null,"関係写真-10-特記事項(自由記入)_2"]
[null,null,null,{"$f":"'4_入力シート【図面】'!$A$2","v":0},{"$f":"'4_入力シート【図面】'!$A$2","v":0},null,null,"調査結果図-1-自由入力",null,null,null,null,null,null,null,null,null,null,"調査結果図-1-自由入力"]

{"sheet":"CSVシート","index":8,"n_rows":2,"n_cols":1800,"rows_kept":2,"cut":false,"hidden":true,"merged":[]}
["0行政所管庁(初期値固定)","0報告-和暦","0報告-年","0報告-報告種別","0報告日-令和","0報告日-年","0報告日-月","0報告日-日","1報告対象建築物-ID-1","1報告対象建築物-ID-2","1報告対象建築物-ID-3","1報告対象建築物-建築名称-フリガナ","1報告対象建築物-建築名称-建築名称","1報告対象建築物-建物所在地-都道府県","1報告対象建築物-建物所在地-市郡","1報告対象建築物-建物所在地-区町村","1報告対象建築物-建物所在地-大字・町名","1報告対象建築物-建物所在地-番地など","2報告内容に関する問合せ先-法人名-フリガナ","2報告内容に関する問合せ先-法人名-法人名","2報告内容に関する問合せ先-肩書-フリガナ","2報告内容に関する問合せ先-肩書-肩書","2報告内容に関する問合せ先-氏名-フリガナ","2報告内容に関する問合せ先-氏名-氏名","2報告内容に関する問合せ先-郵便番号","2報告内容に関する問合せ先-住所","2報告内容に関する問合せ先-電話番号","2報告内容に関する問合せ先-FAX番号","2報告内容に関する問合せ先-メールアドレス（半角）","3所有者-所有者氏名-法人名フリガナ","3所有者-所有者氏名-法人名","3所有者-所有者氏名-肩書フリガナ","3所有者-所有者氏名-肩書","3所有者-所有者氏名-氏名フリガナ","3所有者-所有者氏名-氏名","3所有者-郵便番号","3所有者-住所","3所有者-電話番号","4管理者-所有者同一と同一チェック","4管理者-管理者氏名-法人名フリガナ","4管理者-管理者氏名-法人名","4管理者-管理者氏名-肩書フリガナ","4管理者-管理者氏名-肩書","4管理者-管理者氏名-氏名フリガナ","4管理者-管理者氏名-氏名","4管理者-郵便番号","4管理者-住所","4管理者-電話番号","5代表となる調査者-資格-資格名称","5代表となる調査者-資格-建築士-登録","5代表となる調査者-資格-建築士-号","5代表となる調査者-資格-特定建築物調査員-号","5代表となる調査者-氏名-フリガナ","5代表となる調査者-氏名-氏名","5代表となる調査者-勤務先-名称","5代表となる調査者-勤務先-事務所登録-建築士事務所","5代表となる調査者-勤務先-事務所登録-知事登録","5代表となる調査者-勤務先-事務所登録-号","5代表となる調査者-勤務先郵便番号","5代表となる調査者-勤務先-所在地","5代表となる調査者-勤務先-電話番号","6その他の調査者1-代表となる調査者と勤務先が同じ1-","6その他の調査者1-資格-資格名称","6その他の調査者1-資格-建築士-登録","6その他の調査者1-資格-建築士-号","6その他の調査者1-資格-特定建築物調査員","6その他の調査者1-氏名-フリガナ","6その他の調査者1-氏名-氏名","6その他の調査者1-勤務先-名称","6その他の調査者1-勤務先-事務所登録-建築士事務所","6その他の調査者1-勤務先-事務所登録-知事登録","6その他の調査者1-勤務先-事務所登録-号","6その他の調査者1-勤務先-郵便番号","6その他の調査者1-勤務先-所在地","6その他の調査者1-勤務先-電話番号","7その他の調査者2-代表となる調査者と勤務先が同じ","7その他の調査者2-資格-資格名称","7その他の調査者2-資格-建築士-登録","7その他の調査者2-資格-建築士-号","7その他の調査者2-資格-特定建築物調査員-号","7その他の調査者2-氏名-フリガナ","7その他の調査者2-氏名-氏名","7その他の調査者2-名称","7その他の調査者2-事務所登録-","7その他の調査者2-事務所登録-知事登録","7その他の調査者2-事務所登録-号","7その他の調査者2-郵便番号","7その他の調査者2-所在地","7その他の調査者2-電話番号","8敷地の位置-防火地域等-防火地域等 1","8敷地の位置-防火地域等-防火地域等 2","8敷地の位置-防火地域等-防火地域等 3","8敷地の位置-防火地域等-その他","8敷地の位置-用途地域-用途地域 1","8敷地の位置-用途地域-用途地域 2","8敷地の位置-用途地域-用途地域 3","9建物及びその敷地の概要-構造-構造 1","9建物及びその敷地の概要-構造-構造 2","9建物及びその敷地の概要-構造-構造 3","9建物及びその敷地の概要-構造-その他","9建物及びその敷地の概要-階数-地上-階","9建物及びその敷地の概要-階数-地下-階","9建物及びその敷地の概要-敷地面積-㎡","9建物及びその敷地の概要-建築面積-㎡","10性能検証法等の適用-耐火性能検証法","10性能検証法等の適用-防火区画検証法","10性能検証法等の適用-区画避難安全検証法","10性能検証法等の適用-区画避難安全検証法-階","10性能検証法等の適用-階避難安全検証法","10性能検証法等の適用-階避難安全検証法-階","10性能検証法等の適用-全館避難安全検証法","10性能検証法等の適用-その他","10性能検証法等の適用-その他-詳細","11増築、改築、用途変更等の経過-年月日-元号_1","11増築、改築、用途変更等の経過-年月日-年1","11増築、改築、用途変更等の経過-年月日-月1","11増築、改築、用途変更等の経過-年月日-日1","11増築、改築、用途変更等の経過-工事種別1","11増築、改築、用途変更等の経過-概要1","11増築、改築、用途変更等の経過-年月日-元号_2","11増築、改築、用途変更等の経過-年月日-年2","11増築、改築、用途変更等の経過-年月日-月2","11増築、改築、用途変更等の経過-年月日-日2","11増築、改築、用途変更等の経過-工事種別2","11増築、改築、用途変更等の経過-概要2","11増築、改築、用途変更等の経過-年月日-元号_3","11増築、改築、用途変更等の経過-年月日-年3","11増築、改築、用途変更等の経過-年月日-月3","11増築、改築、用途変更等の経過-年月日-日3","11増築、改築、用途変更等の経過-工事種別3","11増築、改築、用途変更等の経過-概要3","11増築、改築、用途変更等の経過-年月日-元号_4","11増築、改築、用途変更等の経過-年月日-年4","11増築、改築、用途変更等の経過-年月日-月4","11増築、改築、用途変更等の経過-年月日-日4","11増築、改築、用途変更等の経過-工事種別4","11増築、改築、用途変更等の経過-概要4","12関連図書の整備-直近の確認申請-確認に要した図書","12関連図書の整備-直近の確認申請-確認-確認済証の有無","12関連図書の整備-直近の確認申請-確認-工事種別","12関連図書の整備-直近の確認申請-確認-交付年月日-元号","12関連図書の整備-直近の確認申請-確認-交付年月日-年","12関連図書の整備-直近の確認申請-確認-交付年月日-月","12関連図書の整備-直近の確認申請-確認-交付年月日-日","12関連図書の整備-直近の確認申請-確認-交付番号-号","12関連図書の整備-直近の確認申請-確認-交付者","12関連図書の整備-直近の確認申請-確認-検査機関","12関連図書の整備-直近の確認申請-完了検査に要した図書","12関連図書の整備-直近の確認申請-完了-検査済証の有無","12関連図書の整備-直近の確認申請-完了-交付年月日-元号","12関連図書の整備-直近の確認申請-完了-交付年月日-年","12関連図書の整備-直近の確認申請-完了-交付年月日-月","12関連図書の整備-直近の確認申請-完了-交付年月日-日","12関連図書の整備-直近の確認申請-完了-交付番号-号","12関連図書の整備-直近の確認申請-完了-交付者","12関連図書の整備-直近の確認申請-完了-検査機関","12関連図書の整備-新築時の確認申請-直近と記載の確認と同一-","12関連図書の整備-新築時の確認申請-確認に要した図書-","12関連図書の整備-新築時の確認申請-確認-確認済証の有無","12関連図書の整備-新築時の確認申請-確認-工事種別","12関連図書の整備-新築時の確認申請-確認-交付年月日-元号","12関連図書の整備-新築時の確認申請-確認-交付年月日-年","12関連図書の整備-新築時の確認申請-確認-交付年月日-月","12関連図書の整備-新築時の確認申請-確認-交付年月日-日","12関連図書の整備-新築時の確認申請-確認-交付番号-号","12関連図書の整備-新築時の確認申請-確認-交付者","12関連図書の整備-新築時の確認申請-確認-検査機関","12関連図書の整備-新築時の確認申請-完了検査に要した図書-","12関連図書の整備-新築時の確認申請-完了-検査済証の有無","12関連図書の整備-新築時の確認申請-完了-交付年月日-元号","12関連図書の整備-新築時の確認申請-完了-交付年月日-年","12関連図書の整備-新築時の確認申請-完了-交付年月日-月","12関連図書の整備-新築時の確認申請-完了-交付年月日-日","12関連図書の整備-新築時の確認申請-完了-交付番号-号","12関連図書の整備-新築時の確認申請-完了-交付者","12関連図書の整備-新築時の確認申請-完了-検査機関","12関連図書の整備-維持管理保全に関する準則又は計画","12関連図書の整備-前回の調査に関する書類の写し","13備考-備考（第二面）","14調査及び検査の状況-今回の調査　実施日-令和","14調査及び検査の状況-今回の調査　実施日-年","14調査及び検査の状況-今回の調査　実施日-月","14調査及び検査の状況-今回の調査　実施日-日","14調査及び検査の状況-前回の調査-有無","14調査及び検査の状況-前回の調査-実施日-元号","14調査及び検査の状況-前回の調査-実施日-年","14調査及び検査の状況-前回の調査-実施日-月","14調査及び検査の状況-前回の調査-実施日-日","14調査及び検査の状況-建築設備の検査-有無","14調査及び検査の状況-建築設備の検査-実施日-元号","14調査及び検査の状況-建築設備の検査-実施日-年","14調査及び検査の状況-建築設備の検査-実施日-月","14調査及び検査の状況-建築設備の検査-実施日-日","14調査及び検査の状況-昇降機等の検査-有無","14調査及び検査の状況-昇降機等の検査-実施日-元号","14調査及び検査の状況-昇降機等の検査-実施日-年","14調査及び検査の状況-昇降機等の検査-実施日-月","14調査及び検査の状況-昇降機等の検査-実施日-日","14調査及び検査の状況-防火設備の検査-有無","14調査及び検査の状況-防火設備の検査-実施日-元号","14調査及び検査の状況-防火設備の検査-実施日-年","14調査及び検査の状況-防火設備の検査-実施日-月","14調査及び検査の状況-防火設備の検査-実施日-日","15石綿を添加した建築材料の調査状況-該当建築材料-有無","15石綿を添加した建築材料の調査状況-該当建築材料-該当する室","15石綿を添加した建築材料の調査状況-措置予定-有無","15石綿を添加した建築材料の調査状況-措置予定-改善予定年月-令和","15石綿を添加した建築材料の調査状況-措置予定-改善予定年月-年","15石綿を添加した建築材料の調査状況-措置予定-改善予定年月-月実施予定","16耐震診断及び耐震改修の調査状況-耐震診断-有無","16耐震診断及び耐震改修の調査状況-耐震診断-実施予定年月-令和","16耐震診断及び耐震改修の調査状況-耐震診断-実施予定年月-年","16耐震診断及び耐震改修の調査状況-耐震診断-実施予定年月-月実施予定","16耐震診断及び耐震改修の調査状況-耐震改修-有無","16耐震診断及び耐震改修の調査状況-耐震改修-実施予定年月-令和","16耐震診断及び耐震改修の調査状況-耐震改修-実施予定年月-年","16耐震診断及び耐震改修の調査状況-耐震改修-実施予定年月-月実施予定","17建築物等に係る不具合等の状況-不具合等","17建築物等に係る不具合等の状況-不具合等の記録","17建築物等に係る不具合等の状況-不具合等を把握した年月-元号_1","17建築物等に係る不具合等の状況-不具合等を把握した年月-年_1","17建築物等に係る不具合等の状況-不具合等を把握した年月-月_1","17建築物等に係る不具合等の状況-不具合等の概要_1","17建築物等に係る不具合等の状況-考えられる要因_1","17建築物等に係る不具合等の状況-改善の状況_1","17建築物等に係る不具合等の状況-改善（予定）年月-年（令和）_1","17建築物等に係る不具合等の状況-改善（予定）年月-月_1","17建築物等に係る不具合等の状況-改善措置の概要等又は改善の予定がない場合は理由_1","17建築物等に係る不具合等の状況-不具合等を把握した年月-元号_2","17建築物等に係る不具合等の状況-不具合等を把握した年月-年_2","17建築物等に係る不具合等の状況-不具合等を把握した年月-月_2","17建築物等に係る不具合等の状況-不具合等の概要_2","17建築物等に係る不具合等の状況-考えられる要因_2","17建築物等に係る不具合等の状況-改善の状況_2","17建築物等に係る不具合等の状況-改善（予定）年月-年（令和）_2","17建築物等に係る不具合等の状況-改善（予定）年月-月_2","17建築物等に係る不具合等の状況-改善措置の概要等又は改善の予定がない場合は理由_2","17建築物等に係る不具合等の状況-不具合等を把握した年月-元号_3","17建築物等に係る不具合等の状況-不具合等を把握した年月-年_3","17建築物等に係る不具合等の状況-不具合等を把握した年月-月_3","17建築物等に係る不具合等の状況-不具合等の概要_3","17建築物等に係る不具合等の状況-考えられる要因_3","17建築物等に係る不具合等の状況-改善の状況_3","17建築物等に係る不具合等の状況-改善（予定）年月-年（令和）_3","17建築物等に係る不具合等の状況-改善（予定）年月-月_3","17建築物等に係る不具合等の状況-改善措置の概要等又は改善の予定がない場合は理由_3","17建築物等に係る不具合等の状況-不具合等を把握した年月-元号_4","17建築物等に係る不具合等の状況-不具合等を把握した年月-年_4","17建築物等に係る不具合等の状況-不具合等を把握した年月-月_4","17建築物等に係る不具合等の状況-不具合等の概要_4","17建築物等に係る不具合等の状況-考えられる要因_4","17建築物等に係る不具合等の状況-改善の状況_4","17建築物等に係る不具合等の状況-改善（予定）年月-年（令和）_4","17建築物等に係る不具合等の状況-改善（予定）年月-月_4","17建築物等に係る不具合等の状況-改善措置の概要等又は改善の予定がない場合は理由_4","17建築物等に係る不具合等の状況-不具合等を把握した年月-元号_5","17建築物等に係る不具合等の状況-不具合等を把握した年月-年_5","17建築物等に係る不具合等の状況-不具合等を把握した年月-月_5","17建築物等に係る不具合等の状況-不具合等の概要_5","17建築物等に係る不具合等の状況-考えられる要因_5","17建築物等に係る不具合等の状況-改善の状況_5","17建築物等に係る不具合等の状況-改善（予定）年月-年（令和）_5","17建築物等に係る不具合等の状況-改善（予定）年月-月_5","17建築物等に係る不具合等の状況-改善措置の概要等又は改善の予定がない場合は理由_5","18備考-備考（3）","19外装仕上げ材等について-外装仕上材のタイル・石貼り等、モルタル塗り等の仕様","19外装仕上げ材等について前面打診等の実施状況","19外装仕上げ材等について-前面打診等の実施状況-時期：-元号","19外装仕上げ材等について-防火設備の検査-時期：-年","19外装仕上げ材等について-防火設備の検査-時期：-月に","19外装仕上げ材等について-防火設備の検査-理由：","20設備（法第12条第三項関係など）-建築設備-有無-機械換気設備","20設備（法第12条第三項関係など）-建築設備-有無-機械排煙設備","20設備（法第12条第三項関係など）-建築設備-有無-非常用の照明装置","20設備（法第12条第三項関係など）-建築設備-有無-給水設備及び排水設備","20設備（法第12条第三項関係など）-建築設備-定期報告対象","20設備（法第12条第三項関係など）-防火設備-有無","20設備（法第12条第三項関係など）-防火設備-設置されている階-階","20設備（法第12条第三項関係など）-防火設備-定期報告対象","20設備（法第12条第三項関係など）-小荷物専用昇降機の有無-有無","20設備（法第12条第三項関係など）-小荷物専用昇降機の有無-定期報告対象","20設備（法第12条第三項関係など）-自動消火設備-有無-自動消火設備","20設備（法第12条第三項関係など）-自動消火設備-設置されている階-階","21自由記入欄-自由記入欄","21自由記入欄-その他特記事項","22調査結果-調査者番号-1","22調査結果-調査者番号-2","22調査結果-調査者番号-3","22調査結果-敷地及び地盤-1（1）-調査結果","22調査結果-敷地及び地盤-1（1）-調査者番号","22調査結果-敷地及び地盤-1（1）-指摘の具体的内容等","22調査結果-敷地及び地盤-1（1）-改善策の具体的内容等","22調査結果-敷地及び地盤-1（1）-改善（予定）年月-年（令和）","22調査結果-敷地及び地盤-1（1）-改善（予定）年月-月","22調査結果-敷地及び地盤-1（1）-改善（予定）年月-未定","22調査結果-敷地及び地盤-1（2）-調査結果","22調査結果-敷地及び地盤-1（2）-調査者番号","22調査結果-敷地及び地盤-1（2）-指摘の具体的内容等","22調査結果-敷地及び地盤-1（2）-改善策の具体的内容等","22調査結果-敷地及び地盤-1（2）-改善（予定）年月-年（令和）","22調査結果-敷地及び地盤-1（2）-改善（予定）年月-月","22調査結果-敷地及び地盤-1（2）-改善（予定）年月-未定","22調査結果-敷地及び地盤-1（3）-調査結果","22調査結果-敷地及び地盤-1（3）-調査者番号","22調査結果-敷地及び地盤-1（3）-指摘の具体的内容等","22調査結果-敷地及び地盤-1（3）-改善策の具体的内容等","22調査結果-敷地及び地盤-1（3）-改善（予定）年月-年（令和）","22調査結果-敷地及び地盤-1（3）-改善（予定）年月-月","22調査結果-敷地及び地盤-1（3）-改善（予定）年月-未定","22調査結果-敷地及び地盤-1（4）-調査結果","22調査結果-敷地及び地盤-1（4）-調査者番号","22調査結果-敷地及び地盤-1（4）-指摘の具体的内容等","22調査結果-敷地及び地盤-1（4）-改善策の具体的内容等","22調査結果-敷地及び地盤-1（4）-改善（予定）年月-年（令和）","22調査結果-敷地及び地盤-1（4）-改善（予定）年月-月","22調査結果-敷地及び地盤-1（4）-改善（予定）年月-未定","22調査結果-敷地及び地盤-1（5）-調査結果","22調査結果-敷地及び地盤-1（5）-調査者番号","22調査結果-敷地及び地盤-1（5）-指摘の具体的内容等","22調査結果-敷地及び地盤-1（5）-改善策の具体的内容等","22調査結果-敷地及び地盤-1（5）-改善（予定）年月-年（令和）","22調査結果-敷地及び地盤-1（5）-改善（予定）年月-月","22調査結果-敷地及び地盤-1（5）-改善（予定）年月-未定","22調査結果-敷地及び地盤-1（6）-調査結果","22調査結果-敷地及び地盤-1（6）-調査者番号","22調査結果-敷地及び地盤-1（6）-指摘の具体的内容等","22調査結果-敷地及び地盤-1（6）-改善策の具体的内容等","22調査結果-敷地及び地盤-1（6）-改善（予定）年月-年（令和）","22調査結果-敷地及び地盤-1（6）-改善（予定）年月-月","22調査結果-敷地及び地盤-1（6）-改善（予定）年月-未定","22調査結果-敷地及び地盤-1（7）-調査結果","22調査結果-敷地及び地盤-1（7）-調査者番号","22調査結果-敷地及び地盤-1（7）-指摘の具体的内容等","22調査結果-敷地及び地盤-1（7）-改善策の具体的内容等","22調査結果-敷地及び地盤-1（7）-改善（予定）年月-年（令和）","22調査結果-敷地及び地盤-1（7）-改善（予定）年月-月","22調査結果-敷地及び地盤-1（7）-改善（予定）年月-未定","22調査結果-敷地及び地盤-1（8）-調査結果","22調査結果-敷地及び地盤-1（8）-調査者番号","22調査結果-敷地及び地盤-1（8）-指摘の具体的内容等","22調査結果-敷地及び地盤-1（8）-改善策の具体的内容等","22調査結果-敷地及び地盤-1（8）-改善（予定）年月-年（令和）","22調査結果-敷地及び地盤-1（8）-改善（予定）年月-月","22調査結果-敷地及び地盤-1（8）-改善（予定）年月-未定","22調査結果-敷地及び地盤-1（9）-調査結果","22調査結果-敷地及び地盤-1（9）-調査者番号","22調査結果-敷地及び地盤-1（9）-指摘の具体的内容等","22調査結果-敷地及び地盤-1（9）-改善策の具体的内容等","22調査結果-敷地及び地盤-1（9）-改善（予定）年月-年（令和）","22調査結果-敷地及び地盤-1（9）-改善（予定）年月-月","22調査結果-敷地及び地盤-1（9）-改善（予定）年月-未定","22調査結果-建築物の外部-2（1）-調査結果","22調査結果-建築物の外部-2（1）-調査者番号","22調査結果-建築物の外部-2（1）-指摘の具体的内容等","22調査結果-建築物の外部-2（1）-改善策の具体的内容等","22調査結果-建築物の外部-2（1）-改善（予定）年月-年（令和）","22調査結果-建築物の外部-2（1）-改善（予定）年月-月","22調査結果-建築物の外部-2（1）-改善（予定）年月-未定","22調査結果-建築物の外部-2（2）-調査結果","22調査結果-建築物の外部-2（2）-調査者番号","22調査結果-建築物の外部-2（2）-指摘の具体的内容等","22調査結果-建築物の外部-2（2）-改善策の具体的内容等","22調査結果-建築物の外部-2（2）-改善（予定）年月-年（令和）","22調査結果-建築物の外部-2（2）-改善（予定）年月-月","22調査結果-建築物の外部-2（2）-改善（予定）年月-未定","22調査結果-建築物の外部-2（3）-調査結果","22調査結果-建築物の外部-2（3）-調査者番号","22調査結果-建築物の外部-2（3）-指摘の具体的内容等","22調査結果-建築物の外部-2（3）-改善策の具体的内容等","22調査結果-建築物の外部-2（3）-改善（予定）年月-年（令和）","22調査結果-建築物の外部-2（3）-改善（予定）年月-月","22調査結果-建築物の外部-2（3）-改善（予定）年月-未定","22調査結果-建築物の外部-2（4）-調査結果","22調査結果-建築物の外部-2（4）-調査者番号","22調査結果-建築物の外部-2（4）-指摘の具体的内容等","22調査結果-建築物の外部-2（4）-改善策の具体的内容等","22調査結果-建築物の外部-2（4）-改善（予定）年月-年（令和）","22調査結果-建築物の外部-2（4）-改善（予定）年月-月","22調査結果-建築物の外部-2（4）-改善（予定）年月-未定","22調査結果-建築物の外部-2（5）-調査結果","22調査結果-建築物の外部-2（5）-調査者番号","22調査結果-建築物の外部-2（5）-指摘の具体的内容等","22調査結果-建築物の外部-2（5）-改善策の具体的内容等","22調査結果-建築物の外部-2（5）-改善（予定）年月-年（令和）","22調査結果-建築物の外部-2（5）-改善（予定）年月-月","22調査結果-建築物の外部-2（5）-改善（予定）年月-未定","22調査結果-建築物の外部-2（6）-調査結果","22調査結果-建築物の外部-2（6）-調査者番号","22調査結果-建築物の外部-2（6）-指摘の具体的内容等","22調査結果-建築物の外部-2（6）-改善策の具体的内容等","22調査結果-建築物の外部-2（6）-改善（予定）年月-年（令和）","22調査結果-建築物の外部-2（6）-改善（予定）年月-月","22調査結果-建築物の外部-2（6）-改善（予定）年月-未定","22調査結果-建築物の外部-2（7）-調査結果","22調査結果-建築物の外部-2（7）-調査者番号","22調査結果-建築物の外部-2（7）-指摘の具体的内容等","22調査結果-建築物の外部-2（7）-改善策の具体的内容等","22調査結果-建築物の外部-2（7）-改善（予定）年月-年（令和）","22調査結果-建築物の外部-2（7）-改善（予定）年月-月","22調査結果-建築物の外部-2（7）-改善（予定）年月-未定","22調査結果-建築物の外部-2（8）-調査結果","22調査結果-建築物の外部-2（8）-調査者番号","22調査結果-建築物の外部-2（8）-指摘の具体的内容等","22調査結果-建築物の外部-2（8）-改善策の具体的内容等","22調査結果-建築物の外部-2（8）-改善（予定）年月-年（令和）","22調査結果-建築物の外部-2（8）-改善（予定）年月-月","22調査結果-建築物の外部-2（8）-改善（予定）年月-未定","22調査結果-建築物の外部-2（9）-調査結果","22調査結果-建築物の外部-2（9）-調査者番号","22調査結果-建築物の外部-2（9）-指摘の具体的内容等","22調査結果-建築物の外部-2（9）-改善策の具体的内容等","22調査結果-建築物の外部-2（9）-改善（予定）年月-年（令和）","22調査結果-建築物の外部-2（9）-改善（予定）年月-月","22調査結果-建築物の外部-2（9）-改善（予定）年月-未定","22調査結果-建築物の外部-2（10）-調査結果","22調査結果-建築物の外部-2（10）-調査者番号","22調査結果-建築物の外部-2（10）-指摘の具体的内容等","22調査結果-建築物の外部-2（10）-改善策の具体的内容等","22調査結果-建築物の外部-2（10）-改善（予定）年月-年（令和）","22調査結果-建築物の外部-2（10）-改善（予定）年月-月","22調査結果-建築物の外部-2（10）-改善（予定）年月-未定","22調査結果-建築物の外部-2（11）-調査結果","22調査結果-建築物の外部-2（11）-調査者番号","22調査結果-建築物の外部-2（11）-指摘の具体的内容等","22調査結果-建築物の外部-2（11）-改善策の具体的内容等","22調査結果-建築物の外部-2（11）-改善（予定）年月-年（令和）","22調査結果-建築物の外部-2（11）-改善（予定）年月-月","22調査結果-建築物の外部-2（11）-改善（予定）年月-未定","22調査結果-建築物の外部-2（12）-調査結果","22調査結果-建築物の外部-2（12）-調査者番号","22調査結果-建築物の外部-2（12）-指摘の具体的内容等","22調査結果-建築物の外部-2（12）-改善策の具体的内容等","22調査結果-建築物の外部-2（12）-改善（予定）年月-年（令和）","22調査結果-建築物の外部-2（12）-改善（予定）年月-月","22調査結果-建築物の外部-2（12）-改善（予定）年月-未定","22調査結果-建築物の外部-2（13）-調査結果","22調査結果-建築物の外部-2（13）-調査者番号","22調査結果-建築物の外部-2（13）-指摘の具体的内容等","22調査結果-建築物の外部-2（13）-改善策の具体的内容等","22調査結果-建築物の外部-2（13）-改善（予定）年月-年（令和）","22調査結果-建築物の外部-2（13）-改善（予定）年月-月","22調査結果-建築物の外部-2（13）-改善（予定）年月-未定","22調査結果-建築物の外部-2（14）-調査結果","22調査結果-建築物の外部-2（14）-調査者番号","22調査結果-建築物の外部-2（14）-指摘の具体的内容等","22調査結果-建築物の外部-2（14）-改善策の具体的内容等","22調査結果-建築物の外部-2（14）-改善（予定）年月-年（令和）","22調査結果-建築物の外部-2（14）-改善（予定）年月-月","22調査結果-建築物の外部-2（14）-改善（予定）年月-未定","22調査結果-建築物の外部-2（15）-調査結果","22調査結果-建築物の外部-2（15）-調査者番号","22調査結果-建築物の外部-2（15）-指摘の具体的内容等","22調査結果-建築物の外部-2（15）-改善策の具体的内容等","22調査結果-建築物の外部-2（15）-改善（予定）年月-年（令和）","22調査結果-建築物の外部-2（15）-改善（予定）年月-月","22調査結果-建築物の外部-2（15）-改善（予定）年月-未定","22調査結果-建築物の外部-2（16）-調査結果","22調査結果-建築物の外部-2（16）-調査者番号","22調査結果-建築物の外部-2（16）-指摘の具体的内容等","22調査結果-建築物の外部-2（16）-改善策の具体的内容等","22調査結果-建築物の外部-2（16）-改善（予定）年月-年（令和）","22調査結果-建築物の外部-2（16）-改善（予定）年月-月","22調査結果-建築物の外部-2（16）-改善（予定）年月-未定","22調査結果-建築物の外部-2（17）-調査結果","22調査結果-建築物の外部-2（17）-調査者番号","22調査結果-建築物の外部-2（17）-指摘の具体的内容等","22調査結果-建築物の外部-2（17）-改善策の具体的内容等","22調査結果-建築物の外部-2（17）-改善（予定）年月-年（令和）","22調査結果-建築物の外部-2（17）-改善（予定）年月-月","22調査結果-建築物の外部-2（17）-改善（予定）年月-未定","22調査結果-建築物の外部-2（18）-調査結果","22調査結果-建築物の外部-2（18）-調査者番号","22調査結果-建築物の外部-2（18）-指摘の具体的内容等","22調査結果-建築物の外部-2（18）-改善策の具体的内容等","22調査結果-建築物の外部-2（18）-改善（予定）年月-年（令和）","22調査結果-建築物の外部-2（18）-改善（予定）年月-月","22調査結果-建築物の外部-2（18）-改善（予定）年月-未定","22調査結果-屋上及び屋根-3（1）-調査結果","22調査結果-屋上及び屋根-3（1）-調査者番号","22調査結果-屋上及び屋根-3（1）-指摘の具体的内容等","22調査結果-屋上及び屋根-3（1）-改善策の具体的内容等","22調査結果-屋上及び屋根-3（1）-改善（予定）年月-年（令和）","22調査結果-屋上及び屋根-3（1）-改善（予定）年月-月","22調査結果-屋上及び屋根-3（1）-改善（予定）年月-未定","22調査結果-屋上及び屋根-3（2）-調査結果","22調査結果-屋上及び屋根-3（2）-調査者番号","22調査結果-屋上及び屋根-3（2）-指摘の具体的内容等","22調査結果-屋上及び屋根-3（2）-改善策の具体的内容等","22調査結果-屋上及び屋根-3（2）-改善（予定）年月-年（令和）","22調査結果-屋上及び屋根-3（2）-改善（予定）年月-月","22調査結果-屋上及び屋根-3（2）-改善（予定）年月-未定","22調査結果-屋上及び屋根-3（3）-調査結果","22調査結果-屋上及び屋根-3（3）-調査者番号","22調査結果-屋上及び屋根-3（3）-指摘の具体的内容等","22調査結果-屋上及び屋根-3（3）-改善策の具体的内容等","22調査結果-屋上及び屋根-3（3）-改善（予定）年月-年（令和）","22調査結果-屋上及び屋根-3（3）-改善（予定）年月-月","22調査結果-屋上及び屋根-3（3）-改善（予定）年月-未定","22調査結果-屋上及び屋根-3（4）-調査結果","22調査結果-屋上及び屋根-3（4）-調査者番号","22調査結果-屋上及び屋根-3（4）-指摘の具体的内容等","22調査結果-屋上及び屋根-3（4）-改善策の具体的内容等","22調査結果-屋上及び屋根-3（4）-改善（予定）年月-年（令和）","22調査結果-屋上及び屋根-3（4）-改善（予定）年月-月","22調査結果-屋上及び屋根-3（4）-改善（予定）年月-未定","22調査結果-屋上及び屋根-3（5）-調査結果","22調査結果-屋上及び屋根-3（5）-調査者番号","22調査結果-屋上及び屋根-3（5）-指摘の具体的内容等","22調査結果-屋上及び屋根-3（5）-改善策の具体的内容等","22調査結果-屋上及び屋根-3（5）-改善（予定）年月-年（令和）","22調査結果-屋上及び屋根-3（5）-改善（予定）年月-月","22調査結果-屋上及び屋根-3（5）-改善（予定）年月-未定","22調査結果-屋上及び屋根-3（6）-調査結果","22調査結果-屋上及び屋根-3（6）-調査者番号","22調査結果-屋上及び屋根-3（6）-指摘の具体的内容等","22調査結果-屋上及び屋根-3（6）-改善策の具体的内容等","22調査結果-屋上及び屋根-3（6）-改善（予定）年月-年（令和）","22調査結果-屋上及び屋根-3（6）-改善（予定）年月-月","22調査結果-屋上及び屋根-3（6）-改善（予定）年月-未定","22調査結果-屋上及び屋根-3（7）-調査結果","22調査結果-屋上及び屋根-3（7）-調査者番号","22調査結果-屋上及び屋根-3（7）-指摘の具体的内容等","22調査結果-屋上及び屋根-3（7）-改善策の具体的内容等","22調査結果-屋上及び屋根-3（7）-改善（予定）年月-年（令和）","22調査結果-屋上及び屋根-3（7）-改善（予定）年月-月","22調査結果-屋上及び屋根-3（7）-改善（予定）年月-未定","22調査結果-屋上及び屋根-3（8）-調査結果","22調査結果-屋上及び屋根-3（8）-調査者番号","22調査結果-屋上及び屋根-3（8）-指摘の具体的内容等","22調査結果-屋上及び屋根-3（8）-改善策の具体的内容等","22調査結果-屋上及び屋根-3（8）-改善（予定）年月-年（令和）","22調査結果-屋上及び屋根-3（8）-改善（予定）年月-月","22調査結果-屋上及び屋根-3（8）-改善（予定）年月-未定","22調査結果-屋上及び屋根-3（9）-調査結果","22調査結果-屋上及び屋根-3（9）-調査者番号","22調査結果-屋上及び屋根-3（9）-指摘の具体的内容等","22調査結果-屋上及び屋根-3（9）-改善策の具体的内容等","22調査結果-屋上及び屋根-3（9）-改善（予定）年月-年（令和）","22調査結果-屋上及び屋根-3（9）-改善（予定）年月-月","22調査結果-屋上及び屋根-3（9）-改善（予定）年月-未定","22調査結果-建築物の内部-4（1）-調査結果","22調査結果-建築物の内部-4（1）-調査者番号","22調査結果-建築物の内部-4（1）-指摘の具体的内容等","22調査結果-建築物の内部-4（1）-改善策の具体的内容等","22調査結果-建築物の内部-4（1）-改善（予定）年月-年（令和）","22調査結果-建築物の内部-4（1）-改善（予定）年月-月","22調査結果-建築物の内部-4（1）-改善（予定）年月-未定","22調査結果-建築物の内部-4（2）-調査結果","22調査結果-建築物の内部-4（2）-調査者番号","22調査結果-建築物の内部-4（2）-指摘の具体的内容等","22調査結果-建築物の内部-4（2）-改善策の具体的内容等","22調査結果-建築物の内部-4（2）-改善（予定）年月-年（令和）","22調査結果-建築物の内部-4（2）-改善（予定）年月-月","22調査結果-建築物の内部-4（2）-改善（予定）年月-未定","22調査結果-建築物の内部-4（3）-調査結果","22調査結果-建築物の内部-4（3）-調査者番号","22調査結果-建築物の内部-4（3）-指摘の具体的内容等","22調査結果-建築物の内部-4（3）-改善策の具体的内容等","22調査結果-建築物の内部-4（3）-改善（予定）年月-年（令和）","22調査結果-建築物の内部-4（3）-改善（予定）年月-月","22調査結果-建築物の内部-4（3）-改善（予定）年月-未定","22調査結果-建築物の内部-4（4）-調査結果","22調査結果-建築物の内部-4（4）-調査者番号","22調査結果-建築物の内部-4（4）-指摘の具体的内容等","22調査結果-建築物の内部-4（4）-改善策の具体的内容等","22調査結果-建築物の内部-4（4）-改善（予定）年月-年（令和）","22調査結果-建築物の内部-4（4）-改善（予定）年月-月","22調査結果-建築物の内部-4（4）-改善（予定）年月-未定","22調査結果-建築物の内部-4（5）-調査結果","22調査結果-建築物の内部-4（5）-調査者番号","22調査結果-建築物の内部-4（5）-指摘の具体的内容等","22調査結果-建築物の内部-4（5）-改善策の具体的内容等","22調査結果-建築物の内部-4（5）-改善（予定）年月-年（令和）","22調査結果-建築物の内部-4（5）-改善（予定）年月-月","22調査結果-建築物の内部-4（5）-改善（予定）年月-未定","22調査結果-建築物の内部-4（6）-調査結果","22調査結果-建築物の内部-4（6）-調査者番号","22調査結果-建築物の内部-4（6）-指摘の具体的内容等","22調査結果-建築物の内部-4（6）-改善策の具体的内容等","22調査結果-建築物の内部-4（6）-改善（予定）年月-年（令和）","22調査結果-建築物の内部-4（6）-改善（予定）年月-月","22調査結果-建築物の内部-4（6）-改善（予定）年月-未定","22調査結果-建築物の内部-4（7）-調査結果","22調査結果-建築物の内部-4（7）-調査者番号","22調査結果-建築物の内部-4（7）-指摘の具体的内容等","22調査結果-建築物の内部-4（7）-改善策の具体的内容等","22調査結果-建築物の内部-4（7）-改善（予定）年月-年（令和）","22調査結果-建築物の内部-4（7）-改善（予定）年月-月","22調査結果-建築物の内部-4（7）-改善（予定）年月-未定","22調査結果-建築物の内部-4（8）-調査結果","22調査結果-建築物の内部-4（8）-調査者番号","22調査結果-建築物の内部-4（8）-指摘の具体的内容等","22調査結果-建築物の内部-4（8）-改善策の具体的内容等","22調査結果-建築物の内部-4（8）-改善（予定）年月-年（令和）","22調査結果-建築物の内部-4（8）-改善（予定）年月-月","22調査結果-建築物の内部-4（8）-改善（予定）年月-未定","22調査結果-建築物の内部-4（9）-調査結果","22調査結果-建築物の内部-4（9）-調査者番号","22調査結果-建築物の内部-4（9）-指摘の具体的内容等","22調査結果-建築物の内部-4（9）-改善策の具体的内容等","22調査結果-建築物の内部-4（9）-改善（予定）年月-年（令和）","22調査結果-建築物の内部-4（9）-改善（予定）年月-月","22調査結果-建築物の内部-4（9）-改善（予定）年月-未定","22調査結果-建築物の内部-4（10）-調査結果","22調査結果-建築物の内部-4（10）-調査者番号","22調査結果-建築物の内部-4（10）-指摘の具体的内容等","22調査結果-建築物の内部-4（10）-改善策の具体的内容等","22調査結果-建築物の内部-4（10）-改善（予定）年月-年（令和）","22調査結果-建築物の内部-4（10）-改善（予定）年月-月","22調査結果-建築物の内部-4（10）-改善（予定）年月-未定","22調査結果-建築物の内部-4（11）-調査結果","22調査結果-建築物の内部-4（11）-調査者番号","22調査結果-建築物の内部-4（11）-指摘の具体的内容等","22調査結果-建築物の内部-4（11）-改善策の具体的内容等","22調査結果-建築物の内部-4（11）-改善（予定）年月-年（令和）","22調査結果-建築物の内部-4（11）-改善（予定）年月-月","22調査結果-建築物の内部-4（11）-改善（予定）年月-未定","22調査結果-建築物の内部-4（12）-調査結果","22調査結果-建築物の内部-4（12）-調査者番号","22調査結果-建築物の内部-4（12）-指摘の具体的内容等","22調査結果-建築物の内部-4（12）-改善策の具体的内容等","22調査結果-建築物の内部-4（12）-改善（予定）年月-年（令和）","22調査結果-建築物の内部-4（12）-改善（予定）年月-月","22調査結果-建築物の内部-4（12）-改善（予定）年月-未定","22調査結果-建築物の内部-4（13）-調査結果","22調査結果-建築物の内部-4（13）-調査者番号","22調査結果-建築物の内部-4（13）-指摘の具体的内容等","22調査結果-建築物の内部-4（13）-改善策の具体的内容等","22調査結果-建築物の内部-4（13）-改善（予定）年月-年（令和）","22調査結果-建築物の内部-4（13）-改善（予定）年月-月","22調査結果-建築物の内部-4（13）-改善（予定）年月-未定","22調査結果-建築物の内部-4（14）-調査結果","22調査結果-建築物の内部-4（14）-調査者番号","22調査結果-建築物の内部-4（14）-指摘の具体的内容等","22調査結果-建築物の内部-4（14）-改善策の具体的内容等","22調査結果-建築物の内部-4（14）-改善（予定）年月-年（令和）","22調査結果-建築物の内部-4（14）-改善（予定）年月-月","22調査結果-建築物の内部-4（14）-改善（予定）年月-未定","22調査結果-建築物の内部-4（15）-調査結果","22調査結果-建築物の内部-4（15）-調査者番号","22調査結果-建築物の内部-4（15）-指摘の具体的内容等","22調査結果-建築物の内部-4（15）-改善策の具体的内容等","22調査結果-建築物の内部-4（15）-改善（予定）年月-年（令和）","22調査結果-建築物の内部-4（15）-改善（予定）年月-月","22調査結果-建築物の内部-4（15）-改善（予定）年月-未定","22調査結果-建築物の内部-4（16）-調査結果","22調査結果-建築物の内部-4（16）-調査者番号","22調査結果-建築物の内部-4（16）-指摘の具体的内容等","22調査結果-建築物の内部-4（16）-改善策の具体的内容等","22調査結果-建築物の内部-4（16）-改善（予定）年月-年（令和）","22調査結果-建築物の内部-4（16）-改善（予定）年月-月","22調査結果-建築物の内部-4（16）-改善（予定）年月-未定","22調査結果-建築物の内部-4（17）-調査結果","22調査結果-建築物の内部-4（17）-調査者番号","22調査結果-建築物の内部-4（17）-指摘の具体的内容等","22調査結果-建築物の内部-4（17）-改善策の具体的内容等","22調査結果-建築物の内部-4（17）-改善（予定）年月-年（令和）","22調査結果-建築物の内部-4（17）-改善（予定）年月-月","22調査結果-建築物の内部-4（17）-改善（予定）年月-未定","22調査結果-建築物の内部-4（18）-調査結果","22調査結果-建築物の内部-4（18）-調査者番号","22調査結果-建築物の内部-4（18）-指摘の具体的内容等","22調査結果-建築物の内部-4（18）-改善策の具体的内容等","22調査結果-建築物の内部-4（18）-改善（予定）年月-年（令和）","22調査結果-建築物の内部-4（18）-改善（予定）年月-月","22調査結果-建築物の内部-4（18）-改善（予定）年月-未定","22調査結果-建築物の内部-4（19）-調査結果","22調査結果-建築物の内部-4（19）-調査者番号","22調査結果-建築物の内部-4（19）-指摘の具体的内容等","22調査結果-建築物の内部-4（19）-改善策の具体的内容等","22調査結果-建築物の内部-4（19）-改善（予定）年月-年（令和）","22調査結果-建築物の内部-4（19）-改善（予定）年月-月","22調査結果-建築物の内部-4（19）-改善（予定）年月-未定","22調査結果-建築物の内部-4（20）-調査結果","22調査結果-建築物の内部-4（20）-調査者番号","22調査結果-建築物の内部-4（20）-指摘の具体的内容等","22調査結果-建築物の内部-4（20）-改善策の具体的内容等","22調査結果-建築物の内部-4（20）-改善（予定）年月-年（令和）","22調査結果-建築物の内部-4（20）-改善（予定）年月-月","22調査結果-建築物の内部-4（20）-改善（予定）年月-未定","22調査結果-建築物の内部-4（21）-調査結果","22調査結果-建築物の内部-4（21）-調査者番号","22調査結果-建築物の内部-4（21）-指摘の具体的内容等","22調査結果-建築物の内部-4（21）-改善策の具体的内容等","22調査結果-建築物の内部-4（21）-改善（予定）年月-年（令和）","22調査結果-建築物の内部-4（21）-改善（予定）年月-月","22調査結果-建築物の内部-4（21）-改善（予定）年月-未定","22調査結果-建築物の内部-4（22）-調査結果","22調査結果-建築物の内部-4（22）-調査者番号","22調査結果-建築物の内部-4（22）-指摘の具体的内容等","22調査結果-建築物の内部-4（22）-改善策の具体的内容等","22調査結果-建築物の内部-4（22）-改善（予定）年月-年（令和）","22調査結果-建築物の内部-4（22）-改善（予定）年月-月","22調査結果-建築物の内部-4（22）-改善（予定）年月-未定","22調査結果-建築物の内部-4（23）-調査結果","22調査結果-建築物の内部-4（23）-調査者番号","22調査結果-建築物の内部-4（23）-指摘の具体的内容等","22調査結果-建築物の内部-4（23）-改善策の具体的内容等","22調査結果-建築物の内部-4（23）-改善（予定）年月-年（令和）","22調査結果-建築物の内部-4（23）-改善（予定）年月-月","22調査結果-建築物の内部-4（23）-改善（予定）年月-未定","22調査結果-建築物の内部-4（24）-調査結果","22調査結果-建築物の内部-4（24）-調査者番号","22調査結果-建築物の内部-4（24）-指摘の具体的内容等","22調査結果-建築物の内部-4（24）-改善策の具体的内容等","22調査結果-建築物の内部-4（24）-改善（予定）年月-年（令和）","22調査結果-建築物の内部-4（24）-改善（予定）年月-月","22調査結果-建築物の内部-4（24）-改善（予定）年月-未定","22調査結果-建築物の内部-4（25）-調査結果","22調査結果-建築物の内部-4（25）-調査者番号","22調査結果-建築物の内部-4（25）-指摘の具体的内容等","22調査結果-建築物の内部-4（25）-改善策の具体的内容等","22調査結果-建築物の内部4（25）-改善（予定）年月-年（令和）","22調査結果-建築物の内部-4（25）-改善（予定）年月-月","22調査結果-建築物の内部-4（25）-改善（予定）年月-未定","22調査結果-建築物の内部-4（26）-調査結果","22調査結果-建築物の内部-4（26）-調査者番号","22調査結果-建築物の内部-4（26）-指摘の具体的内容等","22調査結果-建築物の内部-4（26）-改善策の具体的内容等","22調査結果-建築物の内部-4（26）-改善（予定）年月-年（令和）","22調査結果-建築物の内部4（26）-改善（予定）年月-月","22調査結果-建築物の内部-4（26）-改善（予定）年月-未定","22調査結果-建築物の内部-4（27）-調査結果","22調査結果-建築物の内部-4（27）-調査者番号","22調査結果-建築物の内部-4（27）-指摘の具体的内容等","22調査結果-建築物の内部-4（27）-改善策の具体的内容等","22調査結果-建築物の内部-4（27）-改善（予定）年月-年（令和）","22調査結果-建築物の内部-4（27）-改善（予定）年月-月","22調査結果-建築物の内部4（27）-改善（予定）年月-未定","22調査結果-建築物の内部-4（28）-調査結果","22調査結果-建築物の内部-4（28）-調査者番号","22調査結果-建築物の内部-4（28）-指摘の具体的内容等","22調査結果-建築物の内部-4（28）-改善策の具体的内容等","22調査結果-建築物の内部-4（28）-改善（予定）年月-年（令和）","22調査結果-建築物の内部-4（28）-改善（予定）年月-月","22調査結果-建築物の内部-4（28）-改善（予定）年月-未定","22調査結果-建築物の内部4（29）-調査結果","22調査結果-建築物の内部-4（29）-調査者番号","22調査結果-建築物の内部-4（29）-指摘の具体的内容等","22調査結果-建築物の内部-4（29）-改善策の具体的内容等","22調査結果-建築物の内部-4（29）-改善（予定）年月-年（令和）","22調査結果-建築物の内部-4（29）-改善（予定）年月-月","22調査結果-建築物の内部-4（29）-改善（予定）年月-未定","22調査結果-建築物の内部-4（30）-調査結果","22調査結果-建築物の内部4（30）-調査者番号","22調査結果-建築物の内部-4（30）-指摘の具体的内容等","22調査結果-建築物の内部-4（30）-改善策の具体的内容等","22調査結果-建築物の内部-4（30）-改善（予定）年月-年（令和）","22調査結果-建築物の内部-4（30）-改善（予定）年月-月","22調査結果-建築物の内部-4（30）-改善（予定）年月-未定","22調査結果-建築物の内部-4（31）-調査結果","22調査結果-建築物の内部-4（31）-調査者番号","22調査結果-建築物の内部4（31）-指摘の具体的内容等","22調査結果-建築物の内部-4（31）-改善策の具体的内容等","22調査結果-建築物の内部-4（31）-改善（予定）年月-年（令和）","22調査結果-建築物の内部-4（31）-改善（予定）年月-月","22調査結果-建築物の内部-4（31）-改善（予定）年月-未定","22調査結果-建築物の内部-4（32）-調査結果","22調査結果-建築物の内部-4（32）-調査者番号","22調査結果-建築物の内部-4（32）-指摘の具体的内容等","22調査結果-建築物の内部4（32）-改善策の具体的内容等","22調査結果-建築物の内部-4（32）-改善（予定）年月-年（令和）","22調査結果-建築物の内部-4（32）-改善（予定）年月-月","22調査結果-建築物の内部-4（32）-改善（予定）年月-未定","22調査結果-建築物の内部-4（33）-調査結果","22調査結果-建築物の内部-4（33）-調査者番号","22調査結果-建築物の内部-4（33）-指摘の具体的内容等","22調査結果-建築物の内部-4（33）-改善策の具体的内容等","22調査結果-建築物の内部4（33）-改善（予定）年月-年（令和）","22調査結果-建築物の内部-4（33）-改善（予定）年月-月","22調査結果-建築物の内部-4（33）-改善（予定）年月-未定","22調査結果-建築物の内部-4（34）-調査結果","22調査結果-建築物の内部-4（34）-調査者番号","22調査結果-建築物の内部-4（34）-指摘の具体的内容等","22調査結果-建築物の内部-4（34）-改善策の具体的内容等","22調査結果-建築物の内部-4（34）-改善（予定）年月-年（令和）","22調査結果-建築物の内部4（34）-改善（予定）年月-月","22調査結果-建築物の内部-4（34）-改善（予定）年月-未定","22調査結果-建築物の内部-4（35）-調査結果","22調査結果-建築物の内部-4（35）-調査者番号","22調査結果-建築物の内部-4（35）-指摘の具体的内容等","22調査結果-建築物の内部-4（35）-改善策の具体的内容等","22調査結果-建築物の内部-4（35）-改善（予定）年月-年（令和）","22調査結果-建築物の内部-4（35）-改善（予定）年月-月","22調査結果-建築物の内部4（35）-改善（予定）年月-未定","22調査結果-建築物の内部-4（36）-調査結果","22調査結果-建築物の内部-4（36）-調査者番号","22調査結果-建築物の内部-4（36）-指摘の具体的内容等","22調査結果-建築物の内部-4（36）-改善策の具体的内容等","22調査結果-建築物の内部-4（36）-改善（予定）年月-年（令和）","22調査結果-建築物の内部-4（36）-改善（予定）年月-月","22調査結果-建築物の内部-4（36）-改善（予定）年月-未定","22調査結果-建築物の内部-4（37）-調査結果","22調査結果-建築物の内部-4（37）-調査者番号","22調査結果-建築物の内部-4（37）-指摘の具体的内容等","22調査結果-建築物の内部-4（37）-改善策の具体的内容等","22調査結果-建築物の内部-4（37）-改善（予定）年月-年（令和）","22調査結果-建築物の内部-4（37）-改善（予定）年月-月","22調査結果-建築物の内部-4（37）-改善（予定）年月-未定","22調査結果-建築物の内部-4（38）-調査結果","22調査結果-建築物の内部-4（38）-調査者番号","22調査結果-建築物の内部-4（38）-指摘の具体的内容等","22調査結果-建築物の内部-4（38）-改善策の具体的内容等","22調査結果-建築物の内部-4（38）-改善（予定）年月-年（令和）","22調査結果-建築物の内部-4（38）-改善（予定）年月-月","22調査結果-建築物の内部-4（38）-改善（予定）年月-未定","22調査結果-建築物の内部-4（39）-調査結果","22調査結果-建築物の内部-4（39）-調査者番号","22調査結果-建築物の内部-4（39）-指摘の具体的内容等","22調査結果-建築物の内部-4（39）-改善策の具体的内容等","22調査結果-建築物の内部-4（39）-改善（予定）年月-年（令和）","22調査結果-建築物の内部-4（39）-改善（予定）年月-月","22調査結果-建築物の内部-4（39）-改善（予定）年月-未定","22調査結果-建築物の内部-4（40）-調査結果","22調査結果-建築物の内部-4（40）-調査者番号","22調査結果-建築物の内部-4（40）-指摘の具体的内容等","22調査結果-建築物の内部-4（40）-改善策の具体的内容等","22調査結果-建築物の内部-4（40）-改善（予定）年月-年（令和）","22調査結果-建築物の内部-4（40）-改善（予定）年月-月","22調査結果-建築物の内部-4（40）-改善（予定）年月-未定","22調査結果-建築物の内部-4（41）-調査結果","22調査結果-建築物の内部-4（41）-調査者番号","22調査結果-建築物の内部-4（41）-指摘の具体的内容等","22調査結果-建築物の内部-4（41）-改善策の具体的内容等","22調査結果-建築物の内部-4（41）-改善（予定）年月-年（令和）","22調査結果-建築物の内部-4（41）-改善（予定）年月-月","22調査結果-建築物の内部-4（41）-改善（予定）年月-未定","22調査結果-建築物の内部-4（42）-調査結果","22調査結果-建築物の内部-4（42）-調査者番号","22調査結果-建築物の内部-4（42）-指摘の具体的内容等","22調査結果-建築物の内部-4（42）-改善策の具体的内容等","22調査結果-建築物の内部-4（42）-改善（予定）年月-年（令和）","22調査結果-建築物の内部-4（42）-改善（予定）年月-月","22調査結果-建築物の内部-4（42）-改善（予定）年月-未定","22調査結果-建築物の内部-4（43）-調査結果","22調査結果-建築物の内部-4（43）-調査者番号","22調査結果-建築物の内部-4（43）-指摘の具体的内容等","22調査結果-建築物の内部-4（43）-改善策の具体的内容等","22調査結果-建築物の内部-4（43）-改善（予定）年月-年（令和）","22調査結果-建築物の内部-4（43）-改善（予定）年月-月","22調査結果-建築物の内部-4（43）-改善（予定）年月-未定","22調査結果-建築物の内部-4（44）-調査結果","22調査結果-建築物の内部-4（44）-調査者番号","22調査結果-建築物の内部-4（44）-指摘の具体的内容等","22調査結果-建築物の内部-4（44）-改善策の具体的内容等","22調査結果-建築物の内部-4（44）-改善（予定）年月-年（令和）","22調査結果-建築物の内部-4（44）-改善（予定）年月-月","22調査結果-建築物の内部-4（44）-改善（予定）年月-未定","22調査結果-建築物の内部-4（45）-調査結果","22調査結果-建築物の内部-4（45）-調査者番号","22調査結果-建築物の内部-4（45）-指摘の具体的内容等","22調査結果-建築物の内部-4（45）-改善策の具体的内容等","22調査結果-建築物の内部-4（45）-改善（予定）年月-年（令和）","22調査結果-建築物の内部-4（45）-改善（予定）年月-月","22調査結果-建築物の内部-4（45）-改善（予定）年月-未定","22調査結果-建築物の内部-4（46）-調査結果","22調査結果-建築物の内部-4（46）-調査者番号","22調査結果-建築物の内部-4（46）-指摘の具体的内容等","22調査結果-建築物の内部-4（46）-改善策の具体的内容等","22調査結果-建築物の内部-4（46）-改善（予定）年月-年（令和）","22調査結果-建築物の内部-4（46）-改善（予定）年月-月","22調査結果-建築物の内部-4（46）-改善（予定）年月-未定","22調査結果-建築物の内部-4（47）-調査結果","22調査結果-建築物の内部-4（47）-調査者番号","22調査結果-建築物の内部-4（47）-指摘の具体的内容等","22調査結果-建築物の内部-4（47）-改善策の具体的内容等","22調査結果-建築物の内部-4（47）-改善（予定）年月-年（令和）","22調査結果-建築物の内部-4（47）-改善（予定）年月-月","22調査結果-建築物の内部-4（47）-改善（予定）年月-未定","22調査結果-避難施設等-5（1）-調査結果","22調査結果-避難施設等-5（1）-調査者番号","22調査結果-避難施設等-5（1）-指摘の具体的内容等","22調査結果-避難施設等-5（1）-改善策の具体的内容等","22調査結果-避難施設等-5（1）-改善（予定）年月-年（令和）","22調査結果-避難施設等-5（1）-改善（予定）年月-月","22調査結果-避難施設等-5（1）-改善（予定）年月-未定","22調査結果-避難施設等-5（2）-調査結果","22調査結果-避難施設等-5（2）-調査者番号","22調査結果-避難施設等-5（2）-指摘の具体的内容等","22調査結果-避難施設等-5（2）-改善策の具体的内容等","22調査結果-避難施設等-5（2）-改善（予定）年月-年（令和）","22調査結果-避難施設等-5（2）-改善（予定）年月-月","22調査結果-避難施設等-5（2）-改善（予定）年月-未定","22調査結果-避難施設等-5（3）-調査結果","22調査結果-避難施設等-5（3）-調査者番号","22調査結果-避難施設等-5（3）-指摘の具体的内容等","22調査結果-避難施設等-5（3）-改善策の具体的内容等","22調査結果-避難施設等-5（3）-改善（予定）年月-年（令和）","22調査結果-避難施設等-5（3）-改善（予定）年月-月","22調査結果-避難施設等-5（3）-改善（予定）年月-未定","22調査結果-避難施設等-5（4）-調査結果","22調査結果-避難施設等-5（4）-調査者番号","22調査結果-避難施設等-5（4）-指摘の具体的内容等","22調査結果-避難施設等-5（4）-改善策の具体的内容等","22調査結果-避難施設等-5（4）-改善（予定）年月-年（令和）","22調査結果-避難施設等-5（4）-改善（予定）年月-月","22調査結果-避難施設等-5（4）-改善（予定）年月-未定","22調査結果-避難施設等-5（5）-調査結果","22調査結果-避難施設等-5（5）-調査者番号","22調査結果-避難施設等-5（5）-指摘の具体的内容等","22調査結果-避難施設等-5（5）-改善策の具体的内容等","22調査結果-避難施設等-5（5）-改善（予定）年月-年（令和）","22調査結果-避難施設等-5（5）-改善（予定）年月-月","22調査結果-避難施設等-5（5）-改善（予定）年月-未定","22調査結果-避難施設等-5（6）-調査結果","22調査結果-避難施設等-5（6）-調査者番号","22調査結果-避難施設等-5（6）-指摘の具体的内容等","22調査結果-避難施設等-5（6）-改善策の具体的内容等","22調査結果-避難施設等-5（6）-改善（予定）年月-年（令和）","22調査結果-避難施設等-5（6）-改善（予定）年月-月","22調査結果-避難施設等-5（6）-改善（予定）年月-未定","22調査結果-避難施設等-5（7）-調査結果","22調査結果-避難施設等-5（7）-調査者番号","22調査結果-避難施設等-5（7）-指摘の具体的内容等","22調査結果-避難施設等-5（7）-改善策の具体的内容等","22調査結果-避難施設等-5（7）-改善（予定）年月-年（令和）","22調査結果-避難施設等-5（7）-改善（予定）年月-月","22調査結果-避難施設等-5（7）-改善（予定）年月-未定","22調査結果-避難施設等-5（8）-調査結果","22調査結果-避難施設等-5（8）-調査者番号","22調査結果-避難施設等-5（8）-指摘の具体的内容等","22調査結果-避難施設等-5（8）-改善策の具体的内容等","22調査結果-避難施設等-5（8）-改善（予定）年月-年（令和）","22調査結果-避難施設等-5（8）-改善（予定）年月-月","22調査結果-避難施設等-5（8）-改善（予定）年月-未定","22調査結果-避難施設等-5（9）-調査結果","22調査結果-避難施設等-5（9）-調査者番号","22調査結果-避難施設等-5（9）-指摘の具体的内容等","22調査結果-避難施設等-5（9）-改善策の具体的内容等","22調査結果-避難施設等-5（9）-改善（予定）年月-年（令和）","22調査結果-避難施設等-5（9）-改善（予定）年月-月","22調査結果-避難施設等-5（9）-改善（予定）年月-未定","22調査結果-避難施設等-5（10）-調査結果","22調査結果-避難施設等-5（10）-調査者番号","22調査結果-避難施設等-5（10）-指摘の具体的内容等","22調査結果-避難施設等-5（10）-改善策の具体的内容等","22調査結果-避難施設等-5（10）-改善（予定）年月-年（令和）","22調査結果-避難施設等-5（10）-改善（予定）年月-月","22調査結果-避難施設等-5（10）-改善（予定）年月-未定","22調査結果-避難施設等-5（11）-調査結果","22調査結果-避難施設等-5（11）-調査者番号","22調査結果-避難施設等-5（11）-指摘の具体的内容等","22調査結果-避難施設等-5（11）-改善策の具体的内容等","22調査結果-避難施設等-5（11）-改善（予定）年月-年（令和）","22調査結果-避難施設等-5（11）-改善（予定）年月-月","22調査結果-避難施設等-5（11）-改善（予定）年月-未定","22調査結果-避難施設等-5（12）-調査結果","22調査結果-避難施設等-5（12）-調査者番号","22調査結果-避難施設等-5（12）-指摘の具体的内容等","22調査結果-避難施設等-5（12）-改善策の具体的内容等","22調査結果-避難施設等-5（12）-改善（予定）年月-年（令和）","22調査結果-避難施設等-5（12）-改善（予定）年月-月","22調査結果-避難施設等-5（12）-改善（予定）年月-未定","22調査結果-避難施設等-5（13）-調査結果","22調査結果-避難施設等-5（13）-調査者番号","22調査結果-避難施設等-5（13）-指摘の具体的内容等","22調査結果-避難施設等-5（13）-改善策の具体的内容等","22調査結果-避難施設等-5（13）-改善（予定）年月-年（令和）","22調査結果-避難施設等-5（13）-改善（予定）年月-月","22調査結果-避難施設等-5（13）-改善（予定）年月-未定","22調査結果-避難施設等-5（14）-調査結果","22調査結果-避難施設等-5（14）-調査者番号","22調査結果-避難施設等-5（14）-指摘の具体的内容等","22調査結果-避難施設等-5（14）-改善策の具体的内容等","22調査結果-避難施設等-5（14）-改善（予定）年月-年（令和）","22調査結果-避難施設等-5（14）-改善（予定）年月-月","22調査結果-避難施設等-5（14）-改善（予定）年月-未定","22調査結果-避難施設等-5（15）-調査結果","22調査結果-避難施設等-5（15）-調査者番号","22調査結果-避難施設等-5（15）-指摘の具体的内容等","22調査結果-避難施設等-5（15）-改善策の具体的内容等","22調査結果-避難施設等-5（15）-改善（予定）年月-年（令和）","22調査結果-避難施設等-5（15）-改善（予定）年月-月","22調査結果-避難施設等-5（15）-改善（予定）年月-未定","22調査結果-避難施設等-5（16）-調査結果","22調査結果-避難施設等-5（16）-調査者番号","22調査結果-避難施設等-5（16）-指摘の具体的内容等","22調査結果-避難施設等-5（16）-改善策の具体的内容等","22調査結果-避難施設等-5（16）-改善（予定）年月-年（令和）","22調査結果-避難施設等-5（16）-改善（予定）年月-月","22調査結果-避難施設等-5（16）-改善（予定）年月-未定","22調査結果-避難施設等-5（17）-調査結果","22調査結果-避難施設等-5（17）-調査者番号","22調査結果-避難施設等-5（17）-指摘の具体的内容等","22調査結果-避難施設等-5（17）-改善策の具体的内容等","22調査結果-避難施設等-5（17）-改善（予定）年月-年（令和）","22調査結果-避難施設等-5（17）-改善（予定）年月-月","22調査結果-避難施設等-5（17）-改善（予定）年月-未定","22調査結果-避難施設等-5（18）-調査結果","22調査結果-避難施設等-5（18）-調査者番号","22調査結果-避難施設等-5（18）-指摘の具体的内容等","22調査結果-避難施設等-5（18）-改善策の具体的内容等","22調査結果-避難施設等-5（18）-改善（予定）年月-年（令和）","22調査結果-避難施設等-5（18）-改善（予定）年月-月","22調査結果-避難施設等-5（18）-改善（予定）年月-未定","22調査結果-避難施設等-5（19）-調査結果","22調査結果-避難施設等-5（19）-調査者番号","22調査結果-避難施設等-5（19）-指摘の具体的内容等","22調査結果-避難施設等-5（19）-改善策の具体的内容等","22調査結果-避難施設等-5（19）-改善（予定）年月-年（令和）","22調査結果-避難施設等-5（19）-改善（予定）年月-月","22調査結果-避難施設等-5（19）-改善（予定）年月-未定","22調査結果-避難施設等-5（20）-調査結果","22調査結果-避難施設等-5（20）-調査者番号","22調査結果-避難施設等-5（20）-指摘の具体的内容等","22調査結果-避難施設等-5（20）-改善策の具体的内容等","22調査結果-避難施設等-5（20）-改善（予定）年月-年（令和）","22調査結果-避難施設等-5（20）-改善（予定）年月-月","22調査結果-避難施設等-5（20）-改善（予定）年月-未定","22調査結果-避難施設等-5（21）-調査結果","22調査結果-避難施設等-5（21）-調査者番号","22調査結果-避難施設等-5（21）-指摘の具体的内容等","22調査結果-避難施設等-5（21）-改善策の具体的内容等","22調査結果-避難施設等-5（21）-改善（予定）年月-年（令和）","22調査結果-避難施設等-5（21）-改善（予定）年月-月","22調査結果-避難施設等-5（21）-改善（予定）年月-未定","22調査結果-避難施設等-5（22）-調査結果","22調査結果-避難施設等-5（22）-調査者番号","22調査結果-避難施設等-5（22）-指摘の具体的内容等","22調査結果-避難施設等-5（22）-改善策の具体的内容等","22調査結果-避難施設等-5（22）-改善（予定）年月-年（令和）","22調査結果-避難施設等-5（22）-改善（予定）年月-月","22調査結果-避難施設等-5（22）-改善（予定）年月-未定","22調査結果-避難施設等-5（23）-調査結果","22調査結果-避難施設等-5（23）-調査者番号","22調査結果-避難施設等-5（23）-指摘の具体的内容等","22調査結果-避難施設等-5（23）-改善策の具体的内容等","22調査結果-避難施設等-5（23）-改善（予定）年月-年（令和）","22調査結果-避難施設等-5（23）-改善（予定）年月-月","22調査結果-避難施設等-5（23）-改善（予定）年月-未定","22調査結果-避難施設等-5（24）-調査結果","22調査結果-避難施設等-5（24）-調査者番号","22調査結果-避難施設等-5（24）-指摘の具体的内容等","22調査結果-避難施設等-5（24）-改善策の具体的内容等","22調査結果-避難施設等-5（24）-改善（予定）年月-年（令和）","22調査結果-避難施設等-5（24）-改善（予定）年月-月","22調査結果-避難施設等-5（24）-改善（予定）年月-未定","22調査結果-避難施設等-5（25）-調査結果","22調査結果-避難施設等-5（25）-調査者番号","22調査結果-避難施設等-5（25）-指摘の具体的内容等","22調査結果-避難施設等-5（25）-改善策の具体的内容等","22調査結果-避難施設等-5（25）-改善（予定）年月-年（令和）","22調査結果-避難施設等-5（25）-改善（予定）年月-月","22調査結果-避難施設等-5（25）-改善（予定）年月-未定","22調査結果-避難施設等-5（26）-調査結果","22調査結果-避難施設等-5（26）-調査者番号","22調査結果-避難施設等-5（26）-指摘の具体的内容等","22調査結果-避難施設等-5（26）-改善策の具体的内容等","22調査結果-避難施設等-5（26）-改善（予定）年月-年（令和）","22調査結果-避難施設等-5（26）-改善（予定）年月-月","22調査結果-避難施設等-5（26）-改善（予定）年月-未定","22調査結果-避難施設等-5（27）-調査結果","22調査結果-避難施設等-5（27）-調査者番号","22調査結果-避難施設等-5（27）-指摘の具体的内容等","22調査結果-避難施設等-5（27）-改善策の具体的内容等","22調査結果-避難施設等-5（27）-改善（予定）年月-年（令和）","22調査結果-避難施設等-5（27）-改善（予定）年月-月","22調査結果-避難施設等-5（27）-改善（予定）年月-未定","22調査結果-避難施設等-5（28）-調査結果","22調査結果-避難施設等-5（28）-調査者番号","22調査結果-避難施設等-5（28）-指摘の具体的内容等","22調査結果-避難施設等-5（28）-改善策の具体的内容等","22調査結果-避難施設等-5（28）-改善（予定）年月-年（令和）","22調査結果-避難施設等-5（28）-改善（予定）年月-月","22調査結果-避難施設等-5（28）-改善（予定）年月-未定","22調査結果-避難施設等-5（29）-調査結果","22調査結果-避難施設等-5（29）-調査者番号","22調査結果-避難施設等-5（29）-指摘の具体的内容等","22調査結果-避難施設等-5（29）-改善策の具体的内容等","22調査結果-避難施設等-5（29）-改善（予定）年月-年（令和）","22調査結果-避難施設等-5（29）-改善（予定）年月-月","22調査結果-避難施設等-5（29）-改善（予定）年月-未定","22調査結果-避難施設等-5（30）-調査結果","22調査結果-避難施設等-5（30）-調査者番号","22調査結果-避難施設等-5（30）-指摘の具体的内容等","22調査結果-避難施設等-5（30）-改善策の具体的内容等","22調査結果-避難施設等-5（30）-改善（予定）年月-年（令和）","22調査結果-避難施設等-5（30）-改善（予定）年月-月","22調査結果-避難施設等-5（30）-改善（予定）年月-未定","22調査結果-避難施設等-5（31）-調査結果","22調査結果-避難施設等-5（31）-調査者番号","22調査結果-避難施設等-5（31）-指摘の具体的内容等","22調査結果-避難施設等-5（31）-改善策の具体的内容等","22調査結果-避難施設等-5（31）-改善（予定）年月-年（令和）","22調査結果-避難施設等-5（31）-改善（予定）年月-月","22調査結果-避難施設等-5（31）-改善（予定）年月-未定","22調査結果-避難施設等-5（32）-調査結果","22調査結果-避難施設等-5（32）-調査者番号","22調査結果-避難施設等-5（32）-指摘の具体的内容等","22調査結果-避難施設等-5（32）-改善策の具体的内容等","22調査結果-避難施設等-5（32）-改善（予定）年月-年（令和）","22調査結果-避難施設等-5（32）-改善（予定）年月-月","22調査結果-避難施設等-5（32）-改善（予定）年月-未定","22調査結果-避難施設等-5（33）-調査結果","22調査結果-避難施設等-5（33）-調査者番号","22調査結果-避難施設等-5（33）-指摘の具体的内容等","22調査結果-避難施設等-5（33）-改善策の具体的内容等","22調査結果-避難施設等-5（33）-改善（予定）年月-年（令和）","22調査結果-避難施設等-5（33）-改善（予定）年月-月","22調査結果-避難施設等-5（33）-改善（予定）年月-未定","22調査結果-避難施設等-5（34）-調査結果","22調査結果-避難施設等-5（34）-調査者番号","22調査結果-避難施設等-5（34）-指摘の具体的内容等","22調査結果-避難施設等-5（34）-改善策の具体的内容等","22調査結果-避難施設等-5（34）-改善（予定）年月-年（令和）","22調査結果-避難施設等-5（34）-改善（予定）年月-月","22調査結果-避難施設等-5（34）-改善（予定）年月-未定","22調査結果-避難施設等-5（35）-調査結果","22調査結果-避難施設等-5（35）-調査者番号","22調査結果-避難施設等-5（35）-指摘の具体的内容等","22調査結果-避難施設等-5（35）-改善策の具体的内容等","22調査結果-避難施設等-5（35）-改善（予定）年月-年（令和）","22調査結果-避難施設等-5（35）-改善（予定）年月-月","22調査結果-避難施設等-5（35）-改善（予定）年月-未定","22調査結果-避難施設等-5（36）-調査結果","22調査結果-避難施設等-5（36）-調査者番号","22調査結果-避難施設等-5（36）-指摘の具体的内容等","22調査結果-避難施設等-5（36）-改善策の具体的内容等","22調査結果-避難施設等-5（36）-改善（予定）年月-年（令和）","22調査結果-避難施設等-5（36）-改善（予定）年月-月","22調査結果-避難施設等-5（36）-改善（予定）年月-未定","22調査結果-避難施設等-5（37）-調査結果","22調査結果-避難施設等-5（37）-調査者番号","22調査結果-避難施設等-5（37）-指摘の具体的内容等","22調査結果-避難施設等-5（37）-改善策の具体的内容等","22調査結果-避難施設等-5（37）-改善（予定）年月-年（令和）","22調査結果-避難施設等-5（37）-改善（予定）年月-月","22調査結果-避難施設等-5（37）-改善（予定）年月-未定","22調査結果-避難施設等-5（38）-調査結果","22調査結果-避難施設等-5（38）-調査者番号","22調査結果-避難施設等-5（38）-指摘の具体的内容等","22調査結果-避難施設等-5（38）-改善策の具体的内容等","22調査結果-避難施設等-5（38）-改善（予定）年月-年（令和）","22調査結果-避難施設等-5（38）-改善（予定）年月-月","22調査結果-避難施設等-5（38）-改善（予定）年月-未定","22調査結果-避難施設等-5（39）-調査結果","22調査結果-避難施設等-5（39）-調査者番号","22調査結果-避難施設等-5（39）-指摘の具体的内容等","22調査結果-避難施設等-5（39）-改善策の具体的内容等","22調査結果-避難施設等-5（39）-改善（予定）年月-年（令和）","22調査結果-避難施設等-5（39）-改善（予定）年月-月","22調査結果-避難施設等-5（39）-改善（予定）年月-未定","22調査結果-避難施設等-5（40）-調査結果","22調査結果-避難施設等-5（40）-調査者番号","22調査結果-避難施設等-5（40）-指摘の具体的内容等","22調査結果-避難施設等-5（40）-改善策の具体的内容等","22調査結果-避難施設等-5（40）-改善（予定）年月-年（令和）","22調査結果-避難施設等-5（40）-改善（予定）年月-月","22調査結果-避難施設等-5（40）-改善（予定）年月-未定","22調査結果-その他-6（1）-調査結果","22調査結果-その他-6（1）-調査者番号","22調査結果-その他-6（1）-指摘の具体的内容等","22調査結果-その他-6（1）-改善策の具体的内容等","22調査結果-その他-6（1）-改善（予定）年月-年（令和）","22調査結果-その他-6（1）-改善（予定）年月-月","22調査結果-その他-6（1）-改善（予定）年月-未定","22調査結果-その他-6（2）-調査結果","22調査結果-その他-6（2）-調査者番号","22調査結果-その他-6（2）-指摘の具体的内容等","22調査結果-その他-6（2）-改善策の具体的内容等","22調査結果-その他-6（2）-改善（予定）年月-年（令和）","22調査結果-その他-6（2）-改善（予定）年月-月","22調査結果-その他-6（2）-改善（予定）年月-未定","22調査結果-その他-6（3）-調査結果","22調査結果-その他-6（3）-調査者番号","22調査結果-その他-6（3）-指摘の具体的内容等","22調査結果-その他-6（3）-改善策の具体的内容等","22調査結果-その他-6（3）-改善（予定）年月-年（令和）","22調査結果-その他-6（3）-改善（予定）年月-月","22調査結果-その他-6（3）-改善（予定）年月-未定","22調査結果-その他-6（4）-調査結果","22調査結果-その他-6（4）-調査者番号","22調査結果-その他-6（4）-指摘の具体的内容等","22調査結果-その他-6（4）-改善策の具体的内容等","22調査結果-その他-6（4）-改善（予定）年月-年（令和）","22調査結果-その他-6（4）-改善（予定）年月-月","22調査結果-その他-6（4）-改善（予定）年月-未定","22調査結果-その他-6（5）-調査結果","22調査結果-その他-6（5）-調査者番号","22調査結果-その他-6（5）-指摘の具体的内容等","22調査結果-その他-6（5）-改善策の具体的内容等","22調査結果-その他-6（5）-改善（予定）年月-年（令和）","22調査結果-その他-6（5）-改善（予定）年月-月","22調査結果-その他-6（5）-改善（予定）年月-未定","22調査結果-その他-6（6）-調査結果","22調査結果-その他-6（6）-調査者番号","22調査結果-その他-6（6）-指摘の具体的内容等","22調査結果-その他-6（6）-改善策の具体的内容等","22調査結果-その他-6（6）-改善（予定）年月-年（令和）","22調査結果-その他-6（6）-改善（予定）年月-月","22調査結果-その他-6（6）-改善（予定）年月-未定","22調査結果-その他-6（7）-調査結果","22調査結果-その他-6（7）-調査者番号","22調査結果-その他-6（7）-指摘の具体的内容等","22調査結果-その他-6（7）-改善策の具体的内容等","22調査結果-その他-6（7）-改善（予定）年月-年（令和）","22調査結果-その他-6（7）-改善（予定）年月-月","22調査結果-その他-6（7）-改善（予定）年月-未定","22調査結果-その他-6（8）-調査結果","22調査結果-その他-6（8）-調査者番号","22調査結果-その他-6（8）-指摘の具体的内容等","22調査結果-その他-6（8）-改善策の具体的内容等","22調査結果-その他-6（8）-改善（予定）年月-年（令和）","22調査結果-その他-6（8）-改善（予定）年月-月","22調査結果-その他-6（8）-改善（予定）年月-未定","22調査結果-その他-6（9）-調査結果","22調査結果-その他-6（9）-調査者番号","22調査結果-その他-6（9）-指摘の具体的内容等","22調査結果-その他-6（9）-改善策の具体的内容等","22調査結果-その他-6（9）-改善（予定）年月-年（令和）","22調査結果-その他-6（9）-改善（予定）年月-月","22調査結果-その他-6（9）-改善（予定）年月-未定","22調査結果-上記以外の調査項目-6（9）-調査結果","22調査結果-上記以外の調査項目-7（1）-調査者番号","22調査結果-上記以外の調査項目-7（1）-指摘の具体的内容等","22調査結果-上記以外の調査項目-7（1）-改善策の具体的内容等","22調査結果-上記以外の調査項目-7（1）-改善（予定）年月-年（令和）","22調査結果-上記以外の調査項目-7（1）-改善（予定）年月-月","22調査結果-上記以外の調査項目-7（1）-改善（予定）年月-未定","22調査結果-上記以外の調査項目-7（2）-調査結果","22調査結果-上記以外の調査項目-7（2）-調査者番号","22調査結果-上記以外の調査項目-7（2）-指摘の具体的内容等","22調査結果-上記以外の調査項目-7（2）-改善策の具体的内容等","22調査結果-上記以外の調査項目-7（2）-改善（予定）年月-年（令和）","22調査結果-上記以外の調査項目-7（2）-改善（予定）年月-月","22調査結果-上記以外の調査項目-7（2）-改善（予定）年月-未定","22調査結果-上記以外の調査項目-7（3）-調査結果","22調査結果-上記以外の調査項目-7（3）-調査者番号","22調査結果-上記以外の調査項目-7（3）-指摘の具体的内容等","22調査結果-上記以外の調査項目-7（3）-改善策の具体的内容等","22調査結果-上記以外の調査項目-7（3）-改善（予定）年月-年（令和）","22調査結果-上記以外の調査項目-7（3）-改善（予定）年月-月","22調査結果-上記以外の調査項目-7（3）-改善（予定）年月-未定","22調査結果-上記以外の調査項目-7（4）-調査結果","22調査結果-上記以外の調査項目-7（4）-調査者番号","22調査結果-上記以外の調査項目-7（4）-指摘の具体的内容等","22調査結果-上記以外の調査項目-7（4）-改善策の具体的内容等","22調査結果-上記以外の調査項目-7（4）-改善（予定）年月-年（令和）","22調査結果-上記以外の調査項目-7（4）-改善（予定）年月-月","22調査結果-上記以外の調査項目-7（4）-改善（予定）年月-未定","22調査結果-上記以外の調査項目-7（5）-調査結果","22調査結果-上記以外の調査項目-7（5）-調査者番号","22調査結果-上記以外の調査項目-7（5）-指摘の具体的内容等","22調査結果-上記以外の調査項目-7（5）-改善策の具体的内容等","22調査結果-上記以外の調査項目-7（5）-改善（予定）年月-年（令和）","22調査結果-上記以外の調査項目-7（5）-改善（予定）年月-月","22調査結果-上記以外の調査項目-7（5）-改善（予定）年月-未定","22調査結果-上記以外の調査項目-7（6）-調査結果","22調査結果-上記以外の調査項目-7（6）-調査者番号","22調査結果-上記以外の調査項目-7（6）-指摘の具体的内容等","22調査結果-上記以外の調査項目-7（6）-改善策の具体的内容等","22調査結果-上記以外の調査項目-7（6）-改善（予定）年月-年（令和）","22調査結果-上記以外の調査項目-7（6）-改善（予定）年月-月","22調査結果-上記以外の調査項目-7（6）-改善（予定）年月-未定","22調査結果-上記以外の調査項目-7（7）-調査結果","22調査結果-上記以外の調査項目-7（7）-調査者番号","22調査結果-上記以外の調査項目-7（7）-指摘の具体的内容等","22調査結果-上記以外の調査項目-7（7）-改善策の具体的内容等","22調査結果-上記以外の調査項目-7（7）-改善（予定）年月-年（令和）","22調査結果-上記以外の調査項目-7（7）-改善（予定）年月-月","22調査結果-上記以外の調査項目-7（7）-改善（予定）年月-未定","22調査結果-上記以外の調査項目-7（8）-調査結果","22調査結果-上記以外の調査項目-7（8）-調査者番号","22調査結果-上記以外の調査項目-7（8）-指摘の具体的内容等","22調査結果-上記以外の調査項目-7（8）-改善策の具体的内容等","22調査結果-上記以外の調査項目-7（8）-改善（予定）年月-年（令和）","22調査結果-上記以外の調査項目-7（8）-改善（予定）年月-月","22調査結果-上記以外の調査項目-7（8）-改善（予定）年月-未定","22調査結果-上記以外の調査項目-7（9）-調査結果","22調査結果-上記以外の調査項目-7（9）-調査者番号","22調査結果-上記以外の調査項目-7（9）-指摘の具体的内容等","22調査結果-上記以外の調査項目-7（9）-改善策の具体的内容等","22調査結果-上記以外の調査項目-7（9）-改善（予定）年月-年（令和）","22調査結果-上記以外の調査項目-7（9）-改善（予定）年月-月","22調査結果-上記以外の調査項目-7（9）-改善（予定）年月-未定","22調査結果-上記以外の調査項目-7（10）-調査結果","22調査結果-上記以外の調査項目-7（10）-調査者番号","22調査結果-上記以外の調査項目-7（10）-指摘の具体的内容等","22調査結果-上記以外の調査項目-7（10）-改善策の具体的内容等","22調査結果-上記以外の調査項目-7（10）-改善（予定）年月-年（令和）","22調査結果-上記以外の調査項目-7（10）-改善（予定）年月-月","22調査結果-上記以外の調査項目-7（10）-改善（予定）年月-未定","22調査結果-上記1から7に記載のない事項-1行目-調査結果","22調査結果-上記1から7に記載のない事項-1行目-調査者番号","22調査結果-上記1から7に記載のない事項-1行目-指摘の具体的内容等","22調査結果-上記1から7に記載のない事項-1行目-改善策の具体的内容等","22調査結果-上記1から7に記載のない事項-1行目-改善（予定）年月-年（令和）","22調査結果-上記1から7に記載のない事項-1行目-改善（予定）年月-月","22調査結果-上記1から7に記載のない事項-1行目-改善（予定）年月-未定","22調査結果-上記1から7に記載のない事項-2行目-調査結果","22調査結果-上記1から7に記載のない事項-2行目-調査者番号","22調査結果-上記1から7に記載のない事項-2行目-指摘の具体的内容等","22調査結果-上記1から7に記載のない事項-2行目-改善策の具体的内容等","22調査結果-上記1から7に記載のない事項-2行目-改善（予定）年月-年（令和）","22調査結果-上記1から7に記載のない事項-2行目-改善（予定）年月-月","22調査結果-上記1から7に記載のない事項-2行目-改善（予定）年月-未定","22調査結果-上記1から7に記載のない事項-3行目-調査結果","22調査結果-上記1から7に記載のない事項-3行目-調査者番号","22調査結果-上記1から7に記載のない事項-3行目-指摘の具体的内容等","22調査結果-上記1から7に記載のない事項-3行目-改善策の具体的内容等","22調査結果-上記1から7に記載のない事項-3行目-改善（予定）年月-年（令和）","22調査結果-上記1から7に記載のない事項-3行目-改善（予定）年月-月","22調査結果-上記1から7に記載のない事項-3行目-改善（予定）年月-未定","22調査結果-上記1から7に記載のない事項-4行目-調査結果","22調査結果-上記1から7に記載のない事項-4行目-調査者番号","22調査結果-上記1から7に記載のない事項-4行目-指摘の具体的内容等","22調査結果-上記1から7に記載のない事項-4行目-改善策の具体的内容等","22調査結果-上記1から7に記載のない事項-4行目-改善（予定）年月-年（令和）","22調査結果-上記1から7に記載のない事項-4行目-改善（予定）年月-月","22調査結果-上記1から7に記載のない事項-4行目-改善（予定）年月-未定","22調査結果-上記1から7に記載のない事項-5行目-調査結果","22調査結果-上記1から7に記載のない事項-5行目-調査者番号","22調査結果-上記1から7に記載のない事項-5行目-指摘の具体的内容等","22調査結果-上記1から7に記載のない事項-5行目-改善策の具体的内容等","22調査結果-上記1から7に記載のない事項-5行目-改善（予定）年月-年（令和）","22調査結果-上記1から7に記載のない事項-5行目-改善（予定）年月-月","22調査結果-上記1から7に記載のない事項-5行目-改善（予定）年月-未定","22調査結果-上記1から7に記載のない事項-6行目-調査結果","22調査結果-上記1から7に記載のない事項-6行目-調査者番号","22調査結果-上記1から7に記載のない事項-6行目-指摘の具体的内容等","22調査結果-上記1から7に記載のない事項-6行目-改善策の具体的内容等","22調査結果-上記1から7に記載のない事項-6行目-改善（予定）年月-年（令和）","22調査結果-上記1から7に記載のない事項-6行目-改善（予定）年月-月","22調査結果-上記1から7に記載のない事項-6行目-改善（予定）年月-未定","22調査結果-上記1から7に記載のない事項-7行目-調査結果","22調査結果-上記1から7に記載のない事項-7行目-調査者番号","22調査結果-上記1から7に記載のない事項-7行目-指摘の具体的内容等","22調査結果-上記1から7に記載のない事項-7行目-改善策の具体的内容等","22調査結果-上記1から7に記載のない事項-7行目-改善（予定）年月-年（令和）","22調査結果-上記1から7に記載のない事項-7行目-改善（予定）年月-月","22調査結果-上記1から7に記載のない事項-7行目-改善（予定）年月-未定","22調査結果-上記1から7に記載のない事項-8行目-調査結果","22調査結果-上記1から7に記載のない事項-8行目-調査者番号","22調査結果-上記1から7に記載のない事項-8行目-指摘の具体的内容等","22調査結果-上記1から7に記載のない事項-8行目-改善策の具体的内容等","22調査結果-上記1から7に記載のない事項-8行目-改善（予定）年月-年（令和）","22調査結果-上記1から7に記載のない事項-8行目-改善（予定）年月-月","22調査結果-上記1から7に記載のない事項-8行目-改善（予定）年月-未定","22調査結果-上記1から7に記載のない事項-9行目-調査結果","22調査結果-上記1から7に記載のない事項-9行目-調査者番号","22調査結果-上記1から7に記載のない事項-9行目-指摘の具体的内容等","22調査結果-上記1から7に記載のない事項-9行目-改善策の具体的内容等","22調査結果-上記1から7に記載のない事項-9行目-改善（予定）年月-年（令和）","22調査結果-上記1から7に記載のない事項-9行目-改善（予定）年月-月","22調査結果-上記1から7に記載のない事項-9行目-改善（予定）年月-未定","22調査結果-上記1から7に記載のない事項-10行目-調査結果","22調査結果-上記1から7に記載のない事項-10行目-調査者番号","22調査結果-上記1から7に記載のない事項-10行目-指摘の具体的内容等","22調査結果-上記1から7に記載のない事項-10行目-改善策の具体的内容等","22調査結果-上記1から7に記載のない事項-10行目-改善（予定）年月-年（令和）","22調査結果-上記1から7に記載のない事項-10行目-改善（予定）年月-月","22調査結果-上記1から7に記載のない事項-10行目-改善（予定）年月-未定","階別用途別床面積-1-大分類","階別用途別床面積-1-小分類","階別用途別床面積-1-地下1階","階別用途別床面積-1-地下2階","階別用途別床面積-1-地下3階","階別用途別床面積-1-地下4階","階別用途別床面積-1-塔屋 1階","階別用途別床面積-1-塔屋 2階","階別用途別床面積-1-塔屋 3階","階別用途別床面積-1-塔屋 4階","階別用途別床面積-1-塔屋 5階","階別用途別床面積-1-1階","階別用途別床面積-1-2階","階別用途別床面積-1-3階","階別用途別床面積-1-4階","階別用途別床面積-1-5階","階別用途別床面積-1-6階","階別用途別床面積-1-7階","階別用途別床面積-1-8階","階別用途別床面積-1-9階","階別用途別床面積-1-10階","階別用途別床面積-1-11階","階別用途別床面積-1-12階","階別用途別床面積-1-13階","階別用途別床面積-1-14階","階別用途別床面積-1-15階","階別用途別床面積-1-16階","階別用途別床面積-1-17階","階別用途別床面積-1-18階","階別用途別床面積-1-19階","階別用途別床面積-1-20階","階別用途別床面積-1-21階","階別用途別床面積-1-22階","階別用途別床面積-1-23階","階別用途別床面積-1-24階","階別用途別床面積-1-25階","階別用途別床面積-1-26階","階別用途別床面積-1-27階","階別用途別床面積-1-28階","階別用途別床面積-1-29階","階別用途別床面積-1-30階","階別用途別床面積-1-31階","階別用途別床面積-1-32階","階別用途別床面積-1-33階","階別用途別床面積-1-34階","階別用途別床面積-1-35階","階別用途別床面積-1-36階","階別用途別床面積-1-37階","階別用途別床面積-1-38階","階別用途別床面積-1-39階","階別用途別床面積-1-40階","階別用途別床面積-1-41階","階別用途別床面積-1-42階","階別用途別床面積-1-43階","階別用途別床面積-1-44階","階別用途別床面積-1-45階","階別用途別床面積-1-46階","階別用途別床面積-1-47階","階別用途別床面積-1-48階","階別用途別床面積-1-49階","階別用途別床面積-1-50階","階別用途別床面積-2-大分類","階別用途別床面積-2-小分類","階別用途別床面積-2-地下1階","階別用途別床面積-2-地下2階","階別用途別床面積-2-地下3階","階別用途別床面積-2-地下4階","階別用途別床面積-2-塔屋 1階","階別用途別床面積-2-塔屋 2階","階別用途別床面積-2-塔屋 3階","階別用途別床面積-2-塔屋 4階","階別用途別床面積-2-塔屋 5階","階別用途別床面積-2-1階","階別用途別床面積-2-2階","階別用途別床面積-2-3階","階別用途別床面積-2-4階","階別用途別床面積-2-5階","階別用途別床面積-2-6階","階別用途別床面積-2-7階","階別用途別床面積-2-8階","階別用途別床面積-2-9階","階別用途別床面積-2-10階","階別用途別床面積-2-11階","階別用途別床面積-2-12階","階別用途別床面積-2-13階","階別用途別床面積-2-14階","階別用途別床面積-2-15階","階別用途別床面積-2-16階","階別用途別床面積-2-17階","階別用途別床面積-2-18階","階別用途別床面積-2-19階","階別用途別床面積-2-20階","階別用途別床面積-2-21階","階別用途別床面積-2-22階","階別用途別床面積-2-23階","階別用途別床面積-2-24階","階別用途別床面積-2-25階","階別用途別床面積-2-26階","階別用途別床面積-2-27階","階別用途別床面積-2-28階","階別用途別床面積-2-29階","階別用途別床面積-2-30階","階別用途別床面積-2-31階","階別用途別床面積-2-32階","階別用途別床面積-2-33階","階別用途別床面積-2-34階","階別用途別床面積-2-35階","階別用途別床面積-2-36階","階別用途別床面積-2-37階","階別用途別床面積-2-38階","階別用途別床面積-2-39階","階別用途別床面積-2-40階","階別用途別床面積-2-41階","階別用途別床面積-2-42階","階別用途別床面積-2-43階","階別用途別床面積-2-44階","階別用途別床面積-2-45階","階別用途別床面積-2-46階","階別用途別床面積-2-47階","階別用途別床面積-2-48階","階別用途別床面積-2-49階","階別用途別床面積-2-50階","階別用途別床面積-3-大分類","階別用途別床面積-3-小分類","階別用途別床面積-3-地下1階","階別用途別床面積-3-地下2階","階別用途別床面積-3-地下3階","階別用途別床面積-3-地下4階","階別用途別床面積-3-塔屋 1階","階別用途別床面積-3-塔屋 2階","階別用途別床面積-3-塔屋 3階","階別用途別床面積-3-塔屋 4階","階別用途別床面積-3-塔屋 5階","階別用途別床面積-3-1階","階別用途別床面積-3-2階","階別用途別床面積-3-3階","階別用途別床面積-3-4階","階別用途別床面積-3-5階","階別用途別床面積-3-6階","階別用途別床面積-3-7階","階別用途別床面積-3-8階","階別用途別床面積-3-9階","階別用途別床面積-3-10階","階別用途別床面積-3-11階","階別用途別床面積-3-12階","階別用途別床面積-3-13階","階別用途別床面積-3-14階","階別用途別床面積-3-15階","階別用途別床面積-3-16階","階別用途別床面積-3-17階","階別用途別床面積-3-18階","階別用途別床面積-3-19階","階別用途別床面積-3-20階","階別用途別床面積-3-21階","階別用途別床面積-3-22階","階別用途別床面積-3-23階","階別用途別床面積-3-24階","階別用途別床面積-3-25階","階別用途別床面積-3-26階","階別用途別床面積-3-27階","階別用途別床面積-3-28階","階別用途別床面積-3-29階","階別用途別床面積-3-30階","階別用途別床面積-3-31階","階別用途別床面積-3-32階","階別用途別床面積-3-33階","階別用途別床面積-3-34階","階別用途別床面積-3-35階","階別用途別床面積-3-36階","階別用途別床面積-3-37階","階別用途別床面積-3-38階","階別用途別床面積-3-39階","階別用途別床面積-3-40階","階別用途別床面積-3-41階","階別用途別床面積-3-42階","階別用途別床面積-3-43階","階別用途別床面積-3-44階","階別用途別床面積-3-45階","階別用途別床面積-3-46階","階別用途別床面積-3-47階","階別用途別床面積-3-48階","階別用途別床面積-3-49階","階別用途別床面積-3-50階","階別用途別床面積-4-大分類","階別用途別床面積-4-小分類","階別用途別床面積-4-地下1階","階別用途別床面積-4-地下2階","階別用途別床面積-4-地下3階","階別用途別床面積-4-地下4階","階別用途別床面積-4-塔屋 1階","階別用途別床面積-4-塔屋 2階","階別用途別床面積-4-塔屋 3階","階別用途別床面積-4-塔屋 4階","階別用途別床面積-4-塔屋 5階","階別用途別床面積-4-1階","階別用途別床面積-4-2階","階別用途別床面積-4-3階","階別用途別床面積-4-4階","階別用途別床面積-4-5階","階別用途別床面積-4-6階","階別用途別床面積-4-7階","階別用途別床面積-4-8階","階別用途別床面積-4-9階","階別用途別床面積-4-10階","階別用途別床面積-4-11階","階別用途別床面積-4-12階","階別用途別床面積-4-13階","階別用途別床面積-4-14階","階別用途別床面積-4-15階","階別用途別床面積-4-16階","階別用途別床面積-4-17階","階別用途別床面積-4-18階","階別用途別床面積-4-19階","階別用途別床面積-4-20階","階別用途別床面積-4-21階","階別用途別床面積-4-22階","階別用途別床面積-4-23階","階別用途別床面積-4-24階","階別用途別床面積-4-25階","階別用途別床面積-4-26階","階別用途別床面積-4-27階","階別用途別床面積-4-28階","階別用途別床面積-4-29階","階別用途別床面積-4-30階","階別用途別床面積-4-31階","階別用途別床面積-4-32階","階別用途別床面積-4-33階","階別用途別床面積-4-34階","階別用途別床面積-4-35階","階別用途別床面積-4-36階","階別用途別床面積-4-37階","階別用途別床面積-4-38階","階別用途別床面積-4-39階","階別用途別床面積-4-40階","階別用途別床面積-4-41階","階別用途別床面積-4-42階","階別用途別床面積-4-43階","階別用途別床面積-4-44階","階別用途別床面積-4-45階","階別用途別床面積-4-46階","階別用途別床面積-4-47階","階別用途別床面積-4-48階","階別用途別床面積-4-49階","階別用途別床面積-4-50階","階別用途別床面積-5-大分類","階別用途別床面積-5-小分類","階別用途別床面積-5-地下1階","階別用途別床面積-5-地下2階","階別用途別床面積-5-地下3階","階別用途別床面積-5-地下4階","階別用途別床面積-5-塔屋 1階","階別用途別床面積-5-塔屋 2階","階別用途別床面積-5-塔屋 3階","階別用途別床面積-5-塔屋 4階","階別用途別床面積-5-塔屋 5階","階別用途別床面積-5-1階","階別用途別床面積-5-2階","階別用途別床面積-5-3階","階別用途別床面積-5-4階","階別用途別床面積-5-5階","階別用途別床面積-5-6階","階別用途別床面積-5-7階","階別用途別床面積-5-8階","階別用途別床面積-5-9階","階別用途別床面積-5-10階","階別用途別床面積-5-11階","階別用途別床面積-5-12階","階別用途別床面積-5-13階","階別用途別床面積-5-14階","階別用途別床面積-5-15階","階別用途別床面積-5-16階","階別用途別床面積-5-17階","階別用途別床面積-5-18階","階別用途別床面積-5-19階","階別用途別床面積-5-20階","階別用途別床面積-5-21階","階別用途別床面積-5-22階","階別用途別床面積-5-23階","階別用途別床面積-5-24階","階別用途別床面積-5-25階","階別用途別床面積-5-26階","階別用途別床面積-5-27階","階別用途別床面積-5-28階","階別用途別床面積-5-29階","階別用途別床面積-5-30階","階別用途別床面積-5-31階","階別用途別床面積-5-32階","階別用途別床面積-5-33階","階別用途別床面積-5-34階","階別用途別床面積-5-35階","階別用途別床面積-5-36階","階別用途別床面積-5-37階","階別用途別床面積-5-38階","階別用途別床面積-5-39階","階別用途別床面積-5-40階","階別用途別床面積-5-41階","階別用途別床面積-5-42階","階別用途別床面積-5-43階","階別用途別床面積-5-44階","階別用途別床面積-5-45階","階別用途別床面積-5-46階","階別用途別床面積-5-47階","階別用途別床面積-5-48階","階別用途別床面積-5-49階","階別用途別床面積-5-50階","階別用途別床面積-6-大分類","階別用途別床面積-6-小分類","階別用途別床面積-6-地下1階","階別用途別床面積-6-地下2階","階別用途別床面積-6-地下3階","階別用途別床面積-6-地下4階","階別用途別床面積-6-塔屋 1階","階別用途別床面積-6-塔屋 2階","階別用途別床面積-6-塔屋 3階","階別用途別床面積-6-塔屋 4階","階別用途別床面積-6-塔屋 5階","階別用途別床面積-6-1階","階別用途別床面積-6-2階","階別用途別床面積-6-3階","階別用途別床面積-6-4階","階別用途別床面積-6-5階","階別用途別床面積-6-6階","階別用途別床面積-6-7階","階別用途別床面積-6-8階","階別用途別床面積-6-9階","階別用途別床面積-6-10階","階別用途別床面積-6-11階","階別用途別床面積-6-12階","階別用途別床面積-6-13階","階別用途別床面積-6-14階","階別用途別床面積-6-15階","階別用途別床面積-6-16階","階別用途別床面積-6-17階","階別用途別床面積-6-18階","階別用途別床面積-6-19階","階別用途別床面積-6-20階","階別用途別床面積-6-21階","階別用途別床面積-6-22階","階別用途別床面積-6-23階","階別用途別床面積-6-24階","階別用途別床面積-6-25階","階別用途別床面積-6-26階","階別用途別床面積-6-27階","階別用途別床面積-6-28階","階別用途別床面積-6-29階","階別用途別床面積-6-30階","階別用途別床面積-6-31階","階別用途別床面積-6-32階","階別用途別床面積-6-33階","階別用途別床面積-6-34階","階別用途別床面積-6-35階","階別用途別床面積-6-36階","階別用途別床面積-6-37階","階別用途別床面積-6-38階","階別用途別床面積-6-39階","階別用途別床面積-6-40階","階別用途別床面積-6-41階","階別用途別床面積-6-42階","階別用途別床面積-6-43階","階別用途別床面積-6-44階","階別用途別床面積-6-45階","階別用途別床面積-6-46階","階別用途別床面積-6-47階","階別用途別床面積-6-48階","階別用途別床面積-6-49階","階別用途別床面積-6-50階","階別用途別床面積-7-大分類","階別用途別床面積-7-小分類","階別用途別床面積-7-地下1階","階別用途別床面積-7-地下2階","階別用途別床面積-7-地下3階","階別用途別床面積-7-地下4階","階別用途別床面積-7-塔屋 1階","階別用途別床面積-7-塔屋 2階","階別用途別床面積-7-塔屋 3階","階別用途別床面積-7-塔屋 4階","階別用途別床面積-7-塔屋 5階","階別用途別床面積-7-1階","階別用途別床面積-7-2階","階別用途別床面積-7-3階","階別用途別床面積-7-4階","階別用途別床面積-7-5階","階別用途別床面積-7-6階","階別用途別床面積-7-7階","階別用途別床面積-7-8階","階別用途別床面積-7-9階","階別用途別床面積-7-10階","階別用途別床面積-7-11階","階別用途別床面積-7-12階","階別用途別床面積-7-13階","階別用途別床面積-7-14階","階別用途別床面積-7-15階","階別用途別床面積-7-16階","階別用途別床面積-7-17階","階別用途別床面積-7-18階","階別用途別床面積-7-19階","階別用途別床面積-7-20階","階別用途別床面積-7-21階","階別用途別床面積-7-22階","階別用途別床面積-7-23階","階別用途別床面積-7-24階","階別用途別床面積-7-25階","階別用途別床面積-7-26階","階別用途別床面積-7-27階","階別用途別床面積-7-28階","階別用途別床面積-7-29階","階別用途別床面積-7-30階","階別用途別床面積-7-31階","階別用途別床面積-7-32階","階別用途別床面積-7-33階","階別用途別床面積-7-34階","階別用途別床面積-7-35階","階別用途別床面積-7-36階","階別用途別床面積-7-37階","階別用途別床面積-7-38階","階別用途別床面積-7-39階","階別用途別床面積-7-40階","階別用途別床面積-7-41階","階別用途別床面積-7-42階","階別用途別床面積-7-43階","階別用途別床面積-7-44階","階別用途別床面積-7-45階","階別用途別床面積-7-46階","階別用途別床面積-7-47階","階別用途別床面積-7-48階","階別用途別床面積-7-49階","階別用途別床面積-7-50階","関係写真-1-特記事項(自由記入)_1","関係写真-1-特記事項(自由記入)_2","関係写真-2-特記事項(自由記入)_1","関係写真-2-特記事項(自由記入)_2","関係写真-3-特記事項(自由記入)_1","関係写真-3-特記事項(自由記入)_2","関係写真-4-特記事項(自由記入)_1","関係写真-4-特記事項(自由記入)_2","関係写真-5-特記事項(自由記入)_1","関係写真-5-特記事項(自由記入)_2","関係写真-6-特記事項(自由記入)_1","関係写真-6-特記事項(自由記入)_2","関係写真-7-特記事項(自由記入)_1","関係写真-7-特記事項(自由記入)_2","関係写真-8-特記事項(自由記入)_1","関係写真-8-特記事項(自由記入)_2","関係写真-9-特記事項(自由記入)_1","関係写真-9-特記事項(自由記入)_2","関係写真-10-特記事項(自由記入)_1","関係写真-10-特記事項(自由記入)_2","調査結果図-1-自由入力"]
[{"$f":"TRANSPOSE(リンクシート!E4:E1803)","v":"●●●●"},"令和","4","建築","令和","0","0","0",0,0,0,0,0,0,0,0,0,0,0,0,0,0,0,0,0,0,0,0,0,0,0,0,0,0,0,0,0,0,false,0,0,0,0,0,0,0,0,0,0,0,0,0,0,0,0,0,0,0,0,0,0,false,0,"",0,0,0,0,0,0,0,0,0,0,0,false,0,0,0,0,0,0,0,0,0,0,0,0,0,0,0,0,0,0,0,0,0,0,0,0,0,0,0,0,0,0,0,0,0,0,0,0,0,0,"0","0","0",0,0,0,"0","0","0",0,0,0,"0","0","0",0,0,0,"0","0","0",0,0,0,0,0,0,"0","0","0","0",0,0,0,0,0,"0","0","0","0",0,0,false,0,0,0,0,"0","0","0","0",0,0,0,0,0,"0","0","0","0",0,0,0,0,0,"","0","0","0",0,0,"0","0","0",0,0,"0","0","0",0,0,"0","0","0",0,0,"0","0","0",0,0,0,0,"0","0",0,0,"0","0",0,0,"0","0",0,0,0,"0","0",0,0,0,"0","0",0,0,"0","0",0,0,0,"0","0",0,0,"0","0",0,0,0,"0","0",0,0,"0","0",0,0,0,"0","0",0,0,"0","0",0,0,0,"0","0",0,0,0,0,0,"0","0",0,0,0,0,0,0,0,0,0,0,0,0,0,0,0,0,0,0,0,0,0,0,"0","0",0,0,0,0,0,"0","0",0,0,0,0,0,"0","0",0,0,0,0,0,"0","0",0,0,0,0,0,"0","0",0,0,0,0,0,"0","0",0,0,0,0,0,"0","0",0,0,0,0,0,"0","0",0,0,0,0,0,"0","0",0,0,0,0,0,"0","0",0,0,0,0,0,"0","0",0,0,0,0,0,"0","0",0,0,0,0,0,"0","0",0,0,0,0,0,"0","0",0,0,0,0,0,"0","0",0,0,0,0,0,"0","0",0,0,0,0,0,"0","0",0,0,0,0,0,"0","0",0,0,0,0,0,"0","0",0,0,0,0,0,"0","0",0,0,0,0,0,"0","0",0,0,0,0,0,"0","0",0,0,0,0,0,"0","0",0,0,0,0,0,"0","0",0,0,0,0,0,"0","0",0,0,0,0,0,"0","0",0,0,0,0,0,"0","0",0,0,0,0,0,"0","0",0,0,0,0,0,"0","0",0,0,0,0,0,"0","0",0,0,0,0,0,"0","0",0,0,0,0,0,"0","0",0,0,0,0,0,"0","0",0,0,0,0,0,"0","0",0,0,0,0,0,"0","0",0,0,0,0,0,"0","0",0,0,0,0,0,"0","0",0,0,0,0,0,"0","0",0,0,0,0,0,"0","0",0,0,0,0,0,"0","0",0,0,0,0,0,"0","0",0,0,0,0,0,"0","0",0,0,0,0,0,"0","0",0,0,0,0,0,"0","0",0,0,0,0,0,"0","0",0,0,0,0,0,"0","0",0,0,0,0,0,"0","0",0,0,0,0,0,"0","0",0,0,0,0,0,"0","0",0,0,0,0,0,"0","0",0,0,0,0,0,"0","0",0,0,0,0,0,"0","0",0,0,0,0,0,"0","0",0,0,0,0,0,"0","0",0,0,0,0,0,"0","0",0,0,0,0,0,"0","0",0,0,0,0,0,"0","0",0,0,0,0,0,"0","0",0,0,0,0,0,"0","0",0,0,0,0,0,"0","0",0,0,0,0,0,"0","0",0,0,0,0,0,"0","0",0,0,0,0,0,"0","0",0,0,0,0,0,"0","0",0,0,0,0,0,"0","0",0,0,0,0,0,"0","0",0,0,0,0,0,"0","0",0,0,0,0,0,"0","0",0,0,0,0,0,"0","0",0,0,0,0,0,"0","0",0,0,0,0,0,"0","0",0,0,0,0,0,"0","0",0,0,0,0,0,"0","0",0,0,0,0,0,"0","0",0,0,0,0,0,"0","0",0,0,0,0,0,"0","0",0,0,0,0,0,"0","0",0,0,0,0,0,"0","0",0,0,0,0,0,"0","0",0,0,0,0,0,"0","0",0,0,0,0,0,"0","0",0,0,0,0,0,"0","0",0,0,0,0,0,"0","0",0,0,0,0,0,"0","0",0,0,0,0,0,"0","0",0,0,0,0,0,"0","0",0,0,0,0,0,"0","0",0,0,0,0,0,"0","0",0,0,0,0,0,"0","0",0,0,0,0,0,"0","0",0,0,0,0,0,"0","0",0,0,0,0,0,"0","0",0,0,0,0,0,"0","0",0,0,0,0,0,"0","0",0,0,0,0,0,"0","0",0,0,0,0,0,"0","0",0,0,0,0,0,"0","0",0,0,0,0,0,"0","0",0,0,0,0,0,"0","0",0,0,0,0,0,"0","0",0,0,0,0,0,"0","0",0,0,0,0,0,"0","0",0,0,0,0,0,"0","0",0,0,0,0,0,"0","0",0,0,0,0,0,"0","0",0,0,0,0,0,"0","0",0,0,0,0,0,"0","0",0,0,0,0,0,"0","0",0,0,0,0,0,"0","0",0,0,0,0,0,"0","0",0,0,0,0,0,"0","0",0,0,0,0,0,"0","0",0,0,0,0,0,"0","0",0,0,0,0,0,"0","0",0,0,0,0,0,"0","0",0,0,0,0,0,"0","0",0,0,0,0,0,"0","0",0,0,0,0,0,"0","0",0,0,0,0,0,"0","0",0,0,0,0,0,"0","0",0,0,0,0,0,"0","0",0,0,0,0,0,"0","0",0,0,0,0,0,"0","0",0,0,0,0,0,"0","0",0,0,0,0,0,"0","0",0,0,0,0,0,"0","0",0,0,0,0,0,"0","0",0,0,0,0,0,"0","0",0,0,0,0,0,"0","0",0,0,0,0,0,"0","0",0,0,0,0,0,"0","0",0,0,0,0,0,"0","0",0,0,0,0,0,"0","0",0,0,0,0,0,"0","0",0,0,0,0,0,"0","0",0,0,0,0,0,"0","0",0,0,0,0,0,"0","0",0,0,0,0,0,"0","0",0,0,0,0,0,"0","0",0,0,0,0,0,"0","0",0,0,0,0,0,"0","0",0,0,0,0,0,"0","0",0,0,0,0,0,"0","0",0,0,0,0,0,"0","0",0,0,0,0,0,"0","0",0,0,0,0,0,"0","0",0,0,0,0,0,"0","0",0,0,0,0,0,"0","0",0,0,0,0,0,"0","0",0,0,0,0,0,"0","0",0,0,0,0,0,"0","0",0,0,0,0,0,"0","0",0,0,0,0,0,0,0,0,0,0,0,0,0,0,0,0,0,0,0,0,0,0,0,0,0,0,0,0,0,0,0,0,0,0,0,0,0,0,0,0,0,0,0,0,0,0,0,0,0,0,0,0,0,0,0,0,0,0,0,0,0,0,0,0,0,0,0,0,0,0,0,0,0,0,0,0,0,0,0,0,0,0,0,0,0,0,0,0,0,0,0,0,0,0,0,0,0,0,0,0,0,0,0,0,0,0,0,0,0,0,0,0,0,0,0,0,0,0,0,0,0,0,0,0,0,0,0,0,0,0,0,0,0,0,0,0,0,0,0,0,0,0,0,0,0,0,0,0,0,0,0,0,0,0,0,0,0,0,0,0,0,0,0,0,0,0,0,0,0,0,0,0,0,0,0,0,0,0,0,0,0,0,0,0,0,0,0,0,0,0,0,0,0,0,0,0,0,0,0,0,0,0,0,0,0,0,0,0,0,0,0,0,0,0,0,0,0,0,0,0,0,0,0,0,0,0,0,0,0,0,0,0,0,0,0,0,0,0,0,0,0,0,0,0,0,0,0,0,0,0,0,0,0,0,0,0,0,0,0,0,0,0,0,0,0,0,0,0,0,0,0,0,0,0,0,0,0,0,0,0,0,0,0,0,0,0,0,0,0,0,0,0,0,0,0,0,0,0,0,0,0,0,0,0,0,0,0,0,0,0,0,0,0,0,0,0,0,0,0,0,0,0,0,0,0,0,0,0,0,0,0,0,0,0,0,0,0,0,0,0,0,0,0,0,0,0,0,0,0,0,0,0,0,0,0,0,0,0,0,0,0,0,0,0,0,0,0,0,0,0,0,0,0,0,0,0,0,0,0,0,0,0,0,0,0,0,0,0,0,0,0,0,0,0,0,0,0,0,0,0,0,0,0,0,0,0,0,0,0,0,0,0,0,0,0,0,0,0,0,0,0,0,0,0,0,0,0,0,0,0,0,0,0,0,0,0,0,0,0,0,0,0,0,0,0,0,0,0,0]

{"sheet":"プルダウン選択肢","index":9,"n_rows":88,"n_cols":42,"rows_kept":88,"cut":false,"hidden":true,"merged":[]}
["5,6,7 代表となる調査者",null,"8 敷地の位置",null,"8 敷地の位置",null,"9 建物及びその敷地の概要",null,"10 性能検証法等の適用",null,"11 増築、改築、用途変更等の経過",null,null,null,null,null,null,null,null,null,null,null,null,null,null,null,"階別用途別床面積"]
["資格名称",null,"防火地域等",null,"用途地域",null,"構造",null,null,null,"和暦",null,null,null,null,null,null,null,null,null,null,null,null,null,null,null,"用途大分類",null,"劇場等","病院系施設","宿泊施設","住居系施設1","住居系施設2","児童福祉施設等1","児童福祉施設等2","学校_美術館等","物販店等","飲食等","自動車車庫等","事務所系施設","その他","定期報告指定用途以外の用途"]
["一級建築士",null,"防火地域",null,"第一種低層住居専用地域",null,"鉄筋コンクリート造（RC造）",null,"適用",null,"昭和",null,null,null,null,null,null,null,null,null,null,null,null,null,null,null,"劇場等",null,"劇場","病院","ホテル","下宿","サービス付き高齢者向け住宅","児童福祉施設","助産施設","学校","百貨店","飲食店","自動車車庫","事務所","倉庫","駅舎"]
["二級建築士",null,"準防火地域",null,"第二種低層住居専用地域",null,"鉄骨鉄筋コンクリート造（SRC造）",null,null,null,"平成",null,null,null,null,null,null,null,null,null,null,null,null,null,null,null,"病院系施設",null,"映画館","診療所（患者の収容施設があるもの）","旅館","共同住宅","認知症高齢者グループホーム","保育所","乳児院","体育館","マーケット","料理店","自動車修理工場","美容室","工場","住宅"]
["特定建築物調査員",null,"法第22条区域",null,"第一種中高層住居専用地域",null,"鉄骨造（S造）",null,null,null,"令和",null,null,null,null,null,null,null,null,null,null,null,null,null,null,null,"宿泊施設",null,"演芸場",null,null,"寄宿舎","障害者グループホーム","幼保連携認定こども園","障害児入所施設","博物館","展示場","待合","映画スタジオ","ネイルサロン"]
[null,null,"その他",null,"第二種中高層住居専用地域",null,"その他",null,null,null,"※自由入力可",null,null,null,null,null,null,null,null,null,null,null,null,null,null,null,"住居系施設1",null,"観覧場（屋外観覧場を除く）",null,null,null,null,null,"助産所","美術館","物品販売業を営む店舗","公衆浴場","テレビスタジオ","診療所（患者の収容施設がないもの）"]
[null,null,"指定なし",null,"第一種住居地域",null,null,null,null,null,null,null,null,null,null,null,null,null,null,null,null,null,null,null,null,null,"住居系施設2",null,"公会堂",null,null,null,null,null,"盲導犬訓練施設","図書館",null,"キャバレー"]
["事務所登録",null,null,null,"第二種住居地域",null,null,null,null,null,null,null,null,null,null,null,null,null,null,null,null,null,null,null,null,null,"児童福祉施設等1",null,"集会場",null,null,null,null,null,"救護施設","ボーリング場",null,"カフェー"]
["一級",null,null,null,"準住居地域",null,null,null,null,null,"工事種別",null,null,null,null,null,null,null,null,null,null,null,null,null,null,null,"児童福祉施設等2",null,null,null,null,null,null,null,"更生施設","スキー場",null,"ナイトクラブ"]
["二級",null,null,null,"田園住居地域内",null,null,null,null,null,"増築",null,null,null,null,null,null,null,null,null,null,null,null,null,null,null,"学校_美術館等",null,null,null,null,null,null,null,"老人短期入所施設","スケート場",null,"バー"]
[null,null,null,null,"近隣商業地域",null,null,null,null,null,"改築",null,null,null,null,null,null,null,null,null,null,null,null,null,null,null,"物販店等",null,null,null,null,null,null,null,"小規模多機能居宅介護の事業所","水泳場",null,"ダンスホール"]
[null,null,null,null,"商業地域",null,null,null,null,null,"移転",null,null,null,null,null,null,null,null,null,null,null,null,null,null,null,"飲食等",null,null,null,null,null,null,null,"看護小規模多機能型居宅介護の事業所","スポーツの練習場",null,"遊技場"]
[null,null,null,null,"準工業地域",null,null,null,null,null,"用途変更",null,null,null,null,null,null,null,null,null,null,null,null,null,null,null,"自動車車庫等",null,null,null,null,null,null,null,"老人デイサービスセンター（宿泊サービスを提供するものに限る）","体育館（学校に付属するもの）"]
[null,null,null,null,"工業地域",null,null,null,null,null,"模様替え",null,null,null,null,null,null,null,null,null,null,null,null,null,null,null,"事務所系施設",null,null,null,null,null,null,null,"養護老人ホーム"]
[null,null,null,null,"工業専用地域",null,null,null,null,null,"修繕",null,null,null,null,null,null,null,null,null,null,null,null,null,null,null,"その他",null,null,null,null,null,null,null,"特別養護老人ホーム"]
[null,null,null,null,"指定なし",null,null,null,null,null,"※自由入力可",null,null,null,null,null,null,null,null,null,null,null,null,null,null,null,"定期報告指定用途以外の用途",null,null,null,null,null,null,null,"軽費老人ホーム"]
[null,null,null,null,null,null,null,null,null,null,null,null,null,null,null,null,null,null,null,null,null,null,null,null,null,null,null,null,null,null,null,null,null,null,"有料老人ホーム"]
[null,null,null,null,null,null,null,null,null,null,null,null,null,null,null,null,null,null,null,null,null,null,null,null,null,null,null,null,null,null,null,null,null,null,"母子保健施設"]
[null,null,null,null,null,null,null,null,null,null,null,null,null,null,null,null,null,null,null,null,null,null,null,null,null,null,null,null,null,null,null,null,null,null,"障害者支援施設"]
[null,null,null,null,null,null,null,null,null,null,null,null,null,null,null,null,null,null,null,null,null,null,null,null,null,null,null,null,null,null,null,null,null,null,"福祉ホーム"]
[null,null,null,null,null,null,null,null,null,null,null,null,null,null,null,null,null,null,null,null,null,null,null,null,null,null,null,null,null,null,null,null,null,null,"障害者福祉サービスを行う事業所（自立訓練を行う事業所で，利用者の就寝の用に供するもの）"]
[null,null,null,null,null,null,null,null,null,null,null,null,null,null,null,null,null,null,null,null,null,null,null,null,null,null,null,null,null,null,null,null,null,null,"障害者福祉サービスを行う事業所（就労移行支援を行う事業所で，利用者の就寝の用に供するもの）"]
[]
["12 関連図書の整備",null,"14 調査及び検査の状況",null,"１５.石綿",null,"16 耐震診断及び耐震改修の調査状況",null,"17 建築物等に係る不具合等の状況",null,"19 外装仕上げ材等について",null,"２０　設備（法第12条第三項関係など）",null,null,null,null,null,null,null,null,null,null,null,null,"4_入力シート【写真】"]
["確認に要した図書",null,null,null,"該当建築材料",null,null,null,"改善の状況"]
[]
[null,null,null,null,null,null,"耐震診断",null,"不具合等",null,"外装仕上げ材のタイル、石貼り等、モルタル塗り等の使用"]
["有",null,"実施",null,"有（飛散防止措置無）",null,"診断済み",null,"有",null,"〇　タイル等の外装仕上げ材を使用",null,"有",null,null,null,null,null,null,null,null,null,null,null,null,"☑"]
["有(各階平面図のみあり)",null,"未実施",null,"有（飛散防止措置有）",null,"未実施",null,"無",null,"―　未使用",null,"無",null,null,null,null,null,null,null,null,null,null,null,null,"☐"]
["無",null,"対象外",null,"無",null,"対象外"]
[null,null,null,null,"未調査",null,null,null,null,null,null,null,"対象"]
["確認検証の有無、完了検証の有無",null,null,null,null,null,null,null,"不具合等の記録",null,"全面打診等の実施状況",null,"対象外"]
["有",null,"和暦",null,null,null,"耐震改修",null,"有",null,"今回の定期調査時に全面打診等を実施"]
["無",null,"平成",null,"措置予定",null,"改修済",null,"無",null,"全面打診等の実施から10年以内"]
[null,null,"令和",null,"有",null,"未実施",null,null,null,"竣工（改修含む）から10年以内"]
["完了検査に要した図書",null,"※自由入力可",null,"無",null,"対象外",null,null,null,"安全対策を実施しているため、全面打診等は不要"]
["有",null,null,null,"未定",null,null,null,"昭和",null,"全面打診等が実施できていない（実施の必要がある）"]
["無",null,null,null,null,null,null,null,"平成",null,"タイル貼等は手の届く範囲のみで今回全面打診等を実施"]
[null,null,null,null,null,null,null,null,"令和",null,"その他"]
[null,null,null,null,null,null,null,null,"※自由入力可"]
["工事種別"]
["新築",null,null,null,null,null,null,null,null,null,"平成"]
["増築",null,null,null,null,null,null,null,"改善の状況",null,"令和"]
["改築",null,null,null,null,null,null,null,"実施済"]
["移転",null,null,null,null,null,null,null,"改善予定"]
["用途変更",null,null,null,null,null,null,null,"予定なし"]
["大規模の修繕"]
["大規模の模様替え"]
["※自由入力可"]
[]
["和暦"]
["昭和"]
["平成"]
["令和"]
["※自由入力可"]
[]
["交付者"]
["建築主事"]
["指定確認検査機関"]
[]
[]
["維持管理保全に関する準則又は計画"]
["有"]
["無"]
[]
["前回の調査に関する書類の写し"]
["有"]
["無"]
["対象外"]
[]
["22 調査結果"]
["調査結果"]
["―対象外"]
["○指摘なし"]
["×要是正（既存不適格以外）"]
["△既存不適格"]
[]
[]
["調査者番号（1）は入力不要"]
[1]
[2]
[3]
["※自由入力可"]
[]
["改善（予定）年月 状況"]
["予定"]
["改善済"]
["未定"]