Workbook

Sheet 調査票
L1: 集計使用欄
A2: 令和８年度 滋賀県身体拘束実態調査票
I3: 回答期限：令和8年11月16日（月）
B4: 施設運営を掌握している、責任ある立場の方が回答してください。
B5: ※ 以下、各質問についての調査基準日は、【令和８年８月１日】とします。
B6: 施設名
B7: 施設種別★ | L7: =IF(D7="","",VLOOKUP(D7,AQ7:AR17,2,0)) | AD7: 施設・事業所該当種別 | AE7: 番号
B8: 事業所番号★
B9: 回答者 | D9: 職 名 | G9: 氏 名 | AF9: =IF(D7="","",VLOOKUP(D7,AD10:AE20,2,0))
D10: 電 話 | AD10: １．介護老人福祉施設（特別養護老人ホーム） | AE10: 1
B11: ★施設種別・事業者番号については、依頼文をお送りした封筒の宛名ラベルを参考に記載してください。 | AD11: ２．介護老人保健施設 | AE11: 2
AD12: ３．介護医療院 | AE12: 3
B13: 質問１－① 入所定員および令和８年８月１日現在の入所者(利用者）数は何人ですか。 | AD13: ４．短期入所生活介護 | AE13: 4
B14: 定 員 （登録者数） | F14: 実際の入所者・利用者数 | AD14: ５．短期入所療養介護 | AE14: 5
B15: ※ 上記の「実際の入所者」数と、本ページの各「合計」欄の人数は一致させてください。 ※ 小規模多機能型居宅介護事業所および看護小規模多機能型居宅介護事業所の場合は、定員に登録者数、利用者数には、訪問、通い、泊ま りをすべて含めた利用者数を記載ください。 | AD15: ６．特定施設入居者生活介護 | AE15: 6
AD16: ７．認知症対応型共同生活介護 | AE16: 7
B17: 質問１－② ８月１日現在における入所者(利用者）の「要介護度区分別の人数」を記入してください。 | AD17: ８．地域密着型介護老人福祉施設入所者生活介護 | AE17: 8
A18: 要介護区分 | C18: 自 立 | D18: 要支援１・２ | E18: 1 | F18: 2 | G18: 3 | H18: 4 | I18: 5 | J18: 認定中 等 | K18: 合 計 | AD18: ９．小規模多機能型居宅介護 | AE18: 9
A19: 人 数 | K19: =SUM(C19:J19) -> 0 | M19: =IF(K19=0,"",IF(K19=H14,"","実際の入所者と合計が一致しません")) | AD19: １０．看護小規模多機能居宅介護 | AE19: 10
AD20: １１．地域密着型特定施設入居者生活介護 | AE20: 11 | AP20: 質問１-③と実際の入所者の人数が違います
B21: 質問１－③ ８月１日現在における入所者(利用者）の「認知症高齢者の日常生活自立度判定基準別の人数」を記入してください。 | AP21: 質問１-③と実際の入所者の人数が違います
A22: 自立度区分 | C22: 認知症なし | D22: ﾗﾝｸ Ⅰ | E22: ﾗﾝｸ Ⅱ | F22: ﾗﾝｸ Ⅲ | G22: ﾗﾝｸ Ⅳ | H22: ﾗﾝｸ Ｍ | I22: 不明 | J22: 合 計
A23: 人 数 | J23: =SUM(C23:I23) -> 0 | K23: =IF(J23=0,"",IF(J23=H14,"","実際の入所者と合計が一致しません"))
B24: ※「認知症である老人の日常生活自立度判定基準」のﾗﾝｸ別に記入してください。
B26: 質問２ 過去１年間（令和７年８月１日～令和８年７月31日）に身体拘束はありましたか。以下のプルダウンから選択してください。 身体拘束が「有り」の場合は、過去１年間、および過去１ヶ月間（令和８年７月１日～７月31日）に身体拘束を行った人数を分かる範囲でお答えください。
B27: 過去１年間の身体拘束の有無
AP28: 有り
D29: 過去１年間（R7.8.1～R8.7.31） | G29: 過去１か月間（R8.7.1～R8.7.31） | AP29: 無し
B30: 身体拘束を行った人数 | J30: =IF(D30<G30,"←数値を見直して下さい。（過去1年間＜過去1か月間となっています。）","") | AP30: 不明
C31: （再掲）うち三要件を満たす人数
B32: ※ 身体拘束の行為については、質問２－①を参照し、施設内では身体拘束でないと判断している場合でも、行為があれば、記入ください。
B33: ※ 原則、過去1年間については、質問２－①、過去１か月については、質問２－③、２-④の合計数と一致します。
B35: 質問２－① 過去１年間の身体拘束について、該当する方の人数を記載してください。
B36: 拘束項目 | D36: 身 体 拘 束 の 態 様 | I36: 人 数
B37: ①べッドに拘束 | D37: 転落防止のための４本柵（全面柵）やベルトや腰ひもでベッドに固定する
B38: ②車椅子に拘束 | D38: ずり落ち防止、立ち上がり防止として、ベルトやＹ字抑制帯、テーブルで固定する
B39: ③つなぎ服 | D39: オムツいじり・はずし、脱衣、不潔行為、掻きむしりの防止のためつなぎ服を着せる
B40: ④ミトン、手袋 | D40: 皮膚の掻きむしり防止や、点滴・経管栄養チューブを抜かないように、ミトン、手袋をつける
B41: ⑤四肢をひもで固定 | D41: 皮膚の掻きむしり防止や、点滴・経管栄養チューブを抜かないように四肢をひもで固定する
B42: ⑥便器への拘束 | D42: 便器からの立ち上がり、転倒防止のためベルト、テーブル等で固定する
...

Sheet 集計用
A1: 施設名 | B1: 種別 | C1: 番号 | D1: 定員数 | E1: 入所者数 | F1: 自 立 | G1: 要支援１・２ | H1: 1 | I1: 2 | J1: 3 | K1: 4 | L1: 5 | M1: 認定中 等 | N1: 合 計 | O1: 認知症なし | P1: ﾗﾝｸ Ⅰ | Q1: ﾗﾝｸ Ⅱ | R1: ﾗﾝｸ Ⅲ | S1: ﾗﾝｸ Ⅳ | T1: ﾗﾝｸ Ｍ | U1: 不明 | V1: 合 計 | W1: 過去1年 | X1: 過去1ヶ月 | Y1: ①べッドに拘束 | Z1: ②車椅子に拘束 | AA1: ③つなぎ服 | AB1: ④ミトン、手袋 | AC1: ⑤四肢をひもで固定 | AD1: ⑥便器への拘束 | AE1: ⑦薬物の過剰投与 | AF1: ⑧隔離・出入り口等の施錠 | AG1: ⑩その他 | AH1: その他内容 | AI1: 合計 | AJ1: スピーチロック | AK1: 拘束項目 | AL1: 理由 | AM1: 要介護度 | AN1: 認知症高齢者の日常生活自立度判定基準 | AO1: 移動の状況 | AP1: 日常の状況 | AQ1: 医療の状況 | AR1: 排泄の状況 | AS1: 拘束項目 | AT1: 理由 | AU1: 要介護度 | AV1: 認知症高齢者の日常生活自立度判定基準 | AW1: 移動の状況 | AX1: 日常の状況 | AY1: 医療の状況 | AZ1: 排泄の状況 | BA1: 拘束項目 | BB1: 理由 | BC1: 要介護度 | BD1: 認知症高齢者の日常生活自立度判定基準 | BE1: 移動の状況 | BF1: 日常の状況 | BG1: 医療の状況 | BH1: 排泄の状況 | BI1: 拘束項目 | BJ1: 理由 | BK1: 要介護度 | BL1: 認知症高齢者の日常生活自立度判定基準 | BM1: 移動の状況 | BN1: 日常の状況 | BO1: 医療の状況 | BP1: 排泄の状況 | BQ1: 拘束項目 | BR1: 理由 | BS1: 要介護度 | BT1: 認知症高齢者の日常生活自立度判定基準 | BU1: 移動の状況 | BV1: 日常の状況 | BW1: 医療の状況 | BX1: 排泄の状況 | BY1: 拘束項目 | BZ1: 理由 | CA1: 要介護度 | CB1: 認知症高齢者の日常生活自立度判定基準 | CC1: 移動の状況 | CD1: 日常の状況 | CE1: 医療の状況 | CF1: 排泄の状況 | CG1: 拘束項目 | CH1: 理由 | CI1: 要介護度 | CJ1: 認知症高齢者の日常生活自立度判定基準 | CK1: 移動の状況 | CL1: 日常の状況 | CM1: 医療の状況 | CN1: 排泄の状況 | CO1: 拘束項目 | CP1: 理由 | CQ1: 要介護度 | CR1: 認知症高齢者の日常生活自立度判定基準 | CS1: 移動の状況 | CT1: 日常の状況 | CU1: 医療の状況 | CV1: 排泄の状況 | CW1: １月間毎日 | CX1: 20日以上1月未満 | CY1: 10日以上20日未満 | CZ1: 10日未満 | DA1: 合 計 | DB1: １日中 | DC1: 夜間のみ | DD1: 昼間のみ | DE1: 6時間以上半日未満 | DF1: 3時間以上 | DG1: 30分以上 | DH1: 30分未満 | DI1: 合 計 | DJ1: ①担当者の判断で対応している（する）。 | DK1: ②施設長の承認を得て対応している（する）。 | DL1: ③配置医師の判断を仰いでいる（仰ぐ）。 | DM1: ④精神科等専門医師の判断を仰いでいる（仰ぐ）。 | DN1: ⑤処遇検討会議での検討結果に基づいて対応している（する）。 | DO1: ⑥事前に家族・本人の同意を得ている（得る） | DP1: ⑥その他 | DQ1: ⑦身体拘束に関するマニュアルを策定して基本的な対応を施設内で合意している（する）。 | DR1: 拘束の時間帯 | DS1: 場所 | DT1: 心身の状況 | DU1: 身体拘束の 理由 | DV1: 身体拘束の 方法 | DW1: 会議の出席者 | DX1: 責任者 | DY1: 拘束を行った職員 | DZ1: 拘束後の検討 | EA1: その他 | EB1: 拘束の時間帯 | EC1: 場所 | ED1: 心身の状況 | EE1: 身体拘束の 理由 | EF1: 身体拘束の 方法 | EG1: 会議の出席者 | EH1: 責任者 | EI1: 拘束を行った職員 | EJ1: 拘束後の検討 | EK1: その他 | EL1: ⑩その他 | EM1: ①取り組んでいる | EN1: 開始日 | EO1: ②今後取り組む予定である | EP1: 開始日 | EQ1: ③過去に取り組んだことがある | ER1: 開始日 | ES1: 終了日 | ET1: ④取り組む予定はない | EU1: ①身体拘束に関するマニュアル等の作成 | EV1: ②施設内研修の実施 | EW1: ③施設外研修等に参加 | EX1: ※研修等名 | EY1: ④「身体拘束廃止委員会」等の設置 | EZ1: 名称 | FA1: 設置時期 | FB1: 人数 | FC1: 職名等 | FD1: ・開催状況（最近１年程度） | FE1: ⑤その他（ | FF1: ① ベッドからの転落 | FG1: ② 車椅子からの転落 | FH1: ③ 施設内での歩行の際での転倒 | FI1: ④ 施設内での階段からの転落等 | FJ1: ⑤ 自傷や他人からの暴力行為 | FK1: ⑥ 徘徊や無断外出による施設外での事故（交通事故、転落事故等） | FL1: ⑦ その他 | FM1: 合計 | FN1: 質問７ | FO1: 質問８
A2: =調査票!D6 -> 0 | B2: =調査票!D7 -> 0 | C2: =調査票!D8 -> 0 | D2: =調査票!D14 -> 0 | E2: =調査票!H14 -> 0 | F2: =調査票!C19 -> 0 | G2: =調査票!D19 -> 0 | H2: =調査票!E19 -> 0 | I2: =調査票!F19 -> 0 | J2: =調査票!G19 -> 0 | K2: =調査票!H19 -> 0 | L2: =調査票!I19 -> 0 | M2: =調査票!J19 -> 0 | N2: =調査票!K19 -> 0 | O2: =調査票!C23 -> 0 | P2: =調査票!D23 -> 0 | Q2: =調査票!E23 -> 0 | R2: =調査票!F23 -> 0 | S2: =調査票!G23 -> 0 | T2: =調査票!H23 -> 0 | U2: =調査票!I23 -> 0 | V2: =調査票!J23 -> 0 | W2: =調査票!D30 -> 0 | X2: =調査票!G30 -> 0 | Y2: =調査票!I37 -> 0 | Z2: =調査票!I38 -> 0 | AA2: =調査票!I39 -> 0 | AB2: =調査票!I40 -> 0 | AC2: =調査票!I41 -> 0 | AD2: =調査票!I42 -> 0 | AE2: =調査票!I43 -> 0 | AF2: =調査票!I44 -> 0 | AG2: =調査票!I45 -> 0 | AH2: =調査票!D46 -> 0 | AI2: =調査票!I47 -> 0 | AJ2: =調査票!AQ48 | AK2: =調査票!C55 -> 0 | AL2: =調査票!D55 -> 0 | AM2: =調査票!AO55 | AN2: =調査票!AP55 | AO2: =調査票!AQ55 | AP2: =調査票!AR55 | AQ2: =調査票!AS55 | AR2: =調査票!AT55 | AS2: =調査票!C56 -> 0 | AT2: =調査票!D56 -> 0 | AU2: =調査票!AO56 | AV2: =調査票!AP56 | AW2: =調査票!AQ56 | AX2: =調査票!AR56 | AY2: =調査票!AS56 | AZ2: =調査票!AT56 | BA2: =調査票!C57 -> 0 | BB2: =調査票!D57 -> 0 | BC2: =調査票!AO57 | BD2: =調査票!AP57 | BE2: =調査票!AQ57 | BF2: =調査票!AR57 | BG2: =調査票!AS57 | BH2: =調査票!AT57 | BI2: =調査票!C58 -> 0 | BJ2: =調査票!D58 -> 0 | BK2: =調査票!AO58 | BL2: =調査票!AP58 | BM2: =調査票!AQ58 | BN2: =調査票!AR58 | BO2: =調査票!AS58 | BP2: =調査票!AT58 | BQ2: =調査票!C59 -> 0 | BR2: =調査票!D59 -> 0 | BS2: =調査票!AO59 | BT2: =調査票!AP59 | BU2: =調査票!AQ59 | BV2: =調査票!AR59 | BW2: =調査票!AS59 | BX2: =調査票!AT59 | BY2: =調査票!C60 -> 0 | BZ2: =調査票!D60 -> 0 | CA2: =調査票!AO60 | CB2: =調査票!AP60 | CC2: =調査票!AQ60 | CD2: =調査票!AR60 | CE2: =調査票!AS60 | CF2: =調査票!AT60 | CG2: =調査票!C61 -> 0 | CH2: =調査票!D61 -> 0 | CI2: =調査票!AO61 | CJ2: =調査票!AP61 | CK2: =調査票!AQ61 | CL2: =調査票!AR61 | CM2: =調査票!AS61 | CN2: =調査票!AT61 | CO2: =調査票!C62 -> 0 | CP2: =調査票!D62 -> 0 | CQ2: =調査票!AO62 | CR2: =調査票!AP62 | CS2: =調査票!AQ62 | CT2: =調査票!AR62 | CU2: =調査票!AS62 | CV2: =調査票!AT62 | CW2: =調査票!D66 -> 0 | CX2: =調査票!E66 -> 0 | CY2: =調査票!F66 -> 0 | CZ2: =調査票!G66 -> 0 | DA2: =調査票!H66 -> 0 | DB2: =調査票!C72 -> 0 | DC2: =調査票!D72 -> 0 | DD2: =調査票!E72 -> 0 | DE2: =調査票!F72 -> 0 | DF2: =調査票!G72 -> 0 | DG2: =調査票!H72 -> 0 | DH2: =調査票!I72 -> 0 | DI2: =調査票!J72 -> 0 | DJ2: =調査票!J82 -> 0 | DK2: =調査票!J83 -> 0 | DL2: =調査票!J84 -> 0 | DM2: =調査票!J85 -> 0 | DN2: =調査票!J86 -> 0 | DO2: =調査票!K87 -> 0 | DP2: =調査票!C88 -> 0 | DQ2: =調査票!J89 -> 0 | DR2: =調査票!C92 -> 0 | DS2: =調査票!D92 -> 0 | DT2: =調査票!E92 -> 0 | DU2: =調査票!F92 -> 0 | DV2: =調査票!G92 -> 0 | DW2: =調査票!H92 -> 0 | DX2: =調査票!I92 -> 0 | DY2: =調査票!J92 -> 0 | DZ2: =調査票!K92 -> 0 | EA2: =調査票!D93 -> 0 | EB2: =調査票!C96 -> 0 | EC2: =調査票!D96 -> 0 | ED2: =調査票!E96 -> 0 | EE2: =調査票!F96 -> 0 | EF2: =調査票!G96 -> 0 | EG2: =調査票!H96 -> 0 | EH2: =調査票!I96 -> 0 | EI2: =調査票!J96 -> 0 | EJ2: =調査票!K96 -> 0 | EK2: =調査票!D97 -> 0 | EL2: =調査票!C98 -> 0 | EM2: =調査票!H102 -> 0 | EN2: =EN4 | EO2: =調査票!H103 -> 0 | EP2: =EP4 | EQ2: =調査票!H104 -> 0 | ER2: =ER4 | ES2: =ES4 | ET2: =調査票!H105 -> 0 | EU2: =調査票!H111 -> 0 | EV2: =調査票!H112 -> 0 | EW2: =調査票!H113 -> 0 | EX2: =調査票!D114 -> 0 | EY2: =調査票!H115 -> 0 | EZ2: =調査票!D116 -> 0 | FA2: =FA4 | FB2: =調査票!D119 -> 0 | FC2: =調査票!E119 -> 0 | FD2: =調査票!D120 -> 0 | FE2: =調査票!D121 -> 0 | FF2: =調査票!$H126 -> 0 | FG2: =調査票!$H127 -> 0 | FH2: =調査票!$H128 -> 0 | FI2: =調査票!$H129 -> 0 | FJ2: =調査票!$H130 -> 0 | FK2: =調査票!$H131 -> 0 | FL2: =調査票!H132 -> 0 | FM2: =調査票!H134 -> 0 | FN2: =調査票!B137 -> 0 | FO2: =調査票!B140 -> 0
EN4: =IF(調査票!I102="","",調査票!I102) | EP4: =IF(調査票!I103="","",調査票!I103) | ER4: =IF(調査票!I104="","",調査票!I104) | ES4: =IF(調査票!J104="","",調査票!J104) | FA4: =IF(調査票!D117="","",調査票!D117)
B7: 番号 | C7: 施設・事業所該当種別 | AJ7: スピーチロック | AM7: 自 立 | AN7: ※１ | AO7: ※２ | AP7: ※３ | AQ7: ※４ | AR7: ※５ | AT7: 自 立 | AU7: 0
AJ8: 1 | AK8: ある | AL8: 0 | AM8: 要支援１・２ | AN8: 認知症なし | AO8: 自立歩行 | AP8: 居室外で過ごすことが多い | AQ8: 点滴 | AR8: 自力でトイレ | AT8: 要支援１・２ | AU8: 1 | DN8: 口頭説明・口頭同意 | DO8: 1
B9: 1 | C9: １．介護老人福祉施設（特別養護老人ホーム） | AJ9: 2 | AK9: ない | AL9: 1 | AM9: 1 | AN9: ランクⅠ | AO9: 歩行器利用 | AP9: 居室内で過ごすことが多い | AQ9: 経管栄養 | AR9: トイレ誘導 | AT9: 1 | AU9: 2 | DN9: 口頭説明・文書同意 | DO9: 2
B10: 2 | C10: ２．介護老人保健施設 | AJ10: 3 | AK10: 意識したことがない 、わからない | AL10: 2 | AM10: 2 | AN10: ランクⅡ | AO10: 車椅子自力移動 | AP10: 常時寝たきり | AQ10: 中心静脈栄養 | AR10: ポータブルトイレ | AT10: 2 | AU10: 3 | DN10: 文書説明・文書同意 | DO10: 3
B11: 3 | C11: ３．介護療養型医療施設 | AJ11: 4 | AK11: その他 | AL11: 3 | AM11: 3 | AN11: ランクⅢ | AO11: 車椅子介助移動 | AP11: その他 | AQ11: 気管切開 | AR11: しびん | AT11: 3 | AU11: 4 | DN11: その他 | DO11: 4
B12: 4 | C12: ４．短期入所生活介護 | AL12: 4 | AM12: 4 | AN12: ランクⅣ | AO12: ストレッチャー | AQ12: 留置カテーテル | AR12: おむつ | AT12: 4 | AU12: 5
B13: 5 | C13: ５．短期入所療養介護 | AL13: 5 | AM13: 5 | AN13: ランクＭ | AO13: その他 | AR13: カテーテル | AT13: 5 | AU13: 6
B14: 6 | C14: ６．特定施設入居者生活介護 | AL14: 6 | AM14: 認定中 等 | AN14: 不明 | AR14: その他 | AT14: 認定中 | AU14: 7
B15: 7 | C15: ７．認知症対応型共同生活介護 | AL15: 7
B16: 8 | C16: ８．地域密着型介護老人福祉施設入所者生活介護 | AL16: 8
B17: 9 | C17: ９．小規模多機能型居宅介護
B18: 10 | C18: １０．看護小規模多機能居宅介護
B19: 11 | C19: １１．地域密着型特定施設
